BEGIN:VCALENDAR
VERSION:2.0
PRODID:-//Flemington DIY - ECPv6.15.20//NONSGML v1.0//EN
CALSCALE:GREGORIAN
METHOD:PUBLISH
X-ORIGINAL-URL:https://www.flemingtondiy.org
X-WR-CALDESC:Events for Flemington DIY
REFRESH-INTERVAL;VALUE=DURATION:PT1H
X-Robots-Tag:noindex
X-PUBLISHED-TTL:PT1H
BEGIN:VTIMEZONE
TZID:America/New_York
BEGIN:DAYLIGHT
TZOFFSETFROM:-0500
TZOFFSETTO:-0400
TZNAME:EDT
DTSTART:20210314T070000
END:DAYLIGHT
BEGIN:STANDARD
TZOFFSETFROM:-0400
TZOFFSETTO:-0500
TZNAME:EST
DTSTART:20211107T060000
END:STANDARD
BEGIN:DAYLIGHT
TZOFFSETFROM:-0500
TZOFFSETTO:-0400
TZNAME:EDT
DTSTART:20220313T070000
END:DAYLIGHT
BEGIN:STANDARD
TZOFFSETFROM:-0400
TZOFFSETTO:-0500
TZNAME:EST
DTSTART:20221106T060000
END:STANDARD
BEGIN:DAYLIGHT
TZOFFSETFROM:-0500
TZOFFSETTO:-0400
TZNAME:EDT
DTSTART:20230312T070000
END:DAYLIGHT
BEGIN:STANDARD
TZOFFSETFROM:-0400
TZOFFSETTO:-0500
TZNAME:EST
DTSTART:20231105T060000
END:STANDARD
END:VTIMEZONE
BEGIN:VEVENT
DTSTART;TZID=America/New_York:20221101T180000
DTEND;TZID=America/New_York:20221101T193000
DTSTAMP:20260423T185021
CREATED:20220926T193641Z
LAST-MODIFIED:20220926T193641Z
UID:10000053-1667325600-1667331000@www.flemingtondiy.org
SUMMARY:Open Styles Choreography Workshop
DESCRIPTION:“Open styles” dance draws inspiration from many different styles such as jazz\, hip hop\, waacking\, house\, and popping to form its own unique style. This class is dedicated to learning open styles choreography\, where we’ll be learning a dance routine to a variety of different music from hip hop\, to R&B\, to house music\, to pop\, and more. Each class\, we will be learning a different choreography to a different song. The focus of the class will always be stated in the class title. Some classes we may wear heels\, while other classes we may be dancing with just our arms. Feel free to attend the class that matches what you’re interested in. Beginners are always welcome and encouraged!\nThere is a suggested sliding scale donation of $5 – $15. All proceeds go directly to Flemington DIY. Regardless of financial status\, no one will be turned away at the door.\nMore info: www.flemingtondiy.org/dance
URL:https://www.flemingtondiy.org/event/open-styles-choreography-workshop-3/
LOCATION:Flemington DIY\, 26 Stangl Rd\, Flemington\, NJ 08822\, USA
END:VEVENT
BEGIN:VEVENT
DTSTART;TZID=America/New_York:20221101T091500
DTEND;TZID=America/New_York:20221101T110000
DTSTAMP:20260423T185021
CREATED:20220926T193640Z
LAST-MODIFIED:20220926T193640Z
UID:10000052-1667294100-1667300400@www.flemingtondiy.org
SUMMARY:Music Together
DESCRIPTION:Every week in our music classes at Music Together Flemington\, babies\, toddlers\, preschoolers\, and the grownups who love them come together for a time of musical play. Little ones love playing along in class\, and caregivers love being a part of their children’s growth into confident music-makers. And everyone loves our songs that’ll have you tapping along in no time
URL:https://www.flemingtondiy.org/event/music-together-12/
LOCATION:Flemington DIY\, 26 Stangl Rd\, Flemington\, NJ 08822\, USA
END:VEVENT
BEGIN:VEVENT
DTSTART;TZID=America/New_York:20221031T091500
DTEND;TZID=America/New_York:20221031T123000
DTSTAMP:20260423T185021
CREATED:20220926T193640Z
LAST-MODIFIED:20220926T193640Z
UID:10000048-1667207700-1667219400@www.flemingtondiy.org
SUMMARY:Music Together
DESCRIPTION:Every week in our music classes at Music Together Flemington\, babies\, toddlers\, preschoolers\, and the grownups who love them come together for a time of musical play. Little ones love playing along in class\, and caregivers love being a part of their children’s growth into confident music-makers. And everyone loves our songs that’ll have you tapping along in no time \nhttps://www.musictogetherflemington.com/
URL:https://www.flemingtondiy.org/event/music-together-11/
LOCATION:Flemington DIY\, 26 Stangl Rd\, Flemington\, NJ 08822\, USA
END:VEVENT
BEGIN:VEVENT
DTSTART;TZID=America/New_York:20221030T110000
DTEND;TZID=America/New_York:20221030T120000
DTSTAMP:20260423T185021
CREATED:20220926T193640Z
LAST-MODIFIED:20220926T193640Z
UID:10000047-1667127600-1667131200@www.flemingtondiy.org
SUMMARY:Tap Project
DESCRIPTION:Come one\, come all\, no tap shoes required!-Learn the language of tap dance (what’s a flap? shuffle? buffalo?)-Tap dance history (did you ever wonder who was Fred Astaire’s teacher?)-Learn simple warm ups of the Basic Tap Steps-Take those steps and do a simple combination-Add some combinations together and you have a whole dance!-Great music\, great fun\, new friends!  \n$10 \ninfo: flemingtondiy.org/tap
URL:https://www.flemingtondiy.org/event/tap-project-5/
LOCATION:Flemington DIY\, 26 Stangl Rd\, Flemington\, NJ 08822\, USA
END:VEVENT
BEGIN:VEVENT
DTSTART;TZID=America/New_York:20221025T091500
DTEND;TZID=America/New_York:20221025T110000
DTSTAMP:20260423T185021
CREATED:20220926T193639Z
LAST-MODIFIED:20220926T193639Z
UID:10000044-1666689300-1666695600@www.flemingtondiy.org
SUMMARY:Music Together
DESCRIPTION:Every week in our music classes at Music Together Flemington\, babies\, toddlers\, preschoolers\, and the grownups who love them come together for a time of musical play. Little ones love playing along in class\, and caregivers love being a part of their children’s growth into confident music-makers. And everyone loves our songs that’ll have you tapping along in no time
URL:https://www.flemingtondiy.org/event/music-together-10/
LOCATION:Flemington DIY\, 26 Stangl Rd\, Flemington\, NJ 08822\, USA
END:VEVENT
BEGIN:VEVENT
DTSTART;TZID=America/New_York:20221024T091500
DTEND;TZID=America/New_York:20221024T123000
DTSTAMP:20260423T185021
CREATED:20220926T193639Z
LAST-MODIFIED:20220926T193639Z
UID:10000042-1666602900-1666614600@www.flemingtondiy.org
SUMMARY:Music Together
DESCRIPTION:Every week in our music classes at Music Together Flemington\, babies\, toddlers\, preschoolers\, and the grownups who love them come together for a time of musical play. Little ones love playing along in class\, and caregivers love being a part of their children’s growth into confident music-makers. And everyone loves our songs that’ll have you tapping along in no time \nhttps://www.musictogetherflemington.com/
URL:https://www.flemingtondiy.org/event/music-together-9/
LOCATION:Flemington DIY\, 26 Stangl Rd\, Flemington\, NJ 08822\, USA
END:VEVENT
BEGIN:VEVENT
DTSTART;TZID=America/New_York:20221023T120000
DTEND;TZID=America/New_York:20221023T140000
DTSTAMP:20260423T185021
CREATED:20220926T193639Z
LAST-MODIFIED:20220926T193639Z
UID:10000040-1666526400-1666533600@www.flemingtondiy.org
SUMMARY:Making Mosaic Bricks: Grouting (Part II)
DESCRIPTION:
URL:https://www.flemingtondiy.org/event/making-mosaic-bricks-grouting-part-ii/
LOCATION:Flemington DIY\, 26 Stangl Rd\, Flemington\, NJ 08822\, USA
END:VEVENT
BEGIN:VEVENT
DTSTART;TZID=America/New_York:20221023T110000
DTEND;TZID=America/New_York:20221023T120000
DTSTAMP:20260423T185021
CREATED:20220926T193639Z
LAST-MODIFIED:20220926T193639Z
UID:10000041-1666522800-1666526400@www.flemingtondiy.org
SUMMARY:Tap Project
DESCRIPTION:Come one\, come all\, no tap shoes required!-Learn the language of tap dance (what’s a flap? shuffle? buffalo?)-Tap dance history (did you ever wonder who was Fred Astaire’s teacher?)-Learn simple warm ups of the Basic Tap Steps-Take those steps and do a simple combination-Add some combinations together and you have a whole dance!-Great music\, great fun\, new friends!  \n$10 \ninfo: flemingtondiy.org/tap
URL:https://www.flemingtondiy.org/event/tap-project-4/
LOCATION:Flemington DIY\, 26 Stangl Rd\, Flemington\, NJ 08822\, USA
END:VEVENT
BEGIN:VEVENT
DTSTART;TZID=America/New_York:20221020T190000
DTEND;TZID=America/New_York:20221020T210000
DTSTAMP:20260423T185021
CREATED:20220926T193639Z
LAST-MODIFIED:20221009T025136Z
UID:10000038-1666292400-1666299600@www.flemingtondiy.org
SUMMARY:Making Mosaic Bricks (Part I)
DESCRIPTION:$30 all supplies provided. limited slots available (10 spots)\nmore details and sign up: https://www.flemingtondiy.org/mosaic
URL:https://www.flemingtondiy.org/event/making-mosaic-bricks-part-i/
LOCATION:Flemington DIY\, 26 Stangl Rd\, Flemington\, NJ 08822\, USA
END:VEVENT
BEGIN:VEVENT
DTSTART;TZID=America/New_York:20221018T180000
DTEND;TZID=America/New_York:20221018T193000
DTSTAMP:20260423T185021
CREATED:20220926T193638Z
LAST-MODIFIED:20220926T193638Z
UID:10000036-1666116000-1666121400@www.flemingtondiy.org
SUMMARY:Open Styles Choreography Workshop
DESCRIPTION:“Open styles” dance draws inspiration from many different styles such as jazz\, hip hop\, waacking\, house\, and popping to form its own unique style. This class is dedicated to learning open styles choreography\, where we’ll be learning a dance routine to a variety of different music from hip hop\, to R&B\, to house music\, to pop\, and more. Each class\, we will be learning a different choreography to a different song. The focus of the class will always be stated in the class title. Some classes we may wear heels\, while other classes we may be dancing with just our arms. Feel free to attend the class that matches what you’re interested in. Beginners are always welcome and encouraged!\nThere is a suggested sliding scale donation of $5 – $15. All proceeds go directly to Flemington DIY. Regardless of financial status\, no one will be turned away at the door.\nMore info: www.flemingtondiy.org/dance
URL:https://www.flemingtondiy.org/event/open-styles-choreography-workshop-2/
LOCATION:Flemington DIY\, 26 Stangl Rd\, Flemington\, NJ 08822\, USA
END:VEVENT
BEGIN:VEVENT
DTSTART;TZID=America/New_York:20221018T091500
DTEND;TZID=America/New_York:20221018T110000
DTSTAMP:20260423T185021
CREATED:20220926T193638Z
LAST-MODIFIED:20220926T193638Z
UID:10000035-1666084500-1666090800@www.flemingtondiy.org
SUMMARY:Music Together
DESCRIPTION:Every week in our music classes at Music Together Flemington\, babies\, toddlers\, preschoolers\, and the grownups who love them come together for a time of musical play. Little ones love playing along in class\, and caregivers love being a part of their children’s growth into confident music-makers. And everyone loves our songs that’ll have you tapping along in no time
URL:https://www.flemingtondiy.org/event/music-together-8/
LOCATION:Flemington DIY\, 26 Stangl Rd\, Flemington\, NJ 08822\, USA
END:VEVENT
BEGIN:VEVENT
DTSTART;TZID=America/New_York:20221017T091500
DTEND;TZID=America/New_York:20221017T123000
DTSTAMP:20260423T185021
CREATED:20220926T193638Z
LAST-MODIFIED:20220926T193638Z
UID:10000032-1665998100-1666009800@www.flemingtondiy.org
SUMMARY:Music Together
DESCRIPTION:Every week in our music classes at Music Together Flemington\, babies\, toddlers\, preschoolers\, and the grownups who love them come together for a time of musical play. Little ones love playing along in class\, and caregivers love being a part of their children’s growth into confident music-makers. And everyone loves our songs that’ll have you tapping along in no time \nhttps://www.musictogetherflemington.com/
URL:https://www.flemingtondiy.org/event/music-together-7/
LOCATION:Flemington DIY\, 26 Stangl Rd\, Flemington\, NJ 08822\, USA
END:VEVENT
BEGIN:VEVENT
DTSTART;TZID=America/New_York:20221016T110000
DTEND;TZID=America/New_York:20221016T120000
DTSTAMP:20260423T185021
CREATED:20220926T193638Z
LAST-MODIFIED:20220926T193638Z
UID:10000030-1665918000-1665921600@www.flemingtondiy.org
SUMMARY:Tap Project
DESCRIPTION:Come one\, come all\, no tap shoes required!-Learn the language of tap dance (what’s a flap? shuffle? buffalo?)-Tap dance history (did you ever wonder who was Fred Astaire’s teacher?)-Learn simple warm ups of the Basic Tap Steps-Take those steps and do a simple combination-Add some combinations together and you have a whole dance!-Great music\, great fun\, new friends!  \n$10 \ninfo: flemingtondiy.org/tap
URL:https://www.flemingtondiy.org/event/tap-project-3/
LOCATION:Flemington DIY\, 26 Stangl Rd\, Flemington\, NJ 08822\, USA
END:VEVENT
BEGIN:VEVENT
DTSTART;TZID=America/New_York:20221011T091500
DTEND;TZID=America/New_York:20221011T110000
DTSTAMP:20260423T185021
CREATED:20220926T193637Z
LAST-MODIFIED:20220926T193637Z
UID:10000024-1665479700-1665486000@www.flemingtondiy.org
SUMMARY:Music Together
DESCRIPTION:Every week in our music classes at Music Together Flemington\, babies\, toddlers\, preschoolers\, and the grownups who love them come together for a time of musical play. Little ones love playing along in class\, and caregivers love being a part of their children’s growth into confident music-makers. And everyone loves our songs that’ll have you tapping along in no time
URL:https://www.flemingtondiy.org/event/music-together-6/
LOCATION:Flemington DIY\, 26 Stangl Rd\, Flemington\, NJ 08822\, USA
END:VEVENT
BEGIN:VEVENT
DTSTART;TZID=America/New_York:20221010T091500
DTEND;TZID=America/New_York:20221010T123000
DTSTAMP:20260423T185021
CREATED:20220926T193637Z
LAST-MODIFIED:20220926T193637Z
UID:10000022-1665393300-1665405000@www.flemingtondiy.org
SUMMARY:Music Together
DESCRIPTION:Every week in our music classes at Music Together Flemington\, babies\, toddlers\, preschoolers\, and the grownups who love them come together for a time of musical play. Little ones love playing along in class\, and caregivers love being a part of their children’s growth into confident music-makers. And everyone loves our songs that’ll have you tapping along in no time \nhttps://www.musictogetherflemington.com/
URL:https://www.flemingtondiy.org/event/music-together-5/
LOCATION:Flemington DIY\, 26 Stangl Rd\, Flemington\, NJ 08822\, USA
END:VEVENT
BEGIN:VEVENT
DTSTART;TZID=America/New_York:20221009T120000
DTEND;TZID=America/New_York:20221009T160000
DTSTAMP:20260423T185021
CREATED:20220926T193637Z
LAST-MODIFIED:20221003T214025Z
UID:10000021-1665316800-1665331200@www.flemingtondiy.org
SUMMARY:Flemington's Got Talent: Showcase for Kids
DESCRIPTION:Join Flemington DIY in this Talent Showcase for Kids grades K-8! \nGet tickets: https://www.flemingtondiy.org/programs/talent/
URL:https://www.flemingtondiy.org/event/talent-showcase-for-kids/
LOCATION:Flemington DIY\, 26 Stangl Rd\, Flemington\, NJ 08822\, USA
END:VEVENT
BEGIN:VEVENT
DTSTART;TZID=America/New_York:20221009T110000
DTEND;TZID=America/New_York:20221009T120000
DTSTAMP:20260423T185021
CREATED:20220926T193636Z
LAST-MODIFIED:20220926T193636Z
UID:10000020-1665313200-1665316800@www.flemingtondiy.org
SUMMARY:Tap Project
DESCRIPTION:Come one\, come all\, no tap shoes required!-Learn the language of tap dance (what’s a flap? shuffle? buffalo?)-Tap dance history (did you ever wonder who was Fred Astaire’s teacher?)-Learn simple warm ups of the Basic Tap Steps-Take those steps and do a simple combination-Add some combinations together and you have a whole dance!-Great music\, great fun\, new friends!  \n$10 \ninfo: flemingtondiy.org/tap
URL:https://www.flemingtondiy.org/event/tap-project-2/
LOCATION:Flemington DIY\, 26 Stangl Rd\, Flemington\, NJ 08822\, USA
END:VEVENT
BEGIN:VEVENT
DTSTART;TZID=America/New_York:20221004T180000
DTEND;TZID=America/New_York:20221004T193000
DTSTAMP:20260423T185021
CREATED:20220926T193636Z
LAST-MODIFIED:20220926T193636Z
UID:10000014-1664906400-1664911800@www.flemingtondiy.org
SUMMARY:Open Styles Choreography Workshop
DESCRIPTION:“Open styles” dance draws inspiration from many different styles such as jazz\, hip hop\, waacking\, house\, and popping to form its own unique style. This class is dedicated to learning open styles choreography\, where we’ll be learning a dance routine to a variety of different music from hip hop\, to R&B\, to house music\, to pop\, and more. Each class\, we will be learning a different choreography to a different song. The focus of the class will always be stated in the class title. Some classes we may wear heels\, while other classes we may be dancing with just our arms. Feel free to attend the class that matches what you’re interested in. Beginners are always welcome and encouraged!\nThere is a suggested sliding scale donation of $5 – $15. All proceeds go directly to Flemington DIY. Regardless of financial status\, no one will be turned away at the door.\nMore info: www.flemingtondiy.org/dance
URL:https://www.flemingtondiy.org/event/open-styles-choreography-workshop/
LOCATION:Flemington DIY\, 26 Stangl Rd\, Flemington\, NJ 08822\, USA
END:VEVENT
BEGIN:VEVENT
DTSTART;TZID=America/New_York:20221003T091500
DTEND;TZID=America/New_York:20221003T123000
DTSTAMP:20260423T185021
CREATED:20220926T193635Z
LAST-MODIFIED:20220926T193635Z
UID:10000010-1664788500-1664800200@www.flemingtondiy.org
SUMMARY:Music Together
DESCRIPTION:Every week in our music classes at Music Together Flemington\, babies\, toddlers\, preschoolers\, and the grownups who love them come together for a time of musical play. Little ones love playing along in class\, and caregivers love being a part of their children’s growth into confident music-makers. And everyone loves our songs that’ll have you tapping along in no time \nhttps://www.musictogetherflemington.com/
URL:https://www.flemingtondiy.org/event/music-together-3/
LOCATION:Flemington DIY\, 26 Stangl Rd\, Flemington\, NJ 08822\, USA
END:VEVENT
BEGIN:VEVENT
DTSTART;TZID=America/New_York:20221002T110000
DTEND;TZID=America/New_York:20221002T120000
DTSTAMP:20260423T185021
CREATED:20220926T193635Z
LAST-MODIFIED:20220926T193635Z
UID:10000008-1664708400-1664712000@www.flemingtondiy.org
SUMMARY:Tap Project
DESCRIPTION:Come one\, come all\, no tap shoes required!-Learn the language of tap dance (what’s a flap? shuffle? buffalo?)-Tap dance history (did you ever wonder who was Fred Astaire’s teacher?)-Learn simple warm ups of the Basic Tap Steps-Take those steps and do a simple combination-Add some combinations together and you have a whole dance!-Great music\, great fun\, new friends!  \n$10 \ninfo: flemingtondiy.org/tap
URL:https://www.flemingtondiy.org/event/tap-project/
LOCATION:Flemington DIY\, 26 Stangl Rd\, Flemington\, NJ 08822\, USA
END:VEVENT
BEGIN:VEVENT
DTSTART;TZID=America/New_York:20220930T180000
DTEND;TZID=America/New_York:20220930T200000
DTSTAMP:20260423T185021
CREATED:20220926T193634Z
LAST-MODIFIED:20220926T234756Z
UID:10000006-1664560800-1664568000@www.flemingtondiy.org
SUMMARY:'Nature of Our Lives' Art Show Opening Reception
DESCRIPTION:Nature of Our Lives is a joint art show dedicated to nature. In this show\, Delfina Inés Picchio and Amanda Heckman each examine their relationship to the natural world through the use of varied mediums. How do we view and interact with nature\, and how does it impact us as humans? What does nature mean to you?
URL:https://www.flemingtondiy.org/event/nature-of-our-lives-art-show-opening-reception/
LOCATION:Flemington DIY\, 26 Stangl Rd\, Flemington\, NJ 08822\, USA
ATTACH;FMTTYPE=image/png:https://www.flemingtondiy.org/wp-content/uploads/2022/08/Nature-in-our-lives-art-show.png
END:VEVENT
BEGIN:VEVENT
DTSTART;TZID=America/New_York:20220929T190000
DTEND;TZID=America/New_York:20220929T210000
DTSTAMP:20260423T185021
CREATED:20220926T193634Z
LAST-MODIFIED:20220927T235227Z
UID:10000005-1664478000-1664485200@www.flemingtondiy.org
SUMMARY:People's Medicine: Herbal Series
DESCRIPTION:Part 3 of this 4-part series will focus on Nettles. \nOverview: \n\nsimple and safe uses for herbs\nforaging basics\nhow to incorporate herbs into daily routines\nhealing practices for a deeper connection to our natural world.\n\nMore info & registration: https://www.flemingtondiy.org/peoples-medicine/
URL:https://www.flemingtondiy.org/event/peoples-medicine-herbal-series/
LOCATION:Flemington DIY\, 26 Stangl Rd\, Flemington\, NJ 08822\, USA
END:VEVENT
BEGIN:VEVENT
DTSTART;TZID=America/New_York:20220928T193000
DTEND;TZID=America/New_York:20220928T213000
DTSTAMP:20260423T185021
CREATED:20220926T193634Z
LAST-MODIFIED:20220926T225345Z
UID:10000004-1664393400-1664400600@www.flemingtondiy.org
SUMMARY:Poetry Open Mic
DESCRIPTION:join us for our 2nd poetry open mic\nshow up & sign up\nall ages\ndonations at the door
URL:https://www.flemingtondiy.org/event/poetry-open-mic/
LOCATION:Flemington DIY\, 26 Stangl Rd\, Flemington\, NJ 08822\, USA
ATTACH;FMTTYPE=image/png:https://www.flemingtondiy.org/wp-content/uploads/2022/09/Poetry-Open-Mic-sept.png
END:VEVENT
BEGIN:VEVENT
DTSTART;TZID=America/New_York:20220927T091500
DTEND;TZID=America/New_York:20220927T110000
DTSTAMP:20260423T185021
CREATED:20220926T193634Z
LAST-MODIFIED:20220926T193634Z
UID:10000003-1664270100-1664276400@www.flemingtondiy.org
SUMMARY:Music Together
DESCRIPTION:Every week in our music classes at Music Together Flemington\, babies\, toddlers\, preschoolers\, and the grownups who love them come together for a time of musical play. Little ones love playing along in class\, and caregivers love being a part of their children’s growth into confident music-makers. And everyone loves our songs that’ll have you tapping along in no time
URL:https://www.flemingtondiy.org/event/music-together-2/
LOCATION:Flemington DIY\, 26 Stangl Rd\, Flemington\, NJ 08822\, USA
END:VEVENT
BEGIN:VEVENT
DTSTART;TZID=America/New_York:20220926T091500
DTEND;TZID=America/New_York:20220926T123000
DTSTAMP:20260423T185021
CREATED:20220926T193634Z
LAST-MODIFIED:20220926T193634Z
UID:10000001-1664183700-1664195400@www.flemingtondiy.org
SUMMARY:Music Together
DESCRIPTION:Every week in our music classes at Music Together Flemington\, babies\, toddlers\, preschoolers\, and the grownups who love them come together for a time of musical play. Little ones love playing along in class\, and caregivers love being a part of their children’s growth into confident music-makers. And everyone loves our songs that’ll have you tapping along in no time \nhttps://www.musictogetherflemington.com/
URL:https://www.flemingtondiy.org/event/music-together/
LOCATION:Flemington DIY\, 26 Stangl Rd\, Flemington\, NJ 08822\, USA
END:VEVENT
END:VCALENDAR