BEGIN:VCALENDAR
VERSION:2.0
PRODID:-//Flemington DIY - ECPv6.15.20//NONSGML v1.0//EN
CALSCALE:GREGORIAN
METHOD:PUBLISH
X-WR-CALNAME:Flemington DIY
X-ORIGINAL-URL:https://www.flemingtondiy.org
X-WR-CALDESC:Events for Flemington DIY
REFRESH-INTERVAL;VALUE=DURATION:PT1H
X-Robots-Tag:noindex
X-PUBLISHED-TTL:PT1H
BEGIN:VTIMEZONE
TZID:America/New_York
BEGIN:DAYLIGHT
TZOFFSETFROM:-0500
TZOFFSETTO:-0400
TZNAME:EDT
DTSTART:20210314T070000
END:DAYLIGHT
BEGIN:STANDARD
TZOFFSETFROM:-0400
TZOFFSETTO:-0500
TZNAME:EST
DTSTART:20211107T060000
END:STANDARD
BEGIN:DAYLIGHT
TZOFFSETFROM:-0500
TZOFFSETTO:-0400
TZNAME:EDT
DTSTART:20220313T070000
END:DAYLIGHT
BEGIN:STANDARD
TZOFFSETFROM:-0400
TZOFFSETTO:-0500
TZNAME:EST
DTSTART:20221106T060000
END:STANDARD
BEGIN:DAYLIGHT
TZOFFSETFROM:-0500
TZOFFSETTO:-0400
TZNAME:EDT
DTSTART:20230312T070000
END:DAYLIGHT
BEGIN:STANDARD
TZOFFSETFROM:-0400
TZOFFSETTO:-0500
TZNAME:EST
DTSTART:20231105T060000
END:STANDARD
BEGIN:DAYLIGHT
TZOFFSETFROM:-0500
TZOFFSETTO:-0400
TZNAME:EDT
DTSTART:20240310T070000
END:DAYLIGHT
BEGIN:STANDARD
TZOFFSETFROM:-0400
TZOFFSETTO:-0500
TZNAME:EST
DTSTART:20241103T060000
END:STANDARD
BEGIN:DAYLIGHT
TZOFFSETFROM:-0500
TZOFFSETTO:-0400
TZNAME:EDT
DTSTART:20250309T070000
END:DAYLIGHT
BEGIN:STANDARD
TZOFFSETFROM:-0400
TZOFFSETTO:-0500
TZNAME:EST
DTSTART:20251102T060000
END:STANDARD
END:VTIMEZONE
BEGIN:VEVENT
DTSTART;TZID=America/New_York:20241028T180000
DTEND;TZID=America/New_York:20241028T210000
DTSTAMP:20260423T155557
CREATED:20230105T014113Z
LAST-MODIFIED:20230110T015031Z
UID:10000932-1730138400-1730149200@www.flemingtondiy.org
SUMMARY:Print Club
DESCRIPTION:Flemington DIY Print Club is a weekly open studio held from 6-9PM every Monday\, $15-30 per printer. It provides an opportunity for local artists and community members new to arts processes to utilize shared printmaking facilities. Print Club provides a platform for artists to network\, build community\, and work collaboratively. \n \nMore info: www.flemingtondiy.org/printclub \nAre you joining us?– arrive at 6pm– sliding scale payment of $15-30 per screen (you decide what you want to pay on this scale)– bring your image printed out as a B&W image the size you want it to be– bring things to print on (paper\, tshirts\, bags\, ect)– we will show you the rest \nThere is limited space so: First come\, First served
URL:https://www.flemingtondiy.org/event/print-club-110/
LOCATION:Flemington DIY\, 26 Stangl Rd\, Flemington\, NJ 08822\, USA
END:VEVENT
BEGIN:VEVENT
DTSTART;TZID=America/New_York:20240506T180000
DTEND;TZID=America/New_York:20240506T210000
DTSTAMP:20260423T155557
CREATED:20220926T193713Z
LAST-MODIFIED:20230110T015029Z
UID:10000292-1715018400-1715029200@www.flemingtondiy.org
SUMMARY:Print Club
DESCRIPTION:Flemington DIY Print Club is a weekly open studio held from 6-9PM every Monday\, $15-30 per printer. It provides an opportunity for local artists and community members new to arts processes to utilize shared printmaking facilities. Print Club provides a platform for artists to network\, build community\, and work collaboratively. \n \nMore info: www.flemingtondiy.org/printclub \nAre you joining us?– arrive at 6pm– sliding scale payment of $15-30 per screen (you decide what you want to pay on this scale)– bring your image printed out as a B&W image the size you want it to be– bring things to print on (paper\, tshirts\, bags\, ect)– we will show you the rest \nThere is limited space so: First come\, First served
URL:https://www.flemingtondiy.org/event/print-club-85/
LOCATION:Flemington DIY\, 26 Stangl Rd\, Flemington\, NJ 08822\, USA
END:VEVENT
BEGIN:VEVENT
DTSTART;TZID=America/New_York:20240326T193000
DTEND;TZID=America/New_York:20240326T203000
DTSTAMP:20260423T155557
CREATED:20240229T180519Z
LAST-MODIFIED:20240326T202034Z
UID:10002134-1711481400-1711485000@www.flemingtondiy.org
SUMMARY:Art Circle
DESCRIPTION:Register to let us know you are attending! https://form.jotform.com/240316356172047
URL:https://www.flemingtondiy.org/event/art-circle/
LOCATION:Flemington DIY\, 26 Stangl Rd\, Flemington\, NJ 08822\, USA
END:VEVENT
BEGIN:VEVENT
DTSTART;TZID=America/New_York:20230602T110000
DTEND;TZID=America/New_York:20230602T130000
DTSTAMP:20260423T155557
CREATED:20230404T090740Z
LAST-MODIFIED:20230602T122057Z
UID:10001333-1685703600-1685710800@www.flemingtondiy.org
SUMMARY:DIYxRLC: First Fridays
DESCRIPTION:Calling all homeschoolers!Flemington DIY and Raritan Learning Cooperative are collaborating to offer a monthly print club for kids ages 12-18\, on the first Friday of every month – now 11am-1pm! \nBring a design and a t-shirt or anything you want to print on. You’ll get to learn the process of screenprinting\, create your own screen\, and print posters and shirts! Starting October 7! \nIn collaboration with Raritan Learning Cooperative (RLC)MORE INFO: https://www.flemingtondiy.org/first-fridays
URL:https://www.flemingtondiy.org/event/diyxrlc-first-fridays-17/
LOCATION:Flemington DIY\, 26 Stangl Rd\, Flemington\, NJ 08822\, USA
END:VEVENT
BEGIN:VEVENT
DTSTART;TZID=America/New_York:20230505T110000
DTEND;TZID=America/New_York:20230505T130000
DTSTAMP:20260423T155557
CREATED:20230404T090737Z
LAST-MODIFIED:20230505T102014Z
UID:10001332-1683284400-1683291600@www.flemingtondiy.org
SUMMARY:DIYxRLC: First Fridays
DESCRIPTION:Calling all homeschoolers!Flemington DIY and Raritan Learning Cooperative are collaborating to offer a monthly print club for kids ages 12-18\, on the first Friday of every month – now 11am-1pm! \nBring a design and a t-shirt or anything you want to print on. You’ll get to learn the process of screenprinting\, create your own screen\, and print posters and shirts! Starting October 7! \nIn collaboration with Raritan Learning Cooperative (RLC)MORE INFO: https://www.flemingtondiy.org/first-fridays
URL:https://www.flemingtondiy.org/event/diyxrlc-first-fridays-16/
LOCATION:Flemington DIY\, 26 Stangl Rd\, Flemington\, NJ 08822\, USA
END:VEVENT
BEGIN:VEVENT
DTSTART;TZID=America/New_York:20230407T110000
DTEND;TZID=America/New_York:20230407T130000
DTSTAMP:20260423T155557
CREATED:20230404T090734Z
LAST-MODIFIED:20230407T092008Z
UID:10001328-1680865200-1680872400@www.flemingtondiy.org
SUMMARY:DIYxRLC: First Fridays
DESCRIPTION:Calling all homeschoolers!Flemington DIY and Raritan Learning Cooperative are collaborating to offer a monthly print club for kids ages 12-18\, on the first Friday of every month – now 11am-1pm! \nBring a design and a t-shirt or anything you want to print on. You’ll get to learn the process of screenprinting\, create your own screen\, and print posters and shirts! Starting October 7! \nIn collaboration with Raritan Learning Cooperative (RLC)MORE INFO: https://www.flemingtondiy.org/first-fridays
URL:https://www.flemingtondiy.org/event/diyxrlc-first-fridays-15/
LOCATION:Flemington DIY\, 26 Stangl Rd\, Flemington\, NJ 08822\, USA
END:VEVENT
BEGIN:VEVENT
DTSTART;TZID=America/New_York:20230303T110000
DTEND;TZID=America/New_York:20230303T130000
DTSTAMP:20260423T155557
CREATED:20230217T055212Z
LAST-MODIFIED:20230303T070507Z
UID:10001204-1677841200-1677848400@www.flemingtondiy.org
SUMMARY:DIYxRLC: First Fridays
DESCRIPTION:Calling all homeschoolers!Flemington DIY and Raritan Learning Cooperative are collaborating to offer a monthly print club for kids ages 12-18\, on the first Friday of every month – now 11am-1pm! \nBring a design and a t-shirt or anything you want to print on. You’ll get to learn the process of screenprinting\, create your own screen\, and print posters and shirts! Starting October 7! \nIn collaboration with Raritan Learning Cooperative (RLC)MORE INFO: https://www.flemingtondiy.org/first-fridays
URL:https://www.flemingtondiy.org/event/diyxrlc-first-fridays-10/
LOCATION:Flemington DIY\, 26 Stangl Rd\, Flemington\, NJ 08822\, USA
END:VEVENT
BEGIN:VEVENT
DTSTART;TZID=America/New_York:20230303T100000
DTEND;TZID=America/New_York:20230303T120000
DTSTAMP:20260423T155557
CREATED:20230217T055212Z
LAST-MODIFIED:20230303T070507Z
UID:10001205-1677837600-1677844800@www.flemingtondiy.org
SUMMARY:DIYxRLC: First Fridays
DESCRIPTION:Calling all homeschoolers!Flemington DIY and Raritan Learning Cooperative are collaborating to offer a monthly print club for kids ages 12-18\, on the first Friday of every month – now 11am-1pm! \nBring a design and a t-shirt or anything you want to print on. You’ll get to learn the process of screenprinting\, create your own screen\, and print posters and shirts! Starting October 7! \nIn collaboration with Raritan Learning Cooperative (RLC)MORE INFO: https://www.flemingtondiy.org/first-fridays
URL:https://www.flemingtondiy.org/event/diyxrlc-first-fridays-11/
LOCATION:Flemington DIY\, 26 Stangl Rd\, Flemington\, NJ 08822\, USA
END:VEVENT
BEGIN:VEVENT
DTSTART;TZID=America/New_York:20230109T180000
DTEND;TZID=America/New_York:20230109T210000
DTSTAMP:20260423T155557
CREATED:20220926T193646Z
LAST-MODIFIED:20230110T015016Z
UID:10000095-1673287200-1673298000@www.flemingtondiy.org
SUMMARY:Print Club
DESCRIPTION:Flemington DIY Print Club is a weekly open studio held from 6-9PM every Monday\, $15-30 per printer. It provides an opportunity for local artists and community members new to arts processes to utilize shared printmaking facilities. Print Club provides a platform for artists to network\, build community\, and work collaboratively. \n \nMore info: www.flemingtondiy.org/printclub \nAre you joining us?– arrive at 6pm– sliding scale payment of $15-30 per screen (you decide what you want to pay on this scale)– bring your image printed out as a B&W image the size you want it to be– bring things to print on (paper\, tshirts\, bags\, ect)– we will show you the rest \nThere is limited space so: First come\, First served
URL:https://www.flemingtondiy.org/event/print-club-16/
LOCATION:Flemington DIY\, 26 Stangl Rd\, Flemington\, NJ 08822\, USA
END:VEVENT
BEGIN:VEVENT
DTSTART;TZID=America/New_York:20221227T180000
DTEND;TZID=America/New_York:20221227T193000
DTSTAMP:20260423T155557
CREATED:20220926T193646Z
LAST-MODIFIED:20221208T033635Z
UID:10000092-1672164000-1672169400@www.flemingtondiy.org
SUMMARY:Open Styles Choreography Workshop
DESCRIPTION:“Open styles” dance draws inspiration from many different styles such as jazz\, hip hop\, waacking\, house\, and popping to form its own unique style. This class is dedicated to learning open styles choreography\, where we’ll be learning a dance routine to a variety of different music from hip hop\, to R&B\, to house music\, to pop\, and more. Each class\, we will be learning a different choreography to a different song. The focus of the class will always be stated in the class title. Some classes we may wear heels\, while other classes we may be dancing with just our arms. Feel free to attend the class that matches what you’re interested in. Beginners are always welcome and encouraged!\nThere is a suggested sliding scale donation of $5 – $15. All proceeds go directly to Flemington DIY. Regardless of financial status\, no one will be turned away at the door.\nMore info: www.flemingtondiy.org/dance
URL:https://www.flemingtondiy.org/event/open-styles-choreography-workshop-7/
LOCATION:Flemington DIY\, 26 Stangl Rd\, Flemington\, NJ 08822\, USA
END:VEVENT
BEGIN:VEVENT
DTSTART;TZID=America/New_York:20221213T180000
DTEND;TZID=America/New_York:20221213T193000
DTSTAMP:20260423T155557
CREATED:20220926T193645Z
LAST-MODIFIED:20221213T141451Z
UID:10000087-1670954400-1670959800@www.flemingtondiy.org
SUMMARY:CANCELLED*Open Styles Choreography Workshop
DESCRIPTION:“Open styles” dance draws inspiration from many different styles such as jazz\, hip hop\, waacking\, house\, and popping to form its own unique style. This class is dedicated to learning open styles choreography\, where we’ll be learning a dance routine to a variety of different music from hip hop\, to R&B\, to house music\, to pop\, and more. Each class\, we will be learning a different choreography to a different song. The focus of the class will always be stated in the class title. Some classes we may wear heels\, while other classes we may be dancing with just our arms. Feel free to attend the class that matches what you’re interested in. Beginners are always welcome and encouraged!\nThere is a suggested sliding scale donation of $5 – $15. All proceeds go directly to Flemington DIY. Regardless of financial status\, no one will be turned away at the door.\nMore info: www.flemingtondiy.org/dance
URL:https://www.flemingtondiy.org/event/open-styles-choreography-workshop-6/
LOCATION:Flemington DIY\, 26 Stangl Rd\, Flemington\, NJ 08822\, USA
END:VEVENT
BEGIN:VEVENT
DTSTART;TZID=America/New_York:20221210T193000
DTEND;TZID=America/New_York:20221210T220000
DTSTAMP:20260423T155557
CREATED:20220926T193644Z
LAST-MODIFIED:20221208T033634Z
UID:10000084-1670700600-1670709600@www.flemingtondiy.org
SUMMARY:Live Jazz: Horizons Quartet
DESCRIPTION:
URL:https://www.flemingtondiy.org/event/live-jazz-horizons-quartet/
LOCATION:Flemington DIY\, 26 Stangl Rd\, Flemington\, NJ 08822\, USA
END:VEVENT
BEGIN:VEVENT
DTSTART;TZID=America/New_York:20221203T140000
DTEND;TZID=America/New_York:20221203T220000
DTSTAMP:20260423T155557
CREATED:20220926T193644Z
LAST-MODIFIED:20220927T172533Z
UID:10000080-1670076000-1670104800@www.flemingtondiy.org
SUMMARY:Bury Your Memories Fest
DESCRIPTION:BANDS\nMarigold\nThe Ones You Forgot\nLittle Hag\nTitle Holder\nBeach Shoppe\nKeep Your Secrets\nAm0ra\nCouch Surfer\nAll Systems Go\nMy Cousin’s Girlfriend’s House\nCatch Me if You Can \nCOMEDIANS\nMolly Kornfeld\nAli O’Neil\nRiley Lassin\nKari Burt\nSlater Harrison \n*Pizza provided! \n  \n$15  |  Proceeds go to NJ Abortion Access Fund
URL:https://www.flemingtondiy.org/event/bury-your-memories-fest/
LOCATION:Flemington DIY\, 26 Stangl Rd\, Flemington\, NJ 08822\, USA
ATTACH;FMTTYPE=image/png:https://www.flemingtondiy.org/wp-content/uploads/2022/09/Bury-Your-Memories-Fest-2022.png
END:VEVENT
BEGIN:VEVENT
DTSTART;TZID=America/New_York:20221119T180000
DTEND;TZID=America/New_York:20221119T220000
DTSTAMP:20260423T155557
CREATED:20220926T193643Z
LAST-MODIFIED:20220926T193643Z
UID:10000071-1668880800-1668895200@www.flemingtondiy.org
SUMMARY:Live Music: Rusty Mullet
DESCRIPTION:Presented by Damn Straight Entertainment
URL:https://www.flemingtondiy.org/event/live-music-rusty-mullet/
LOCATION:Flemington DIY\, 26 Stangl Rd\, Flemington\, NJ 08822\, USA
END:VEVENT
BEGIN:VEVENT
DTSTART;TZID=America/New_York:20221115T180000
DTEND;TZID=America/New_York:20221115T193000
DTSTAMP:20260423T155557
CREATED:20220926T193643Z
LAST-MODIFIED:20220926T193643Z
UID:10000069-1668535200-1668540600@www.flemingtondiy.org
SUMMARY:Open Styles Choreography Workshop
DESCRIPTION:“Open styles” dance draws inspiration from many different styles such as jazz\, hip hop\, waacking\, house\, and popping to form its own unique style. This class is dedicated to learning open styles choreography\, where we’ll be learning a dance routine to a variety of different music from hip hop\, to R&B\, to house music\, to pop\, and more. Each class\, we will be learning a different choreography to a different song. The focus of the class will always be stated in the class title. Some classes we may wear heels\, while other classes we may be dancing with just our arms. Feel free to attend the class that matches what you’re interested in. Beginners are always welcome and encouraged!\nThere is a suggested sliding scale donation of $5 – $15. All proceeds go directly to Flemington DIY. Regardless of financial status\, no one will be turned away at the door.\nMore info: www.flemingtondiy.org/dance
URL:https://www.flemingtondiy.org/event/open-styles-choreography-workshop-4/
LOCATION:Flemington DIY\, 26 Stangl Rd\, Flemington\, NJ 08822\, USA
END:VEVENT
BEGIN:VEVENT
DTSTART;TZID=America/New_York:20221115T091500
DTEND;TZID=America/New_York:20221115T110000
DTSTAMP:20260423T155557
CREATED:20220926T193642Z
LAST-MODIFIED:20220926T193642Z
UID:10000068-1668503700-1668510000@www.flemingtondiy.org
SUMMARY:Music Together
DESCRIPTION:Every week in our music classes at Music Together Flemington\, babies\, toddlers\, preschoolers\, and the grownups who love them come together for a time of musical play. Little ones love playing along in class\, and caregivers love being a part of their children’s growth into confident music-makers. And everyone loves our songs that’ll have you tapping along in no time
URL:https://www.flemingtondiy.org/event/music-together-16/
LOCATION:Flemington DIY\, 26 Stangl Rd\, Flemington\, NJ 08822\, USA
END:VEVENT
BEGIN:VEVENT
DTSTART;TZID=America/New_York:20221114T091500
DTEND;TZID=America/New_York:20221114T123000
DTSTAMP:20260423T155557
CREATED:20220926T193642Z
LAST-MODIFIED:20220926T193642Z
UID:10000065-1668417300-1668429000@www.flemingtondiy.org
SUMMARY:Music Together
DESCRIPTION:Every week in our music classes at Music Together Flemington\, babies\, toddlers\, preschoolers\, and the grownups who love them come together for a time of musical play. Little ones love playing along in class\, and caregivers love being a part of their children’s growth into confident music-makers. And everyone loves our songs that’ll have you tapping along in no time \nhttps://www.musictogetherflemington.com/
URL:https://www.flemingtondiy.org/event/music-together-15/
LOCATION:Flemington DIY\, 26 Stangl Rd\, Flemington\, NJ 08822\, USA
END:VEVENT
BEGIN:VEVENT
DTSTART;TZID=America/New_York:20221112T193000
DTEND;TZID=America/New_York:20221112T220000
DTSTAMP:20260423T155557
CREATED:20220926T193642Z
LAST-MODIFIED:20221003T212234Z
UID:10000064-1668281400-1668290400@www.flemingtondiy.org
SUMMARY:Live Jazz: Yvonnick Prene Trio
DESCRIPTION:Yvonnick Prene was already playing the harmonica professionally at the age of 17\, in Parisian club scenes. He later earned a master’s degree in music at the Sorbonne University in Paris\, in 2011 and while still enrolled\, he moved to New-York City to receive multiple full-tuition scholarships at the City College of New York\, Columbia University and at The New School for Jazz and Contemporary Music. \nYvonnick Prene – chromatic harmonica\nGreg Lewis – organ b3\nColby Inzer – drums \nTix and more info: www.flemingtondiy.org/jazz
URL:https://www.flemingtondiy.org/event/live-jazz-yvonnick-prene-trio/
LOCATION:Flemington DIY\, 26 Stangl Rd\, Flemington\, NJ 08822\, USA
END:VEVENT
BEGIN:VEVENT
DTSTART;TZID=America/New_York:20221108T091500
DTEND;TZID=America/New_York:20221108T110000
DTSTAMP:20260423T155557
CREATED:20220926T193641Z
LAST-MODIFIED:20220926T193641Z
UID:10000059-1667898900-1667905200@www.flemingtondiy.org
SUMMARY:Music Together
DESCRIPTION:Every week in our music classes at Music Together Flemington\, babies\, toddlers\, preschoolers\, and the grownups who love them come together for a time of musical play. Little ones love playing along in class\, and caregivers love being a part of their children’s growth into confident music-makers. And everyone loves our songs that’ll have you tapping along in no time
URL:https://www.flemingtondiy.org/event/music-together-14/
LOCATION:Flemington DIY\, 26 Stangl Rd\, Flemington\, NJ 08822\, USA
END:VEVENT
BEGIN:VEVENT
DTSTART;TZID=America/New_York:20221107T091500
DTEND;TZID=America/New_York:20221107T123000
DTSTAMP:20260423T155557
CREATED:20220926T193641Z
LAST-MODIFIED:20220926T193641Z
UID:10000057-1667812500-1667824200@www.flemingtondiy.org
SUMMARY:Music Together
DESCRIPTION:Every week in our music classes at Music Together Flemington\, babies\, toddlers\, preschoolers\, and the grownups who love them come together for a time of musical play. Little ones love playing along in class\, and caregivers love being a part of their children’s growth into confident music-makers. And everyone loves our songs that’ll have you tapping along in no time \nhttps://www.musictogetherflemington.com/
URL:https://www.flemingtondiy.org/event/music-together-13/
LOCATION:Flemington DIY\, 26 Stangl Rd\, Flemington\, NJ 08822\, USA
END:VEVENT
BEGIN:VEVENT
DTSTART;TZID=America/New_York:20221101T180000
DTEND;TZID=America/New_York:20221101T193000
DTSTAMP:20260423T155557
CREATED:20220926T193641Z
LAST-MODIFIED:20220926T193641Z
UID:10000053-1667325600-1667331000@www.flemingtondiy.org
SUMMARY:Open Styles Choreography Workshop
DESCRIPTION:“Open styles” dance draws inspiration from many different styles such as jazz\, hip hop\, waacking\, house\, and popping to form its own unique style. This class is dedicated to learning open styles choreography\, where we’ll be learning a dance routine to a variety of different music from hip hop\, to R&B\, to house music\, to pop\, and more. Each class\, we will be learning a different choreography to a different song. The focus of the class will always be stated in the class title. Some classes we may wear heels\, while other classes we may be dancing with just our arms. Feel free to attend the class that matches what you’re interested in. Beginners are always welcome and encouraged!\nThere is a suggested sliding scale donation of $5 – $15. All proceeds go directly to Flemington DIY. Regardless of financial status\, no one will be turned away at the door.\nMore info: www.flemingtondiy.org/dance
URL:https://www.flemingtondiy.org/event/open-styles-choreography-workshop-3/
LOCATION:Flemington DIY\, 26 Stangl Rd\, Flemington\, NJ 08822\, USA
END:VEVENT
BEGIN:VEVENT
DTSTART;TZID=America/New_York:20221101T091500
DTEND;TZID=America/New_York:20221101T110000
DTSTAMP:20260423T155557
CREATED:20220926T193640Z
LAST-MODIFIED:20220926T193640Z
UID:10000052-1667294100-1667300400@www.flemingtondiy.org
SUMMARY:Music Together
DESCRIPTION:Every week in our music classes at Music Together Flemington\, babies\, toddlers\, preschoolers\, and the grownups who love them come together for a time of musical play. Little ones love playing along in class\, and caregivers love being a part of their children’s growth into confident music-makers. And everyone loves our songs that’ll have you tapping along in no time
URL:https://www.flemingtondiy.org/event/music-together-12/
LOCATION:Flemington DIY\, 26 Stangl Rd\, Flemington\, NJ 08822\, USA
END:VEVENT
BEGIN:VEVENT
DTSTART;TZID=America/New_York:20221031T091500
DTEND;TZID=America/New_York:20221031T123000
DTSTAMP:20260423T155557
CREATED:20220926T193640Z
LAST-MODIFIED:20220926T193640Z
UID:10000048-1667207700-1667219400@www.flemingtondiy.org
SUMMARY:Music Together
DESCRIPTION:Every week in our music classes at Music Together Flemington\, babies\, toddlers\, preschoolers\, and the grownups who love them come together for a time of musical play. Little ones love playing along in class\, and caregivers love being a part of their children’s growth into confident music-makers. And everyone loves our songs that’ll have you tapping along in no time \nhttps://www.musictogetherflemington.com/
URL:https://www.flemingtondiy.org/event/music-together-11/
LOCATION:Flemington DIY\, 26 Stangl Rd\, Flemington\, NJ 08822\, USA
END:VEVENT
BEGIN:VEVENT
DTSTART;TZID=America/New_York:20221030T110000
DTEND;TZID=America/New_York:20221030T120000
DTSTAMP:20260423T155557
CREATED:20220926T193640Z
LAST-MODIFIED:20220926T193640Z
UID:10000047-1667127600-1667131200@www.flemingtondiy.org
SUMMARY:Tap Project
DESCRIPTION:Come one\, come all\, no tap shoes required!-Learn the language of tap dance (what’s a flap? shuffle? buffalo?)-Tap dance history (did you ever wonder who was Fred Astaire’s teacher?)-Learn simple warm ups of the Basic Tap Steps-Take those steps and do a simple combination-Add some combinations together and you have a whole dance!-Great music\, great fun\, new friends!  \n$10 \ninfo: flemingtondiy.org/tap
URL:https://www.flemingtondiy.org/event/tap-project-5/
LOCATION:Flemington DIY\, 26 Stangl Rd\, Flemington\, NJ 08822\, USA
END:VEVENT
BEGIN:VEVENT
DTSTART;TZID=America/New_York:20221025T091500
DTEND;TZID=America/New_York:20221025T110000
DTSTAMP:20260423T155557
CREATED:20220926T193639Z
LAST-MODIFIED:20220926T193639Z
UID:10000044-1666689300-1666695600@www.flemingtondiy.org
SUMMARY:Music Together
DESCRIPTION:Every week in our music classes at Music Together Flemington\, babies\, toddlers\, preschoolers\, and the grownups who love them come together for a time of musical play. Little ones love playing along in class\, and caregivers love being a part of their children’s growth into confident music-makers. And everyone loves our songs that’ll have you tapping along in no time
URL:https://www.flemingtondiy.org/event/music-together-10/
LOCATION:Flemington DIY\, 26 Stangl Rd\, Flemington\, NJ 08822\, USA
END:VEVENT
BEGIN:VEVENT
DTSTART;TZID=America/New_York:20221024T091500
DTEND;TZID=America/New_York:20221024T123000
DTSTAMP:20260423T155557
CREATED:20220926T193639Z
LAST-MODIFIED:20220926T193639Z
UID:10000042-1666602900-1666614600@www.flemingtondiy.org
SUMMARY:Music Together
DESCRIPTION:Every week in our music classes at Music Together Flemington\, babies\, toddlers\, preschoolers\, and the grownups who love them come together for a time of musical play. Little ones love playing along in class\, and caregivers love being a part of their children’s growth into confident music-makers. And everyone loves our songs that’ll have you tapping along in no time \nhttps://www.musictogetherflemington.com/
URL:https://www.flemingtondiy.org/event/music-together-9/
LOCATION:Flemington DIY\, 26 Stangl Rd\, Flemington\, NJ 08822\, USA
END:VEVENT
BEGIN:VEVENT
DTSTART;TZID=America/New_York:20221023T120000
DTEND;TZID=America/New_York:20221023T140000
DTSTAMP:20260423T155557
CREATED:20220926T193639Z
LAST-MODIFIED:20220926T193639Z
UID:10000040-1666526400-1666533600@www.flemingtondiy.org
SUMMARY:Making Mosaic Bricks: Grouting (Part II)
DESCRIPTION:
URL:https://www.flemingtondiy.org/event/making-mosaic-bricks-grouting-part-ii/
LOCATION:Flemington DIY\, 26 Stangl Rd\, Flemington\, NJ 08822\, USA
END:VEVENT
BEGIN:VEVENT
DTSTART;TZID=America/New_York:20221023T110000
DTEND;TZID=America/New_York:20221023T120000
DTSTAMP:20260423T155557
CREATED:20220926T193639Z
LAST-MODIFIED:20220926T193639Z
UID:10000041-1666522800-1666526400@www.flemingtondiy.org
SUMMARY:Tap Project
DESCRIPTION:Come one\, come all\, no tap shoes required!-Learn the language of tap dance (what’s a flap? shuffle? buffalo?)-Tap dance history (did you ever wonder who was Fred Astaire’s teacher?)-Learn simple warm ups of the Basic Tap Steps-Take those steps and do a simple combination-Add some combinations together and you have a whole dance!-Great music\, great fun\, new friends!  \n$10 \ninfo: flemingtondiy.org/tap
URL:https://www.flemingtondiy.org/event/tap-project-4/
LOCATION:Flemington DIY\, 26 Stangl Rd\, Flemington\, NJ 08822\, USA
END:VEVENT
BEGIN:VEVENT
DTSTART;TZID=America/New_York:20221020T190000
DTEND;TZID=America/New_York:20221020T210000
DTSTAMP:20260423T155557
CREATED:20220926T193639Z
LAST-MODIFIED:20221009T025136Z
UID:10000038-1666292400-1666299600@www.flemingtondiy.org
SUMMARY:Making Mosaic Bricks (Part I)
DESCRIPTION:$30 all supplies provided. limited slots available (10 spots)\nmore details and sign up: https://www.flemingtondiy.org/mosaic
URL:https://www.flemingtondiy.org/event/making-mosaic-bricks-part-i/
LOCATION:Flemington DIY\, 26 Stangl Rd\, Flemington\, NJ 08822\, USA
END:VEVENT
BEGIN:VEVENT
DTSTART;TZID=America/New_York:20221018T180000
DTEND;TZID=America/New_York:20221018T193000
DTSTAMP:20260423T155557
CREATED:20220926T193638Z
LAST-MODIFIED:20220926T193638Z
UID:10000036-1666116000-1666121400@www.flemingtondiy.org
SUMMARY:Open Styles Choreography Workshop
DESCRIPTION:“Open styles” dance draws inspiration from many different styles such as jazz\, hip hop\, waacking\, house\, and popping to form its own unique style. This class is dedicated to learning open styles choreography\, where we’ll be learning a dance routine to a variety of different music from hip hop\, to R&B\, to house music\, to pop\, and more. Each class\, we will be learning a different choreography to a different song. The focus of the class will always be stated in the class title. Some classes we may wear heels\, while other classes we may be dancing with just our arms. Feel free to attend the class that matches what you’re interested in. Beginners are always welcome and encouraged!\nThere is a suggested sliding scale donation of $5 – $15. All proceeds go directly to Flemington DIY. Regardless of financial status\, no one will be turned away at the door.\nMore info: www.flemingtondiy.org/dance
URL:https://www.flemingtondiy.org/event/open-styles-choreography-workshop-2/
LOCATION:Flemington DIY\, 26 Stangl Rd\, Flemington\, NJ 08822\, USA
END:VEVENT
END:VCALENDAR