BEGIN:VCALENDAR
VERSION:2.0
PRODID:-//Flemington DIY - ECPv6.15.20//NONSGML v1.0//EN
CALSCALE:GREGORIAN
METHOD:PUBLISH
X-WR-CALNAME:Flemington DIY
X-ORIGINAL-URL:https://www.flemingtondiy.org
X-WR-CALDESC:Events for Flemington DIY
REFRESH-INTERVAL;VALUE=DURATION:PT1H
X-Robots-Tag:noindex
X-PUBLISHED-TTL:PT1H
BEGIN:VTIMEZONE
TZID:America/New_York
BEGIN:DAYLIGHT
TZOFFSETFROM:-0500
TZOFFSETTO:-0400
TZNAME:EDT
DTSTART:20230312T070000
END:DAYLIGHT
BEGIN:STANDARD
TZOFFSETFROM:-0400
TZOFFSETTO:-0500
TZNAME:EST
DTSTART:20231105T060000
END:STANDARD
BEGIN:DAYLIGHT
TZOFFSETFROM:-0500
TZOFFSETTO:-0400
TZNAME:EDT
DTSTART:20240310T070000
END:DAYLIGHT
BEGIN:STANDARD
TZOFFSETFROM:-0400
TZOFFSETTO:-0500
TZNAME:EST
DTSTART:20241103T060000
END:STANDARD
BEGIN:DAYLIGHT
TZOFFSETFROM:-0500
TZOFFSETTO:-0400
TZNAME:EDT
DTSTART:20250309T070000
END:DAYLIGHT
BEGIN:STANDARD
TZOFFSETFROM:-0400
TZOFFSETTO:-0500
TZNAME:EST
DTSTART:20251102T060000
END:STANDARD
END:VTIMEZONE
BEGIN:VEVENT
DTSTART;TZID=America/New_York:20240113T091500
DTEND;TZID=America/New_York:20240113T113000
DTSTAMP:20260424T085420
CREATED:20231104T010512Z
LAST-MODIFIED:20240113T052056Z
UID:10001732-1705137300-1705145400@www.flemingtondiy.org
SUMMARY:Music Together
DESCRIPTION:Every week in our music classes at Music Together Flemington\, babies\, toddlers\, preschoolers\, and the grownups who love them come together for a time of musical play. Little ones love playing along in class\, and caregivers love being a part of their children’s growth into confident music-makers. And everyone loves our songs that’ll have you tapping along in no time \nLearn more and enroll today:https://www.musictogetherflemington.com/ \nJoin with Google Meet: https://meet.google.com/dqb-gpwt-ohj\nLearn more about Meet at: https://support.google.com/a/users/answer/9282720
URL:https://www.flemingtondiy.org/event/music-together-142/
ORGANIZER;CN="9a724c6862e16b0fceb2c03b11d6495f66823883e568255978d51ff40b7ff5af@group.calendar.google.com":MAILTO:9a724c6862e16b0fceb2c03b11d6495f66823883e568255978d51ff40b7ff5af@group.calendar.google.com
END:VEVENT
BEGIN:VEVENT
DTSTART;TZID=America/New_York:20240112T091500
DTEND;TZID=America/New_York:20240112T113000
DTSTAMP:20260424T085420
CREATED:20231104T010512Z
LAST-MODIFIED:20240112T050537Z
UID:10001731-1705050900-1705059000@www.flemingtondiy.org
SUMMARY:Music Together
DESCRIPTION:Every week in our music classes at Music Together Flemington\, babies\, toddlers\, preschoolers\, and the grownups who love them come together for a time of musical play. Little ones love playing along in class\, and caregivers love being a part of their children’s growth into confident music-makers. And everyone loves our songs that’ll have you tapping along in no time \nLearn more and enroll today:https://www.musictogetherflemington.com/ \nJoin with Google Meet: https://meet.google.com/yiy-fgpn-tux\nLearn more about Meet at: https://support.google.com/a/users/answer/9282720
URL:https://www.flemingtondiy.org/event/music-together-139/
ORGANIZER;CN="9a724c6862e16b0fceb2c03b11d6495f66823883e568255978d51ff40b7ff5af@group.calendar.google.com":MAILTO:9a724c6862e16b0fceb2c03b11d6495f66823883e568255978d51ff40b7ff5af@group.calendar.google.com
END:VEVENT
BEGIN:VEVENT
DTSTART;TZID=America/New_York:20240111T091500
DTEND;TZID=America/New_York:20240111T113000
DTSTAMP:20260424T085420
CREATED:20231104T010512Z
LAST-MODIFIED:20240111T050537Z
UID:10001730-1704964500-1704972600@www.flemingtondiy.org
SUMMARY:Music Together
DESCRIPTION:Every week in our music classes at Music Together Flemington\, babies\, toddlers\, preschoolers\, and the grownups who love them come together for a time of musical play. Little ones love playing along in class\, and caregivers love being a part of their children’s growth into confident music-makers. And everyone loves our songs that’ll have you tapping along in no time \nLearn more and enroll today:https://www.musictogetherflemington.com/
URL:https://www.flemingtondiy.org/event/music-together-136/
ORGANIZER;CN="9a724c6862e16b0fceb2c03b11d6495f66823883e568255978d51ff40b7ff5af@group.calendar.google.com":MAILTO:9a724c6862e16b0fceb2c03b11d6495f66823883e568255978d51ff40b7ff5af@group.calendar.google.com
END:VEVENT
BEGIN:VEVENT
DTSTART;TZID=America/New_York:20240110T170000
DTEND;TZID=America/New_York:20240110T191500
DTSTAMP:20260424T085420
CREATED:20231104T010512Z
LAST-MODIFIED:20240110T050529Z
UID:10001729-1704906000-1704914100@www.flemingtondiy.org
SUMMARY:Music Together
DESCRIPTION:Every week in our music classes at Music Together Flemington\, babies\, toddlers\, preschoolers\, and the grownups who love them come together for a time of musical play. Little ones love playing along in class\, and caregivers love being a part of their children’s growth into confident music-makers. And everyone loves our songs that’ll have you tapping along in no time \nLearn more and enroll today:https://www.musictogetherflemington.com/ \nJoin with Google Meet: https://meet.google.com/bsf-bsya-gxo\nLearn more about Meet at: https://support.google.com/a/users/answer/9282720
URL:https://www.flemingtondiy.org/event/music-together-133/
ORGANIZER;CN="9a724c6862e16b0fceb2c03b11d6495f66823883e568255978d51ff40b7ff5af@group.calendar.google.com":MAILTO:9a724c6862e16b0fceb2c03b11d6495f66823883e568255978d51ff40b7ff5af@group.calendar.google.com
END:VEVENT
BEGIN:VEVENT
DTSTART;TZID=America/New_York:20240108T091500
DTEND;TZID=America/New_York:20240108T113000
DTSTAMP:20260424T085420
CREATED:20231104T010512Z
LAST-MODIFIED:20240108T050550Z
UID:10001728-1704705300-1704713400@www.flemingtondiy.org
SUMMARY:Music Together
DESCRIPTION:Every week in our music classes at Music Together Flemington\, babies\, toddlers\, preschoolers\, and the grownups who love them come together for a time of musical play. Little ones love playing along in class\, and caregivers love being a part of their children’s growth into confident music-makers. And everyone loves our songs that’ll have you tapping along in no time \nLearn more and enroll today:https://www.musictogetherflemington.com/ \nJoin with Google Meet: https://meet.google.com/eis-bvjj-rgq\nLearn more about Meet at: https://support.google.com/a/users/answer/9282720
URL:https://www.flemingtondiy.org/event/music-together-130/
ORGANIZER;CN="9a724c6862e16b0fceb2c03b11d6495f66823883e568255978d51ff40b7ff5af@group.calendar.google.com":MAILTO:9a724c6862e16b0fceb2c03b11d6495f66823883e568255978d51ff40b7ff5af@group.calendar.google.com
END:VEVENT
END:VCALENDAR