BEGIN:VCALENDAR
VERSION:2.0
PRODID:-//Flemington DIY - ECPv6.15.20//NONSGML v1.0//EN
CALSCALE:GREGORIAN
METHOD:PUBLISH
X-WR-CALNAME:Flemington DIY
X-ORIGINAL-URL:https://www.flemingtondiy.org
X-WR-CALDESC:Events for Flemington DIY
REFRESH-INTERVAL;VALUE=DURATION:PT1H
X-Robots-Tag:noindex
X-PUBLISHED-TTL:PT1H
BEGIN:VTIMEZONE
TZID:America/New_York
BEGIN:DAYLIGHT
TZOFFSETFROM:-0500
TZOFFSETTO:-0400
TZNAME:EDT
DTSTART:20230312T070000
END:DAYLIGHT
BEGIN:STANDARD
TZOFFSETFROM:-0400
TZOFFSETTO:-0500
TZNAME:EST
DTSTART:20231105T060000
END:STANDARD
BEGIN:DAYLIGHT
TZOFFSETFROM:-0500
TZOFFSETTO:-0400
TZNAME:EDT
DTSTART:20240310T070000
END:DAYLIGHT
BEGIN:STANDARD
TZOFFSETFROM:-0400
TZOFFSETTO:-0500
TZNAME:EST
DTSTART:20241103T060000
END:STANDARD
BEGIN:DAYLIGHT
TZOFFSETFROM:-0500
TZOFFSETTO:-0400
TZNAME:EDT
DTSTART:20250309T070000
END:DAYLIGHT
BEGIN:STANDARD
TZOFFSETFROM:-0400
TZOFFSETTO:-0500
TZNAME:EST
DTSTART:20251102T060000
END:STANDARD
END:VTIMEZONE
BEGIN:VEVENT
DTSTART;TZID=America/New_York:20241219T160000
DTEND;TZID=America/New_York:20241219T180000
DTSTAMP:20260425T104046
CREATED:20241018T235023Z
LAST-MODIFIED:20241218T235047Z
UID:10002649-1734624000-1734631200@www.flemingtondiy.org
SUMMARY:Aunt Mary’s Expungement Table
DESCRIPTION:Introducing Aunt Mary’s Expungement Table – your one-stop solution for clearing past mistakes and starting fresh. Whether it’s an old conviction or an outdated record holding you back\, Aunt Mary’s expert team is here to guide you through the legal process of expungement with care and efficiency. With personalized support\, easy-to-follow steps\, and a deep understanding of state laws\, Aunt Mary’s Expungement Table helps you reclaim your future. Don’t let your past define you – take the first step towards a clean slate today! Clear your record\, reclaim your life.
URL:https://www.flemingtondiy.org/event/aunt-marys-expungement-table-3/
END:VEVENT
BEGIN:VEVENT
DTSTART;TZID=America/New_York:20241219T113000
DTEND;TZID=America/New_York:20241219T180000
DTSTAMP:20260425T104046
CREATED:20240723T235113Z
LAST-MODIFIED:20241218T235047Z
UID:10002443-1734607800-1734631200@www.flemingtondiy.org
SUMMARY:Open Hours
DESCRIPTION:Visit the space\, see our current art shows\, hang out\, and learn how to get involved!
URL:https://www.flemingtondiy.org/event/open-hours-108/
END:VEVENT
BEGIN:VEVENT
DTSTART;TZID=America/New_York:20241218T180000
DTEND;TZID=America/New_York:20241218T210000
DTSTAMP:20260425T104046
CREATED:20240926T235108Z
LAST-MODIFIED:20241218T235047Z
UID:10002573-1734544800-1734555600@www.flemingtondiy.org
SUMMARY:Third Annual Geezer Family Christmas
DESCRIPTION:Come to Flemington DIY for the Third Annual Geezer Family Christmas on December 18 at 7 PM\, featuring several members of the Flemington Acoustic Players. We’ll be playing some holiday favorites like “Jingle Bell Rock”\, “Run Rudolph Run”\, and “Please Come Home for Christmas”\, plus maybe a few surprises.\nStick around at the end for a group sing-along and cookies and cider.\nA donation of $5 per person is requested at the door\, with all proceeds going to DIY.
URL:https://www.flemingtondiy.org/event/third-annual-geezer-family-christmas/
END:VEVENT
BEGIN:VEVENT
DTSTART;TZID=America/New_York:20241217T183000
DTEND;TZID=America/New_York:20241217T203000
DTSTAMP:20260425T104046
CREATED:20240928T233640Z
LAST-MODIFIED:20241217T235008Z
UID:10002580-1734460200-1734467400@www.flemingtondiy.org
SUMMARY:Flemington Acoustic Players
DESCRIPTION:Calling all Hunterdon County pop/rock/folk stars!  Are you looking for a place to practice your acoustic guitar skills\, and maybe do some singing too?   \nOur merry band of music makers is open to players of all abilities! This gathering however is for Acoustic players ONLY; i.e guitars\, ukuleles\, mandolins & banjos. A drummer and/or an acoustic/electric bassist would be welcomed though to help us all stay in time. \nChords and lyrics to the songs will be projected on a screen so there’s no need for you to bring a music stand or tablet. We will be selecting tunes from a song book that includes a wide variety of rock/pop/folk classics. \nCome and have fun with us as we play and sing along to some of everyone’s favorite tunes! \nSuggested donation of $3-5www.flemingtondiy.org/acoustic/
URL:https://www.flemingtondiy.org/event/flemington-acoustic-players-60/
END:VEVENT
BEGIN:VEVENT
DTSTART;TZID=America/New_York:20241217T113000
DTEND;TZID=America/New_York:20241217T180000
DTSTAMP:20260425T104046
CREATED:20240916T233529Z
LAST-MODIFIED:20241216T235007Z
UID:10002561-1734435000-1734458400@www.flemingtondiy.org
SUMMARY:Open Hours
DESCRIPTION:Visit the space\, see our current art shows\, hang out\, and learn how to get involved!
URL:https://www.flemingtondiy.org/event/open-hours-160/
END:VEVENT
BEGIN:VEVENT
DTSTART;TZID=America/New_York:20241216T180000
DTEND;TZID=America/New_York:20241216T210000
DTSTAMP:20260425T104046
CREATED:20231107T010603Z
LAST-MODIFIED:20241216T235007Z
UID:10001849-1734372000-1734382800@www.flemingtondiy.org
SUMMARY:Print Club
DESCRIPTION:Flemington DIY Print Club is a weekly open studio held from 6-9PM every Monday\, $15-30 per printer. It provides an opportunity for local artists and community members new to arts processes to utilize shared printmaking facilities. Print Club provides a platform for artists to network\, build community\, and work collaboratively. \nNo experience? No problem! Our vounteers will guide you through the process from start to finish! \nLearn more: https://www.flemingtondiy.org/printclub/
URL:https://www.flemingtondiy.org/event/print-club-211/
END:VEVENT
BEGIN:VEVENT
DTSTART;TZID=America/New_York:20241216T180000
DTEND;TZID=America/New_York:20241216T200000
DTSTAMP:20260425T104046
CREATED:20240710T235029Z
LAST-MODIFIED:20241216T235007Z
UID:10002418-1734372000-1734379200@www.flemingtondiy.org
SUMMARY:Hunterdon Fiber Artist Meeting
DESCRIPTION:Looking to meet other fiber artists in the Hunterdon county area?  Think about coming to Hunterdon Fiber Artists meet up to socialize and connect with others doing the fiber art craft that they love. \nAll are welcome.  Just bring your craft be it knitting\, crocheting\, spinning\, etc.\, and be prepared to meet lots of fun and interesting people!  We even have mini educational talks on requested topics! \nOur FB group is Hunterdon Fiber Artists https://www.facebook.com/groups/1101970274078722 \nOur Ravelry group is https://www.ravelry.com/groups/hunterdon-fiber-artists?s=tab \nEvery other Monday at DIY; $3-5 suggested donation.
URL:https://www.flemingtondiy.org/event/hunterdon-fiber-artist-meeting-24/
END:VEVENT
BEGIN:VEVENT
DTSTART;TZID=America/New_York:20241215T190000
DTEND;TZID=America/New_York:20241215T220000
DTSTAMP:20260425T104046
CREATED:20241024T233519Z
LAST-MODIFIED:20241215T235042Z
UID:10002664-1734289200-1734300000@www.flemingtondiy.org
SUMMARY:Live Music
DESCRIPTION:The Azures\n(Psychedelic Rock)\nArachne Sol\n(Alternative Swing)\nBecky Crosby\n(Pop Rock)\nMixolydian Dreamer\n(Art Rock)\n$10 – Doors at 6:30\nAll Ages\nNo Drugs / Alcohol
URL:https://www.flemingtondiy.org/event/live-music-87/
END:VEVENT
BEGIN:VEVENT
DTSTART;TZID=America/New_York:20241214T193000
DTEND;TZID=America/New_York:20241214T220000
DTSTAMP:20260425T104046
CREATED:20240910T233616Z
LAST-MODIFIED:20241214T233551Z
UID:10002545-1734204600-1734213600@www.flemingtondiy.org
SUMMARY:Live Jazz: Rio Bossa
DESCRIPTION:Rio Bossa performs traditional Latin\, jazz\, popular\, and original music in a unique and sensuous style\, weaving soulful melodies and savory Latin rhythms. Rio Bossa’s catalog is inspired by diverse Latin traditional\, folk and popular music including bossanova\, samba\, baiao\, bolero\, choro\, and others.\nThe quartet collectively contribute more than a century of musical expression and experience. Guitarist Jorge Torres brings deep ethnomusicological expertise and arranging abilities\, and specializes in a distinctive fingerpicked nylon guitar style. Vocalist Alyssa Lou Allen is a stunning and mesmerizing performer\, pulling from her varied indie/soul/R&B and musical theater experience\, as well as performing in several different languages. Bassist Steve Foreman holds down the bottom\, and the top\, on 6-string bass as well as penning several original songs for Rio Bossa. With a musical career spanning many genres\, drummer/percussionist William Weisbach propels deep\, dynamic grooves with flair and color from a sui generis hybrid cocktail kit.\nDoors 7:30pm\, Music 8pm. Tickets: $16 advance // $20 door // 15% off for Members!\nTickets and info at www.flemingtondiy.org/jazz
URL:https://www.flemingtondiy.org/event/live-jazz-rio-bossa/
END:VEVENT
BEGIN:VEVENT
DTSTART;TZID=America/New_York:20241213T190000
DTEND;TZID=America/New_York:20241213T220000
DTSTAMP:20260425T104046
CREATED:20241101T235020Z
LAST-MODIFIED:20241213T233524Z
UID:10002669-1734116400-1734127200@www.flemingtondiy.org
SUMMARY:Live Music
DESCRIPTION:Hallie K.\n(Indie Pop/Pop Rock)\nSaint Valentine\n(Alternative)\nSchplinkus\n(Alternative)\nExtended Warranty\n(Pop Punk/Grunge)\nDoors @ 6:30\n$10 donation\nAll Ages\nNo drugs/no alcohol
URL:https://www.flemingtondiy.org/event/live-music-88/
END:VEVENT
BEGIN:VEVENT
DTSTART;TZID=America/New_York:20241212T180000
DTEND;TZID=America/New_York:20241212T200000
DTSTAMP:20260425T104046
CREATED:20240913T235041Z
LAST-MODIFIED:20241211T235111Z
UID:10002547-1734026400-1734033600@www.flemingtondiy.org
SUMMARY:American Sign Language (ASL) Chat
DESCRIPTION:Come sign with us! Join us for an ASL Chat at Flemington DIY at 6pm. Deaf\, hard of hearing\, and hearing people who know or are learning American Sign Language (ASL) are welcome. Please note that this is a voice-off event so all are expected to use ASL to communicate.
URL:https://www.flemingtondiy.org/event/american-sign-language-asl-chat-16/
END:VEVENT
BEGIN:VEVENT
DTSTART;TZID=America/New_York:20241212T113000
DTEND;TZID=America/New_York:20241212T180000
DTSTAMP:20260425T104046
CREATED:20240723T235113Z
LAST-MODIFIED:20241211T235111Z
UID:10002442-1734003000-1734026400@www.flemingtondiy.org
SUMMARY:Open Hours
DESCRIPTION:Visit the space\, see our current art shows\, hang out\, and learn how to get involved!
URL:https://www.flemingtondiy.org/event/open-hours-107/
END:VEVENT
BEGIN:VEVENT
DTSTART;TZID=America/New_York:20241211T180000
DTEND;TZID=America/New_York:20241211T200000
DTSTAMP:20260425T104046
CREATED:20241121T233527Z
LAST-MODIFIED:20241211T235111Z
UID:10002721-1733940000-1733947200@www.flemingtondiy.org
SUMMARY:Aunt Mary’s Red Eye Meet and Greet
DESCRIPTION:We’re thrilled to invite you to a special Meet & Greet with the Red Eye Cannabis Cultivation\, where you’ll get a behind-the-scenes look at the passion\, expertise\, and innovation that go into growing our premium cannabis. This event offers a unique opportunity to meet the people behind our cultivation process\, ask questions\, and explore the meticulous care that defines every plant we grow.\nDuring the Meet & Greet\, you’ll get exclusive information of our cultivation facility\, where you can see firsthand how we cultivate high-quality\, sustainably grown cannabis. Our team of expert growers will be on hand to share insights into our growing practices\, from seed to harvest\, and answer any questions you may have about our cultivation methods\, genetics\, and the science behind crafting the perfect bud.\nAt Red Eye Cannabis Cultivation\, we take great pride in our hands-on\, environmentally conscious approach to growing. We use the latest techniques and technology to ensure that every plant thrives\, resulting in cannabis that is not only potent but rich in flavor\, aroma\, and therapeutic benefits.\nThis is your chance to learn more about the art and science of cannabis cultivation\, meet our passionate team\, and gain a deeper appreciation for the care and craftsmanship that goes into every batch of Red Eye Cannabis.\nWe look forward to welcoming you and sharing the experience of Red Eye Cannabis Cultivation — where passion meets precision in every plant we grow.
URL:https://www.flemingtondiy.org/event/aunt-marys-red-eye-meet-and-greet/
END:VEVENT
BEGIN:VEVENT
DTSTART;TZID=America/New_York:20241210T190000
DTEND;TZID=America/New_York:20241210T210000
DTSTAMP:20260425T104046
CREATED:20240103T045035Z
LAST-MODIFIED:20241210T235041Z
UID:10002026-1733857200-1733864400@www.flemingtondiy.org
SUMMARY:Songwriter Circle
DESCRIPTION:Hey\, songwriters: Do you have songs that are half finished? Lyrics you’re not entirely happy with? A songwriting circle is not a performance. It’s an opportunity to connect with other songwriters\, play your song idea for us – whether it’s fully formed or not – and receive gentle\, respectful\, and constructive feedback. All genres welcome! Please bring a few hard copies of your lyrics to share (they’ll be returned to you). We have a piano available. Donations at the door
URL:https://www.flemingtondiy.org/event/songwriter-circle-22/
END:VEVENT
BEGIN:VEVENT
DTSTART;TZID=America/New_York:20241210T113000
DTEND;TZID=America/New_York:20241210T180000
DTSTAMP:20260425T104046
CREATED:20240916T233527Z
LAST-MODIFIED:20241209T233707Z
UID:10002560-1733830200-1733853600@www.flemingtondiy.org
SUMMARY:Open Hours
DESCRIPTION:Visit the space\, see our current art shows\, hang out\, and learn how to get involved!
URL:https://www.flemingtondiy.org/event/open-hours-159/
END:VEVENT
BEGIN:VEVENT
DTSTART;TZID=America/New_York:20241209T180000
DTEND;TZID=America/New_York:20241209T210000
DTSTAMP:20260425T104046
CREATED:20231107T010602Z
LAST-MODIFIED:20241209T233707Z
UID:10001848-1733767200-1733778000@www.flemingtondiy.org
SUMMARY:Print Club
DESCRIPTION:Flemington DIY Print Club is a weekly open studio held from 6-9PM every Monday\, $15-30 per printer. It provides an opportunity for local artists and community members new to arts processes to utilize shared printmaking facilities. Print Club provides a platform for artists to network\, build community\, and work collaboratively. \nNo experience? No problem! Our vounteers will guide you through the process from start to finish! \nLearn more: https://www.flemingtondiy.org/printclub/
URL:https://www.flemingtondiy.org/event/print-club-210/
END:VEVENT
BEGIN:VEVENT
DTSTART;TZID=America/New_York:20241208T143000
DTEND;TZID=America/New_York:20241208T170000
DTSTAMP:20260425T104046
CREATED:20241102T235118Z
LAST-MODIFIED:20241207T233650Z
UID:10002671-1733668200-1733677200@www.flemingtondiy.org
SUMMARY:Women's Comedy Open Mic
DESCRIPTION:Ever wanted to share a joke with your friends? Have a friend who you think is hilarious but don’t know how to let other ladies know about her talent? Here’s an opportunity to give it a try. Enjoy a safe space to share laughs – and if you fail – it’s ok to get up and try again!Sign up in advance: https://www.jotform.com/assign/233097504623152/232664975561063
URL:https://www.flemingtondiy.org/event/womens-comedy-open-mic-15/
END:VEVENT
BEGIN:VEVENT
DTSTART;TZID=America/New_York:20241207T190000
DTEND;TZID=America/New_York:20241207T220000
DTSTAMP:20260425T104046
CREATED:20241104T233528Z
LAST-MODIFIED:20241207T233650Z
UID:10002685-1733598000-1733608800@www.flemingtondiy.org
SUMMARY:Live Music
DESCRIPTION:No Coincidence\n (pop punk/alt rock)\nNew Clarity\n(punk rock)\nAmerican Stereo\n(punk rock/power pop)\nblank effort\n(garage punk)\nDoors @ 6:30\n$10 Donation\nAll Ages\nNo Drugs / No Alcohol
URL:https://www.flemingtondiy.org/event/live-music-89/
END:VEVENT
BEGIN:VEVENT
DTSTART;TZID=America/New_York:20241207T094500
DTEND;TZID=America/New_York:20241207T111500
DTSTAMP:20260425T104046
CREATED:20241126T233532Z
LAST-MODIFIED:20241205T235128Z
UID:10002730-1733564700-1733570100@www.flemingtondiy.org
SUMMARY:Music Together Jingle Jams
DESCRIPTION:
URL:https://www.flemingtondiy.org/event/music-together-jingle-jams-4/
END:VEVENT
BEGIN:VEVENT
DTSTART;TZID=America/New_York:20241206T173000
DTEND;TZID=America/New_York:20241206T203000
DTSTAMP:20260425T104046
CREATED:20241114T233545Z
LAST-MODIFIED:20241205T235128Z
UID:10002716-1733506200-1733517000@www.flemingtondiy.org
SUMMARY:Take Me Home Tonight Small Works Art Show Opening
DESCRIPTION:
URL:https://www.flemingtondiy.org/event/take-me-home-tonight-small-works-art-show-opening/
END:VEVENT
BEGIN:VEVENT
DTSTART;TZID=America/New_York:20241206T120000
DTEND;TZID=America/New_York:20241206T140000
DTSTAMP:20260425T104046
CREATED:20240922T233650Z
LAST-MODIFIED:20241205T235128Z
UID:10002565-1733486400-1733493600@www.flemingtondiy.org
SUMMARY:DIYxRLC: First Fridays Screenprinting for Homeschoolers
DESCRIPTION:Calling all homeschoolers!Flemington DIY and Raritan Learning Cooperative are collaborating to offer a monthly print club for kids ages 12-18\, on select first Friday of every month \nBring a design and a t-shirt or anything you want to print on. You’ll get to learn the process of screenprinting\, create your own screen\, and print posters and shirts!  \nIn collaboration with Raritan Learning Cooperative (RLC)MORE INFO: https://www.flemingtondiy.org/first-fridays
URL:https://www.flemingtondiy.org/event/diyxrlc-first-fridays-screenprinting-for-homeschoolers-3/
END:VEVENT
BEGIN:VEVENT
DTSTART;TZID=America/New_York:20241205T113000
DTEND;TZID=America/New_York:20241205T180000
DTSTAMP:20260425T104046
CREATED:20240723T235112Z
LAST-MODIFIED:20241204T235109Z
UID:10002441-1733398200-1733421600@www.flemingtondiy.org
SUMMARY:Open Hours
DESCRIPTION:Visit the space\, see our current art shows\, hang out\, and learn how to get involved!
URL:https://www.flemingtondiy.org/event/open-hours-106/
END:VEVENT
BEGIN:VEVENT
DTSTART;TZID=America/New_York:20241204T094500
DTEND;TZID=America/New_York:20241204T111500
DTSTAMP:20260425T104046
CREATED:20241126T233532Z
LAST-MODIFIED:20241203T235049Z
UID:10002729-1733305500-1733310900@www.flemingtondiy.org
SUMMARY:Music Together Jingle Jams
DESCRIPTION:
URL:https://www.flemingtondiy.org/event/music-together-jingle-jams-3/
END:VEVENT
BEGIN:VEVENT
DTSTART;TZID=America/New_York:20241203T173000
DTEND;TZID=America/New_York:20241203T190000
DTSTAMP:20260425T104046
CREATED:20240816T235029Z
LAST-MODIFIED:20241203T235049Z
UID:10002473-1733247000-1733252400@www.flemingtondiy.org
SUMMARY:Monthly Food Drive
DESCRIPTION:Did you know that Flemington has six Little Food Pantries (LFPs)? LFPs are small food pantries that allow community members in need to have open access to food\, water\, and hygiene items. These pantries depend on the support of donations from people like you! Come together with your community for a monthly food drive to stock four of the pantries. This drive will support the LFPs located at 10 New Jersey Avenue\, Flemington DIY (26 Stangl Road)\, Flemington Presbyterian (10 East Main Street)\, and Echelon Studio’s Personal Hygiene Pantry (27 Fulper Road). \nRecommended donations:Water bottlesDry goods like box mixes\, rice\, oatmeal\, etc.Granola and protein bars (without chocolate)Coffee and teaCrackersRamen and pot noodlesInstant soup packetsHygiene products (esp. menstrual hygiene products)Individual drink mix packetsShelf-stable milkPackaged or canned tuna and chickenCanned goods and can openersPeanut butter and jelly \nPlease no expired items\, open packages\, or frozen/refrigerated items. \nWant to get involved? Sign up here to volunteer! https://forms.gle/GY3tUPUXRWeBSLAz8Questions? Contact Jae at flemingtonqts@gmail.com.
URL:https://www.flemingtondiy.org/event/monthly-food-drive-4/
END:VEVENT
BEGIN:VEVENT
DTSTART;TZID=America/New_York:20241203T113000
DTEND;TZID=America/New_York:20241203T180000
DTSTAMP:20260425T104046
CREATED:20240916T233526Z
LAST-MODIFIED:20241202T235049Z
UID:10002559-1733225400-1733248800@www.flemingtondiy.org
SUMMARY:Open Hours
DESCRIPTION:Visit the space\, see our current art shows\, hang out\, and learn how to get involved!
URL:https://www.flemingtondiy.org/event/open-hours-158/
END:VEVENT
BEGIN:VEVENT
DTSTART;TZID=America/New_York:20241203T094500
DTEND;TZID=America/New_York:20241203T111500
DTSTAMP:20260425T104046
CREATED:20241126T233532Z
LAST-MODIFIED:20241202T235049Z
UID:10002728-1733219100-1733224500@www.flemingtondiy.org
SUMMARY:Music Together Jingle Jams
DESCRIPTION:
URL:https://www.flemingtondiy.org/event/music-together-jingle-jams-2/
END:VEVENT
BEGIN:VEVENT
DTSTART;TZID=America/New_York:20241202T180000
DTEND;TZID=America/New_York:20241202T210000
DTSTAMP:20260425T104046
CREATED:20231107T010602Z
LAST-MODIFIED:20241202T235049Z
UID:10001847-1733162400-1733173200@www.flemingtondiy.org
SUMMARY:Print Club
DESCRIPTION:Flemington DIY Print Club is a weekly open studio held from 6-9PM every Monday\, $15-30 per printer. It provides an opportunity for local artists and community members new to arts processes to utilize shared printmaking facilities. Print Club provides a platform for artists to network\, build community\, and work collaboratively. \nNo experience? No problem! Our vounteers will guide you through the process from start to finish! \nLearn more: https://www.flemingtondiy.org/printclub/
URL:https://www.flemingtondiy.org/event/print-club-209/
END:VEVENT
BEGIN:VEVENT
DTSTART;TZID=America/New_York:20241202T180000
DTEND;TZID=America/New_York:20241202T200000
DTSTAMP:20260425T104046
CREATED:20240710T235028Z
LAST-MODIFIED:20241202T235049Z
UID:10002417-1733162400-1733169600@www.flemingtondiy.org
SUMMARY:Hunterdon Fiber Artist Meeting
DESCRIPTION:Looking to meet other fiber artists in the Hunterdon county area?  Think about coming to Hunterdon Fiber Artists meet up to socialize and connect with others doing the fiber art craft that they love. \nAll are welcome.  Just bring your craft be it knitting\, crocheting\, spinning\, etc.\, and be prepared to meet lots of fun and interesting people!  We even have mini educational talks on requested topics! \nOur FB group is Hunterdon Fiber Artists https://www.facebook.com/groups/1101970274078722 \nOur Ravelry group is https://www.ravelry.com/groups/hunterdon-fiber-artists?s=tab \nEvery other Monday at DIY; $3-5 suggested donation.
URL:https://www.flemingtondiy.org/event/hunterdon-fiber-artist-meeting-23/
END:VEVENT
BEGIN:VEVENT
DTSTART;TZID=America/New_York:20241202T094500
DTEND;TZID=America/New_York:20241202T111500
DTSTAMP:20260425T104046
CREATED:20241126T233531Z
LAST-MODIFIED:20241201T233547Z
UID:10002727-1733132700-1733138100@www.flemingtondiy.org
SUMMARY:Music Together Jingle Jams
DESCRIPTION:
URL:https://www.flemingtondiy.org/event/music-together-jingle-jams/
END:VEVENT
BEGIN:VEVENT
DTSTART;TZID=America/New_York:20241201T130000
DTEND;TZID=America/New_York:20241201T170000
DTSTAMP:20260425T104046
CREATED:20240928T233634Z
LAST-MODIFIED:20241128T233618Z
UID:10002579-1733058000-1733072400@www.flemingtondiy.org
SUMMARY:Open Jazz Jams
DESCRIPTION:Open Jazz Jams are held he first Sunday of every month. \nThe sessions will provide an opportunity for musicians to play with an experienced band. From 1-2 PM the hosting musicians for the week will play. Other musicians will be invited to sit in and play between 2-5 PM (typically a minimum of 2 songs each\, circumstances permitting). With the exception of drum kit and piano\, all musicians should bring their own equipment (instruments\, amps\, drum sticks\, microphones\, etc.). The sessions will focus primarily on jazz standards and other jazz tunes contained in Hal Leonard Real Books volumes 1 through 3. Newcomers will be coached through the process.  \nA $3 to $5 donation to Flemington DIY will be required from each musician that plays at the session. Visitors that just want to listen to the music are also welcome to attend for all or any part of the 1-5 PM sessions free of charge.  \nFor questions about the sessions\, or to be added to the monthly text notification list for last minute cancellations or reschedules\, please email njjazzjam@gmail.com
URL:https://www.flemingtondiy.org/event/open-jazz-jams-8/
END:VEVENT
END:VCALENDAR