BEGIN:VCALENDAR
VERSION:2.0
PRODID:-//Flemington DIY - ECPv6.15.20//NONSGML v1.0//EN
CALSCALE:GREGORIAN
METHOD:PUBLISH
X-WR-CALNAME:Flemington DIY
X-ORIGINAL-URL:https://www.flemingtondiy.org
X-WR-CALDESC:Events for Flemington DIY
REFRESH-INTERVAL;VALUE=DURATION:PT1H
X-Robots-Tag:noindex
X-PUBLISHED-TTL:PT1H
BEGIN:VTIMEZONE
TZID:America/New_York
BEGIN:DAYLIGHT
TZOFFSETFROM:-0500
TZOFFSETTO:-0400
TZNAME:EDT
DTSTART:20240310T070000
END:DAYLIGHT
BEGIN:STANDARD
TZOFFSETFROM:-0400
TZOFFSETTO:-0500
TZNAME:EST
DTSTART:20241103T060000
END:STANDARD
BEGIN:DAYLIGHT
TZOFFSETFROM:-0500
TZOFFSETTO:-0400
TZNAME:EDT
DTSTART:20250309T070000
END:DAYLIGHT
BEGIN:STANDARD
TZOFFSETFROM:-0400
TZOFFSETTO:-0500
TZNAME:EST
DTSTART:20251102T060000
END:STANDARD
BEGIN:DAYLIGHT
TZOFFSETFROM:-0500
TZOFFSETTO:-0400
TZNAME:EDT
DTSTART:20260308T070000
END:DAYLIGHT
BEGIN:STANDARD
TZOFFSETFROM:-0400
TZOFFSETTO:-0500
TZNAME:EST
DTSTART:20261101T060000
END:STANDARD
BEGIN:DAYLIGHT
TZOFFSETFROM:-0500
TZOFFSETTO:-0400
TZNAME:EDT
DTSTART:20270314T070000
END:DAYLIGHT
BEGIN:STANDARD
TZOFFSETFROM:-0400
TZOFFSETTO:-0500
TZNAME:EST
DTSTART:20271107T060000
END:STANDARD
END:VTIMEZONE
BEGIN:VEVENT
DTSTART;TZID=America/New_York:20251216T113000
DTEND;TZID=America/New_York:20251216T180000
DTSTAMP:20260424T100950
CREATED:20250602T233541Z
LAST-MODIFIED:20251215T233725Z
UID:10003239-1765884600-1765908000@www.flemingtondiy.org
SUMMARY:Open Hours
DESCRIPTION:Visit the space\, see our current art shows\, hang out\, and learn how to get involved!
URL:https://www.flemingtondiy.org/event/open-hours-227/
END:VEVENT
BEGIN:VEVENT
DTSTART;TZID=America/New_York:20251216T183000
DTEND;TZID=America/New_York:20251216T203000
DTSTAMP:20260424T100950
CREATED:20251010T233509Z
LAST-MODIFIED:20251216T233713Z
UID:10003453-1765909800-1765917000@www.flemingtondiy.org
SUMMARY:Flemington Acoustic Players
DESCRIPTION:Calling all Hunterdon County pop/rock/folk stars!  Are you looking for a place to practice your acoustic guitar skills\, and maybe do some singing too?   \nOur merry band of music makers is open to players of all abilities! This gathering however is for Acoustic players ONLY; i.e guitars\, ukuleles\, mandolins & banjos. A drummer and/or an acoustic/electric bassist would be welcomed though to help us all stay in time. \nChords and lyrics to the songs will be projected on a screen so there’s no need for you to bring a music stand or tablet. We will be selecting tunes from a song book that includes a wide variety of rock/pop/folk classics. \nCome and have fun with us as we play and sing along to some of everyone’s favorite tunes! \nSuggested donation of $3-5www.flemingtondiy.org/acoustic/
URL:https://www.flemingtondiy.org/event/flemington-acoustic-players-84/
END:VEVENT
BEGIN:VEVENT
DTSTART;TZID=America/New_York:20251218T113000
DTEND;TZID=America/New_York:20251218T180000
DTSTAMP:20260424T100950
CREATED:20241221T233554Z
LAST-MODIFIED:20251216T233713Z
UID:10002911-1766057400-1766080800@www.flemingtondiy.org
SUMMARY:Open Hours
DESCRIPTION:Visit the space\, see our current art shows\, hang out\, and learn how to get involved!
URL:https://www.flemingtondiy.org/event/open-hours-246/
END:VEVENT
BEGIN:VEVENT
DTSTART;TZID=America/New_York:20251218T190000
DTEND;TZID=America/New_York:20251218T210000
DTSTAMP:20260424T100950
CREATED:20251010T233509Z
LAST-MODIFIED:20251216T233713Z
UID:10003452-1766084400-1766091600@www.flemingtondiy.org
SUMMARY:Monthly Open Bluegrass Jam
DESCRIPTION:Bring your instrument\, a couple of tunes\, some friends and your own refreshments. All players welcome – Beginner to pro!  \nFreewill basket to support DIY $5 suggested Open to all ages –strictly no alcohol  \nQuestions? Contact Ed: rvrecband@gmail.com / ejjank@gmail.com
URL:https://www.flemingtondiy.org/event/monthly-open-bluegrass-jam-13/
END:VEVENT
BEGIN:VEVENT
DTSTART;TZID=America/New_York:20251219T190000
DTEND;TZID=America/New_York:20251219T220000
DTSTAMP:20260424T100950
CREATED:20251107T233717Z
LAST-MODIFIED:20251216T233713Z
UID:10003530-1766170800-1766181600@www.flemingtondiy.org
SUMMARY:Third Friday Game Night
DESCRIPTION:Third Friday Board Game Night All ages | Bring your own game or play with one of ours | Meet new people\, have fun\, casual! No RSVP required\, just show up. Free to attend\, donations to Flemington DIY welcomed.
URL:https://www.flemingtondiy.org/event/third-friday-game-night/
END:VEVENT
BEGIN:VEVENT
DTSTART;TZID=America/New_York:20251220T110000
DTEND;TZID=America/New_York:20251220T160000
DTSTAMP:20260424T100950
CREATED:20251118T235214Z
LAST-MODIFIED:20251216T233713Z
UID:10003682-1766228400-1766246400@www.flemingtondiy.org
SUMMARY:PRIVATE EVENT
DESCRIPTION:Flemington DIY offers private rentals for your events\, meetings\, birthday parties\, photo shoots\, and workshops\, all while supporting this community arts space.  Learn more at flemingtondiy.org/rentals
URL:https://www.flemingtondiy.org/event/private-event-4/
END:VEVENT
BEGIN:VEVENT
DTSTART;TZID=America/New_York:20251221T143000
DTEND;TZID=America/New_York:20251221T173000
DTSTAMP:20260424T100950
CREATED:20251118T235214Z
LAST-MODIFIED:20251220T233728Z
UID:10003683-1766327400-1766338200@www.flemingtondiy.org
SUMMARY:PRIVATE RENTAL
DESCRIPTION:Flemington DIY offers private rentals for your events\, meetings\, birthday parties\, photo shoots\, and workshops\, all while supporting this community arts space.  Learn more at flemingtondiy.org/rentals
URL:https://www.flemingtondiy.org/event/private-rental-2/
END:VEVENT
BEGIN:VEVENT
DTSTART;TZID=America/New_York:20251222T180000
DTEND;TZID=America/New_York:20251222T200000
DTSTAMP:20260424T100950
CREATED:20251022T233721Z
LAST-MODIFIED:20251222T233737Z
UID:10003497-1766426400-1766433600@www.flemingtondiy.org
SUMMARY:Hunterdon Fiber Artists
DESCRIPTION:Looking to meet other fiber artists in the Hunterdon county area?  Think about coming to Hunterdon Fiber Artists meet up to socialize and connect with others doing the fiber art craft that they love. \nAll are welcome.  Just bring your craft be it knitting\, crocheting\, spinning\, etc.\, and be prepared to meet lots of fun and interesting people!  We even have mini educational talks on requested topics! \nOur FB group is Hunterdon Fiber Artists https://www.facebook.com/groups/1101970274078722 \nOur Ravelry group is https://www.ravelry.com/groups/hunterdon-fiber-artists?s=tab \nEvery other Monday at DIY; $3-5 suggested donation.
URL:https://www.flemingtondiy.org/event/hunterdon-fiber-artists-5/
END:VEVENT
BEGIN:VEVENT
DTSTART;TZID=America/New_York:20251222T180000
DTEND;TZID=America/New_York:20251222T210000
DTSTAMP:20260424T100950
CREATED:20231222T035035Z
LAST-MODIFIED:20251222T233737Z
UID:10001951-1766426400-1766437200@www.flemingtondiy.org
SUMMARY:Print Club
DESCRIPTION:Flemington DIY Print Club is a weekly open studio held from 6-9PM every Monday\, $15-30 per printer. It provides an opportunity for local artists and community members new to arts processes to utilize shared printmaking facilities. Print Club provides a platform for artists to network\, build community\, and work collaboratively. \nNo experience? No problem! Our vounteers will guide you through the process from start to finish! \nLearn more: https://www.flemingtondiy.org/printclub/
URL:https://www.flemingtondiy.org/event/print-club-263/
END:VEVENT
BEGIN:VEVENT
DTSTART;TZID=America/New_York:20251223T113000
DTEND;TZID=America/New_York:20251223T180000
DTSTAMP:20260424T100950
CREATED:20250602T233541Z
LAST-MODIFIED:20251222T233737Z
UID:10003240-1766489400-1766512800@www.flemingtondiy.org
SUMMARY:Open Hours
DESCRIPTION:Visit the space\, see our current art shows\, hang out\, and learn how to get involved!
URL:https://www.flemingtondiy.org/event/open-hours-229/
END:VEVENT
BEGIN:VEVENT
DTSTART;TZID=America/New_York:20251229T180000
DTEND;TZID=America/New_York:20251229T200000
DTSTAMP:20260424T100950
CREATED:20241220T233629Z
LAST-MODIFIED:20251229T233736Z
UID:10002811-1767031200-1767038400@www.flemingtondiy.org
SUMMARY:Hunterdon Fiber Artist Meeting
DESCRIPTION:Looking to meet other fiber artists in the Hunterdon county area?  Think about coming to Hunterdon Fiber Artists meet up to socialize and connect with others doing the fiber art craft that they love. \nAll are welcome.  Just bring your craft be it knitting\, crocheting\, spinning\, etc.\, and be prepared to meet lots of fun and interesting people!  We even have mini educational talks on requested topics! \nOur FB group is Hunterdon Fiber Artists https://www.facebook.com/groups/1101970274078722 \nOur Ravelry group is https://www.ravelry.com/groups/hunterdon-fiber-artists?s=tab \nEvery other Monday at DIY; $3-5 suggested donation.
URL:https://www.flemingtondiy.org/event/hunterdon-fiber-artist-meeting-77/
END:VEVENT
BEGIN:VEVENT
DTSTART;TZID=America/New_York:20251230T113000
DTEND;TZID=America/New_York:20251230T180000
DTSTAMP:20260424T100950
CREATED:20251229T233736Z
LAST-MODIFIED:20251229T233736Z
UID:10003775-1767094200-1767117600@www.flemingtondiy.org
SUMMARY:Open Hours
DESCRIPTION:Visit the space\, see our current art shows\, hang out\, and learn how to get involved!
URL:https://www.flemingtondiy.org/event/open-hours-231/
END:VEVENT
BEGIN:VEVENT
DTSTART;TZID=America/New_York:20251231T190000
DTEND;TZID=America/New_York:20260101T000000
DTSTAMP:20260424T100950
CREATED:20251220T233714Z
LAST-MODIFIED:20251231T233716Z
UID:10003764-1767207600-1767225600@www.flemingtondiy.org
SUMMARY:New Year's Eve (Alcohol-free) Board Games and Zine Making (Alcohol Free)
DESCRIPTION:What are *you* doing New Year’s Eve? \nHang out with us\, play board games\, and make a zine with your 2026 aspirations (we have various supplies\, but if you have something specific you want to use\, bring it along)!  \nWe’ll have some sparkling cider (DIY is an alcohol-free space)\, but feel free to bring along snacks\, hors d’oeuvres\, any games you’d like to play\, and a list of stuff you want to release from 2025.  \nQuestions? Email volunteer@flemingtondiy.org.
URL:https://www.flemingtondiy.org/event/new-years-eve-alcohol-free-board-games-and-zine-making-alcohol-free/
END:VEVENT
BEGIN:VEVENT
DTSTART;TZID=America/New_York:20260104T130000
DTEND;TZID=America/New_York:20260104T170000
DTSTAMP:20260424T100950
CREATED:20251010T233509Z
LAST-MODIFIED:20260103T233715Z
UID:10003454-1767531600-1767546000@www.flemingtondiy.org
SUMMARY:Open Jazz Jams
DESCRIPTION:Open Jazz Jams are held he first Sunday of every month. \nThe sessions will provide an opportunity for musicians to play with an experienced band. From 1-2 PM the hosting musicians for the week will play. Other musicians will be invited to sit in and play between 2-5 PM (typically a minimum of 2 songs each\, circumstances permitting). With the exception of drum kit and piano\, all musicians should bring their own equipment (instruments\, amps\, drum sticks\, microphones\, etc.). The sessions will focus primarily on jazz standards and other jazz tunes contained in Hal Leonard Real Books volumes 1 through 3. Newcomers will be coached through the process.  \nA $3 to $5 donation to Flemington DIY will be required from each musician that plays at the session. Visitors that just want to listen to the music are also welcome to attend for all or any part of the 1-5 PM sessions free of charge.  \nFor questions about the sessions\, or to be added to the monthly text notification list for last minute cancellations or reschedules\, please email njjazzjam@gmail.com
URL:https://www.flemingtondiy.org/event/open-jazz-jams-28/
END:VEVENT
BEGIN:VEVENT
DTSTART;TZID=America/New_York:20260105T180000
DTEND;TZID=America/New_York:20260105T200000
DTSTAMP:20260424T100950
CREATED:20251202T235214Z
LAST-MODIFIED:20260105T235231Z
UID:10003719-1767636000-1767643200@www.flemingtondiy.org
SUMMARY:Hunterdon Fiber Artist Meeting
DESCRIPTION:Looking to meet other fiber artists in the Hunterdon county area?  Think about coming to Hunterdon Fiber Artists meet up to socialize and connect with others doing the fiber art craft that they love. \nAll are welcome.  Just bring your craft be it knitting\, crocheting\, spinning\, etc.\, and be prepared to meet lots of fun and interesting people!  We even have mini educational talks on requested topics! \nOur FB group is Hunterdon Fiber Artists https://www.facebook.com/groups/1101970274078722 \nOur Ravelry group is https://www.ravelry.com/groups/hunterdon-fiber-artists?s=tab \nEvery other Monday at DIY; $3-5 suggested donation.
URL:https://www.flemingtondiy.org/event/hunterdon-fiber-artist-meeting-28/
END:VEVENT
BEGIN:VEVENT
DTSTART;TZID=America/New_York:20260105T180000
DTEND;TZID=America/New_York:20260105T210000
DTSTAMP:20260424T100950
CREATED:20240105T045030Z
LAST-MODIFIED:20260105T235231Z
UID:10002036-1767636000-1767646800@www.flemingtondiy.org
SUMMARY:Print Club
DESCRIPTION:Flemington DIY Print Club is a weekly open studio held from 6-9PM every Monday\, $15-30 per printer. It provides an opportunity for local artists and community members new to arts processes to utilize shared printmaking facilities. Print Club provides a platform for artists to network\, build community\, and work collaboratively. \nNo experience? No problem! Our vounteers will guide you through the process from start to finish! \nLearn more: https://www.flemingtondiy.org/printclub/
URL:https://www.flemingtondiy.org/event/print-club-265/
END:VEVENT
BEGIN:VEVENT
DTSTART;TZID=America/New_York:20260106T113000
DTEND;TZID=America/New_York:20260106T180000
DTSTAMP:20260424T100950
CREATED:20250602T233543Z
LAST-MODIFIED:20260105T235231Z
UID:10003242-1767699000-1767722400@www.flemingtondiy.org
SUMMARY:Open Hours
DESCRIPTION:Visit the space\, see our current art shows\, hang out\, and learn how to get involved!
URL:https://www.flemingtondiy.org/event/open-hours-233/
END:VEVENT
BEGIN:VEVENT
DTSTART;TZID=America/New_York:20260106T173000
DTEND;TZID=America/New_York:20260106T190000
DTSTAMP:20260424T100950
CREATED:20260105T235231Z
LAST-MODIFIED:20260106T235227Z
UID:10003790-1767720600-1767726000@www.flemingtondiy.org
SUMMARY:Monthly Food Drive and Skill Share
DESCRIPTION:Drop-off a donation to help stock the Little Free Pantries (LFPs) around Flemington Borough and stay to meet your neighbors! Let’s learn from one another and share our knowledge with a monthly Skill Share. \nLittle Free Pantries are located at:Flemington Area Food Pantry LFP\, 154 Rt 31Salvation Army\, Corner of Hopewell Ave & East Main StreetCommunity LFP\, 10 New Jersey AvenueHunterdon County Community Wellness Center\, 44 Emery AveFlemington DIY LFP\, 26 Stangl RoadFlemington Presbyterian Church LFP\, 10 East Main StreetEchelon Studio Self-Care Pantry\, 27 Fulper Road \nRecommended donations:– Water bottles and gatorade– Shelf stable and canned goods (with pop tops)– Personal and menstrual hygiene items– Cup noodles and ramen– Shelf stable juice and milk– Individually packaged snacks and other ready-to-eat foods– Individually wrapped plastic utensils \nWHAT IS A SKILL SHARE?Skill Shares are meet-ups where folks interested in learning from their community members can come together to share their knowledge and/or learn something new. Everyone has a skill that they can share\, from sewing and mending to gardening to holistic health.  Contact flemingtonqts@gmail.com if you are interested in sharing a topic at our monthly sessions on 1st Tuesdays from 5:30-7PM. No previous experience necessary! Email Jae at flemingtonqts@gmail.com if you have a skill to share.
URL:https://www.flemingtondiy.org/event/monthly-food-drive-and-skill-share-4/
END:VEVENT
BEGIN:VEVENT
DTSTART;TZID=America/New_York:20260107T180000
DTEND;TZID=America/New_York:20260107T200000
DTSTAMP:20260424T100950
CREATED:20260106T235227Z
LAST-MODIFIED:20260107T235211Z
UID:10003792-1767808800-1767816000@www.flemingtondiy.org
SUMMARY:Hunterdon Fiber Artist Meeting
DESCRIPTION:Looking to meet other fiber artists in the Hunterdon county area?  Think about coming to Hunterdon Fiber Artists meet up to socialize and connect with others doing the fiber art craft that they love. \nAll are welcome.  Just bring your craft be it knitting\, crocheting\, spinning\, etc.\, and be prepared to meet lots of fun and interesting people!  We even have mini educational talks on requested topics! \nOur FB group is Hunterdon Fiber Artists https://www.facebook.com/groups/1101970274078722 \nOur Ravelry group is https://www.ravelry.com/groups/hunterdon-fiber-artists?s=tab \nEvery other Monday at DIY; $3-5 suggested donation.
URL:https://www.flemingtondiy.org/event/hunterdon-fiber-artist-meeting-81/
END:VEVENT
BEGIN:VEVENT
DTSTART;TZID=America/New_York:20260108T113000
DTEND;TZID=America/New_York:20260108T180000
DTSTAMP:20260424T100950
CREATED:20251107T233718Z
LAST-MODIFIED:20260107T235211Z
UID:10003531-1767871800-1767895200@www.flemingtondiy.org
SUMMARY:Open Hours
DESCRIPTION:
URL:https://www.flemingtondiy.org/event/open-hours-348/
END:VEVENT
BEGIN:VEVENT
DTSTART;TZID=America/New_York:20260110T183000
DTEND;TZID=America/New_York:20260110T220000
DTSTAMP:20260424T100950
CREATED:20251215T233725Z
LAST-MODIFIED:20260109T235740Z
UID:10003760-1768069800-1768082400@www.flemingtondiy.org
SUMMARY:Live Music - Punk/Indie
DESCRIPTION:Ford the River (pop punk with a little trombone – not ska…ok maybe a little) \nEarth Stood Still (indie/rock) \nGooney (indie\, garage rock\, punk) \nP o c k e t g u m (dreampunk) \nDoors @ 6:00pm$10 DonationAll Ages. No Drugs/Alcohol.
URL:https://www.flemingtondiy.org/event/live-music-102/
END:VEVENT
BEGIN:VEVENT
DTSTART;TZID=America/New_York:20260111T143000
DTEND;TZID=America/New_York:20260111T170000
DTSTAMP:20260424T100950
CREATED:20251023T235218Z
LAST-MODIFIED:20260109T235740Z
UID:10003500-1768141800-1768150800@www.flemingtondiy.org
SUMMARY:Women's Comedy Open Mic
DESCRIPTION:Ever wanted to share a joke with your friends? Have a friend who you think is hilarious but don’t know how to let other ladies know about her talent? Here’s an opportunity to give it a try. Enjoy a safe space to share laughs – and if you fail – it’s ok to get up and try again!
URL:https://www.flemingtondiy.org/event/womens-comedy-open-mic-19/
END:VEVENT
BEGIN:VEVENT
DTSTART;TZID=America/New_York:20260112T180000
DTEND;TZID=America/New_York:20260112T200000
DTSTAMP:20260424T100950
CREATED:20251202T235214Z
LAST-MODIFIED:20260112T234239Z
UID:10003720-1768240800-1768248000@www.flemingtondiy.org
SUMMARY:Hunterdon Fiber Artist Meeting
DESCRIPTION:Looking to meet other fiber artists in the Hunterdon county area?  Think about coming to Hunterdon Fiber Artists meet up to socialize and connect with others doing the fiber art craft that they love. \nAll are welcome.  Just bring your craft be it knitting\, crocheting\, spinning\, etc.\, and be prepared to meet lots of fun and interesting people!  We even have mini educational talks on requested topics! \nOur FB group is Hunterdon Fiber Artists https://www.facebook.com/groups/1101970274078722 \nOur Ravelry group is https://www.ravelry.com/groups/hunterdon-fiber-artists?s=tab \nEvery other Monday at DIY; $3-5 suggested donation.
URL:https://www.flemingtondiy.org/event/hunterdon-fiber-artist-meeting-29/
END:VEVENT
BEGIN:VEVENT
DTSTART;TZID=America/New_York:20260112T180000
DTEND;TZID=America/New_York:20260112T200000
DTSTAMP:20260424T100950
CREATED:20260112T234239Z
LAST-MODIFIED:20260112T234239Z
UID:10003816-1768240800-1768248000@www.flemingtondiy.org
SUMMARY:Hunterdon Fiber Artist Meeting
DESCRIPTION:Looking to meet other fiber artists in the Hunterdon county area?  Think about coming to Hunterdon Fiber Artists meet up to socialize and connect with others doing the fiber art craft that they love. \nAll are welcome.  Just bring your craft be it knitting\, crocheting\, spinning\, etc.\, and be prepared to meet lots of fun and interesting people!  We even have mini educational talks on requested topics! \nOur FB group is Hunterdon Fiber Artists https://www.facebook.com/groups/1101970274078722 \nOur Ravelry group is https://www.ravelry.com/groups/hunterdon-fiber-artists?s=tab \nEvery other Monday at DIY; $3-5 suggested donation.
URL:https://www.flemingtondiy.org/event/hunterdon-fiber-artist-meeting-82/
END:VEVENT
BEGIN:VEVENT
DTSTART;TZID=America/New_York:20260112T180000
DTEND;TZID=America/New_York:20260112T210000
DTSTAMP:20260424T100950
CREATED:20240112T050536Z
LAST-MODIFIED:20260112T234239Z
UID:10002038-1768240800-1768251600@www.flemingtondiy.org
SUMMARY:Print Club
DESCRIPTION:Flemington DIY Print Club is a weekly open studio held from 6-9PM every Monday\, $15-30 per printer. It provides an opportunity for local artists and community members new to arts processes to utilize shared printmaking facilities. Print Club provides a platform for artists to network\, build community\, and work collaboratively. \nNo experience? No problem! Our vounteers will guide you through the process from start to finish! \nLearn more: https://www.flemingtondiy.org/printclub/
URL:https://www.flemingtondiy.org/event/print-club-266/
END:VEVENT
BEGIN:VEVENT
DTSTART;TZID=America/New_York:20260113T113000
DTEND;TZID=America/New_York:20260113T180000
DTSTAMP:20260424T100950
CREATED:20250602T233543Z
LAST-MODIFIED:20260112T234239Z
UID:10003243-1768303800-1768327200@www.flemingtondiy.org
SUMMARY:Open Hours
DESCRIPTION:Visit the space\, see our current art shows\, hang out\, and learn how to get involved!
URL:https://www.flemingtondiy.org/event/open-hours-235/
END:VEVENT
BEGIN:VEVENT
DTSTART;TZID=America/New_York:20260113T190000
DTEND;TZID=America/New_York:20260113T210000
DTSTAMP:20260424T100950
CREATED:20251107T233718Z
LAST-MODIFIED:20260113T235735Z
UID:10003532-1768330800-1768338000@www.flemingtondiy.org
SUMMARY:Songwriter Circle
DESCRIPTION:Hey\, songwriters: Do you have songs that are half finished? Lyrics you’re not entirely happy with? A songwriting circle is not a performance. It’s an opportunity to connect with other songwriters\, play your song idea for us – whether it’s fully formed or not – and receive gentle\, respectful\, and constructive feedback. All genres welcome! Please bring a few hard copies of your lyrics to share (they’ll be returned to you). We have a piano available. Donations at the door
URL:https://www.flemingtondiy.org/event/songwriter-circle-35/
END:VEVENT
BEGIN:VEVENT
DTSTART;VALUE=DATE:20260115
DTEND;VALUE=DATE:20260222
DTSTAMP:20260424T100950
CREATED:20251113T233719Z
LAST-MODIFIED:20260221T234245Z
UID:10003676-1768435200-1771718399@www.flemingtondiy.org
SUMMARY:Youth Art Show
DESCRIPTION:JANUARY 17 – FEBRUARY 21\, 2026\nOPENING RECEPTION : Saturday\, January 17\, 2026 10am – 12pm\n \nFlemington DIY is starting off the New Year with a Youth Art Show!  We put out the call for young artist (ages 12 and younger) to be apart of an art show.  Seven brave local artists (ages 8-12) answered that call.  \nAll ages are welcome to come see what they’ve made and be inspired to create something yourself.  \n 
URL:https://www.flemingtondiy.org/event/youth-art-show/
END:VEVENT
BEGIN:VEVENT
DTSTART;TZID=America/New_York:20260115T113000
DTEND;TZID=America/New_York:20260115T180000
DTSTAMP:20260424T100950
CREATED:20251107T233718Z
LAST-MODIFIED:20260114T235730Z
UID:10003533-1768476600-1768500000@www.flemingtondiy.org
SUMMARY:Open Hours
DESCRIPTION:
URL:https://www.flemingtondiy.org/event/open-hours-349/
END:VEVENT
BEGIN:VEVENT
DTSTART;TZID=America/New_York:20260115T190000
DTEND;TZID=America/New_York:20260115T210000
DTSTAMP:20260424T100950
CREATED:20251010T233509Z
LAST-MODIFIED:20260115T235724Z
UID:10003455-1768503600-1768510800@www.flemingtondiy.org
SUMMARY:Monthly Open Bluegrass Jam
DESCRIPTION:Bring your instrument\, a couple of tunes\, some friends and your own refreshments. All players welcome – Beginner to pro!  \nFreewill basket to support DIY $5 suggested Open to all ages –strictly no alcohol  \nQuestions? Contact Ed: rvrecband@gmail.com / ejjank@gmail.com
URL:https://www.flemingtondiy.org/event/monthly-open-bluegrass-jam-14/
END:VEVENT
END:VCALENDAR