BEGIN:VCALENDAR
VERSION:2.0
PRODID:-//Flemington DIY - ECPv6.15.20//NONSGML v1.0//EN
CALSCALE:GREGORIAN
METHOD:PUBLISH
X-WR-CALNAME:Flemington DIY
X-ORIGINAL-URL:https://www.flemingtondiy.org
X-WR-CALDESC:Events for Flemington DIY
REFRESH-INTERVAL;VALUE=DURATION:PT1H
X-Robots-Tag:noindex
X-PUBLISHED-TTL:PT1H
BEGIN:VTIMEZONE
TZID:America/New_York
BEGIN:DAYLIGHT
TZOFFSETFROM:-0500
TZOFFSETTO:-0400
TZNAME:EDT
DTSTART:20240310T070000
END:DAYLIGHT
BEGIN:STANDARD
TZOFFSETFROM:-0400
TZOFFSETTO:-0500
TZNAME:EST
DTSTART:20241103T060000
END:STANDARD
BEGIN:DAYLIGHT
TZOFFSETFROM:-0500
TZOFFSETTO:-0400
TZNAME:EDT
DTSTART:20250309T070000
END:DAYLIGHT
BEGIN:STANDARD
TZOFFSETFROM:-0400
TZOFFSETTO:-0500
TZNAME:EST
DTSTART:20251102T060000
END:STANDARD
BEGIN:DAYLIGHT
TZOFFSETFROM:-0500
TZOFFSETTO:-0400
TZNAME:EDT
DTSTART:20260308T070000
END:DAYLIGHT
BEGIN:STANDARD
TZOFFSETFROM:-0400
TZOFFSETTO:-0500
TZNAME:EST
DTSTART:20261101T060000
END:STANDARD
END:VTIMEZONE
BEGIN:VEVENT
DTSTART;TZID=America/New_York:20251125T190000
DTEND;TZID=America/New_York:20251125T210000
DTSTAMP:20260424T120224
CREATED:20250731T233530Z
LAST-MODIFIED:20251125T235233Z
UID:10003367-1764097200-1764104400@www.flemingtondiy.org
SUMMARY:Classical Music Jam
DESCRIPTION:Jazz bands jam\, rock bands jam\, bluegrass players jams… why not a classical jam?? \nStrings\, brass\, woodwinds… Come join a classical music jam!!   \nBring a piece or two of music to share\, and sit in on the jam!   \nBring your instrument\, music (duo\, trio\, quartet\, etc. or even a full orchestra arrangement) and a stand\, be ready to share\, and let’s play some classical music in an informal setting.   \nWe jam once a month on the 4th Tuesday from 7 PM – 9 PM.   $5 suggested donation to Flemington DIY.  \nDon’t have music\, Don’t have a stand?…. Don’t worry!  Just bring your instrument\, and jam with us! \nCome share your talent and play! Take a break\, relax\, and listen to others.   \nUpcoming Tuesdays:   \n9/30 \n10/28 \n11/25 \n12/23 \nClassical is cool too!  See you at the jam!  
URL:https://www.flemingtondiy.org/event/classical-music-jam-3/
END:VEVENT
BEGIN:VEVENT
DTSTART;TZID=America/New_York:20251126T193000
DTEND;TZID=America/New_York:20251126T213000
DTSTAMP:20260424T120224
CREATED:20250224T233614Z
LAST-MODIFIED:20251126T235227Z
UID:10003088-1764185400-1764192600@www.flemingtondiy.org
SUMMARY:Poetry Open Mic
DESCRIPTION:Community members of all levels are invited to read their poetry and listen to the work of others. If you’re looking for a welcoming group of emerging and established poets and beatniks\, this is for you! \nShow up and sign up. No pre-registration to participate. Donations for the space encouraged at the door. All ages but please be aware that mature and sometimes sensitive topics are explored and mentioned at this event.
URL:https://www.flemingtondiy.org/event/poetry-open-mic-50/
END:VEVENT
BEGIN:VEVENT
DTSTART;TZID=America/New_York:20251128T120000
DTEND;TZID=America/New_York:20251128T140000
DTSTAMP:20260424T120224
CREATED:20250930T235034Z
LAST-MODIFIED:20251127T235234Z
UID:10003446-1764331200-1764338400@www.flemingtondiy.org
SUMMARY:Bird Sit
DESCRIPTION:Join us for a Black Friday community bird sit! Bring your binoculars\, meet new friends\, and disengage from capitalism\, while watching weird ducks!  \nWhere: Spruce Run Recreation Area\, in Hunterdon County\, New Jersey.  \nWhen: Friday\, November 28th\, 2025. 12pm-2pm.  \nWho: This outing is hosted by Myllicent Felder through Flemington DIY\, a volunteer-run arts space.  We believe that birding is for everyone! Beginner birders are welcome. Binocular tutorials available! Field guides available for reference.  \nCost: Sliding scale $5-20 upon registration. No one will be turned away for lack of funds.Registration required: (Enter link here) \nAround noon\, we will meet at the parking lot across from the Spruce Run Beach Area\, and travel together as a group across to the beach area. There is no parking fee during the off-season\, so you can drive right past the welcome booth. The parking lot\, sidewalks\, and paths are paved with either asphalt or concrete. We do not plan to go on the sand.  \nPlease bring your binoculars and a chair or blanket. There are also public benches available.  \nRunning late? No problem. If you walk from the parking lot towards the water\, you should see us! Need to leave early? No worries. Head out whenever you need to! We’re just glad you came. \nIf the weather is forecasted to be dangerous\, Myllicent will reach out via email by 10am to confirm or cancel the outing.
URL:https://www.flemingtondiy.org/event/bird-sit/
END:VEVENT
BEGIN:VEVENT
DTSTART;TZID=America/New_York:20251129T110000
DTEND;TZID=America/New_York:20251129T130000
DTSTAMP:20260424T120224
CREATED:20251022T233720Z
LAST-MODIFIED:20251128T235243Z
UID:10003494-1764414000-1764421200@www.flemingtondiy.org
SUMMARY:Seeing the Unseen: A Mindful Photo Walk
DESCRIPTION:Slow down and really look. In this two‑hour guided walk starting at Flemington DIY\, we’ll practice mindful seeing—tuning into light\, texture\, color\, and chance moments. After a brief 15‑minute intro\, we’ll explore town with a set of playful prompts that sharpen attention without limiting creativity (think reflections\, repeating shapes\, or “where the light changes”). We’ll start and end at DIY for a casual share and conversation: What did the moment tell you? What surprised you about what you noticed? Open to all cameras and skill levels (phones welcome). Come as you are; leave seeing differently. \nBring: phone or camera\, comfy shoes. Skill level: beginner to advanced. Accessibility: gentle walking pace with frequent stops. \nWorkshop presented by Christianne Ebel\, http://christianneebelphotography.com/ \nREGISTER FOR THIS EVENT AT FLEMINGTONDIY.ORG/PHOTO
URL:https://www.flemingtondiy.org/event/seeing-the-unseen-a-mindful-photo-walk/
END:VEVENT
BEGIN:VEVENT
DTSTART;TZID=America/New_York:20251129T140000
DTEND;TZID=America/New_York:20251129T160000
DTSTAMP:20260424T120224
CREATED:20251022T233720Z
LAST-MODIFIED:20251128T235243Z
UID:10003496-1764424800-1764432000@www.flemingtondiy.org
SUMMARY:Changing Perspectives: Portrait & Self‑Portrait Lab
DESCRIPTION:Perspective changes everything—power\, intimacy\, and meaning. In this two‑hour hands‑on session at Flemington DIY\, we’ll explore portraits and self‑portraits through framing\, angle\, distance\, and the stories they imply. After a short mini‑lesson\, you’ll work in pairs to photograph each other from multiple perspectives (from above/below\, through objects\, with light and shadow)\, then create a self‑portrait that shows how you see yourself—not how others see you. Participants can experiment with LED color‑changing lights and everyday or sentimental objects as props to shape mood and meaning. We’ll close with a supportive group reflection on choices\, feelings\, and narrative. \nBring: phone or camera; optional personal or sentimental object. Skill level: beginner to advanced. Accessibility: seated and standing shooting options available. \nWorkshop presented by Christianne Ebel\, http://christianneebelphotography.com/ \nREGISTER FOR THIS EVENT AT FLEMINGTONDIY.ORG/PHOTO
URL:https://www.flemingtondiy.org/event/changing-perspectives-portrait-self%e2%80%91portrait-lab/
END:VEVENT
BEGIN:VEVENT
DTSTART;TZID=America/New_York:20251129T190000
DTEND;TZID=America/New_York:20251129T210000
DTSTAMP:20260424T120224
CREATED:20251111T235215Z
LAST-MODIFIED:20251129T235340Z
UID:10003652-1764442800-1764450000@www.flemingtondiy.org
SUMMARY:Flemington QTs Craft Night
DESCRIPTION:Join the Flemington QTs for an evening of crafts\, conversation\, and community as we work on homemade gifts for the upcoming holidays. No matter what you celebrate\, bring a craft to work on and some supplies to share with the group. Don’t have any supplies to bring? Come anyway and make some art! Light refreshments will be available.  \nQuestions? Email flemingtonqts@gmail.com
URL:https://www.flemingtondiy.org/event/flemington-qts-craft-night/
END:VEVENT
BEGIN:VEVENT
DTSTART;TZID=America/New_York:20251130T130000
DTEND;TZID=America/New_York:20251130T160000
DTSTAMP:20260424T120224
CREATED:20251121T233715Z
LAST-MODIFIED:20251129T235340Z
UID:10003709-1764507600-1764518400@www.flemingtondiy.org
SUMMARY:Toy Drive Magic Show
DESCRIPTION:It’s “Toy Drive Magic Show!” time again!  Join our local international award-winning magician Will Fern – with surprise magician guests – for a fabulous 90 minute family show next Sunday\, 11/30\, from 1:30 to 3pm at Flemington DIY on Stangl Rd! All proceeds benefit Safe In Hunterdon\, for local mothers and children in need\, and St. Magdalen’s Hope House\, providing toys and winter clothing for underprivileged kids in our community.  Share the real magic of the season and have an amazing time with your family at the same time…what could be more magical than that!
URL:https://www.flemingtondiy.org/event/private-rental-3/
END:VEVENT
BEGIN:VEVENT
DTSTART;TZID=America/New_York:20251130T163000
DTEND;TZID=America/New_York:20251130T183000
DTSTAMP:20260424T120224
CREATED:20251118T235213Z
LAST-MODIFIED:20251129T235340Z
UID:10003681-1764520200-1764527400@www.flemingtondiy.org
SUMMARY:PRIVATE RENTAL
DESCRIPTION:Flemington DIY offers private rentals for your events\, meetings\, birthday parties\, photo shoots\, and workshops\, all while supporting this community arts space.  Learn more at flemingtondiy.org/rentals
URL:https://www.flemingtondiy.org/event/private-rental/
END:VEVENT
BEGIN:VEVENT
DTSTART;VALUE=DATE:20251201
DTEND;VALUE=DATE:20251228
DTSTAMP:20260424T120224
CREATED:20251030T235219Z
LAST-MODIFIED:20251231T233716Z
UID:10003525-1764547200-1766879999@www.flemingtondiy.org
SUMMARY:Take Me Home Tonight - Small Works Art Show
DESCRIPTION:Take Me Home is a small works show featuring pieces under 10×10 inches that are fun to create and even more exciting to buy!  \nWith a ONE NIGHT ONLY Opening Fundraiser Event. Art lovers can snag anonymously hung works of art for KILLER deals\, supporting artist and the amazing\, all volunteer-run nonprofit that is Flemington DIY: \nhttps://www.flemingtondiy.org/programs/take-me-home-tonight/ \nThe show will remain hanging for the remainder of December with the opportunity to buy\, but after the opening night\, all prices will be available for purchase at prices set by the artist and their names will be revealed. How much higher will the price go??? How will the price change after the opening???
URL:https://www.flemingtondiy.org/event/take-me-home-tonight-small-works-art-show-2/
END:VEVENT
BEGIN:VEVENT
DTSTART;TZID=America/New_York:20251201T180000
DTEND;TZID=America/New_York:20251201T200000
DTSTAMP:20260424T120224
CREATED:20241220T233628Z
LAST-MODIFIED:20251201T235305Z
UID:10002809-1764612000-1764619200@www.flemingtondiy.org
SUMMARY:Hunterdon Fiber Artist Meeting
DESCRIPTION:Looking to meet other fiber artists in the Hunterdon county area?  Think about coming to Hunterdon Fiber Artists meet up to socialize and connect with others doing the fiber art craft that they love. \nAll are welcome.  Just bring your craft be it knitting\, crocheting\, spinning\, etc.\, and be prepared to meet lots of fun and interesting people!  We even have mini educational talks on requested topics! \nOur FB group is Hunterdon Fiber Artists https://www.facebook.com/groups/1101970274078722 \nOur Ravelry group is https://www.ravelry.com/groups/hunterdon-fiber-artists?s=tab \nEvery other Monday at DIY; $3-5 suggested donation.
URL:https://www.flemingtondiy.org/event/hunterdon-fiber-artist-meeting-75/
END:VEVENT
BEGIN:VEVENT
DTSTART;TZID=America/New_York:20251201T180000
DTEND;TZID=America/New_York:20251201T210000
DTSTAMP:20260424T120224
CREATED:20231201T030540Z
LAST-MODIFIED:20251201T235305Z
UID:10001933-1764612000-1764622800@www.flemingtondiy.org
SUMMARY:Print Club
DESCRIPTION:Flemington DIY Print Club is a weekly open studio held from 6-9PM every Monday\, $15-30 per printer. It provides an opportunity for local artists and community members new to arts processes to utilize shared printmaking facilities. Print Club provides a platform for artists to network\, build community\, and work collaboratively. \nNo experience? No problem! Our vounteers will guide you through the process from start to finish! \nLearn more: https://www.flemingtondiy.org/printclub/
URL:https://www.flemingtondiy.org/event/print-club-260/
END:VEVENT
BEGIN:VEVENT
DTSTART;TZID=America/New_York:20251202T113000
DTEND;TZID=America/New_York:20251202T180000
DTSTAMP:20260424T120224
CREATED:20250602T233539Z
LAST-MODIFIED:20251201T235305Z
UID:10003237-1764675000-1764698400@www.flemingtondiy.org
SUMMARY:Open Hours
DESCRIPTION:Visit the space\, see our current art shows\, hang out\, and learn how to get involved!
URL:https://www.flemingtondiy.org/event/open-hours-223/
END:VEVENT
BEGIN:VEVENT
DTSTART;TZID=America/New_York:20251202T173000
DTEND;TZID=America/New_York:20251202T190000
DTSTAMP:20260424T120224
CREATED:20250507T233547Z
LAST-MODIFIED:20251202T235231Z
UID:10003175-1764696600-1764702000@www.flemingtondiy.org
SUMMARY:Monthly Food Drive and Skill Share
DESCRIPTION:Drop-off a donation to help stock the Little Free Pantries (LFPs) around Flemington Borough and stay to meet your neighbors! Let’s learn from one another and share our knowledge with a monthly Skill Share. \nLittle Free Pantries are located at:Flemington Area Food Pantry LFP\, 154 Rt 31Salvation Army\, Corner of Hopewell Ave & East Main StreetCommunity LFP\, 10 New Jersey AvenueHunterdon County Community Wellness Center\, 44 Emery AveFlemington DIY LFP\, 26 Stangl RoadFlemington Presbyterian Church LFP\, 10 East Main StreetEchelon Studio Self-Care Pantry\, 27 Fulper Road \nRecommended donations:– Water bottles and gatorade– Shelf stable and canned goods (with pop tops)– Personal and menstrual hygiene items– Cup noodles and ramen– Shelf stable juice and milk– Individually packaged snacks and other ready-to-eat foods– Individually wrapped plastic utensils \nWHAT IS A SKILL SHARE?Skill Shares are meet-ups where folks interested in learning from their community members can come together to share their knowledge and/or learn something new. Everyone has a skill that they can share\, from sewing and mending to gardening to holistic health.  Contact flemingtonqts@gmail.com if you are interested in sharing a topic at our monthly sessions on 1st Tuesdays from 5:30-7PM. No previous experience necessary! Email Jae at flemingtonqts@gmail.com if you have a skill to share.
URL:https://www.flemingtondiy.org/event/monthly-food-drive-and-skill-share-7/
END:VEVENT
BEGIN:VEVENT
DTSTART;TZID=America/New_York:20251204T113000
DTEND;TZID=America/New_York:20251204T180000
DTSTAMP:20260424T120224
CREATED:20241221T233553Z
LAST-MODIFIED:20251203T235214Z
UID:10002907-1764847800-1764871200@www.flemingtondiy.org
SUMMARY:Open Hours
DESCRIPTION:Visit the space\, see our current art shows\, hang out\, and learn how to get involved!
URL:https://www.flemingtondiy.org/event/open-hours-242/
END:VEVENT
BEGIN:VEVENT
DTSTART;TZID=America/New_York:20251205T173000
DTEND;TZID=America/New_York:20251205T203000
DTSTAMP:20260424T120224
CREATED:20250918T233521Z
LAST-MODIFIED:20251204T235213Z
UID:10003431-1764955800-1764966600@www.flemingtondiy.org
SUMMARY:4th Annual Take Me Home Opening Fundraiser + Photo Capture Show
DESCRIPTION:Take Me Home Tonight! is a small works show featuring pieces under 10×10 inches that are fun to create and even more exciting to buy! With a ONE NIGHT ONLY Opening Fundraiser Event\, art lovers can snag anonymously hung works of art for KILLER deals. Join us for a fun evening supporting artists and the amazing\, all volunteer-run nonprofit that is Flemington DIY . \nHunterdon County Photo Capture Show will also be showing outdoors!https://www.flemingtondiy.org/programs/photo/
URL:https://www.flemingtondiy.org/event/take-me-home-opening-fundraiser-photo-capture-show/
END:VEVENT
BEGIN:VEVENT
DTSTART;TZID=America/New_York:20251206T143000
DTEND;TZID=America/New_York:20251206T170000
DTSTAMP:20260424T120224
CREATED:20251121T233716Z
LAST-MODIFIED:20251204T235213Z
UID:10003710-1765031400-1765040400@www.flemingtondiy.org
SUMMARY:Art & Civics Brainstorm - Art Circle
DESCRIPTION:An initial meetup to practice constructive dialogue around civics and art. We will finalize the 2026 Art & Civics programming that will be open to the public.
URL:https://www.flemingtondiy.org/event/art-civics-brainstorm-art-circle/
END:VEVENT
BEGIN:VEVENT
DTSTART;TZID=America/New_York:20251207T130000
DTEND;TZID=America/New_York:20251207T170000
DTSTAMP:20260424T120224
CREATED:20251010T233509Z
LAST-MODIFIED:20251206T233717Z
UID:10003450-1765112400-1765126800@www.flemingtondiy.org
SUMMARY:Open Jazz Jams
DESCRIPTION:Open Jazz Jams are held he first Sunday of every month. \nThe sessions will provide an opportunity for musicians to play with an experienced band. From 1-2 PM the hosting musicians for the week will play. Other musicians will be invited to sit in and play between 2-5 PM (typically a minimum of 2 songs each\, circumstances permitting). With the exception of drum kit and piano\, all musicians should bring their own equipment (instruments\, amps\, drum sticks\, microphones\, etc.). The sessions will focus primarily on jazz standards and other jazz tunes contained in Hal Leonard Real Books volumes 1 through 3. Newcomers will be coached through the process.  \nA $3 to $5 donation to Flemington DIY will be required from each musician that plays at the session. Visitors that just want to listen to the music are also welcome to attend for all or any part of the 1-5 PM sessions free of charge.  \nFor questions about the sessions\, or to be added to the monthly text notification list for last minute cancellations or reschedules\, please email njjazzjam@gmail.com
URL:https://www.flemingtondiy.org/event/open-jazz-jams-24/
END:VEVENT
BEGIN:VEVENT
DTSTART;TZID=America/New_York:20251207T193000
DTEND;TZID=America/New_York:20251207T220000
DTSTAMP:20260424T120224
CREATED:20250805T233528Z
LAST-MODIFIED:20251207T233716Z
UID:10003393-1765135800-1765144800@www.flemingtondiy.org
SUMMARY:Live Music - Jazz - Nate Tota Quartet
DESCRIPTION:Nate Tota Quartet with Isaac Felix\, Killian Winn\, and Jackson Bernstein \nDoors 7:30pm / Music 8pmTickets: $18 adv / $22 door15% off for members! \nTickets at flemingtondiy.org/jazz
URL:https://www.flemingtondiy.org/event/live-music-jazz-nate-tota-quartet/
END:VEVENT
BEGIN:VEVENT
DTSTART;TZID=America/New_York:20251208T180000
DTEND;TZID=America/New_York:20251208T210000
DTSTAMP:20260424T120224
CREATED:20231208T032031Z
LAST-MODIFIED:20251208T233719Z
UID:10001936-1765216800-1765227600@www.flemingtondiy.org
SUMMARY:Holiday Card Screenprinting
DESCRIPTION:Spread some handmade holiday cheer this season! Join Flemington DIY’s Print Club for Holiday Card Screenprinting! Pick from a handful of pre-designed screens to print! All materials will be supplied – limit 20 cards per person. \nThis is an all ages event / no prior experience necessary (volunteers will help you along the way!) \nUgly sweaters encouraged!! \nREGISTER: https://www.flemingtondiy.org/holiday-card-screenprinting/
URL:https://www.flemingtondiy.org/event/print-club-261/
END:VEVENT
BEGIN:VEVENT
DTSTART;TZID=America/New_York:20251209T113000
DTEND;TZID=America/New_York:20251209T180000
DTSTAMP:20260424T120224
CREATED:20250602T233540Z
LAST-MODIFIED:20251208T233719Z
UID:10003238-1765279800-1765303200@www.flemingtondiy.org
SUMMARY:Open Hours
DESCRIPTION:Visit the space\, see our current art shows\, hang out\, and learn how to get involved!
URL:https://www.flemingtondiy.org/event/open-hours-225/
END:VEVENT
BEGIN:VEVENT
DTSTART;TZID=America/New_York:20251209T190000
DTEND;TZID=America/New_York:20251209T210000
DTSTAMP:20260424T120224
CREATED:20240929T233649Z
LAST-MODIFIED:20251208T233719Z
UID:10002635-1765306800-1765314000@www.flemingtondiy.org
SUMMARY:Songwriter Circle
DESCRIPTION:Hey\, songwriters: Do you have songs that are half finished? Lyrics you’re not entirely happy with? A songwriting circle is not a performance. It’s an opportunity to connect with other songwriters\, play your song idea for us – whether it’s fully formed or not – and receive gentle\, respectful\, and constructive feedback. All genres welcome! Please bring a few hard copies of your lyrics to share (they’ll be returned to you). We have a piano available. Donations at the door
URL:https://www.flemingtondiy.org/event/songwriter-circle-34/
END:VEVENT
BEGIN:VEVENT
DTSTART;TZID=America/New_York:20251210T190000
DTEND;TZID=America/New_York:20251210T203000
DTSTAMP:20260424T120224
CREATED:20250105T235057Z
LAST-MODIFIED:20251210T233712Z
UID:10002928-1765393200-1765398600@www.flemingtondiy.org
SUMMARY:Volunteer Information Session
DESCRIPTION:Did you know Flemington DIY is 100% volunteer-run and operated? \nJoin us for an informational session & orientation to learn more about our volunteer program. \nPlease pre-register: https://forms.gle/g1uWeb9oSkn6ym4R8Walk ins are also always welcome!
URL:https://www.flemingtondiy.org/event/volunteer-information-session-5/
END:VEVENT
BEGIN:VEVENT
DTSTART;TZID=America/New_York:20251211T113000
DTEND;TZID=America/New_York:20251211T180000
DTSTAMP:20260424T120224
CREATED:20241221T233554Z
LAST-MODIFIED:20251210T233712Z
UID:10002909-1765452600-1765476000@www.flemingtondiy.org
SUMMARY:Open Hours
DESCRIPTION:Visit the space\, see our current art shows\, hang out\, and learn how to get involved!
URL:https://www.flemingtondiy.org/event/open-hours-244/
END:VEVENT
BEGIN:VEVENT
DTSTART;TZID=America/New_York:20251212T190000
DTEND;TZID=America/New_York:20251212T220000
DTSTAMP:20260424T120224
CREATED:20251030T235218Z
LAST-MODIFIED:20251212T233727Z
UID:10003524-1765566000-1765576800@www.flemingtondiy.org
SUMMARY:Live Show - Rock
DESCRIPTION:The Regulars (alt rock)Lying Seasons (shoegaze/alt rock)The Angies (alt rock/punk/noise)Trichor (slowcore/dream pop) \n$10Doors @ 6:30All agesNo drugs/no alcohol
URL:https://www.flemingtondiy.org/event/live-show-rock/
END:VEVENT
BEGIN:VEVENT
DTSTART;TZID=America/New_York:20251214T143000
DTEND;TZID=America/New_York:20251214T170000
DTSTAMP:20260424T120224
CREATED:20251023T235217Z
LAST-MODIFIED:20251213T233726Z
UID:10003499-1765722600-1765731600@www.flemingtondiy.org
SUMMARY:Women's Comedy Open Mic
DESCRIPTION:Ever wanted to share a joke with your friends? Have a friend who you think is hilarious but don’t know how to let other ladies know about her talent? Here’s an opportunity to give it a try. Enjoy a safe space to share laughs – and if you fail – it’s ok to get up and try again!
URL:https://www.flemingtondiy.org/event/womens-comedy-open-mic-18/
END:VEVENT
BEGIN:VEVENT
DTSTART;TZID=America/New_York:20251214T190000
DTEND;TZID=America/New_York:20251214T220000
DTSTAMP:20260424T120224
CREATED:20251010T233509Z
LAST-MODIFIED:20251214T233712Z
UID:10003451-1765738800-1765749600@www.flemingtondiy.org
SUMMARY:Live Music - Rock
DESCRIPTION:Palestine fundraiser show – 100% of proceeds donated to The Sameer Project \nThe azures – Heavy psych rockSuper Jack – Alternative/R&BShirthole – PunkMixolydian Dreamer – Art rock \n$10 Donation Doors @ 6:30\, Music @ 7All agesNo drugs / no alcohol
URL:https://www.flemingtondiy.org/event/live-music-rock-4/
END:VEVENT
BEGIN:VEVENT
DTSTART;TZID=America/New_York:20251215T180000
DTEND;TZID=America/New_York:20251215T200000
DTSTAMP:20260424T120224
CREATED:20241220T233629Z
LAST-MODIFIED:20251215T233725Z
UID:10002810-1765821600-1765828800@www.flemingtondiy.org
SUMMARY:Hunterdon Fiber Artist Meeting
DESCRIPTION:Looking to meet other fiber artists in the Hunterdon county area?  Think about coming to Hunterdon Fiber Artists meet up to socialize and connect with others doing the fiber art craft that they love. \nAll are welcome.  Just bring your craft be it knitting\, crocheting\, spinning\, etc.\, and be prepared to meet lots of fun and interesting people!  We even have mini educational talks on requested topics! \nOur FB group is Hunterdon Fiber Artists https://www.facebook.com/groups/1101970274078722 \nOur Ravelry group is https://www.ravelry.com/groups/hunterdon-fiber-artists?s=tab \nEvery other Monday at DIY; $3-5 suggested donation.
URL:https://www.flemingtondiy.org/event/hunterdon-fiber-artist-meeting-76/
END:VEVENT
BEGIN:VEVENT
DTSTART;TZID=America/New_York:20251215T180000
DTEND;TZID=America/New_York:20251215T210000
DTSTAMP:20260424T120224
CREATED:20231215T032026Z
LAST-MODIFIED:20251215T233725Z
UID:10001942-1765821600-1765832400@www.flemingtondiy.org
SUMMARY:Print Club
DESCRIPTION:Flemington DIY Print Club is a weekly open studio held from 6-9PM every Monday\, $15-30 per printer. It provides an opportunity for local artists and community members new to arts processes to utilize shared printmaking facilities. Print Club provides a platform for artists to network\, build community\, and work collaboratively. \nNo experience? No problem! Our vounteers will guide you through the process from start to finish! \nLearn more: https://www.flemingtondiy.org/printclub/
URL:https://www.flemingtondiy.org/event/print-club-262/
END:VEVENT
BEGIN:VEVENT
DTSTART;TZID=America/New_York:20251216T113000
DTEND;TZID=America/New_York:20251216T180000
DTSTAMP:20260424T120224
CREATED:20250602T233541Z
LAST-MODIFIED:20251215T233725Z
UID:10003239-1765884600-1765908000@www.flemingtondiy.org
SUMMARY:Open Hours
DESCRIPTION:Visit the space\, see our current art shows\, hang out\, and learn how to get involved!
URL:https://www.flemingtondiy.org/event/open-hours-227/
END:VEVENT
BEGIN:VEVENT
DTSTART;TZID=America/New_York:20251216T183000
DTEND;TZID=America/New_York:20251216T203000
DTSTAMP:20260424T120224
CREATED:20251010T233509Z
LAST-MODIFIED:20251216T233713Z
UID:10003453-1765909800-1765917000@www.flemingtondiy.org
SUMMARY:Flemington Acoustic Players
DESCRIPTION:Calling all Hunterdon County pop/rock/folk stars!  Are you looking for a place to practice your acoustic guitar skills\, and maybe do some singing too?   \nOur merry band of music makers is open to players of all abilities! This gathering however is for Acoustic players ONLY; i.e guitars\, ukuleles\, mandolins & banjos. A drummer and/or an acoustic/electric bassist would be welcomed though to help us all stay in time. \nChords and lyrics to the songs will be projected on a screen so there’s no need for you to bring a music stand or tablet. We will be selecting tunes from a song book that includes a wide variety of rock/pop/folk classics. \nCome and have fun with us as we play and sing along to some of everyone’s favorite tunes! \nSuggested donation of $3-5www.flemingtondiy.org/acoustic/
URL:https://www.flemingtondiy.org/event/flemington-acoustic-players-84/
END:VEVENT
END:VCALENDAR