BEGIN:VCALENDAR
VERSION:2.0
PRODID:-//Flemington DIY - ECPv6.15.20//NONSGML v1.0//EN
CALSCALE:GREGORIAN
METHOD:PUBLISH
X-ORIGINAL-URL:https://www.flemingtondiy.org
X-WR-CALDESC:Events for Flemington DIY
REFRESH-INTERVAL;VALUE=DURATION:PT1H
X-Robots-Tag:noindex
X-PUBLISHED-TTL:PT1H
BEGIN:VTIMEZONE
TZID:America/New_York
BEGIN:DAYLIGHT
TZOFFSETFROM:-0500
TZOFFSETTO:-0400
TZNAME:EDT
DTSTART:20270314T070000
END:DAYLIGHT
BEGIN:STANDARD
TZOFFSETFROM:-0400
TZOFFSETTO:-0500
TZNAME:EST
DTSTART:20271107T060000
END:STANDARD
BEGIN:DAYLIGHT
TZOFFSETFROM:-0500
TZOFFSETTO:-0400
TZNAME:EDT
DTSTART:20280312T070000
END:DAYLIGHT
BEGIN:STANDARD
TZOFFSETFROM:-0400
TZOFFSETTO:-0500
TZNAME:EST
DTSTART:20281105T060000
END:STANDARD
BEGIN:DAYLIGHT
TZOFFSETFROM:-0500
TZOFFSETTO:-0400
TZNAME:EDT
DTSTART:20290311T070000
END:DAYLIGHT
BEGIN:STANDARD
TZOFFSETFROM:-0400
TZOFFSETTO:-0500
TZNAME:EST
DTSTART:20291104T060000
END:STANDARD
END:VTIMEZONE
BEGIN:VEVENT
DTSTART;TZID=America/New_York:20280403T180000
DTEND;TZID=America/New_York:20280403T210000
DTSTAMP:20260425T123717
CREATED:20260412T235805Z
LAST-MODIFIED:20260423T234937Z
UID:10004167-1838397600-1838408400@www.flemingtondiy.org
SUMMARY:Print Club
DESCRIPTION:Flemington DIY Print Club is a weekly open studio held from 6-9PM every Monday\, $15-30 per printer. It provides an opportunity for local artists and community members new to arts processes to utilize shared printmaking facilities. Print Club provides a platform for artists to network\, build community\, and work collaboratively. \nNo experience? No problem! Our vounteers will guide you through the process from start to finish! \nLearn more: https://www.flemingtondiy.org/printclub/
URL:https://www.flemingtondiy.org/event/print-club-469/
END:VEVENT
BEGIN:VEVENT
DTSTART;TZID=America/New_York:20280404T113000
DTEND;TZID=America/New_York:20280404T180000
DTSTAMP:20260425T123717
CREATED:20260406T130954Z
LAST-MODIFIED:20260423T234937Z
UID:10004055-1838460600-1838484000@www.flemingtondiy.org
SUMMARY:Open Hours
DESCRIPTION:Visit the space\, see our current art shows\, hang out\, and learn how to get involved!
URL:https://www.flemingtondiy.org/event/open-hours-485/
END:VEVENT
BEGIN:VEVENT
DTSTART;TZID=America/New_York:20280406T113000
DTEND;TZID=America/New_York:20280406T180000
DTSTAMP:20260425T123717
CREATED:20260406T130954Z
LAST-MODIFIED:20260423T234937Z
UID:10004056-1838633400-1838656800@www.flemingtondiy.org
SUMMARY:Open Hours
DESCRIPTION:
URL:https://www.flemingtondiy.org/event/open-hours-486/
END:VEVENT
BEGIN:VEVENT
DTSTART;TZID=America/New_York:20280410T180000
DTEND;TZID=America/New_York:20280410T200000
DTSTAMP:20260425T123717
CREATED:20260410T235814Z
LAST-MODIFIED:20260423T234937Z
UID:10004060-1839002400-1839009600@www.flemingtondiy.org
SUMMARY:Hunterdon Fiber Artist Meeting
DESCRIPTION:Looking to meet other fiber artists in the Hunterdon county area?  Think about coming to Hunterdon Fiber Artists meet up to socialize and connect with others doing the fiber art craft that they love. \nAll are welcome.  Just bring your craft be it knitting\, crocheting\, spinning\, etc.\, and be prepared to meet lots of fun and interesting people!  We even have mini educational talks on requested topics! \nOur FB group is Hunterdon Fiber Artists https://www.facebook.com/groups/1101970274078722 \nOur Ravelry group is https://www.ravelry.com/groups/hunterdon-fiber-artists?s=tab \nEvery other Monday at DIY; $3-5 suggested donation.
URL:https://www.flemingtondiy.org/event/hunterdon-fiber-artist-meeting-83/
END:VEVENT
BEGIN:VEVENT
DTSTART;TZID=America/New_York:20280410T180000
DTEND;TZID=America/New_York:20280410T210000
DTSTAMP:20260425T123717
CREATED:20260412T235805Z
LAST-MODIFIED:20260423T234937Z
UID:10004168-1839002400-1839013200@www.flemingtondiy.org
SUMMARY:Print Club
DESCRIPTION:Flemington DIY Print Club is a weekly open studio held from 6-9PM every Monday\, $15-30 per printer. It provides an opportunity for local artists and community members new to arts processes to utilize shared printmaking facilities. Print Club provides a platform for artists to network\, build community\, and work collaboratively. \nNo experience? No problem! Our vounteers will guide you through the process from start to finish! \nLearn more: https://www.flemingtondiy.org/printclub/
URL:https://www.flemingtondiy.org/event/print-club-470/
END:VEVENT
BEGIN:VEVENT
DTSTART;TZID=America/New_York:20280411T113000
DTEND;TZID=America/New_York:20280411T180000
DTSTAMP:20260425T123717
CREATED:20260411T235759Z
LAST-MODIFIED:20260423T234937Z
UID:10004062-1839065400-1839088800@www.flemingtondiy.org
SUMMARY:Open Hours
DESCRIPTION:Visit the space\, see our current art shows\, hang out\, and learn how to get involved!
URL:https://www.flemingtondiy.org/event/open-hours-487/
END:VEVENT
BEGIN:VEVENT
DTSTART;TZID=America/New_York:20280411T190000
DTEND;TZID=America/New_York:20280411T210000
DTSTAMP:20260425T123717
CREATED:20260411T235759Z
LAST-MODIFIED:20260423T234937Z
UID:10004063-1839092400-1839099600@www.flemingtondiy.org
SUMMARY:Songwriter Circle
DESCRIPTION:Hey\, songwriters: Do you have songs that are half finished? Lyrics you’re not entirely happy with? A songwriting circle is not a performance. It’s an opportunity to connect with other songwriters\, play your song idea for us – whether it’s fully formed or not – and receive gentle\, respectful\, and constructive feedback. All genres welcome! Please bring a few hard copies of your lyrics to share (they’ll be returned to you). We have a piano available. Donations at the door
URL:https://www.flemingtondiy.org/event/songwriter-circle-62/
END:VEVENT
BEGIN:VEVENT
DTSTART;TZID=America/New_York:20280413T113000
DTEND;TZID=America/New_York:20280413T180000
DTSTAMP:20260425T123717
CREATED:20260414T234312Z
LAST-MODIFIED:20260423T234937Z
UID:10004179-1839238200-1839261600@www.flemingtondiy.org
SUMMARY:Open Hours
DESCRIPTION:
URL:https://www.flemingtondiy.org/event/open-hours-488/
END:VEVENT
BEGIN:VEVENT
DTSTART;TZID=America/New_York:20280417T180000
DTEND;TZID=America/New_York:20280417T200000
DTSTAMP:20260425T123717
CREATED:20260417T234245Z
LAST-MODIFIED:20260423T234938Z
UID:10004182-1839607200-1839614400@www.flemingtondiy.org
SUMMARY:Hunterdon Fiber Artist Meeting
DESCRIPTION:Looking to meet other fiber artists in the Hunterdon county area?  Think about coming to Hunterdon Fiber Artists meet up to socialize and connect with others doing the fiber art craft that they love. \nAll are welcome.  Just bring your craft be it knitting\, crocheting\, spinning\, etc.\, and be prepared to meet lots of fun and interesting people!  We even have mini educational talks on requested topics! \nOur FB group is Hunterdon Fiber Artists https://www.facebook.com/groups/1101970274078722 \nOur Ravelry group is https://www.ravelry.com/groups/hunterdon-fiber-artists?s=tab \nEvery other Monday at DIY; $3-5 suggested donation.
URL:https://www.flemingtondiy.org/event/hunterdon-fiber-artist-meeting-170/
END:VEVENT
BEGIN:VEVENT
DTSTART;TZID=America/New_York:20280417T180000
DTEND;TZID=America/New_York:20280417T210000
DTSTAMP:20260425T123717
CREATED:20260417T234245Z
LAST-MODIFIED:20260423T234938Z
UID:10004181-1839607200-1839618000@www.flemingtondiy.org
SUMMARY:Print Club
DESCRIPTION:Flemington DIY Print Club is a weekly open studio held from 6-9PM every Monday\, $15-30 per printer. It provides an opportunity for local artists and community members new to arts processes to utilize shared printmaking facilities. Print Club provides a platform for artists to network\, build community\, and work collaboratively. \nNo experience? No problem! Our vounteers will guide you through the process from start to finish! \nLearn more: https://www.flemingtondiy.org/printclub/
URL:https://www.flemingtondiy.org/event/print-club-192/
END:VEVENT
BEGIN:VEVENT
DTSTART;TZID=America/New_York:20280418T113000
DTEND;TZID=America/New_York:20280418T180000
DTSTAMP:20260425T123717
CREATED:20260418T235746Z
LAST-MODIFIED:20260423T234938Z
UID:10004183-1839670200-1839693600@www.flemingtondiy.org
SUMMARY:Open Hours
DESCRIPTION:Visit the space\, see our current art shows\, hang out\, and learn how to get involved!
URL:https://www.flemingtondiy.org/event/open-hours-489/
END:VEVENT
BEGIN:VEVENT
DTSTART;TZID=America/New_York:20280420T113000
DTEND;TZID=America/New_York:20280420T180000
DTSTAMP:20260425T123717
CREATED:20260421T234246Z
LAST-MODIFIED:20260423T234938Z
UID:10004184-1839843000-1839866400@www.flemingtondiy.org
SUMMARY:Open Hours
DESCRIPTION:
URL:https://www.flemingtondiy.org/event/open-hours-490/
END:VEVENT
BEGIN:VEVENT
DTSTART;TZID=America/New_York:20280421T190000
DTEND;TZID=America/New_York:20280421T220000
DTSTAMP:20260425T123717
CREATED:20260421T234246Z
LAST-MODIFIED:20260423T234938Z
UID:10004185-1839956400-1839967200@www.flemingtondiy.org
SUMMARY:Third Friday Board Games
DESCRIPTION:Third Friday Board Game Night All ages | Bring your own game or play with one of ours | Meet new people\, have fun\, casual! No RSVP required\, just show up. Free to attend\, donations to Flemington DIY welcomed.
URL:https://www.flemingtondiy.org/event/third-friday-board-games-27/
END:VEVENT
END:VCALENDAR