BEGIN:VCALENDAR
VERSION:2.0
PRODID:-//Flemington DIY - ECPv6.15.20//NONSGML v1.0//EN
CALSCALE:GREGORIAN
METHOD:PUBLISH
X-WR-CALNAME:Flemington DIY
X-ORIGINAL-URL:https://www.flemingtondiy.org
X-WR-CALDESC:Events for Flemington DIY
REFRESH-INTERVAL;VALUE=DURATION:PT1H
X-Robots-Tag:noindex
X-PUBLISHED-TTL:PT1H
BEGIN:VTIMEZONE
TZID:America/New_York
BEGIN:DAYLIGHT
TZOFFSETFROM:-0500
TZOFFSETTO:-0400
TZNAME:EDT
DTSTART:20240310T070000
END:DAYLIGHT
BEGIN:STANDARD
TZOFFSETFROM:-0400
TZOFFSETTO:-0500
TZNAME:EST
DTSTART:20241103T060000
END:STANDARD
BEGIN:DAYLIGHT
TZOFFSETFROM:-0500
TZOFFSETTO:-0400
TZNAME:EDT
DTSTART:20250309T070000
END:DAYLIGHT
BEGIN:STANDARD
TZOFFSETFROM:-0400
TZOFFSETTO:-0500
TZNAME:EST
DTSTART:20251102T060000
END:STANDARD
BEGIN:DAYLIGHT
TZOFFSETFROM:-0500
TZOFFSETTO:-0400
TZNAME:EDT
DTSTART:20260308T070000
END:DAYLIGHT
BEGIN:STANDARD
TZOFFSETFROM:-0400
TZOFFSETTO:-0500
TZNAME:EST
DTSTART:20261101T060000
END:STANDARD
END:VTIMEZONE
BEGIN:VEVENT
DTSTART;TZID=America/New_York:20251021T113000
DTEND;TZID=America/New_York:20251021T180000
DTSTAMP:20260424T100945
CREATED:20250602T233534Z
LAST-MODIFIED:20251020T235230Z
UID:10003231-1761046200-1761069600@www.flemingtondiy.org
SUMMARY:Open Hours
DESCRIPTION:Visit the space\, see our current art shows\, hang out\, and learn how to get involved!
URL:https://www.flemingtondiy.org/event/open-hours-211/
END:VEVENT
BEGIN:VEVENT
DTSTART;TZID=America/New_York:20251021T183000
DTEND;TZID=America/New_York:20251021T203000
DTSTAMP:20260424T100945
CREATED:20240928T233726Z
LAST-MODIFIED:20251020T235231Z
UID:10002610-1761071400-1761078600@www.flemingtondiy.org
SUMMARY:Flemington Acoustic Players
DESCRIPTION:Calling all Hunterdon County pop/rock/folk stars!  Are you looking for a place to practice your acoustic guitar skills\, and maybe do some singing too?   \nOur merry band of music makers is open to players of all abilities! This gathering however is for Acoustic players ONLY; i.e guitars\, ukuleles\, mandolins & banjos. A drummer and/or an acoustic/electric bassist would be welcomed though to help us all stay in time. \nChords and lyrics to the songs will be projected on a screen so there’s no need for you to bring a music stand or tablet. We will be selecting tunes from a song book that includes a wide variety of rock/pop/folk classics. \nCome and have fun with us as we play and sing along to some of everyone’s favorite tunes! \nSuggested donation of $3-5www.flemingtondiy.org/acoustic/
URL:https://www.flemingtondiy.org/event/flemington-acoustic-players-70/
END:VEVENT
BEGIN:VEVENT
DTSTART;TZID=America/New_York:20251022T180000
DTEND;TZID=America/New_York:20251022T203000
DTSTAMP:20260424T100945
CREATED:20250830T233528Z
LAST-MODIFIED:20251022T233732Z
UID:10003407-1761156000-1761165000@www.flemingtondiy.org
SUMMARY:Halloweeny Ghost Crochet Art Circle
DESCRIPTION:
URL:https://www.flemingtondiy.org/event/halloweeny-ghost-crochet-art-circle/
END:VEVENT
BEGIN:VEVENT
DTSTART;TZID=America/New_York:20251023T113000
DTEND;TZID=America/New_York:20251023T180000
DTSTAMP:20260424T100945
CREATED:20241221T233548Z
LAST-MODIFIED:20251022T233732Z
UID:10002895-1761219000-1761242400@www.flemingtondiy.org
SUMMARY:Open Hours
DESCRIPTION:Visit the space\, see our current art shows\, hang out\, and learn how to get involved!
URL:https://www.flemingtondiy.org/event/open-hours-230/
END:VEVENT
BEGIN:VEVENT
DTSTART;TZID=America/New_York:20251024T190000
DTEND;TZID=America/New_York:20251024T220000
DTSTAMP:20260424T100945
CREATED:20250828T233514Z
LAST-MODIFIED:20251024T235210Z
UID:10003406-1761332400-1761343200@www.flemingtondiy.org
SUMMARY:Live Music: New Orleans Trad Night
DESCRIPTION:Mardis Gras in October? Why not?  If you like “trad” New Orleans style jazz\, don’t miss this cool evening of hot jazz. Started by a Rutgers professor\, Marshalls Band has been entertaining New Jersey audiences for over 40 years. Its current roster includes four members who have played recently in New Orleans.  Marshall’s uses little or no amplification\, and plays on original instruments used 100 years ago. Written music is optional if used at all\, so every tune is a unique creation formed around the other musicians\, the audience and the mood. \n$12 adv / $15 doorTickets @ flemingtondiy.org/Trad2
URL:https://www.flemingtondiy.org/event/live-music-new-orleans-trad-night-2/
END:VEVENT
BEGIN:VEVENT
DTSTART;TZID=America/New_York:20251025T193000
DTEND;TZID=America/New_York:20251025T220000
DTSTAMP:20260424T100945
CREATED:20250805T233523Z
LAST-MODIFIED:20251025T235229Z
UID:10003391-1761420600-1761429600@www.flemingtondiy.org
SUMMARY:Live Music - Jazz - Griffin Woodard Quartet
DESCRIPTION:Griffin Woodard is a composer\, bass clarinetist\, and bandleader who believes in the transformative power of music. As an instrumentalist\, Woodard’s primary focus is playing the bass clarinet in a jazz context. He has dedicated years of study to acquiring an in-depth understanding of the rich historical lineage of jazz clarinetists and bass clarinetists from Johnny Dodds to Eric Dolphy. In 2022\, Woodard was awarded the ASCAP Foundation Herb Alpert Young Jazz Composer Award for his piece\, “Kyrie”. \nDoors 7:30pm / Show 8pm$18 adv / $22 door15% off for DIY members
URL:https://www.flemingtondiy.org/event/live-music-jazz-griffin-woodard-quartet/
END:VEVENT
BEGIN:VEVENT
DTSTART;TZID=America/New_York:20251026T080000
DTEND;TZID=America/New_York:20251026T100000
DTSTAMP:20260424T100945
CREATED:20250519T235034Z
LAST-MODIFIED:20251025T235229Z
UID:10003196-1761465600-1761472800@www.flemingtondiy.org
SUMMARY:Community Bird Sit
DESCRIPTION:Last Sunday of the month. 8am-10am. Location will change monthly and be sent to registrants \nJoin us on recurring community bird sits to meet some friends and see some birds! Witness migration from the comfort of a chair or blanket! Come have your morning coffee with us and watch some birds!  \nPlease bring binoculars if you’ve got ’em. \nRegistration required: https://www.flemingtondiy.org/bird/Suggested donation will benefit Flemington DIY and the Raptor Trust.
URL:https://www.flemingtondiy.org/event/community-bird-sit-6/
END:VEVENT
BEGIN:VEVENT
DTSTART;TZID=America/New_York:20251026T180000
DTEND;TZID=America/New_York:20251026T223000
DTSTAMP:20260424T100945
CREATED:20250920T233516Z
LAST-MODIFIED:20251026T235222Z
UID:10003436-1761501600-1761517800@www.flemingtondiy.org
SUMMARY:THE PEOPLE'S JOKER Screening
DESCRIPTION:Come out and watch THE PEOPLE’S JOKER while having some snacks and water- free with the price of your ticket! \nTHE PEOPLE’S JOKER is not rated. Content Warnings include suicide\, blood\, drug use\, homophobic slurs\, abuse\, child abuse\, and transphobia. \nTickets: https://www.eventeny.com/events/thepeoplesjokerscreening-23770
URL:https://www.flemingtondiy.org/event/the-peoples-joker-screening-2/
END:VEVENT
BEGIN:VEVENT
DTSTART;TZID=America/New_York:20251027T180000
DTEND;TZID=America/New_York:20251027T210000
DTSTAMP:20260424T100945
CREATED:20231107T010620Z
LAST-MODIFIED:20251027T235223Z
UID:10001894-1761588000-1761598800@www.flemingtondiy.org
SUMMARY:Print Club
DESCRIPTION:Flemington DIY Print Club is a weekly open studio held from 6-9PM every Monday\, $15-30 per printer. It provides an opportunity for local artists and community members new to arts processes to utilize shared printmaking facilities. Print Club provides a platform for artists to network\, build community\, and work collaboratively. \nNo experience? No problem! Our vounteers will guide you through the process from start to finish! \nLearn more: https://www.flemingtondiy.org/printclub/
URL:https://www.flemingtondiy.org/event/print-club-256/
END:VEVENT
BEGIN:VEVENT
DTSTART;TZID=America/New_York:20251028T113000
DTEND;TZID=America/New_York:20251028T180000
DTSTAMP:20260424T100945
CREATED:20250602T233535Z
LAST-MODIFIED:20251027T235223Z
UID:10003232-1761651000-1761674400@www.flemingtondiy.org
SUMMARY:Open Hours
DESCRIPTION:Visit the space\, see our current art shows\, hang out\, and learn how to get involved!
URL:https://www.flemingtondiy.org/event/open-hours-213/
END:VEVENT
BEGIN:VEVENT
DTSTART;TZID=America/New_York:20251028T190000
DTEND;TZID=America/New_York:20251028T210000
DTSTAMP:20260424T100945
CREATED:20250731T233527Z
LAST-MODIFIED:20251028T235221Z
UID:10003366-1761678000-1761685200@www.flemingtondiy.org
SUMMARY:Classical Music Jam
DESCRIPTION:Jazz bands jam\, rock bands jam\, bluegrass players jams… why not a classical jam?? \nStrings\, brass\, woodwinds… Come join a classical music jam!!   \nBring a piece or two of music to share\, and sit in on the jam!   \nBring your instrument\, music (duo\, trio\, quartet\, etc. or even a full orchestra arrangement) and a stand\, be ready to share\, and let’s play some classical music in an informal setting.   \nWe jam once a month on the 4th Tuesday from 7 PM – 9 PM.   $5 suggested donation to Flemington DIY.  \nDon’t have music\, Don’t have a stand?…. Don’t worry!  Just bring your instrument\, and jam with us! \nCome share your talent and play! Take a break\, relax\, and listen to others.   \nUpcoming Tuesdays:   \n9/30 \n10/28 \n11/25 \n12/23 \nClassical is cool too!  See you at the jam!  
URL:https://www.flemingtondiy.org/event/classical-music-jam-2/
END:VEVENT
BEGIN:VEVENT
DTSTART;TZID=America/New_York:20251029T193000
DTEND;TZID=America/New_York:20251029T213000
DTSTAMP:20260424T100945
CREATED:20250224T233610Z
LAST-MODIFIED:20251029T235228Z
UID:10003087-1761766200-1761773400@www.flemingtondiy.org
SUMMARY:Poetry Open Mic
DESCRIPTION:Community members of all levels are invited to read their poetry and listen to the work of others. If you’re looking for a welcoming group of emerging and established poets and beatniks\, this is for you! \nShow up and sign up. No pre-registration to participate. Donations for the space encouraged at the door. All ages but please be aware that mature and sometimes sensitive topics are explored and mentioned at this event.
URL:https://www.flemingtondiy.org/event/poetry-open-mic-49/
END:VEVENT
BEGIN:VEVENT
DTSTART;TZID=America/New_York:20251030T173000
DTEND;TZID=America/New_York:20251030T200000
DTSTAMP:20260424T100945
CREATED:20250903T233518Z
LAST-MODIFIED:20251030T235230Z
UID:10003410-1761845400-1761854400@www.flemingtondiy.org
SUMMARY:Fright Lines: Horror Open Mic Night
DESCRIPTION:This October\, the shadows come alive and the mic goes cold. Fright Lines invites writers\, poets\, and fearless fans of the macabre to a horror open mic night celebrating the terrifying\, the twisted\, and the uncanny. Visit Flemington DIY on Thursday\, October 30\, to share original horror-themed works or simply hang out and enjoy the nightmares. Signups begin onsite at 5:30 p.m. Open mic runs from 6 to 8 p.m. For more info\, visit tinyurl.com/FrightLines.
URL:https://www.flemingtondiy.org/event/fright-lines-horror-open-mic-night/
END:VEVENT
BEGIN:VEVENT
DTSTART;TZID=America/New_York:20251031T190000
DTEND;TZID=America/New_York:20251031T220000
DTSTAMP:20260424T100945
CREATED:20251002T233528Z
LAST-MODIFIED:20251031T235227Z
UID:10003447-1761937200-1761948000@www.flemingtondiy.org
SUMMARY:Live Music - Synth/Noise
DESCRIPTION:Halloween Show – Costumes Encouraged! \nEarthen ShieldNY Dark Dungeon Synth https://esotericobfuscation.bandcamp.com/album/endless-melancholia \nSole SVIVR Horror Synth/Carpenter-Corehttps://solesvivr.bandcamp.com/album/night-terrors \nBody Garden PA Ambient/Electronic/Noisehttps://bodygarden.bandcamp.com/track/oh-kama-ku-ni-listen-sacred-water \nNIMF Irish Folk Ambient/Industrialhttps://nimf.bandcamp.com/track/a-ballad-for-looking-into-time \n$10Doors @ 6:30All agesNo drugs / no alcohol
URL:https://www.flemingtondiy.org/event/live-music-synth-noise-2/
END:VEVENT
BEGIN:VEVENT
DTSTART;TZID=America/New_York:20251101T100000
DTEND;TZID=America/New_York:20251101T130000
DTSTAMP:20260424T100945
CREATED:20250916T233516Z
LAST-MODIFIED:20251031T235227Z
UID:10003422-1761991200-1762002000@www.flemingtondiy.org
SUMMARY:Photo Capture Kickoff Event - Photo Marathon
DESCRIPTION:November Photo Capture 24 Hours Photo Marathon – Kickoff Event  \nJoin us for the Photo Capture KICKOFF event – a 24 hour photography marathon! Registered participants will meet at Flemington DIY and have a chance to mingle with other photographers as they await the announcement of four mystery themes. Participants will be challenged to create their images in a twenty four period while considering how to create a visual coherence amongst the themes. Participants are encouraged to begin their photographic adventure at Flemington DIY and continue wherever their creativity takes them. Flemington DIY will be open until 1pm for people to drop in and take a break\, discuss and share ideas. Photos taken during this event can be submitted at the end of the month for the projected show.  \nWhat to bring: Any kind of camera including phone cameras. Film cameras are also welcome!  \nREGISTRATION REQUIRED: https://form.jotform.com/252577171465160
URL:https://www.flemingtondiy.org/event/photo-capture-kickoff-event-photo-marathon/
END:VEVENT
BEGIN:VEVENT
DTSTART;TZID=America/New_York:20251101T170000
DTEND;TZID=America/New_York:20251101T203000
DTSTAMP:20260424T100945
CREATED:20250930T235022Z
LAST-MODIFIED:20251101T235224Z
UID:10003445-1762016400-1762029000@www.flemingtondiy.org
SUMMARY:lessISmore Art Opening Reception
DESCRIPTION:Our work showcases art that is born out of the lesser\, the bare necessities. Rather than relying on a false abundance of materials\, agents and devices\, we focus on the essentials and simplicity\, back to the roots\, embracing the non-processed and untamed.   \nFeatured artists:Nolan Yamashiro – photographySimon Keller – mixed-media\, performance artBenjamin Heidersberger\, soundscapeFrank May – performance artEric Spencer – ceramics & letter cuttingBenjamin Vogler – ceramicsMarek Benczevski\, ink drawings
URL:https://www.flemingtondiy.org/event/simon-keller-group-show-opening/
END:VEVENT
BEGIN:VEVENT
DTSTART;TZID=America/New_York:20251102T100000
DTEND;TZID=America/New_York:20251102T110000
DTSTAMP:20260424T100945
CREATED:20250910T233513Z
LAST-MODIFIED:20251101T235224Z
UID:10003414-1762077600-1762081200@www.flemingtondiy.org
SUMMARY:Hula Hoop Workshop
DESCRIPTION:Abby Bireta is a dynamic professional performer who has been training at the Trenton Circus Squad since 2022. Come join us in this new and exciting workshop as Abby breaks down the art of hula hooping step-by-step for all levels to enjoy!  \nJust $5 per participant (cash only). Parents are welcome to stay and observe.Register via email: abbybireta@gmail.com
URL:https://www.flemingtondiy.org/event/hula-hoop-workshop/
END:VEVENT
BEGIN:VEVENT
DTSTART;TZID=America/New_York:20251102T130000
DTEND;TZID=America/New_York:20251102T170000
DTSTAMP:20260424T100945
CREATED:20240928T233727Z
LAST-MODIFIED:20251101T235224Z
UID:10002612-1762088400-1762102800@www.flemingtondiy.org
SUMMARY:Open Jazz Jams
DESCRIPTION:Open Jazz Jams are held he first Sunday of every month. \nThe sessions will provide an opportunity for musicians to play with an experienced band. From 1-2 PM the hosting musicians for the week will play. Other musicians will be invited to sit in and play between 2-5 PM (typically a minimum of 2 songs each\, circumstances permitting). With the exception of drum kit and piano\, all musicians should bring their own equipment (instruments\, amps\, drum sticks\, microphones\, etc.). The sessions will focus primarily on jazz standards and other jazz tunes contained in Hal Leonard Real Books volumes 1 through 3. Newcomers will be coached through the process.  \nA $3 to $5 donation to Flemington DIY will be required from each musician that plays at the session. Visitors that just want to listen to the music are also welcome to attend for all or any part of the 1-5 PM sessions free of charge.  \nFor questions about the sessions\, or to be added to the monthly text notification list for last minute cancellations or reschedules\, please email njjazzjam@gmail.com
URL:https://www.flemingtondiy.org/event/open-jazz-jams-32/
END:VEVENT
BEGIN:VEVENT
DTSTART;TZID=America/New_York:20251102T180000
DTEND;TZID=America/New_York:20251102T220000
DTSTAMP:20260424T100945
CREATED:20250913T233516Z
LAST-MODIFIED:20251102T235234Z
UID:10003417-1762106400-1762120800@www.flemingtondiy.org
SUMMARY:Live Music - Rock
DESCRIPTION:Contorted Cabin – Indie RockDanny Zang and the Blues Gang – Rock & BluesAnything Honestly – Midwest Emo \nDoors @ 5:30\, Music @ 6$10All agesNo drugs/no alcohol
URL:https://www.flemingtondiy.org/event/live-music-rock-2/
END:VEVENT
BEGIN:VEVENT
DTSTART;TZID=America/New_York:20251103T180000
DTEND;TZID=America/New_York:20251103T200000
DTSTAMP:20260424T100945
CREATED:20241220T233627Z
LAST-MODIFIED:20251103T235226Z
UID:10002807-1762192800-1762200000@www.flemingtondiy.org
SUMMARY:Hunterdon Fiber Artist Meeting
DESCRIPTION:Looking to meet other fiber artists in the Hunterdon county area?  Think about coming to Hunterdon Fiber Artists meet up to socialize and connect with others doing the fiber art craft that they love. \nAll are welcome.  Just bring your craft be it knitting\, crocheting\, spinning\, etc.\, and be prepared to meet lots of fun and interesting people!  We even have mini educational talks on requested topics! \nOur FB group is Hunterdon Fiber Artists https://www.facebook.com/groups/1101970274078722 \nOur Ravelry group is https://www.ravelry.com/groups/hunterdon-fiber-artists?s=tab \nEvery other Monday at DIY; $3-5 suggested donation.
URL:https://www.flemingtondiy.org/event/hunterdon-fiber-artist-meeting-73/
END:VEVENT
BEGIN:VEVENT
DTSTART;TZID=America/New_York:20251103T180000
DTEND;TZID=America/New_York:20251103T210000
DTSTAMP:20260424T100945
CREATED:20231107T010621Z
LAST-MODIFIED:20251103T235226Z
UID:10001895-1762192800-1762203600@www.flemingtondiy.org
SUMMARY:Print Club
DESCRIPTION:Flemington DIY Print Club is a weekly open studio held from 6-9PM every Monday\, $15-30 per printer. It provides an opportunity for local artists and community members new to arts processes to utilize shared printmaking facilities. Print Club provides a platform for artists to network\, build community\, and work collaboratively. \nNo experience? No problem! Our vounteers will guide you through the process from start to finish! \nLearn more: https://www.flemingtondiy.org/printclub/
URL:https://www.flemingtondiy.org/event/print-club-257/
END:VEVENT
BEGIN:VEVENT
DTSTART;TZID=America/New_York:20251104T113000
DTEND;TZID=America/New_York:20251104T180000
DTSTAMP:20260424T100945
CREATED:20250602T233536Z
LAST-MODIFIED:20251103T235226Z
UID:10003233-1762255800-1762279200@www.flemingtondiy.org
SUMMARY:Open Hours
DESCRIPTION:Visit the space\, see our current art shows\, hang out\, and learn how to get involved!
URL:https://www.flemingtondiy.org/event/open-hours-215/
END:VEVENT
BEGIN:VEVENT
DTSTART;TZID=America/New_York:20251104T173000
DTEND;TZID=America/New_York:20251104T190000
DTSTAMP:20260424T100945
CREATED:20250507T233544Z
LAST-MODIFIED:20251104T235219Z
UID:10003174-1762277400-1762282800@www.flemingtondiy.org
SUMMARY:Monthly Food Drive and Skill Share
DESCRIPTION:Drop-off a donation to help stock the Little Free Pantries (LFPs) around Flemington Borough and stay to meet your neighbors! Let’s learn from one another and share our knowledge with a monthly Skill Share. \nLittle Free Pantries are located at:Flemington Area Food Pantry LFP\, 154 Rt 31Salvation Army\, Corner of Hopewell Ave & East Main StreetCommunity LFP\, 10 New Jersey AvenueHunterdon County Community Wellness Center\, 44 Emery AveFlemington DIY LFP\, 26 Stangl RoadFlemington Presbyterian Church LFP\, 10 East Main StreetEchelon Studio Self-Care Pantry\, 27 Fulper Road \nRecommended donations:– Water bottles and gatorade– Shelf stable and canned goods (with pop tops)– Personal and menstrual hygiene items– Cup noodles and ramen– Shelf stable juice and milk– Individually packaged snacks and other ready-to-eat foods– Individually wrapped plastic utensils \nWHAT IS A SKILL SHARE?Skill Shares are meet-ups where folks interested in learning from their community members can come together to share their knowledge and/or learn something new. Everyone has a skill that they can share\, from sewing and mending to gardening to holistic health.  Contact flemingtonqts@gmail.com if you are interested in sharing a topic at our monthly sessions on 1st Tuesdays from 5:30-7PM. No previous experience necessary! Email Jae at flemingtonqts@gmail.com if you have a skill to share.
URL:https://www.flemingtondiy.org/event/monthly-food-drive-and-skill-share-6/
END:VEVENT
BEGIN:VEVENT
DTSTART;TZID=America/New_York:20251106T113000
DTEND;TZID=America/New_York:20251106T180000
DTSTAMP:20260424T100945
CREATED:20241221T233550Z
LAST-MODIFIED:20251105T235226Z
UID:10002899-1762428600-1762452000@www.flemingtondiy.org
SUMMARY:Open Hours
DESCRIPTION:Visit the space\, see our current art shows\, hang out\, and learn how to get involved!
URL:https://www.flemingtondiy.org/event/open-hours-234/
END:VEVENT
BEGIN:VEVENT
DTSTART;TZID=America/New_York:20251107T100000
DTEND;TZID=America/New_York:20251107T120000
DTSTAMP:20260424T100945
CREATED:20250714T235028Z
LAST-MODIFIED:20251105T235226Z
UID:10003355-1762509600-1762516800@www.flemingtondiy.org
SUMMARY:Youth Print Club for Homeschoolers
DESCRIPTION:Friday\, November 7\, 2025\, 10am-12pm$15-30 per student\, ages 12-18\nFlemington DIY and Raritan Learning Cooperative are collaborating to offer a print club for kids ages 12-18\, for this one-off youth print club – perfect for homeschoolers and friends! Bring a design and a t-shirt or anything you want to print on. \nYou’ll get to learn the process of screenprinting\, create your own screen\, and print posters and shirts! \nIf you plan on attending\, please send an email to arts@flemingtondiy.org so we can reserve a place for you and make sure your design will transfer well to screenprinting.
URL:https://www.flemingtondiy.org/event/rlc-x-print-club-for-homeschoolers/
END:VEVENT
BEGIN:VEVENT
DTSTART;TZID=America/New_York:20251108T090000
DTEND;TZID=America/New_York:20251108T143000
DTSTAMP:20260424T100945
CREATED:20251028T235222Z
LAST-MODIFIED:20251107T233739Z
UID:10003517-1762592400-1762612200@www.flemingtondiy.org
SUMMARY:Open Gallery & Tea Ceremony
DESCRIPTION:Tea Ceremony – a free-form tea ceremony\, Simon Keller            10:00 am – 12:00 pm\, RSVP\, max. 5 participants\, recommended donation: $10.
URL:https://www.flemingtondiy.org/event/open-gallery-tea-ceremony/
END:VEVENT
BEGIN:VEVENT
DTSTART;TZID=America/New_York:20251108T150000
DTEND;TZID=America/New_York:20251108T170000
DTSTAMP:20260424T100945
CREATED:20250910T233514Z
LAST-MODIFIED:20251107T233740Z
UID:10003416-1762614000-1762621200@www.flemingtondiy.org
SUMMARY:Ear Seeds Community Workshop w/Nicole
DESCRIPTION:Join Jersey Community Acupuncture’s Nicole Maniez as she leads a  workshop sharing Ear Seeds and their application in stress relief\, pain relief and community care. Sliding scale donation to Flemington DIY of $15-40 includes ear seeds and kit. Registration required by Nov 1st – REGISTER HERE
URL:https://www.flemingtondiy.org/event/ear-seeds-community-workshop-w-nicole/
END:VEVENT
BEGIN:VEVENT
DTSTART;TZID=America/New_York:20251108T190000
DTEND;TZID=America/New_York:20251108T220000
DTSTAMP:20260424T100945
CREATED:20250917T233536Z
LAST-MODIFIED:20251108T233734Z
UID:10003428-1762628400-1762639200@www.flemingtondiy.org
SUMMARY:Live Music: Good Luck w/Sweet Harm & Dark Surfers
DESCRIPTION:Originally formed in Bloomington\, Indiana in the late aughts\, Good Luck plays joyful\, intricate\, unique punk-ish music with a DIY spirit. They always delicately straddled the border lines between interwoven scenes\, trying on Midwest emo\, jangly singer-songwriter\, anthemic rock\, and twinkle guitar before settling somewhere in no man’s land with their own sound and a “we’re a punk band” shrug.  \nAfter a decade-or-so hiatus\, Ginger\, Matt\, and Mike got together again in 2024. With rejuvenated energy and a concerted “not a reunion band” effort\, they’re playing some select dates in support of their soon-to-be-released first album in 14 years. They’ve got big dreams\, mister. \nGood Luck will be joined by Sweet Harm (punk) and Dark Surfers (indie dream pop)  \nAll ages. Doors 7pm Show 8pm$15 adv $18 door \nGet Tickets: https://www.flemingtondiy.org/good-luck
URL:https://www.flemingtondiy.org/event/live-music-good-luck-w-sweet-harm/
END:VEVENT
BEGIN:VEVENT
DTSTART;TZID=America/New_York:20251109T090000
DTEND;TZID=America/New_York:20251109T140000
DTSTAMP:20260424T100945
CREATED:20251028T235222Z
LAST-MODIFIED:20251108T233734Z
UID:10003518-1762678800-1762696800@www.flemingtondiy.org
SUMMARY:The Artist Is In
DESCRIPTION:The Artist is InThe Art of Letter Cutting\, Eric Spencer\, 10am – 1pmLess is more – The improvised photo studio\, Nolan YamashiroSculpting out of a single lump of clay\, Ben VoglerSheltering Islands a Rock & Clay workshop on mixed-media miniature sculpture\, Simon Keller.         10am – 1pm\, RSVP 10 participants max.\, materials provided\,         no prior experience needed. Walk-ins welcome. Fee: $20.00 per person.
URL:https://www.flemingtondiy.org/event/the-artist-is-in/
END:VEVENT
BEGIN:VEVENT
DTSTART;TZID=America/New_York:20251109T143000
DTEND;TZID=America/New_York:20251109T170000
DTSTAMP:20260424T100945
CREATED:20250304T233544Z
LAST-MODIFIED:20251108T233735Z
UID:10003101-1762698600-1762707600@www.flemingtondiy.org
SUMMARY:Women's Comedy Open Mic
DESCRIPTION:Ever wanted to share a joke with your friends? Have a friend who you think is hilarious but don’t know how to let other ladies know about her talent? Here’s an opportunity to give it a try. Enjoy a safe space to share laughs – and if you fail – it’s ok to get up and try again!
URL:https://www.flemingtondiy.org/event/womens-comedy-open-mic-35/
END:VEVENT
END:VCALENDAR