BEGIN:VCALENDAR
VERSION:2.0
PRODID:-//Flemington DIY - ECPv6.15.20//NONSGML v1.0//EN
CALSCALE:GREGORIAN
METHOD:PUBLISH
X-WR-CALNAME:Flemington DIY
X-ORIGINAL-URL:https://www.flemingtondiy.org
X-WR-CALDESC:Events for Flemington DIY
REFRESH-INTERVAL;VALUE=DURATION:PT1H
X-Robots-Tag:noindex
X-PUBLISHED-TTL:PT1H
BEGIN:VTIMEZONE
TZID:America/New_York
BEGIN:DAYLIGHT
TZOFFSETFROM:-0500
TZOFFSETTO:-0400
TZNAME:EDT
DTSTART:20230312T070000
END:DAYLIGHT
BEGIN:STANDARD
TZOFFSETFROM:-0400
TZOFFSETTO:-0500
TZNAME:EST
DTSTART:20231105T060000
END:STANDARD
BEGIN:DAYLIGHT
TZOFFSETFROM:-0500
TZOFFSETTO:-0400
TZNAME:EDT
DTSTART:20240310T070000
END:DAYLIGHT
BEGIN:STANDARD
TZOFFSETFROM:-0400
TZOFFSETTO:-0500
TZNAME:EST
DTSTART:20241103T060000
END:STANDARD
BEGIN:DAYLIGHT
TZOFFSETFROM:-0500
TZOFFSETTO:-0400
TZNAME:EDT
DTSTART:20250309T070000
END:DAYLIGHT
BEGIN:STANDARD
TZOFFSETFROM:-0400
TZOFFSETTO:-0500
TZNAME:EST
DTSTART:20251102T060000
END:STANDARD
END:VTIMEZONE
BEGIN:VEVENT
DTSTART;TZID=America/New_York:20240912T193000
DTEND;TZID=America/New_York:20240912T203000
DTSTAMP:20260425T061945
CREATED:20240724T235048Z
LAST-MODIFIED:20240912T234008Z
UID:10002445-1726169400-1726173000@www.flemingtondiy.org
SUMMARY:Art Circle Meeting In Person
DESCRIPTION:
URL:https://www.flemingtondiy.org/event/art-circle-meeting-in-person-2/
END:VEVENT
BEGIN:VEVENT
DTSTART;TZID=America/New_York:20240912T113000
DTEND;TZID=America/New_York:20240912T180000
DTSTAMP:20260425T061945
CREATED:20240723T235105Z
LAST-MODIFIED:20240911T233651Z
UID:10002429-1726140600-1726164000@www.flemingtondiy.org
SUMMARY:Open Hours
DESCRIPTION:Visit the space\, see our current art shows\, hang out\, and learn how to get involved!
URL:https://www.flemingtondiy.org/event/open-hours-94/
END:VEVENT
BEGIN:VEVENT
DTSTART;TZID=America/New_York:20240910T190000
DTEND;TZID=America/New_York:20240910T210000
DTSTAMP:20260425T061945
CREATED:20240103T045031Z
LAST-MODIFIED:20240910T233629Z
UID:10002010-1725994800-1726002000@www.flemingtondiy.org
SUMMARY:Songwriter Circle
DESCRIPTION:Hey\, songwriters: Do you have songs that are half finished? Lyrics you’re not entirely happy with? A songwriting circle is not a performance. It’s an opportunity to connect with other songwriters\, play your song idea for us – whether it’s fully formed or not – and receive gentle\, respectful\, and constructive feedback. All genres welcome! Please bring a few hard copies of your lyrics to share (they’ll be returned to you). We have a piano available. Donations at the door
URL:https://www.flemingtondiy.org/event/songwriter-circle-19/
END:VEVENT
BEGIN:VEVENT
DTSTART;TZID=America/New_York:20240910T173000
DTEND;TZID=America/New_York:20240910T190000
DTSTAMP:20260425T061945
CREATED:20240816T235020Z
LAST-MODIFIED:20240909T233611Z
UID:10002470-1725989400-1725994800@www.flemingtondiy.org
SUMMARY:Monthly Food Drive
DESCRIPTION:Did you know that Flemington has six Little Food Pantries (LFPs)? LFPs are small food pantries that allow community members in need to have open access to food\, water\, and hygiene items. These pantries depend on the support of donations from people like you! Come together with your community for a monthly food drive to stock four of the pantries. This drive will support the LFPs located at 10 New Jersey Avenue\, Flemington DIY (26 Stangl Road)\, Flemington Presbyterian (10 East Main Street)\, and Echelon Studio’s Personal Hygiene Pantry (27 Fulper Road). \nRecommended donations:Water bottlesDry goods like box mixes\, rice\, oatmeal\, etc.Granola and protein bars (without chocolate)Coffee and teaCrackersRamen and pot noodlesInstant soup packetsHygiene products (esp. menstrual hygiene products)Individual drink mix packetsShelf-stable milkPackaged or canned tuna and chickenCanned goods and can openersPeanut butter and jelly \nPlease no expired items\, open packages\, or frozen/refrigerated items. \nWant to get involved? Sign up here to volunteer! https://forms.gle/GY3tUPUXRWeBSLAz8Questions? Contact Jae at flemingtonqts@gmail.com.
URL:https://www.flemingtondiy.org/event/monthly-food-drive/
END:VEVENT
BEGIN:VEVENT
DTSTART;TZID=America/New_York:20240910T100000
DTEND;TZID=America/New_York:20240910T170000
DTSTAMP:20260425T061945
CREATED:20240730T235052Z
LAST-MODIFIED:20240909T233611Z
UID:10002448-1725962400-1725987600@www.flemingtondiy.org
SUMMARY:Open Hours
DESCRIPTION:Visit the space\, see our current art shows\, hang out\, and learn how to get involved!
URL:https://www.flemingtondiy.org/event/open-hours-109/
END:VEVENT
BEGIN:VEVENT
DTSTART;TZID=America/New_York:20240909T180000
DTEND;TZID=America/New_York:20240909T210000
DTSTAMP:20260425T061945
CREATED:20231107T010554Z
LAST-MODIFIED:20240909T233611Z
UID:10001835-1725904800-1725915600@www.flemingtondiy.org
SUMMARY:Print Club
DESCRIPTION:Flemington DIY Print Club is a weekly open studio held from 6-9PM every Monday\, $15-30 per printer. It provides an opportunity for local artists and community members new to arts processes to utilize shared printmaking facilities. Print Club provides a platform for artists to network\, build community\, and work collaboratively. \nNo experience? No problem! Our vounteers will guide you through the process from start to finish! \nLearn more: https://www.flemingtondiy.org/printclub/
URL:https://www.flemingtondiy.org/event/print-club-197/
END:VEVENT
BEGIN:VEVENT
DTSTART;TZID=America/New_York:20240909T180000
DTEND;TZID=America/New_York:20240909T200000
DTSTAMP:20260425T061945
CREATED:20240528T235102Z
LAST-MODIFIED:20240909T233611Z
UID:10002347-1725904800-1725912000@www.flemingtondiy.org
SUMMARY:Hunterdon Fiber Artist Meeting
DESCRIPTION:Looking to meet other fiber artists in the Hunterdon county area?  Think about coming to Hunterdon Fiber Artists meet up to socialize and connect with others doing the fiber art craft that they love. \nAll are welcome.  Just bring your craft be it knitting\, crocheting\, spinning\, etc.\, and be prepared to meet lots of fun and interesting people!  We even have mini educational talks on requested topics! \nOur FB group is Hunterdon Fiber Artists https://www.facebook.com/groups/1101970274078722 \nOur Ravelry group is https://www.ravelry.com/groups/hunterdon-fiber-artists?s=tab \nEvery other Monday at DIY; $3-5 suggested donation.
URL:https://www.flemingtondiy.org/event/hunterdon-fiber-artist-meeting-17/
END:VEVENT
BEGIN:VEVENT
DTSTART;TZID=America/New_York:20240908T143000
DTEND;TZID=America/New_York:20240908T170000
DTSTAMP:20260425T061945
CREATED:20231104T010524Z
LAST-MODIFIED:20240906T235328Z
UID:10001795-1725805800-1725814800@www.flemingtondiy.org
SUMMARY:Women's Comedy Open Mic
DESCRIPTION:Ever wanted to share a joke with your friends? Have a friend who you think is hilarious but don’t know how to let other ladies know about her talent? Here’s an opportunity to give it a try. Enjoy a safe space to share laughs – and if you fail – it’s ok to get up and try again!Sign up in advance: https://www.jotform.com/assign/233097504623152/232664975561063
URL:https://www.flemingtondiy.org/event/womens-comedy-open-mic-11/
END:VEVENT
BEGIN:VEVENT
DTSTART;TZID=America/New_York:20240907T190000
DTEND;TZID=America/New_York:20240907T220000
DTSTAMP:20260425T061945
CREATED:20240715T235018Z
LAST-MODIFIED:20240906T235328Z
UID:10002422-1725735600-1725746400@www.flemingtondiy.org
SUMMARY:Live Music
DESCRIPTION:Frog Myst\n(Dark Ambient\, drone\, noise)\nStriga\n(Noise\, Dark Ambient)\nGluck Gluck\n(Harsh Noise\, Power Electronics)\nEarth-Rim Walker\n(Flemington Dungeon Noise)\n20 Grit\n(Noise)\nDoors @ 6:00pm\n$10 Donation\nAll Ages \nNo Drugs/Alcohol
URL:https://www.flemingtondiy.org/event/live-music-75/
END:VEVENT
BEGIN:VEVENT
DTSTART;TZID=America/New_York:20240906T190000
DTEND;TZID=America/New_York:20240906T220000
DTSTAMP:20260425T061945
CREATED:20240812T235833Z
LAST-MODIFIED:20240906T235328Z
UID:10002469-1725649200-1725660000@www.flemingtondiy.org
SUMMARY:Live Music
DESCRIPTION:Awesome Mixed Bill!\nAFK\n(Hip Hop)\nFOXTAILS\n(Post Hardcore\, Emo)\nLASTIMA\n(Black Metal\, Blackgaze)\nGRE/AY\n(Math rock\, noise rock)\nDoors @ 6:00pm\n$10 Donation\nAll Ages\nNo Drugs/Alcohol
URL:https://www.flemingtondiy.org/event/live-music-84/
END:VEVENT
BEGIN:VEVENT
DTSTART;TZID=America/New_York:20240906T130000
DTEND;TZID=America/New_York:20240906T160000
DTSTAMP:20260425T061945
CREATED:20240701T235055Z
LAST-MODIFIED:20240905T233745Z
UID:10002388-1725627600-1725638400@www.flemingtondiy.org
SUMMARY:Open Hours Art Show
DESCRIPTION:
URL:https://www.flemingtondiy.org/event/open-hours-art-show/
END:VEVENT
BEGIN:VEVENT
DTSTART;TZID=America/New_York:20240904T180000
DTEND;TZID=America/New_York:20240904T200000
DTSTAMP:20260425T061945
CREATED:20240710T235022Z
LAST-MODIFIED:20240903T235124Z
UID:10002414-1725472800-1725480000@www.flemingtondiy.org
SUMMARY:Hunterdon Fiber Artist Meeting
DESCRIPTION:Looking to meet other fiber artists in the Hunterdon county area?  Think about coming to Hunterdon Fiber Artists meet up to socialize and connect with others doing the fiber art craft that they love. \nAll are welcome.  Just bring your craft be it knitting\, crocheting\, spinning\, etc.\, and be prepared to meet lots of fun and interesting people!  We even have mini educational talks on requested topics! \nOur FB group is Hunterdon Fiber Artists https://www.facebook.com/groups/1101970274078722 \nOur Ravelry group is https://www.ravelry.com/groups/hunterdon-fiber-artists?s=tab \nEvery other Monday at DIY; $3-5 suggested donation.
URL:https://www.flemingtondiy.org/event/hunterdon-fiber-artist-meeting-10/
END:VEVENT
BEGIN:VEVENT
DTSTART;TZID=America/New_York:20240902T190000
DTEND;TZID=America/New_York:20240902T220000
DTSTAMP:20260425T061945
CREATED:20240723T235104Z
LAST-MODIFIED:20240902T235057Z
UID:10002427-1725303600-1725314400@www.flemingtondiy.org
SUMMARY:Live Music
DESCRIPTION:bit rot (NY)\n(Experimental glitch noise)\nHypertrophy (NY)\n(Avant-garde Harsh Noise)\nCognitive Distortion \n(noisy Industrial techno)\nEarth-Rim Walker \n(Dungeon Noise)\n$10 Donation\nDoors @ 6:30pm\nAll Ages\nNo Drugs/Alcohol
URL:https://www.flemingtondiy.org/event/live-music-82/
END:VEVENT
BEGIN:VEVENT
DTSTART;TZID=America/New_York:20240831T100000
DTEND;TZID=America/New_York:20240831T140000
DTSTAMP:20260425T061945
CREATED:20240708T233549Z
LAST-MODIFIED:20240830T235036Z
UID:10002407-1725098400-1725112800@www.flemingtondiy.org
SUMMARY:Hope Vandegrift Art Show Gallery Hours
DESCRIPTION:
URL:https://www.flemingtondiy.org/event/hope-vandegrift-art-show-gallery-hours-6/
END:VEVENT
BEGIN:VEVENT
DTSTART;TZID=America/New_York:20240830T190000
DTEND;TZID=America/New_York:20240830T220000
DTSTAMP:20260425T061945
CREATED:20240620T233521Z
LAST-MODIFIED:20240830T235035Z
UID:10002365-1725044400-1725055200@www.flemingtondiy.org
SUMMARY:Live Music
DESCRIPTION:Silent Green\n(MetalCore )\nSpoon of Ukobach \n(prog metal)\n*mystery band*\n(deathcore)\nDoors @ 6:30pm\n$10 Donation\nAll Ages\nNo Drugs/Alcohol
URL:https://www.flemingtondiy.org/event/live-music-78/
END:VEVENT
BEGIN:VEVENT
DTSTART;TZID=America/New_York:20240829T153000
DTEND;TZID=America/New_York:20240829T180000
DTSTAMP:20260425T061945
CREATED:20240520T235102Z
LAST-MODIFIED:20240828T235052Z
UID:10002336-1724945400-1724954400@www.flemingtondiy.org
SUMMARY:Open Hours
DESCRIPTION:Visit the space\, see our current art shows\, hang out\, and learn how to get involved!
URL:https://www.flemingtondiy.org/event/open-hours-142/
END:VEVENT
BEGIN:VEVENT
DTSTART;TZID=America/New_York:20240829T083000
DTEND;TZID=America/New_York:20240829T153000
DTSTAMP:20260425T061945
CREATED:20240514T233525Z
LAST-MODIFIED:20240828T235052Z
UID:10002309-1724920200-1724945400@www.flemingtondiy.org
SUMMARY:Summer Art Club with Creative Whimsies
DESCRIPTION:Summer Art Clubs with Creative Whimsies \n \n\nLed by a certified teacher\nAll supplies included\nHelps support a nonprofit\nGet the kids out of the house!\nUnique and fun projects\n\nStarting at $25 per session. \n45-60 minute classes \nAt Flemington DIY\, 26 Stangl Road \n  \nLearn More \nhttps://www.cwhimsies.com/summer
URL:https://www.flemingtondiy.org/event/summer-art-club-with-creative-whimsies-20/
END:VEVENT
BEGIN:VEVENT
DTSTART;TZID=America/New_York:20240828T193000
DTEND;TZID=America/New_York:20240828T213000
DTSTAMP:20260425T061945
CREATED:20231101T010513Z
LAST-MODIFIED:20240828T235052Z
UID:10001670-1724873400-1724880600@www.flemingtondiy.org
SUMMARY:Poetry Open Mic
DESCRIPTION:show up & sign up\ndonations at the door\nall ages
URL:https://www.flemingtondiy.org/event/poetry-open-mic-25/
END:VEVENT
BEGIN:VEVENT
DTSTART;TZID=America/New_York:20240827T100000
DTEND;TZID=America/New_York:20240827T180000
DTSTAMP:20260425T061945
CREATED:20240520T235101Z
LAST-MODIFIED:20240826T235142Z
UID:10002335-1724752800-1724781600@www.flemingtondiy.org
SUMMARY:Open Hours
DESCRIPTION:Visit the space\, see our current art shows\, hang out\, and learn how to get involved!
URL:https://www.flemingtondiy.org/event/open-hours-141/
END:VEVENT
BEGIN:VEVENT
DTSTART;TZID=America/New_York:20240826T180000
DTEND;TZID=America/New_York:20240826T200000
DTSTAMP:20260425T061945
CREATED:20240528T235101Z
LAST-MODIFIED:20240826T235142Z
UID:10002346-1724695200-1724702400@www.flemingtondiy.org
SUMMARY:Hunterdon Fiber Artist Meeting
DESCRIPTION:Looking to meet other fiber artists in the Hunterdon county area?  Think about coming to Hunterdon Fiber Artists meet up to socialize and connect with others doing the fiber art craft that they love. \nAll are welcome.  Just bring your craft be it knitting\, crocheting\, spinning\, etc.\, and be prepared to meet lots of fun and interesting people!  We even have mini educational talks on requested topics! \nOur FB group is Hunterdon Fiber Artists https://www.facebook.com/groups/1101970274078722 \nOur Ravelry group is https://www.ravelry.com/groups/hunterdon-fiber-artists?s=tab \nEvery other Monday at DIY; $3-5 suggested donation.
URL:https://www.flemingtondiy.org/event/hunterdon-fiber-artist-meeting-16/
END:VEVENT
BEGIN:VEVENT
DTSTART;TZID=America/New_York:20240825T200000
DTEND;TZID=America/New_York:20240825T220000
DTSTAMP:20260425T061945
CREATED:20240629T233609Z
LAST-MODIFIED:20240825T235037Z
UID:10002386-1724616000-1724623200@www.flemingtondiy.org
SUMMARY:Live Music
DESCRIPTION:An evening of jazz with\nThomas Reilly Quartet\nThomas Reily-Vibraphone\nWill Peters-Seymour-guitar\nDaniel Mayer-bass\nIsaac Lavigne- drums\nAdvance tickets: flemingtondiy / jazz\nDoors @ 7:30pm\n$20 Donation\nAll Ages\nNo Drugs/Alcohol
URL:https://www.flemingtondiy.org/event/live-music-71/
END:VEVENT
BEGIN:VEVENT
DTSTART;TZID=America/New_York:20240825T100000
DTEND;TZID=America/New_York:20240825T140000
DTSTAMP:20260425T061945
CREATED:20240708T233548Z
LAST-MODIFIED:20240824T235033Z
UID:10002406-1724580000-1724594400@www.flemingtondiy.org
SUMMARY:Hope Vandegrift Art Show Gallery Hours
DESCRIPTION:
URL:https://www.flemingtondiy.org/event/hope-vandegrift-art-show-gallery-hours-5/
END:VEVENT
BEGIN:VEVENT
DTSTART;TZID=America/New_York:20240824T120000
DTEND;TZID=America/New_York:20240824T150000
DTSTAMP:20260425T061945
CREATED:20240708T233548Z
LAST-MODIFIED:20240823T235044Z
UID:10002405-1724500800-1724511600@www.flemingtondiy.org
SUMMARY:Hope Vandegrift Art Show Gallery Hours
DESCRIPTION:
URL:https://www.flemingtondiy.org/event/hope-vandegrift-art-show-gallery-hours-4/
END:VEVENT
BEGIN:VEVENT
DTSTART;TZID=America/New_York:20240823T180000
DTEND;TZID=America/New_York:20240823T203000
DTSTAMP:20260425T061945
CREATED:20240729T235037Z
LAST-MODIFIED:20240823T235044Z
UID:10002447-1724436000-1724445000@www.flemingtondiy.org
SUMMARY:Craft Night with Flemington QT's
DESCRIPTION:All welcome for a night of arts\, crafts\, and community. BYO craft to work on or draw\, collage\, or make a zine with us! See you there!
URL:https://www.flemingtondiy.org/event/craft-night-with-flemington-qts/
END:VEVENT
BEGIN:VEVENT
DTSTART;TZID=America/New_York:20240822T153000
DTEND;TZID=America/New_York:20240822T180000
DTSTAMP:20260425T061945
CREATED:20240520T235100Z
LAST-MODIFIED:20240821T233542Z
UID:10002334-1724340600-1724349600@www.flemingtondiy.org
SUMMARY:Open Hours
DESCRIPTION:Visit the space\, see our current art shows\, hang out\, and learn how to get involved!
URL:https://www.flemingtondiy.org/event/open-hours-140/
END:VEVENT
BEGIN:VEVENT
DTSTART;TZID=America/New_York:20240822T083000
DTEND;TZID=America/New_York:20240822T153000
DTSTAMP:20260425T061945
CREATED:20240514T233524Z
LAST-MODIFIED:20240821T233542Z
UID:10002307-1724315400-1724340600@www.flemingtondiy.org
SUMMARY:Summer Art Club with Creative Whimsies
DESCRIPTION:Summer Art Clubs with Creative Whimsies \n \n\nLed by a certified teacher\nAll supplies included\nHelps support a nonprofit\nGet the kids out of the house!\nUnique and fun projects\n\nStarting at $25 per session. \n45-60 minute classes \nAt Flemington DIY\, 26 Stangl Road \n  \nLearn More \nhttps://www.cwhimsies.com/summer
URL:https://www.flemingtondiy.org/event/summer-art-club-with-creative-whimsies-18/
END:VEVENT
BEGIN:VEVENT
DTSTART;TZID=America/New_York:20240820T183000
DTEND;TZID=America/New_York:20240820T203000
DTSTAMP:20260425T061945
CREATED:20231103T010516Z
LAST-MODIFIED:20240819T235110Z
UID:10001711-1724178600-1724185800@www.flemingtondiy.org
SUMMARY:Flemington Acoustic Players
DESCRIPTION:Calling all Hunterdon County pop/rock/folk stars!  Are you looking for a place to practice your acoustic guitar skills\, and maybe do some singing too?   \nOur merry band of music makers is open to players of all abilities! This gathering however is for Acoustic players ONLY; i.e guitars\, ukuleles\, mandolins & banjos. A drummer and/or an acoustic/electric bassist would be welcomed though to help us all stay in time. \nChords and lyrics to the songs will be projected on a screen so there’s no need for you to bring a music stand or tablet. We will be selecting tunes from a song book that includes a wide variety of rock/pop/folk classics. \nCome and have fun with us as we play and sing along to some of everyone’s favorite tunes! \nSuggested donation of $3-5www.flemingtondiy.org/acoustic/
URL:https://www.flemingtondiy.org/event/flemington-acoustic-players-80/
END:VEVENT
BEGIN:VEVENT
DTSTART;TZID=America/New_York:20240820T100000
DTEND;TZID=America/New_York:20240820T180000
DTSTAMP:20260425T061945
CREATED:20240520T235059Z
LAST-MODIFIED:20240819T235110Z
UID:10002333-1724148000-1724176800@www.flemingtondiy.org
SUMMARY:Open Hours
DESCRIPTION:Visit the space\, see our current art shows\, hang out\, and learn how to get involved!
URL:https://www.flemingtondiy.org/event/open-hours-139/
END:VEVENT
BEGIN:VEVENT
DTSTART;TZID=America/New_York:20240818T100000
DTEND;TZID=America/New_York:20240818T140000
DTSTAMP:20260425T061945
CREATED:20240708T233547Z
LAST-MODIFIED:20240817T235055Z
UID:10002404-1723975200-1723989600@www.flemingtondiy.org
SUMMARY:Hope Vandegrift Art Show Gallery Hours
DESCRIPTION:
URL:https://www.flemingtondiy.org/event/hope-vandegrift-art-show-gallery-hours-3/
END:VEVENT
BEGIN:VEVENT
DTSTART;TZID=America/New_York:20240817T150000
DTEND;TZID=America/New_York:20240817T230000
DTSTAMP:20260425T061945
CREATED:20240223T161844Z
LAST-MODIFIED:20240817T235055Z
UID:10002127-1723906800-1723935600@www.flemingtondiy.org
SUMMARY:Njoise & Adjacent Fest
DESCRIPTION:Njoise Gunk Fest 2024\nCurated by Tape Pencil\n20+ noise\, noise adjacent and video artists. Short sets\, back to back. Afternoon & night.\n10:20 – Runk Spasm Eye\n10:00 – Toads\n9:40 – Icky Bits\n9:20 – S.K.U.M. 41\n9:00 – Cognitive Distortion\n8:40 – Trigal\n8: 20 – Haniver\n8:00 – Exhibit: A\n7:40 – Ranseur\n7:20 – Comfort Link\n7:00 – Alice Fawn\n6: 40 – (time adjust)\n6:20 – RSMA\n6:00 – Relief\n5:40 – Earth Rim Walker\n5:20 – Sweet Pith\n5:00 – Big Claw Cancer Cult\n4:40 – Half A House\n4:20 – Invisible Circle\n4:00 – Despacialized\n3:40 – emmy’s black box\n3:20 – Bugger\n3:00 – Gluck Gluck\nFREE SHOW\nDoors @ 2:30pm\nAll Ages\nNo Drugs/Alcohol\nSponsors: Phantasm Comics\, Unchanged Mind Records\, Woodrock Studio & Siren Records.
URL:https://www.flemingtondiy.org/event/hot-gunk-in-the-sun-2024/
END:VEVENT
END:VCALENDAR