BEGIN:VCALENDAR
VERSION:2.0
PRODID:-//Flemington DIY - ECPv6.15.20//NONSGML v1.0//EN
CALSCALE:GREGORIAN
METHOD:PUBLISH
X-ORIGINAL-URL:https://www.flemingtondiy.org
X-WR-CALDESC:Events for Flemington DIY
REFRESH-INTERVAL;VALUE=DURATION:PT1H
X-Robots-Tag:noindex
X-PUBLISHED-TTL:PT1H
BEGIN:VTIMEZONE
TZID:America/New_York
BEGIN:DAYLIGHT
TZOFFSETFROM:-0500
TZOFFSETTO:-0400
TZNAME:EDT
DTSTART:20260308T070000
END:DAYLIGHT
BEGIN:STANDARD
TZOFFSETFROM:-0400
TZOFFSETTO:-0500
TZNAME:EST
DTSTART:20261101T060000
END:STANDARD
BEGIN:DAYLIGHT
TZOFFSETFROM:-0500
TZOFFSETTO:-0400
TZNAME:EDT
DTSTART:20270314T070000
END:DAYLIGHT
BEGIN:STANDARD
TZOFFSETFROM:-0400
TZOFFSETTO:-0500
TZNAME:EST
DTSTART:20271107T060000
END:STANDARD
BEGIN:DAYLIGHT
TZOFFSETFROM:-0500
TZOFFSETTO:-0400
TZNAME:EDT
DTSTART:20280312T070000
END:DAYLIGHT
BEGIN:STANDARD
TZOFFSETFROM:-0400
TZOFFSETTO:-0500
TZNAME:EST
DTSTART:20281105T060000
END:STANDARD
END:VTIMEZONE
BEGIN:VEVENT
DTSTART;TZID=America/New_York:20270503T180000
DTEND;TZID=America/New_York:20270503T200000
DTSTAMP:20260425T100259
CREATED:20260406T130940Z
LAST-MODIFIED:20260423T234929Z
UID:10003997-1809367200-1809374400@www.flemingtondiy.org
SUMMARY:Hunterdon Fiber Artist Meeting
DESCRIPTION:Looking to meet other fiber artists in the Hunterdon county area?  Think about coming to Hunterdon Fiber Artists meet up to socialize and connect with others doing the fiber art craft that they love. \nAll are welcome.  Just bring your craft be it knitting\, crocheting\, spinning\, etc.\, and be prepared to meet lots of fun and interesting people!  We even have mini educational talks on requested topics! \nOur FB group is Hunterdon Fiber Artists https://www.facebook.com/groups/1101970274078722 \nOur Ravelry group is https://www.ravelry.com/groups/hunterdon-fiber-artists?s=tab \nEvery other Monday at DIY; $3-5 suggested donation.
URL:https://www.flemingtondiy.org/event/hunterdon-fiber-artist-meeting-121/
END:VEVENT
BEGIN:VEVENT
DTSTART;TZID=America/New_York:20270503T180000
DTEND;TZID=America/New_York:20270503T210000
DTSTAMP:20260425T100259
CREATED:20260412T235754Z
LAST-MODIFIED:20260423T234929Z
UID:10004119-1809367200-1809378000@www.flemingtondiy.org
SUMMARY:Print Club
DESCRIPTION:Flemington DIY Print Club is a weekly open studio held from 6-9PM every Monday\, $15-30 per printer. It provides an opportunity for local artists and community members new to arts processes to utilize shared printmaking facilities. Print Club provides a platform for artists to network\, build community\, and work collaboratively. \nNo experience? No problem! Our vounteers will guide you through the process from start to finish! \nLearn more: https://www.flemingtondiy.org/printclub/
URL:https://www.flemingtondiy.org/event/print-club-421/
END:VEVENT
BEGIN:VEVENT
DTSTART;TZID=America/New_York:20270504T113000
DTEND;TZID=America/New_York:20270504T180000
DTSTAMP:20260425T100259
CREATED:20250602T233620Z
LAST-MODIFIED:20260423T234930Z
UID:10003311-1809430200-1809453600@www.flemingtondiy.org
SUMMARY:Open Hours
DESCRIPTION:Visit the space\, see our current art shows\, hang out\, and learn how to get involved!
URL:https://www.flemingtondiy.org/event/open-hours-322/
END:VEVENT
BEGIN:VEVENT
DTSTART;TZID=America/New_York:20270506T113000
DTEND;TZID=America/New_York:20270506T180000
DTSTAMP:20260425T100259
CREATED:20251107T233734Z
LAST-MODIFIED:20260423T234930Z
UID:10003616-1809603000-1809626400@www.flemingtondiy.org
SUMMARY:Open Hours
DESCRIPTION:
URL:https://www.flemingtondiy.org/event/open-hours-417/
END:VEVENT
BEGIN:VEVENT
DTSTART;TZID=America/New_York:20270510T180000
DTEND;TZID=America/New_York:20270510T200000
DTSTAMP:20260425T100259
CREATED:20260406T130941Z
LAST-MODIFIED:20260423T234930Z
UID:10003998-1809972000-1809979200@www.flemingtondiy.org
SUMMARY:Hunterdon Fiber Artist Meeting
DESCRIPTION:Looking to meet other fiber artists in the Hunterdon county area?  Think about coming to Hunterdon Fiber Artists meet up to socialize and connect with others doing the fiber art craft that they love. \nAll are welcome.  Just bring your craft be it knitting\, crocheting\, spinning\, etc.\, and be prepared to meet lots of fun and interesting people!  We even have mini educational talks on requested topics! \nOur FB group is Hunterdon Fiber Artists https://www.facebook.com/groups/1101970274078722 \nOur Ravelry group is https://www.ravelry.com/groups/hunterdon-fiber-artists?s=tab \nEvery other Monday at DIY; $3-5 suggested donation.
URL:https://www.flemingtondiy.org/event/hunterdon-fiber-artist-meeting-122/
END:VEVENT
BEGIN:VEVENT
DTSTART;TZID=America/New_York:20270510T180000
DTEND;TZID=America/New_York:20270510T210000
DTSTAMP:20260425T100259
CREATED:20260412T235754Z
LAST-MODIFIED:20260423T234930Z
UID:10004120-1809972000-1809982800@www.flemingtondiy.org
SUMMARY:Print Club
DESCRIPTION:Flemington DIY Print Club is a weekly open studio held from 6-9PM every Monday\, $15-30 per printer. It provides an opportunity for local artists and community members new to arts processes to utilize shared printmaking facilities. Print Club provides a platform for artists to network\, build community\, and work collaboratively. \nNo experience? No problem! Our vounteers will guide you through the process from start to finish! \nLearn more: https://www.flemingtondiy.org/printclub/
URL:https://www.flemingtondiy.org/event/print-club-422/
END:VEVENT
BEGIN:VEVENT
DTSTART;TZID=America/New_York:20270511T113000
DTEND;TZID=America/New_York:20270511T180000
DTSTAMP:20260425T100259
CREATED:20250602T233620Z
LAST-MODIFIED:20260423T234930Z
UID:10003312-1810035000-1810058400@www.flemingtondiy.org
SUMMARY:Open Hours
DESCRIPTION:Visit the space\, see our current art shows\, hang out\, and learn how to get involved!
URL:https://www.flemingtondiy.org/event/open-hours-323/
END:VEVENT
BEGIN:VEVENT
DTSTART;TZID=America/New_York:20270511T190000
DTEND;TZID=America/New_York:20270511T210000
DTSTAMP:20260425T100259
CREATED:20251107T233734Z
LAST-MODIFIED:20260423T234930Z
UID:10003617-1810062000-1810069200@www.flemingtondiy.org
SUMMARY:Songwriter Circle
DESCRIPTION:Hey\, songwriters: Do you have songs that are half finished? Lyrics you’re not entirely happy with? A songwriting circle is not a performance. It’s an opportunity to connect with other songwriters\, play your song idea for us – whether it’s fully formed or not – and receive gentle\, respectful\, and constructive feedback. All genres welcome! Please bring a few hard copies of your lyrics to share (they’ll be returned to you). We have a piano available. Donations at the door
URL:https://www.flemingtondiy.org/event/songwriter-circle-51/
END:VEVENT
BEGIN:VEVENT
DTSTART;TZID=America/New_York:20270513T113000
DTEND;TZID=America/New_York:20270513T180000
DTSTAMP:20260425T100259
CREATED:20251107T233734Z
LAST-MODIFIED:20260423T234930Z
UID:10003618-1810207800-1810231200@www.flemingtondiy.org
SUMMARY:Open Hours
DESCRIPTION:
URL:https://www.flemingtondiy.org/event/open-hours-418/
END:VEVENT
BEGIN:VEVENT
DTSTART;TZID=America/New_York:20270517T180000
DTEND;TZID=America/New_York:20270517T200000
DTSTAMP:20260425T100259
CREATED:20260406T130941Z
LAST-MODIFIED:20260423T234930Z
UID:10003999-1810576800-1810584000@www.flemingtondiy.org
SUMMARY:Hunterdon Fiber Artist Meeting
DESCRIPTION:Looking to meet other fiber artists in the Hunterdon county area?  Think about coming to Hunterdon Fiber Artists meet up to socialize and connect with others doing the fiber art craft that they love. \nAll are welcome.  Just bring your craft be it knitting\, crocheting\, spinning\, etc.\, and be prepared to meet lots of fun and interesting people!  We even have mini educational talks on requested topics! \nOur FB group is Hunterdon Fiber Artists https://www.facebook.com/groups/1101970274078722 \nOur Ravelry group is https://www.ravelry.com/groups/hunterdon-fiber-artists?s=tab \nEvery other Monday at DIY; $3-5 suggested donation.
URL:https://www.flemingtondiy.org/event/hunterdon-fiber-artist-meeting-123/
END:VEVENT
BEGIN:VEVENT
DTSTART;TZID=America/New_York:20270517T180000
DTEND;TZID=America/New_York:20270517T210000
DTSTAMP:20260425T100259
CREATED:20260412T235754Z
LAST-MODIFIED:20260423T234930Z
UID:10004121-1810576800-1810587600@www.flemingtondiy.org
SUMMARY:Print Club
DESCRIPTION:Flemington DIY Print Club is a weekly open studio held from 6-9PM every Monday\, $15-30 per printer. It provides an opportunity for local artists and community members new to arts processes to utilize shared printmaking facilities. Print Club provides a platform for artists to network\, build community\, and work collaboratively. \nNo experience? No problem! Our vounteers will guide you through the process from start to finish! \nLearn more: https://www.flemingtondiy.org/printclub/
URL:https://www.flemingtondiy.org/event/print-club-423/
END:VEVENT
BEGIN:VEVENT
DTSTART;TZID=America/New_York:20270518T113000
DTEND;TZID=America/New_York:20270518T180000
DTSTAMP:20260425T100259
CREATED:20250602T233621Z
LAST-MODIFIED:20260423T234930Z
UID:10003313-1810639800-1810663200@www.flemingtondiy.org
SUMMARY:Open Hours
DESCRIPTION:Visit the space\, see our current art shows\, hang out\, and learn how to get involved!
URL:https://www.flemingtondiy.org/event/open-hours-324/
END:VEVENT
BEGIN:VEVENT
DTSTART;TZID=America/New_York:20270520T113000
DTEND;TZID=America/New_York:20270520T180000
DTSTAMP:20260425T100259
CREATED:20251107T233734Z
LAST-MODIFIED:20260423T234930Z
UID:10003619-1810812600-1810836000@www.flemingtondiy.org
SUMMARY:Open Hours
DESCRIPTION:
URL:https://www.flemingtondiy.org/event/open-hours-419/
END:VEVENT
BEGIN:VEVENT
DTSTART;TZID=America/New_York:20270521T190000
DTEND;TZID=America/New_York:20270521T220000
DTSTAMP:20260425T100259
CREATED:20251111T235230Z
LAST-MODIFIED:20260423T234930Z
UID:10003669-1810926000-1810936800@www.flemingtondiy.org
SUMMARY:Third Friday Board Games
DESCRIPTION:Third Friday Board Game Night All ages | Bring your own game or play with one of ours | Meet new people\, have fun\, casual! No RSVP required\, just show up. Free to attend\, donations to Flemington DIY welcomed.
URL:https://www.flemingtondiy.org/event/third-friday-board-games-16/
END:VEVENT
BEGIN:VEVENT
DTSTART;TZID=America/New_York:20270524T180000
DTEND;TZID=America/New_York:20270524T200000
DTSTAMP:20260425T100259
CREATED:20260406T130941Z
LAST-MODIFIED:20260423T234930Z
UID:10004000-1811181600-1811188800@www.flemingtondiy.org
SUMMARY:Hunterdon Fiber Artist Meeting
DESCRIPTION:Looking to meet other fiber artists in the Hunterdon county area?  Think about coming to Hunterdon Fiber Artists meet up to socialize and connect with others doing the fiber art craft that they love. \nAll are welcome.  Just bring your craft be it knitting\, crocheting\, spinning\, etc.\, and be prepared to meet lots of fun and interesting people!  We even have mini educational talks on requested topics! \nOur FB group is Hunterdon Fiber Artists https://www.facebook.com/groups/1101970274078722 \nOur Ravelry group is https://www.ravelry.com/groups/hunterdon-fiber-artists?s=tab \nEvery other Monday at DIY; $3-5 suggested donation.
URL:https://www.flemingtondiy.org/event/hunterdon-fiber-artist-meeting-124/
END:VEVENT
BEGIN:VEVENT
DTSTART;TZID=America/New_York:20270524T180000
DTEND;TZID=America/New_York:20270524T210000
DTSTAMP:20260425T100259
CREATED:20260412T235754Z
LAST-MODIFIED:20260423T234930Z
UID:10004122-1811181600-1811192400@www.flemingtondiy.org
SUMMARY:Print Club
DESCRIPTION:Flemington DIY Print Club is a weekly open studio held from 6-9PM every Monday\, $15-30 per printer. It provides an opportunity for local artists and community members new to arts processes to utilize shared printmaking facilities. Print Club provides a platform for artists to network\, build community\, and work collaboratively. \nNo experience? No problem! Our vounteers will guide you through the process from start to finish! \nLearn more: https://www.flemingtondiy.org/printclub/
URL:https://www.flemingtondiy.org/event/print-club-424/
END:VEVENT
BEGIN:VEVENT
DTSTART;TZID=America/New_York:20270525T113000
DTEND;TZID=America/New_York:20270525T180000
DTSTAMP:20260425T100259
CREATED:20250602T233621Z
LAST-MODIFIED:20260423T234930Z
UID:10003314-1811244600-1811268000@www.flemingtondiy.org
SUMMARY:Open Hours
DESCRIPTION:Visit the space\, see our current art shows\, hang out\, and learn how to get involved!
URL:https://www.flemingtondiy.org/event/open-hours-325/
END:VEVENT
BEGIN:VEVENT
DTSTART;TZID=America/New_York:20270525T190000
DTEND;TZID=America/New_York:20270525T210000
DTSTAMP:20260425T100259
CREATED:20250731T233600Z
LAST-MODIFIED:20260423T234930Z
UID:10003385-1811271600-1811278800@www.flemingtondiy.org
SUMMARY:Classical Music Jam
DESCRIPTION:Jazz bands jam\, rock bands jam\, bluegrass players jams… why not a classical jam?? \nStrings\, brass\, woodwinds… Come join a classical music jam!!   \nBring a piece or two of music to share\, and sit in on the jam!   \nBring your instrument\, music (duo\, trio\, quartet\, etc. or even a full orchestra arrangement) and a stand\, be ready to share\, and let’s play some classical music in an informal setting.   \nWe jam once a month on the 4th Tuesday from 7 PM – 9 PM.   $5 suggested donation to Flemington DIY.  \nDon’t have music\, Don’t have a stand?…. Don’t worry!  Just bring your instrument\, and jam with us! \nCome share your talent and play! Take a break\, relax\, and listen to others.   \nUpcoming Tuesdays:   \n9/30 \n10/28 \n11/25 \n12/23 \nClassical is cool too!  See you at the jam!  
URL:https://www.flemingtondiy.org/event/classical-music-jam-21/
END:VEVENT
BEGIN:VEVENT
DTSTART;TZID=America/New_York:20270526T193000
DTEND;TZID=America/New_York:20270526T220000
DTSTAMP:20260425T100259
CREATED:20251120T233729Z
LAST-MODIFIED:20260423T234930Z
UID:10003702-1811359800-1811368800@www.flemingtondiy.org
SUMMARY:Poetry Open Mic
DESCRIPTION:Community members of all levels are invited to read their poetry and listen to the work of others. If you’re looking for a welcoming group of emerging and established poets and beatniks\, this is for you!Show up and sign up. No pre-registration to participate. Donations for the space encouraged at the door. All ages but please be aware that mature and sometimes sensitive topics are explored and mentioned at this event.
URL:https://www.flemingtondiy.org/event/poetry-open-mic-57/
END:VEVENT
BEGIN:VEVENT
DTSTART;TZID=America/New_York:20270527T113000
DTEND;TZID=America/New_York:20270527T180000
DTSTAMP:20260425T100259
CREATED:20251107T233734Z
LAST-MODIFIED:20260423T234930Z
UID:10003620-1811417400-1811440800@www.flemingtondiy.org
SUMMARY:Open Hours
DESCRIPTION:
URL:https://www.flemingtondiy.org/event/open-hours-420/
END:VEVENT
BEGIN:VEVENT
DTSTART;TZID=America/New_York:20270531T180000
DTEND;TZID=America/New_York:20270531T200000
DTSTAMP:20260425T100259
CREATED:20260406T130941Z
LAST-MODIFIED:20260423T234930Z
UID:10004001-1811786400-1811793600@www.flemingtondiy.org
SUMMARY:Hunterdon Fiber Artist Meeting
DESCRIPTION:Looking to meet other fiber artists in the Hunterdon county area?  Think about coming to Hunterdon Fiber Artists meet up to socialize and connect with others doing the fiber art craft that they love. \nAll are welcome.  Just bring your craft be it knitting\, crocheting\, spinning\, etc.\, and be prepared to meet lots of fun and interesting people!  We even have mini educational talks on requested topics! \nOur FB group is Hunterdon Fiber Artists https://www.facebook.com/groups/1101970274078722 \nOur Ravelry group is https://www.ravelry.com/groups/hunterdon-fiber-artists?s=tab \nEvery other Monday at DIY; $3-5 suggested donation.
URL:https://www.flemingtondiy.org/event/hunterdon-fiber-artist-meeting-125/
END:VEVENT
BEGIN:VEVENT
DTSTART;TZID=America/New_York:20270531T180000
DTEND;TZID=America/New_York:20270531T210000
DTSTAMP:20260425T100259
CREATED:20260412T235755Z
LAST-MODIFIED:20260423T234930Z
UID:10004123-1811786400-1811797200@www.flemingtondiy.org
SUMMARY:Print Club
DESCRIPTION:Flemington DIY Print Club is a weekly open studio held from 6-9PM every Monday\, $15-30 per printer. It provides an opportunity for local artists and community members new to arts processes to utilize shared printmaking facilities. Print Club provides a platform for artists to network\, build community\, and work collaboratively. \nNo experience? No problem! Our vounteers will guide you through the process from start to finish! \nLearn more: https://www.flemingtondiy.org/printclub/
URL:https://www.flemingtondiy.org/event/print-club-425/
END:VEVENT
BEGIN:VEVENT
DTSTART;TZID=America/New_York:20270601T113000
DTEND;TZID=America/New_York:20270601T180000
DTSTAMP:20260425T100259
CREATED:20250602T233622Z
LAST-MODIFIED:20260423T234930Z
UID:10003315-1811849400-1811872800@www.flemingtondiy.org
SUMMARY:Open Hours
DESCRIPTION:Visit the space\, see our current art shows\, hang out\, and learn how to get involved!
URL:https://www.flemingtondiy.org/event/open-hours-326/
END:VEVENT
BEGIN:VEVENT
DTSTART;TZID=America/New_York:20270603T113000
DTEND;TZID=America/New_York:20270603T180000
DTSTAMP:20260425T100259
CREATED:20251107T233735Z
LAST-MODIFIED:20260423T234930Z
UID:10003621-1812022200-1812045600@www.flemingtondiy.org
SUMMARY:Open Hours
DESCRIPTION:
URL:https://www.flemingtondiy.org/event/open-hours-421/
END:VEVENT
BEGIN:VEVENT
DTSTART;TZID=America/New_York:20270607T180000
DTEND;TZID=America/New_York:20270607T200000
DTSTAMP:20260425T100259
CREATED:20260406T130941Z
LAST-MODIFIED:20260423T234930Z
UID:10004002-1812391200-1812398400@www.flemingtondiy.org
SUMMARY:Hunterdon Fiber Artist Meeting
DESCRIPTION:Looking to meet other fiber artists in the Hunterdon county area?  Think about coming to Hunterdon Fiber Artists meet up to socialize and connect with others doing the fiber art craft that they love. \nAll are welcome.  Just bring your craft be it knitting\, crocheting\, spinning\, etc.\, and be prepared to meet lots of fun and interesting people!  We even have mini educational talks on requested topics! \nOur FB group is Hunterdon Fiber Artists https://www.facebook.com/groups/1101970274078722 \nOur Ravelry group is https://www.ravelry.com/groups/hunterdon-fiber-artists?s=tab \nEvery other Monday at DIY; $3-5 suggested donation.
URL:https://www.flemingtondiy.org/event/hunterdon-fiber-artist-meeting-126/
END:VEVENT
BEGIN:VEVENT
DTSTART;TZID=America/New_York:20270607T180000
DTEND;TZID=America/New_York:20270607T210000
DTSTAMP:20260425T100259
CREATED:20260412T235755Z
LAST-MODIFIED:20260423T234930Z
UID:10004124-1812391200-1812402000@www.flemingtondiy.org
SUMMARY:Print Club
DESCRIPTION:Flemington DIY Print Club is a weekly open studio held from 6-9PM every Monday\, $15-30 per printer. It provides an opportunity for local artists and community members new to arts processes to utilize shared printmaking facilities. Print Club provides a platform for artists to network\, build community\, and work collaboratively. \nNo experience? No problem! Our vounteers will guide you through the process from start to finish! \nLearn more: https://www.flemingtondiy.org/printclub/
URL:https://www.flemingtondiy.org/event/print-club-426/
END:VEVENT
BEGIN:VEVENT
DTSTART;TZID=America/New_York:20270608T113000
DTEND;TZID=America/New_York:20270608T180000
DTSTAMP:20260425T100259
CREATED:20250608T235120Z
LAST-MODIFIED:20260423T234930Z
UID:10003318-1812454200-1812477600@www.flemingtondiy.org
SUMMARY:Open Hours
DESCRIPTION:Visit the space\, see our current art shows\, hang out\, and learn how to get involved!
URL:https://www.flemingtondiy.org/event/open-hours-327/
END:VEVENT
BEGIN:VEVENT
DTSTART;TZID=America/New_York:20270608T190000
DTEND;TZID=America/New_York:20270608T210000
DTSTAMP:20260425T100259
CREATED:20251107T233735Z
LAST-MODIFIED:20260423T234930Z
UID:10003622-1812481200-1812488400@www.flemingtondiy.org
SUMMARY:Songwriter Circle
DESCRIPTION:Hey\, songwriters: Do you have songs that are half finished? Lyrics you’re not entirely happy with? A songwriting circle is not a performance. It’s an opportunity to connect with other songwriters\, play your song idea for us – whether it’s fully formed or not – and receive gentle\, respectful\, and constructive feedback. All genres welcome! Please bring a few hard copies of your lyrics to share (they’ll be returned to you). We have a piano available. Donations at the door
URL:https://www.flemingtondiy.org/event/songwriter-circle-52/
END:VEVENT
BEGIN:VEVENT
DTSTART;TZID=America/New_York:20270610T113000
DTEND;TZID=America/New_York:20270610T180000
DTSTAMP:20260425T100259
CREATED:20251107T233735Z
LAST-MODIFIED:20260423T234930Z
UID:10003623-1812627000-1812650400@www.flemingtondiy.org
SUMMARY:Open Hours
DESCRIPTION:
URL:https://www.flemingtondiy.org/event/open-hours-422/
END:VEVENT
BEGIN:VEVENT
DTSTART;TZID=America/New_York:20270614T180000
DTEND;TZID=America/New_York:20270614T200000
DTSTAMP:20260425T100259
CREATED:20260406T130942Z
LAST-MODIFIED:20260423T234930Z
UID:10004003-1812996000-1813003200@www.flemingtondiy.org
SUMMARY:Hunterdon Fiber Artist Meeting
DESCRIPTION:Looking to meet other fiber artists in the Hunterdon county area?  Think about coming to Hunterdon Fiber Artists meet up to socialize and connect with others doing the fiber art craft that they love. \nAll are welcome.  Just bring your craft be it knitting\, crocheting\, spinning\, etc.\, and be prepared to meet lots of fun and interesting people!  We even have mini educational talks on requested topics! \nOur FB group is Hunterdon Fiber Artists https://www.facebook.com/groups/1101970274078722 \nOur Ravelry group is https://www.ravelry.com/groups/hunterdon-fiber-artists?s=tab \nEvery other Monday at DIY; $3-5 suggested donation.
URL:https://www.flemingtondiy.org/event/hunterdon-fiber-artist-meeting-127/
END:VEVENT
END:VCALENDAR