BEGIN:VCALENDAR
VERSION:2.0
PRODID:-//Flemington DIY - ECPv6.15.20//NONSGML v1.0//EN
CALSCALE:GREGORIAN
METHOD:PUBLISH
X-WR-CALNAME:Flemington DIY
X-ORIGINAL-URL:https://www.flemingtondiy.org
X-WR-CALDESC:Events for Flemington DIY
REFRESH-INTERVAL;VALUE=DURATION:PT1H
X-Robots-Tag:noindex
X-PUBLISHED-TTL:PT1H
BEGIN:VTIMEZONE
TZID:America/New_York
BEGIN:DAYLIGHT
TZOFFSETFROM:-0500
TZOFFSETTO:-0400
TZNAME:EDT
DTSTART:20240310T070000
END:DAYLIGHT
BEGIN:STANDARD
TZOFFSETFROM:-0400
TZOFFSETTO:-0500
TZNAME:EST
DTSTART:20241103T060000
END:STANDARD
BEGIN:DAYLIGHT
TZOFFSETFROM:-0500
TZOFFSETTO:-0400
TZNAME:EDT
DTSTART:20250309T070000
END:DAYLIGHT
BEGIN:STANDARD
TZOFFSETFROM:-0400
TZOFFSETTO:-0500
TZNAME:EST
DTSTART:20251102T060000
END:STANDARD
BEGIN:DAYLIGHT
TZOFFSETFROM:-0500
TZOFFSETTO:-0400
TZNAME:EDT
DTSTART:20260308T070000
END:DAYLIGHT
BEGIN:STANDARD
TZOFFSETFROM:-0400
TZOFFSETTO:-0500
TZNAME:EST
DTSTART:20261101T060000
END:STANDARD
END:VTIMEZONE
BEGIN:VEVENT
DTSTART;TZID=America/New_York:20250422T123000
DTEND;TZID=America/New_York:20250422T180000
DTSTAMP:20260425T125251
CREATED:20250207T233519Z
LAST-MODIFIED:20250421T233551Z
UID:10003022-1745325000-1745344800@www.flemingtondiy.org
SUMMARY:Open Hours
DESCRIPTION:Visit the space\, see our current art shows\, hang out\, and learn how to get involved!
URL:https://www.flemingtondiy.org/event/open-hours-254/
END:VEVENT
BEGIN:VEVENT
DTSTART;TZID=America/New_York:20250422T093000
DTEND;TZID=America/New_York:20250422T123000
DTSTAMP:20260425T125251
CREATED:20250208T233539Z
LAST-MODIFIED:20250421T233551Z
UID:10003042-1745314200-1745325000@www.flemingtondiy.org
SUMMARY:Music Together Spring Classes
DESCRIPTION:
URL:https://www.flemingtondiy.org/event/music-together-spring-classes-13/
END:VEVENT
BEGIN:VEVENT
DTSTART;TZID=America/New_York:20250421T180000
DTEND;TZID=America/New_York:20250421T210000
DTSTAMP:20260425T125251
CREATED:20231107T010612Z
LAST-MODIFIED:20250421T233551Z
UID:10001867-1745258400-1745269200@www.flemingtondiy.org
SUMMARY:Print Club
DESCRIPTION:Flemington DIY Print Club is a weekly open studio held from 6-9PM every Monday\, $15-30 per printer. It provides an opportunity for local artists and community members new to arts processes to utilize shared printmaking facilities. Print Club provides a platform for artists to network\, build community\, and work collaboratively. \nNo experience? No problem! Our vounteers will guide you through the process from start to finish! \nLearn more: https://www.flemingtondiy.org/printclub/
URL:https://www.flemingtondiy.org/event/print-club-229/
END:VEVENT
BEGIN:VEVENT
DTSTART;TZID=America/New_York:20250421T180000
DTEND;TZID=America/New_York:20250421T200000
DTSTAMP:20260425T125251
CREATED:20241220T233617Z
LAST-MODIFIED:20250421T233551Z
UID:10002793-1745258400-1745265600@www.flemingtondiy.org
SUMMARY:Hunterdon Fiber Artist Meeting
DESCRIPTION:Looking to meet other fiber artists in the Hunterdon county area?  Think about coming to Hunterdon Fiber Artists meet up to socialize and connect with others doing the fiber art craft that they love. \nAll are welcome.  Just bring your craft be it knitting\, crocheting\, spinning\, etc.\, and be prepared to meet lots of fun and interesting people!  We even have mini educational talks on requested topics! \nOur FB group is Hunterdon Fiber Artists https://www.facebook.com/groups/1101970274078722 \nOur Ravelry group is https://www.ravelry.com/groups/hunterdon-fiber-artists?s=tab \nEvery other Monday at DIY; $3-5 suggested donation.
URL:https://www.flemingtondiy.org/event/hunterdon-fiber-artist-meeting-59/
END:VEVENT
BEGIN:VEVENT
DTSTART;TZID=America/New_York:20250421T163000
DTEND;TZID=America/New_York:20250421T173000
DTSTAMP:20260425T125251
CREATED:20250403T233523Z
LAST-MODIFIED:20250420T233552Z
UID:10003121-1745253000-1745256600@www.flemingtondiy.org
SUMMARY:Music Together Spring 2025 Evening Classes
DESCRIPTION:
URL:https://www.flemingtondiy.org/event/music-together-spring-2025-evening-classes-3/
END:VEVENT
BEGIN:VEVENT
DTSTART;TZID=America/New_York:20250421T093000
DTEND;TZID=America/New_York:20250421T113000
DTSTAMP:20260425T125251
CREATED:20250208T233539Z
LAST-MODIFIED:20250420T233552Z
UID:10003041-1745227800-1745235000@www.flemingtondiy.org
SUMMARY:Music Together Spring Classes
DESCRIPTION:
URL:https://www.flemingtondiy.org/event/music-together-spring-classes-12/
END:VEVENT
BEGIN:VEVENT
DTSTART;TZID=America/New_York:20250420T123000
DTEND;TZID=America/New_York:20250420T173000
DTSTAMP:20260425T125251
CREATED:20250419T233508Z
LAST-MODIFIED:20250419T233552Z
UID:10003152-1745152200-1745170200@www.flemingtondiy.org
SUMMARY:Open Hours
DESCRIPTION:For folks who would like an alternative to family celebrations\, we’re opening up DIY for a few hours. Feel free to stop by\, maybe bring a game\, a small art project\, or just hang out with fellow humans.
URL:https://www.flemingtondiy.org/event/open-hours-171/
END:VEVENT
BEGIN:VEVENT
DTSTART;TZID=America/New_York:20250419T193000
DTEND;TZID=America/New_York:20250419T220000
DTSTAMP:20260425T125251
CREATED:20241216T235017Z
LAST-MODIFIED:20250419T233552Z
UID:10002744-1745091000-1745100000@www.flemingtondiy.org
SUMMARY:Ollie Soikkeli NY Trio
DESCRIPTION:w/Paul Sikivie and Ben ZweigDoors 7:30pm\, Music 8pm. Tickets: $18 advance // $22 door // 15% off for Members!
URL:https://www.flemingtondiy.org/event/ollie-soikkeli-ny-trio/
END:VEVENT
BEGIN:VEVENT
DTSTART;TZID=America/New_York:20250419T090000
DTEND;TZID=America/New_York:20250419T120000
DTSTAMP:20260425T125251
CREATED:20250208T233539Z
LAST-MODIFIED:20250418T233545Z
UID:10003040-1745053200-1745064000@www.flemingtondiy.org
SUMMARY:Music Together Spring Classes
DESCRIPTION:
URL:https://www.flemingtondiy.org/event/music-together-spring-classes-11/
END:VEVENT
BEGIN:VEVENT
DTSTART;TZID=America/New_York:20250418T190000
DTEND;TZID=America/New_York:20250418T220000
DTSTAMP:20260425T125251
CREATED:20250308T233520Z
LAST-MODIFIED:20250418T233545Z
UID:10003105-1745002800-1745013600@www.flemingtondiy.org
SUMMARY:Live Music
DESCRIPTION:Black Ends (gunk pop)Meteor Police (post-hardcore/punk)STFU (post-hardcore/punk)Gallows Hill (post-hardcore) \nDoors @ 6:30\, Music @ 7$10 DonationAll AgesNo Drugs / No Alcohol
URL:https://www.flemingtondiy.org/event/live-music-97/
END:VEVENT
BEGIN:VEVENT
DTSTART;TZID=America/New_York:20250418T093000
DTEND;TZID=America/New_York:20250418T113000
DTSTAMP:20260425T125251
CREATED:20250208T233539Z
LAST-MODIFIED:20250417T233559Z
UID:10003039-1744968600-1744975800@www.flemingtondiy.org
SUMMARY:Music Together Spring Classes
DESCRIPTION:
URL:https://www.flemingtondiy.org/event/music-together-spring-classes-10/
END:VEVENT
BEGIN:VEVENT
DTSTART;TZID=America/New_York:20250417T190000
DTEND;TZID=America/New_York:20250417T210000
DTSTAMP:20260425T125251
CREATED:20241023T233523Z
LAST-MODIFIED:20250417T233559Z
UID:10002655-1744916400-1744923600@www.flemingtondiy.org
SUMMARY:Monthly Open Bluegrass Jam
DESCRIPTION:Bring your instrument\, a couple of tunes\, some friends and your own refreshments. All players welcome – Beginner to pro!  \nFreewill basket to support DIY $5 suggested Open to all ages –strictly no alcohol  \nQuestions? Contact Ed: rvrecband@gmail.com / ejjank@gmail.com
URL:https://www.flemingtondiy.org/event/monthly-open-bluegrass-jam-4/
END:VEVENT
BEGIN:VEVENT
DTSTART;TZID=America/New_York:20250417T113000
DTEND;TZID=America/New_York:20250417T180000
DTSTAMP:20260425T125251
CREATED:20241221T233531Z
LAST-MODIFIED:20250415T235247Z
UID:10002841-1744889400-1744912800@www.flemingtondiy.org
SUMMARY:Open Hours
DESCRIPTION:Visit the space\, see our current art shows\, hang out\, and learn how to get involved!
URL:https://www.flemingtondiy.org/event/open-hours-176/
END:VEVENT
BEGIN:VEVENT
DTSTART;TZID=America/New_York:20250416T180000
DTEND;TZID=America/New_York:20250416T210000
DTSTAMP:20260425T125251
CREATED:20250320T233517Z
LAST-MODIFIED:20250415T235247Z
UID:10003110-1744826400-1744837200@www.flemingtondiy.org
SUMMARY:Stacker Ring Class
DESCRIPTION:Make stacker rings with Rustic Heart StudioWednesday\, April 16\, 6-9pm$100 per person + $30 material fee (18+)\nCome have fun while learning to size\, solder and finish sterling silver wire creating 3 lovely stacker rings! LIMITED SPACE! \nREGISTER \nABOUT THE INSTRUCTOR (COLLEEN PUGLIA):  \nSince childhood I’ve loved creating. 10 years ago I took an online class to make simple hoop earrings and it was then I found my home in metal smithing. I spent the years taking classes around the country learning new techniques and being exposed to several different artists’ practices. My jewelry has a raw and rustic aesthetic evoking a feeling of warmth and connection.
URL:https://www.flemingtondiy.org/event/stacker-ring-class/
END:VEVENT
BEGIN:VEVENT
DTSTART;TZID=America/New_York:20250415T183000
DTEND;TZID=America/New_York:20250415T203000
DTSTAMP:20260425T125251
CREATED:20240928T233659Z
LAST-MODIFIED:20250415T235247Z
UID:10002592-1744741800-1744749000@www.flemingtondiy.org
SUMMARY:Flemington Acoustic Players
DESCRIPTION:Calling all Hunterdon County pop/rock/folk stars!  Are you looking for a place to practice your acoustic guitar skills\, and maybe do some singing too?   \nOur merry band of music makers is open to players of all abilities! This gathering however is for Acoustic players ONLY; i.e guitars\, ukuleles\, mandolins & banjos. A drummer and/or an acoustic/electric bassist would be welcomed though to help us all stay in time. \nChords and lyrics to the songs will be projected on a screen so there’s no need for you to bring a music stand or tablet. We will be selecting tunes from a song book that includes a wide variety of rock/pop/folk classics. \nCome and have fun with us as we play and sing along to some of everyone’s favorite tunes! \nSuggested donation of $3-5www.flemingtondiy.org/acoustic/
URL:https://www.flemingtondiy.org/event/flemington-acoustic-players-64/
END:VEVENT
BEGIN:VEVENT
DTSTART;TZID=America/New_York:20250415T123000
DTEND;TZID=America/New_York:20250415T180000
DTSTAMP:20260425T125251
CREATED:20250207T233518Z
LAST-MODIFIED:20250414T235014Z
UID:10003021-1744720200-1744740000@www.flemingtondiy.org
SUMMARY:Open Hours
DESCRIPTION:Visit the space\, see our current art shows\, hang out\, and learn how to get involved!
URL:https://www.flemingtondiy.org/event/open-hours-253/
END:VEVENT
BEGIN:VEVENT
DTSTART;TZID=America/New_York:20250415T093000
DTEND;TZID=America/New_York:20250415T123000
DTSTAMP:20260425T125251
CREATED:20250208T233538Z
LAST-MODIFIED:20250414T235014Z
UID:10003038-1744709400-1744720200@www.flemingtondiy.org
SUMMARY:Music Together Spring Classes
DESCRIPTION:
URL:https://www.flemingtondiy.org/event/music-together-spring-classes-9/
END:VEVENT
BEGIN:VEVENT
DTSTART;TZID=America/New_York:20250414T180000
DTEND;TZID=America/New_York:20250414T210000
DTSTAMP:20260425T125251
CREATED:20231107T010612Z
LAST-MODIFIED:20250414T235014Z
UID:10001866-1744653600-1744664400@www.flemingtondiy.org
SUMMARY:Print Club
DESCRIPTION:Flemington DIY Print Club is a weekly open studio held from 6-9PM every Monday\, $15-30 per printer. It provides an opportunity for local artists and community members new to arts processes to utilize shared printmaking facilities. Print Club provides a platform for artists to network\, build community\, and work collaboratively. \nNo experience? No problem! Our vounteers will guide you through the process from start to finish! \nLearn more: https://www.flemingtondiy.org/printclub/
URL:https://www.flemingtondiy.org/event/print-club-228/
END:VEVENT
BEGIN:VEVENT
DTSTART;TZID=America/New_York:20250414T163000
DTEND;TZID=America/New_York:20250414T173000
DTSTAMP:20260425T125251
CREATED:20250403T233521Z
LAST-MODIFIED:20250413T233520Z
UID:10003120-1744648200-1744651800@www.flemingtondiy.org
SUMMARY:Music Together Spring 2025 Evening Classes
DESCRIPTION:
URL:https://www.flemingtondiy.org/event/music-together-spring-2025-evening-classes-2/
END:VEVENT
BEGIN:VEVENT
DTSTART;TZID=America/New_York:20250414T093000
DTEND;TZID=America/New_York:20250414T113000
DTSTAMP:20260425T125251
CREATED:20250208T233538Z
LAST-MODIFIED:20250413T233520Z
UID:10003037-1744623000-1744630200@www.flemingtondiy.org
SUMMARY:Music Together Spring Classes
DESCRIPTION:
URL:https://www.flemingtondiy.org/event/music-together-spring-classes-8/
END:VEVENT
BEGIN:VEVENT
DTSTART;TZID=America/New_York:20250413T143000
DTEND;TZID=America/New_York:20250413T170000
DTSTAMP:20260425T125251
CREATED:20250304T233520Z
LAST-MODIFIED:20250411T235014Z
UID:10003094-1744554600-1744563600@www.flemingtondiy.org
SUMMARY:Women's Comedy Open Mic
DESCRIPTION:Ever wanted to share a joke with your friends? Have a friend who you think is hilarious but don’t know how to let other ladies know about her talent? Here’s an opportunity to give it a try. Enjoy a safe space to share laughs – and if you fail – it’s ok to get up and try again!
URL:https://www.flemingtondiy.org/event/womens-comedy-open-mic-28/
END:VEVENT
BEGIN:VEVENT
DTSTART;TZID=America/New_York:20250413T100000
DTEND;TZID=America/New_York:20250413T120000
DTSTAMP:20260425T125251
CREATED:20250207T233517Z
LAST-MODIFIED:20250411T235013Z
UID:10003020-1744538400-1744545600@www.flemingtondiy.org
SUMMARY:HC Mama’s Clothing and Toy Swap
DESCRIPTION:Swaps are good for your wallet AND the environment. Let’s do our part in taking care of the planet for our kids and the future generations 🌏♻️ \nBring gently loved baby + kids clothes and toys (no rips\, stains\, obvious signs of wear) and trade them in for something *new to you* 🛍️ \n*If you are unable to make the swap but would like to donate\, please reach out to HC Mamas for drop off availability. \nAll are welcome! \n*There is a suggested $20 donation to participate that will go towards future HC Mamas programming and use of the DIY space.
URL:https://www.flemingtondiy.org/event/hc-mamas-clothing-and-toy-swap-2/
END:VEVENT
BEGIN:VEVENT
DTSTART;TZID=America/New_York:20250412T150000
DTEND;TZID=America/New_York:20250412T163000
DTSTAMP:20260425T125251
CREATED:20250110T233546Z
LAST-MODIFIED:20250411T235013Z
UID:10002966-1744470000-1744475400@www.flemingtondiy.org
SUMMARY:Community Quilt Project
DESCRIPTION:
URL:https://www.flemingtondiy.org/event/community-quilt-project-2/
END:VEVENT
BEGIN:VEVENT
DTSTART;TZID=America/New_York:20250412T101500
DTEND;TZID=America/New_York:20250412T140000
DTSTAMP:20260425T125251
CREATED:20250304T233520Z
LAST-MODIFIED:20250411T235012Z
UID:10003093-1744452900-1744466400@www.flemingtondiy.org
SUMMARY:Chess Tournament
DESCRIPTION:Come and show off your skills Saturday April 12th\, 2025 from 10:15am to 2pm. Chess sets and chess clocks are provided so that all you have to do is sit and play! NOTE the tournament is capped at 48 entries so try to enter early if possible. Hope to see you there! REGISTER \nWhat is the format of the tournament? It ran in what is known as a chess quad. All of the players that enter will be broken up into groups of 4 based on their ratings and will play everyone in their group once. Players who obtain the most points in their group win the prize (win=1 point\, draw=0.5 point\, loss=0 points). It is done in this format so that the games stay relatively competitive and are not completely lopsided. \nThis tournament does require a USCF (United States Chess Federation) membership to join. Pricing and joining methods can be found via link (https://new.uschess.org/join-us-chess). If this is your USCF rated chess event your rating will begin as “unrated” for the tournament. \nCan these chess games go on forever?No. All games are timed at Game 30 delay 5. This means\, for each game\, both players will have 30 minutes to make all of their moves for the game. Delay 5 means that your time will not start counting down until 5 seconds have passed on your turn. There are three methods of winning a chess game. Checkmating the opponent’s king\, your opponent resigns\, or your opponent runs out of time. \nAny question be sure to contact the tournament director at moledomiguel@gmail.com
URL:https://www.flemingtondiy.org/event/chess-tournament/
END:VEVENT
BEGIN:VEVENT
DTSTART;TZID=America/New_York:20250411T183000
DTEND;TZID=America/New_York:20250411T220000
DTSTAMP:20260425T125251
CREATED:20250305T235020Z
LAST-MODIFIED:20250411T235012Z
UID:10003104-1744396200-1744408800@www.flemingtondiy.org
SUMMARY:Live music
DESCRIPTION:Master’s Crown (Brutal NYDS)Ranseur (NJ Dungeon Synth\, Dungeon Noise)Marsh of Chillember (Philly Dungeon Noise)Blush Something (Philly Glitch Drone) \nDoors @ 6$10 DonationAll AgesNo Drugs/No Alcohol
URL:https://www.flemingtondiy.org/event/live-music-96/
END:VEVENT
BEGIN:VEVENT
DTSTART;TZID=America/New_York:20250411T093000
DTEND;TZID=America/New_York:20250411T113000
DTSTAMP:20260425T125251
CREATED:20250208T233537Z
LAST-MODIFIED:20250410T235016Z
UID:10003036-1744363800-1744371000@www.flemingtondiy.org
SUMMARY:Music Together Spring Classes
DESCRIPTION:
URL:https://www.flemingtondiy.org/event/music-together-spring-classes-7/
END:VEVENT
BEGIN:VEVENT
DTSTART;TZID=America/New_York:20250410T180000
DTEND;TZID=America/New_York:20250410T200000
DTSTAMP:20260425T125251
CREATED:20250106T235036Z
LAST-MODIFIED:20250410T235015Z
UID:10002930-1744308000-1744315200@www.flemingtondiy.org
SUMMARY:ASL Chat
DESCRIPTION:American Sign Language (ASL) is the predominant sign language of deaf and hard of hearing people in the United States. If you know or are learning ASL\, come sign with us in a casual and supportive space. Deaf\, hard of hearing\, and hearing people are welcome. Come socialize and make new friends in a voice-off environment!  \nFlemington DIY ASL Chats are in person and free to attend. There is no registration required. Please note that everyone is expected to use ASL to communicate during the events.
URL:https://www.flemingtondiy.org/event/asl-chat-2/
END:VEVENT
BEGIN:VEVENT
DTSTART;TZID=America/New_York:20250410T113000
DTEND;TZID=America/New_York:20250410T180000
DTSTAMP:20260425T125251
CREATED:20241221T233530Z
LAST-MODIFIED:20250409T233507Z
UID:10002839-1744284600-1744308000@www.flemingtondiy.org
SUMMARY:Open Hours
DESCRIPTION:Visit the space\, see our current art shows\, hang out\, and learn how to get involved!
URL:https://www.flemingtondiy.org/event/open-hours-174/
END:VEVENT
BEGIN:VEVENT
DTSTART;TZID=America/New_York:20250408T190000
DTEND;TZID=America/New_York:20250408T210000
DTSTAMP:20260425T125251
CREATED:20240929T233641Z
LAST-MODIFIED:20250407T235026Z
UID:10002627-1744138800-1744146000@www.flemingtondiy.org
SUMMARY:Songwriter Circle
DESCRIPTION:Hey\, songwriters: Do you have songs that are half finished? Lyrics you’re not entirely happy with? A songwriting circle is not a performance. It’s an opportunity to connect with other songwriters\, play your song idea for us – whether it’s fully formed or not – and receive gentle\, respectful\, and constructive feedback. All genres welcome! Please bring a few hard copies of your lyrics to share (they’ll be returned to you). We have a piano available. Donations at the door
URL:https://www.flemingtondiy.org/event/songwriter-circle-26/
END:VEVENT
BEGIN:VEVENT
DTSTART;TZID=America/New_York:20250408T123000
DTEND;TZID=America/New_York:20250408T180000
DTSTAMP:20260425T125251
CREATED:20250207T233516Z
LAST-MODIFIED:20250407T235024Z
UID:10003019-1744115400-1744135200@www.flemingtondiy.org
SUMMARY:Open Hours
DESCRIPTION:Visit the space\, see our current art shows\, hang out\, and learn how to get involved!
URL:https://www.flemingtondiy.org/event/open-hours-252/
END:VEVENT
END:VCALENDAR