BEGIN:VCALENDAR
VERSION:2.0
PRODID:-//Flemington DIY - ECPv6.15.20//NONSGML v1.0//EN
CALSCALE:GREGORIAN
METHOD:PUBLISH
X-WR-CALNAME:Flemington DIY
X-ORIGINAL-URL:https://www.flemingtondiy.org
X-WR-CALDESC:Events for Flemington DIY
REFRESH-INTERVAL;VALUE=DURATION:PT1H
X-Robots-Tag:noindex
X-PUBLISHED-TTL:PT1H
BEGIN:VTIMEZONE
TZID:America/New_York
BEGIN:DAYLIGHT
TZOFFSETFROM:-0500
TZOFFSETTO:-0400
TZNAME:EDT
DTSTART:20230312T070000
END:DAYLIGHT
BEGIN:STANDARD
TZOFFSETFROM:-0400
TZOFFSETTO:-0500
TZNAME:EST
DTSTART:20231105T060000
END:STANDARD
BEGIN:DAYLIGHT
TZOFFSETFROM:-0500
TZOFFSETTO:-0400
TZNAME:EDT
DTSTART:20240310T070000
END:DAYLIGHT
BEGIN:STANDARD
TZOFFSETFROM:-0400
TZOFFSETTO:-0500
TZNAME:EST
DTSTART:20241103T060000
END:STANDARD
BEGIN:DAYLIGHT
TZOFFSETFROM:-0500
TZOFFSETTO:-0400
TZNAME:EDT
DTSTART:20250309T070000
END:DAYLIGHT
BEGIN:STANDARD
TZOFFSETFROM:-0400
TZOFFSETTO:-0500
TZNAME:EST
DTSTART:20251102T060000
END:STANDARD
END:VTIMEZONE
BEGIN:VEVENT
DTSTART;TZID=America/New_York:20240612T180000
DTEND;TZID=America/New_York:20240612T193000
DTSTAMP:20260425T102850
CREATED:20240530T235055Z
LAST-MODIFIED:20240611T233550Z
UID:10002352-1718215200-1718220600@www.flemingtondiy.org
SUMMARY:Screenprint a Shirt with Safe in Hunterdon
DESCRIPTION:Bring a blank shirt or a tote bag and screen print a special SAFE in Hunterdon slogan on it! Presented by Flemington DIY Print Club & SAFE. \nThis event is free and open to the public\, but participants must bring their own shirt to print on.
URL:https://www.flemingtondiy.org/event/screenprint-a-shirt-with-safe-in-hunterdon/
END:VEVENT
BEGIN:VEVENT
DTSTART;TZID=America/New_York:20240613T113000
DTEND;TZID=America/New_York:20240613T180000
DTSTAMP:20260425T102850
CREATED:20240103T045027Z
LAST-MODIFIED:20240613T163251Z
UID:10001995-1718278200-1718301600@www.flemingtondiy.org
SUMMARY:Open Hours
DESCRIPTION:Visit the space\, see our current art show\, hang out\, and learn how to get involved!
URL:https://www.flemingtondiy.org/event/open-hours-88/
END:VEVENT
BEGIN:VEVENT
DTSTART;TZID=America/New_York:20240614T091500
DTEND;TZID=America/New_York:20240614T113000
DTSTAMP:20260425T102850
CREATED:20240325T202122Z
LAST-MODIFIED:20240613T163251Z
UID:10002210-1718356500-1718364600@www.flemingtondiy.org
SUMMARY:Music Together
DESCRIPTION:Every week in our music classes at Music Together Flemington\, babies\, toddlers\, preschoolers\, and the grownups who love them come together for a time of musical play. Little ones love playing along in class\, and caregivers love being a part of their children’s growth into confident music-makers. And everyone loves our songs that’ll have you tapping along in no time \nLearn more and enroll today: https://www.musictogetherflemington.com/
URL:https://www.flemingtondiy.org/event/music-together-235/
END:VEVENT
BEGIN:VEVENT
DTSTART;TZID=America/New_York:20240614T190000
DTEND;TZID=America/New_York:20240614T220000
DTSTAMP:20260425T102850
CREATED:20240315T195043Z
LAST-MODIFIED:20240614T233623Z
UID:10002150-1718391600-1718402400@www.flemingtondiy.org
SUMMARY:Live Music
DESCRIPTION:Thedp3 (Dave Phlegmball Trio)\n(Post-modern punk)\nEdgar Gorre and The Nevermores\n(Horror Punk)\nRadar & Satellite \n(Garage Rock)\n$10-15 Donation \nDoors @ 6:30pm\nNo Drugs/Alcohol \nAll ages
URL:https://www.flemingtondiy.org/event/live-music-58/
END:VEVENT
BEGIN:VEVENT
DTSTART;TZID=America/New_York:20240615T090000
DTEND;TZID=America/New_York:20240615T120000
DTSTAMP:20260425T102850
CREATED:20240325T202122Z
LAST-MODIFIED:20240614T233624Z
UID:10002211-1718442000-1718452800@www.flemingtondiy.org
SUMMARY:Music Together
DESCRIPTION:Every week in our music classes at Music Together Flemington\, babies\, toddlers\, preschoolers\, and the grownups who love them come together for a time of musical play. Little ones love playing along in class\, and caregivers love being a part of their children’s growth into confident music-makers. And everyone loves our songs that’ll have you tapping along in no time \nLearn more and enroll today: https://www.musictogetherflemington.com/
URL:https://www.flemingtondiy.org/event/music-together-236/
END:VEVENT
BEGIN:VEVENT
DTSTART;TZID=America/New_York:20240615T120000
DTEND;TZID=America/New_York:20240615T150000
DTSTAMP:20260425T102850
CREATED:20240513T233515Z
LAST-MODIFIED:20240614T233624Z
UID:10002286-1718452800-1718463600@www.flemingtondiy.org
SUMMARY:ART SUPPLY THRIFT COLLECTION DAY
DESCRIPTION:Every creative has that corner in their closet with new art supplies that haven’t met their potential\, maybe used materials from a hobby that hasn’t quite taken off yet. Instead of letting them continue to collect dust or throwing them away\, consider donating them to the Art Supply Thrift Sale. Propagate Studio in Stewartsville\, NJ is bringing their Take What You’ll Use\, Pay What You Can Art Supply Thrift Sale to Flemington DIY! Please check our ‘yes please and no thank you’ list for donations: https://www.propagatestudionj.com/home/artsupplythrift  \nAll supplies are PAY WHAT YOU CAN! Donations will be accepted on June 15th from 12pm-3pm. Sale is 10am-3pm on June 16th. FREE ENTRY!
URL:https://www.flemingtondiy.org/event/art-supply-thrift-collection-day/
END:VEVENT
BEGIN:VEVENT
DTSTART;TZID=America/New_York:20240615T160000
DTEND;TZID=America/New_York:20240615T180000
DTSTAMP:20260425T102850
CREATED:20240513T233515Z
LAST-MODIFIED:20240614T233624Z
UID:10002287-1718467200-1718474400@www.flemingtondiy.org
SUMMARY:QT Art Show Open Hours
DESCRIPTION:
URL:https://www.flemingtondiy.org/event/qt-art-show-open-hours-3/
END:VEVENT
BEGIN:VEVENT
DTSTART;TZID=America/New_York:20240615T180000
DTEND;TZID=America/New_York:20240615T200000
DTSTAMP:20260425T102850
CREATED:20240513T233515Z
LAST-MODIFIED:20240615T235040Z
UID:10002288-1718474400-1718481600@www.flemingtondiy.org
SUMMARY:LGBTQIA+ Domestic Violence Roundtable
DESCRIPTION:Please join SAFE in Hunterdon and the Flemington QTs for our LGBTQIA+ Domestic Violence Roundtable on Saturday\, 6/15 from 6-8PM at Flemington DIY. All are welcome to attend and be a part of an open discussion about domestic violence issues and intersections with the LGBTQIA+ community. Learn more about how you can be an ally to individuals of all identities facing intimate partner violence.
URL:https://www.flemingtondiy.org/event/lgbtqia-domestic-violence-roundtable/
END:VEVENT
BEGIN:VEVENT
DTSTART;TZID=America/New_York:20240616T100000
DTEND;TZID=America/New_York:20240616T150000
DTSTAMP:20260425T102850
CREATED:20240429T230533Z
LAST-MODIFIED:20240615T235040Z
UID:10002263-1718532000-1718550000@www.flemingtondiy.org
SUMMARY:ART SUPPLY THRIFT SALE
DESCRIPTION:Every creative has that corner in their closet with new art supplies that haven’t met their potential\, maybe used materials from a hobby that hasn’t quite taken off yet. Instead of letting them continue to collect dust or throwing them away\, consider donating them to the Art Supply Thrift Sale. Propagate Studio in Stewartsville\, NJ is bringing their Take What You’ll Use\, Pay What You Can Art Supply Thrift Sale to Flemington DIY! Please check our ‘yes please and no thank you’ list for donations: https://www.propagatestudionj.com/home/artsupplythrift  \nAll supplies are PAY WHAT YOU CAN! Donations will be accepted on June 15th from 12pm-3pm. Sale is 10am-3pm on June 16th. FREE ENTRY!
URL:https://www.flemingtondiy.org/event/art-supply-thrift-sale/
END:VEVENT
BEGIN:VEVENT
DTSTART;TZID=America/New_York:20240616T110000
DTEND;TZID=America/New_York:20240616T150000
DTSTAMP:20260425T102850
CREATED:20240515T233525Z
LAST-MODIFIED:20240615T235040Z
UID:10002311-1718535600-1718550000@www.flemingtondiy.org
SUMMARY:Juneteenth Freedom Celebration at Dvoor Farms
DESCRIPTION:Join us for the first annual Juneteenth celebration in Hunterdon County on Sunday\, June 16 from 11 to 3 PM! \nThis family-friendly event will take place at Dvoor Farms / Hunterdon Land Trust (try either in your GPS)\, located at 111 Mine St in Flemington\, and will feature food vendors and live entertainment! This is a FREE event. \nThis event is hosted by Roots\, Blooms\, and Yards\, with support from the NAACP of Hunterdon County\, Flemington DIY\, the Hunterdon Count Anti-Racism Coalition\, and the Princeton Balm Company + Jersey Shore Cosmetics.Juneteenth\, celebrated on June 19th\, symbolizes freedom and equality\, marking the day in 1865 when the last enslaved people in the United States were emancipated. It is a day of reflection\, education\, and celebration of African American culture and heritage.  \nOur event aims to honor this significant day through a series of activities\, including cultural performances\, community outreach\, and a celebration that brings our community together in solidarity and joy.
URL:https://www.flemingtondiy.org/event/juneteenth-freedom-celebration-at-dvoor-farms/
LOCATION:Hunterdon Land Trust\, 111 Mine St\, Flemington\, NJ\, United States
GEO:40.50568;-74.867274
X-APPLE-STRUCTURED-LOCATION;VALUE=URI;X-ADDRESS=Hunterdon Land Trust 111 Mine St Flemington NJ United States;X-APPLE-RADIUS=500;X-TITLE=111 Mine St:geo:-74.867274,40.50568
END:VEVENT
BEGIN:VEVENT
DTSTART;TZID=America/New_York:20240617T091500
DTEND;TZID=America/New_York:20240617T113000
DTSTAMP:20260425T102850
CREATED:20240325T202123Z
LAST-MODIFIED:20240616T235038Z
UID:10002212-1718615700-1718623800@www.flemingtondiy.org
SUMMARY:Music Together
DESCRIPTION:Every week in our music classes at Music Together Flemington\, babies\, toddlers\, preschoolers\, and the grownups who love them come together for a time of musical play. Little ones love playing along in class\, and caregivers love being a part of their children’s growth into confident music-makers. And everyone loves our songs that’ll have you tapping along in no time \nLearn more and enroll today: https://www.musictogetherflemington.com/
URL:https://www.flemingtondiy.org/event/music-together-237/
END:VEVENT
BEGIN:VEVENT
DTSTART;TZID=America/New_York:20240617T180000
DTEND;TZID=America/New_York:20240617T200000
DTSTAMP:20260425T102850
CREATED:20240311T192021Z
LAST-MODIFIED:20240617T235037Z
UID:10002147-1718647200-1718654400@www.flemingtondiy.org
SUMMARY:Hunterdon Fiber Artist Meeting
DESCRIPTION:Looking to meet other fiber artists in the Hunterdon county area?  Think about coming to Hunterdon Fiber Artists meet up to socialize and connect with others doing the fiber art craft that they love. \nAll are welcome.  Just bring your craft be it knitting\, crocheting\, spinning\, etc.\, and be prepared to meet lots of fun and interesting people!  We even have mini educational talks on requested topics! \nOur FB group is Hunterdon Fiber Artists https://www.facebook.com/groups/1101970274078722 \nOur Ravelry group is https://www.ravelry.com/groups/hunterdon-fiber-artists?s=tab \nEvery other Monday at DIY; $3-5 suggested donation.
URL:https://www.flemingtondiy.org/event/hunterdon-fiber-artist-meeting-11/
END:VEVENT
BEGIN:VEVENT
DTSTART;TZID=America/New_York:20240617T180000
DTEND;TZID=America/New_York:20240617T210000
DTSTAMP:20260425T102850
CREATED:20231107T010549Z
LAST-MODIFIED:20240617T235038Z
UID:10001823-1718647200-1718658000@www.flemingtondiy.org
SUMMARY:Print Club
DESCRIPTION:Flemington DIY Print Club is a weekly open studio held from 6-9PM every Monday\, $15-30 per printer. It provides an opportunity for local artists and community members new to arts processes to utilize shared printmaking facilities. Print Club provides a platform for artists to network\, build community\, and work collaboratively. \nNo experience? No problem! Our vounteers will guide you through the process from start to finish! \nLearn more: https://www.flemingtondiy.org/printclub/
URL:https://www.flemingtondiy.org/event/print-club-185/
END:VEVENT
BEGIN:VEVENT
DTSTART;TZID=America/New_York:20240618T100000
DTEND;TZID=America/New_York:20240618T153000
DTSTAMP:20260425T102850
CREATED:20240614T233556Z
LAST-MODIFIED:20240617T235038Z
UID:10002359-1718704800-1718724600@www.flemingtondiy.org
SUMMARY:Open Hours
DESCRIPTION:Visit the space\, see our current art show\, hang out\, and learn how to get involved!
URL:https://www.flemingtondiy.org/event/open-hours-91/
END:VEVENT
BEGIN:VEVENT
DTSTART;TZID=America/New_York:20240618T161500
DTEND;TZID=America/New_York:20240618T170000
DTSTAMP:20260425T102850
CREATED:20240223T161841Z
LAST-MODIFIED:20240617T235038Z
UID:10002126-1718727300-1718730000@www.flemingtondiy.org
SUMMARY:Youth Art Club
DESCRIPTION:Creative Whimsies is looking for kids grades 3-8 to join us for After School Art Enrichment classes taught by local artist & certified teacher\, Christine Brandt. \nKids will create unique projects\, and develop their creative thinking skills in a fun\, relaxed atmosphere outside of the school environment. \nLimited spots available! \nSign Up + More info: https://www.flemingtondiy.org/art-club/
URL:https://www.flemingtondiy.org/event/youth-art-club-27/
END:VEVENT
BEGIN:VEVENT
DTSTART;TZID=America/New_York:20240618T183000
DTEND;TZID=America/New_York:20240618T203000
DTSTAMP:20260425T102850
CREATED:20231103T010515Z
LAST-MODIFIED:20240617T235038Z
UID:10001704-1718735400-1718742600@www.flemingtondiy.org
SUMMARY:Flemington Acoustic Players
DESCRIPTION:Calling all Hunterdon County pop/rock/folk stars!  Are you looking for a place to practice your acoustic guitar skills\, and maybe do some singing too?   \nOur merry band of music makers is open to players of all abilities! This gathering however is for Acoustic players ONLY; i.e guitars\, ukuleles\, mandolins & banjos. A drummer and/or an acoustic/electric bassist would be welcomed though to help us all stay in time. \nChords and lyrics to the songs will be projected on a screen so there’s no need for you to bring a music stand or tablet. We will be selecting tunes from a song book that includes a wide variety of rock/pop/folk classics. \nCome and have fun with us as we play and sing along to some of everyone’s favorite tunes! \nSuggested donation of $3-5www.flemingtondiy.org/acoustic/
URL:https://www.flemingtondiy.org/event/flemington-acoustic-players-78/
END:VEVENT
BEGIN:VEVENT
DTSTART;TZID=America/New_York:20240619T190000
DTEND;TZID=America/New_York:20240619T220000
DTSTAMP:20260425T102850
CREATED:20240407T205142Z
LAST-MODIFIED:20240619T233545Z
UID:10002239-1718823600-1718834400@www.flemingtondiy.org
SUMMARY:Live Music
DESCRIPTION:A Parallax View\n(Post Rock\, Experimental Rock)\nAnimaloo\n(Galactic Folk)\nSam Zalta\n(Indie Rock\, Dreampop)\n$10 Donation\nAll Ages\nNo Drugs/Alcohol
URL:https://www.flemingtondiy.org/event/live-music-65/
END:VEVENT
BEGIN:VEVENT
DTSTART;TZID=America/New_York:20240620T113000
DTEND;TZID=America/New_York:20240620T180000
DTSTAMP:20260425T102850
CREATED:20240103T045027Z
LAST-MODIFIED:20240619T233545Z
UID:10001996-1718883000-1718906400@www.flemingtondiy.org
SUMMARY:Open Hours
DESCRIPTION:Visit the space\, see our current art show\, hang out\, and learn how to get involved!
URL:https://www.flemingtondiy.org/event/open-hours-89/
END:VEVENT
BEGIN:VEVENT
DTSTART;TZID=America/New_York:20240620T154500
DTEND;TZID=America/New_York:20240620T184500
DTSTAMP:20260425T102850
CREATED:20240513T233516Z
LAST-MODIFIED:20240619T233545Z
UID:10002289-1718898300-1718909100@www.flemingtondiy.org
SUMMARY:QT Art Show Open Hours
DESCRIPTION:
URL:https://www.flemingtondiy.org/event/qt-art-show-open-hours-4/
END:VEVENT
BEGIN:VEVENT
DTSTART;TZID=America/New_York:20240620T190000
DTEND;TZID=America/New_York:20240620T210000
DTSTAMP:20260425T102850
CREATED:20231103T010515Z
LAST-MODIFIED:20240620T233534Z
UID:10001705-1718910000-1718917200@www.flemingtondiy.org
SUMMARY:Monthly Open Bluegrass Jam Session
DESCRIPTION:All players welcome! beginner to pro\nBring your instrument\, a couple of tunes\,\nsome friends and your own refreshments\nFreewill basket to support DIY $5 suggested\nDIY Is open to all ages –strictly no alcohol
URL:https://www.flemingtondiy.org/event/monthly-open-bluegrass-jam-session-15/
END:VEVENT
BEGIN:VEVENT
DTSTART;TZID=America/New_York:20240621T190000
DTEND;TZID=America/New_York:20240621T220000
DTSTAMP:20260425T102850
CREATED:20240406T205129Z
LAST-MODIFIED:20240621T233537Z
UID:10002237-1718996400-1719007200@www.flemingtondiy.org
SUMMARY:Live Music
DESCRIPTION:Mixolydian Dreamer\n(Art rock/Progressive rock)\nStarikova\n(Rock)\nRaising Arizona\n(Alternative hard rock)\nGuesstimate\n(Art rock)\n$10 Donation\nAll Ages\nNo Drugs/Alcohol\nJoin with Google Meet: https://meet.google.com/wan-ufyt-pvw\nLearn more about Meet at: https://support.google.com/a/users/answer/9282720
URL:https://www.flemingtondiy.org/event/live-music-64/
END:VEVENT
BEGIN:VEVENT
DTSTART;TZID=America/New_York:20240622T110000
DTEND;TZID=America/New_York:20240622T140000
DTSTAMP:20260425T102850
CREATED:20240520T235043Z
LAST-MODIFIED:20240621T233537Z
UID:10002314-1719054000-1719064800@www.flemingtondiy.org
SUMMARY:BioBlitz 2024 - Day 1
DESCRIPTION:Join us in the first exploration and celebration of biodiversity in the borough of Flemington! Citizen scientists will document various species of plants\, animals\, and other organisms in Flemington using the iNaturalist smartphone app. This event will span 24 hours in order to provide participants an opportunity to document species that are more active at Dusk\, Dawn\, and at night. Once properly documented\, species data will be available on iNaturalist and can be used by biologists\, ecologists\, and others studying populations of these species. Our goals are to create a baseline species list for the borough that can be compared with future studies and/or historical data\, to engage the Flemington Community in a citizen science effort that will allow all involved to learn more about the importance of biodiversity and the species diversity that can be found in the borough\, and to inspire interest in the natural communities present in the borough.  \nIdentification expertise is helpful but not required. Groups will be led by experts from Princeton Hydro and The Hunterdon Queer Birders and will be aided with field guides and taxonomic keys. Participants who live within the borough are also strongly encouraged to document wildlife that occurs in their own backyards.\nwww.flemingtondiy.org/bioblitz
URL:https://www.flemingtondiy.org/event/bioblitz-2024-day-1/
END:VEVENT
BEGIN:VEVENT
DTSTART;TZID=America/New_York:20240623T120000
DTEND;TZID=America/New_York:20240623T140000
DTSTAMP:20260425T102850
CREATED:20240520T235043Z
LAST-MODIFIED:20240622T233527Z
UID:10002315-1719144000-1719151200@www.flemingtondiy.org
SUMMARY:BioBlitz 2024 - Day 2
DESCRIPTION:Join us in the first exploration and celebration of biodiversity in the borough of Flemington! Citizen scientists will document various species of plants\, animals\, and other organisms in Flemington using the iNaturalist smartphone app. This event will span 24 hours in order to provide participants an opportunity to document species that are more active at Dusk\, Dawn\, and at night. Once properly documented\, species data will be available on iNaturalist and can be used by biologists\, ecologists\, and others studying populations of these species. Our goals are to create a baseline species list for the borough that can be compared with future studies and/or historical data\, to engage the Flemington Community in a citizen science effort that will allow all involved to learn more about the importance of biodiversity and the species diversity that can be found in the borough\, and to inspire interest in the natural communities present in the borough.   \nIdentification expertise is helpful but not required. Groups will be led by experts from Princeton Hydro and The Hunterdon Queer Birders and will be aided with field guides and taxonomic keys. Participants who live within the borough are also strongly encouraged to document wildlife that occurs in their own backyards. \nwww.flemingtondiy.org/bioblitz
URL:https://www.flemingtondiy.org/event/bioblitz-2024-day-2/
END:VEVENT
BEGIN:VEVENT
DTSTART;TZID=America/New_York:20240623T143000
DTEND;TZID=America/New_York:20240623T183000
DTSTAMP:20260425T102850
CREATED:20240620T233513Z
LAST-MODIFIED:20240622T233527Z
UID:10002364-1719153000-1719167400@www.flemingtondiy.org
SUMMARY:BONUS open jazz jam!
DESCRIPTION:IN ADDITION TO OUR MONTHLY JAZZ JAMS…\nThe sessions will provide an opportunity for musicians to play with an experienced band. From 1-2 PM the hosting musicians for the week will play. Other musicians will be invited to sit in and play between 2-5 PM (typically a minimum of 2 songs each\, circumstances permitting). With the exception of drum kit and piano\, all musicians should bring their own equipment (instruments\, amps\, drum sticks\, microphones\, etc.). The sessions will focus primarily on jazz standards and other jazz tunes contained in Hal Leonard Real Books volumes 1 through 3. Newcomers will be coached through the process. \nA $3 to $5 donation to Flemington DIY will be required from each musician that plays at the session. Visitors that just want to listen to the music are also welcome to attend for all or any part of the 1-5 PM sessions free of charge.\nFor questions about the sessions\, or to be added to the monthly text notification list for last minute cancellations or reschedules\, please email njjazzjam@gmail.com
URL:https://www.flemingtondiy.org/event/bonus-open-jazz-jam/
END:VEVENT
BEGIN:VEVENT
DTSTART;TZID=America/New_York:20240624T091500
DTEND;TZID=America/New_York:20240624T113000
DTSTAMP:20260425T102850
CREATED:20240325T202123Z
LAST-MODIFIED:20240623T233532Z
UID:10002213-1719220500-1719228600@www.flemingtondiy.org
SUMMARY:Music Together
DESCRIPTION:Every week in our music classes at Music Together Flemington\, babies\, toddlers\, preschoolers\, and the grownups who love them come together for a time of musical play. Little ones love playing along in class\, and caregivers love being a part of their children’s growth into confident music-makers. And everyone loves our songs that’ll have you tapping along in no time \nLearn more and enroll today: https://www.musictogetherflemington.com/
URL:https://www.flemingtondiy.org/event/music-together-238/
END:VEVENT
BEGIN:VEVENT
DTSTART;TZID=America/New_York:20240624T180000
DTEND;TZID=America/New_York:20240624T210000
DTSTAMP:20260425T102850
CREATED:20231107T010550Z
LAST-MODIFIED:20240624T233507Z
UID:10001824-1719252000-1719262800@www.flemingtondiy.org
SUMMARY:Print Club
DESCRIPTION:Flemington DIY Print Club is a weekly open studio held from 6-9PM every Monday\, $15-30 per printer. It provides an opportunity for local artists and community members new to arts processes to utilize shared printmaking facilities. Print Club provides a platform for artists to network\, build community\, and work collaboratively. \nNo experience? No problem! Our vounteers will guide you through the process from start to finish! \nLearn more: https://www.flemingtondiy.org/printclub/
URL:https://www.flemingtondiy.org/event/print-club-186/
END:VEVENT
BEGIN:VEVENT
DTSTART;TZID=America/New_York:20240625T100000
DTEND;TZID=America/New_York:20240625T180000
DTSTAMP:20260425T102850
CREATED:20240610T233527Z
LAST-MODIFIED:20240624T233507Z
UID:10002357-1719309600-1719338400@www.flemingtondiy.org
SUMMARY:Open Hours
DESCRIPTION:Visit the space\, see our current art shows\, hang out\, and learn how to get involved!
URL:https://www.flemingtondiy.org/event/open-hours-90/
END:VEVENT
BEGIN:VEVENT
DTSTART;TZID=America/New_York:20240625T153000
DTEND;TZID=America/New_York:20240625T180000
DTSTAMP:20260425T102850
CREATED:20240520T235044Z
LAST-MODIFIED:20240624T233507Z
UID:10002316-1719329400-1719338400@www.flemingtondiy.org
SUMMARY:Open Hours
DESCRIPTION:Visit the space\, see our current art shows\, hang out\, and learn how to get involved!
URL:https://www.flemingtondiy.org/event/open-hours-123/
END:VEVENT
BEGIN:VEVENT
DTSTART;TZID=America/New_York:20240625T180000
DTEND;TZID=America/New_York:20240625T200000
DTSTAMP:20260425T102850
CREATED:20240611T233523Z
LAST-MODIFIED:20240625T233543Z
UID:10002358-1719338400-1719345600@www.flemingtondiy.org
SUMMARY:Aunt Mary’s Juneteenth event
DESCRIPTION:Join @auntmarysnj at Flemington DIY on Tuesday\, June 25 6-8pm\, as we celebrate Juneteenth\, a day marking the emancipation of African Americans from slavery. This event will highlight the significant history of African Americans with cannabis and address important social justice issues. \nTo enhance your well-being\, we are offering free yoga sessions for the first 20 attendees who sign up for each 30-minute session. It’s a great opportunity to relax and connect with the community. \n>>REGISTER at AUNTMARYSNJ.co \nAunt Mary’s is also committed to supporting those affected by unjust cannabis laws. They will provide information and resources to help individuals start the expungement process with our legal partners.
URL:https://www.flemingtondiy.org/event/aunt-marys-juneteenth-event/
END:VEVENT
BEGIN:VEVENT
DTSTART;TZID=America/New_York:20240626T193000
DTEND;TZID=America/New_York:20240626T213000
DTSTAMP:20260425T102850
CREATED:20231101T010513Z
LAST-MODIFIED:20240626T233536Z
UID:10001668-1719430200-1719437400@www.flemingtondiy.org
SUMMARY:Poetry Open Mic
DESCRIPTION:show up & sign up\ndonations at the door\nall ages
URL:https://www.flemingtondiy.org/event/poetry-open-mic-23/
END:VEVENT
END:VCALENDAR