BEGIN:VCALENDAR
VERSION:2.0
PRODID:-//Flemington DIY - ECPv6.15.20//NONSGML v1.0//EN
CALSCALE:GREGORIAN
METHOD:PUBLISH
X-WR-CALNAME:Flemington DIY
X-ORIGINAL-URL:https://www.flemingtondiy.org
X-WR-CALDESC:Events for Flemington DIY
REFRESH-INTERVAL;VALUE=DURATION:PT1H
X-Robots-Tag:noindex
X-PUBLISHED-TTL:PT1H
BEGIN:VTIMEZONE
TZID:America/New_York
BEGIN:DAYLIGHT
TZOFFSETFROM:-0500
TZOFFSETTO:-0400
TZNAME:EDT
DTSTART:20230312T070000
END:DAYLIGHT
BEGIN:STANDARD
TZOFFSETFROM:-0400
TZOFFSETTO:-0500
TZNAME:EST
DTSTART:20231105T060000
END:STANDARD
BEGIN:DAYLIGHT
TZOFFSETFROM:-0500
TZOFFSETTO:-0400
TZNAME:EDT
DTSTART:20240310T070000
END:DAYLIGHT
BEGIN:STANDARD
TZOFFSETFROM:-0400
TZOFFSETTO:-0500
TZNAME:EST
DTSTART:20241103T060000
END:STANDARD
BEGIN:DAYLIGHT
TZOFFSETFROM:-0500
TZOFFSETTO:-0400
TZNAME:EDT
DTSTART:20250309T070000
END:DAYLIGHT
BEGIN:STANDARD
TZOFFSETFROM:-0400
TZOFFSETTO:-0500
TZNAME:EST
DTSTART:20251102T060000
END:STANDARD
END:VTIMEZONE
BEGIN:VEVENT
DTSTART;TZID=America/New_York:20240117T180000
DTEND;TZID=America/New_York:20240117T190000
DTSTAMP:20260425T232111
CREATED:20240114T052006Z
LAST-MODIFIED:20240117T055038Z
UID:10002040-1705514400-1705518000@www.flemingtondiy.org
SUMMARY:Music Together
DESCRIPTION:Every week in our music classes at Music Together Flemington\, babies\, toddlers\, preschoolers\, and the grownups who love them come together for a time of musical play. Little ones love playing along in class\, and caregivers love being a part of their children’s growth into confident music-makers. And everyone loves our songs that’ll have you tapping along in no time \nLearn more and enroll today:https://www.musictogetherflemington.com/ \nJoin with Google Meet: https://meet.google.com/bsf-bsya-gxo\nLearn more about Meet at: https://support.google.com/a/users/answer/9282720
URL:https://www.flemingtondiy.org/event/music-together-202/
ORGANIZER;CN="9a724c6862e16b0fceb2c03b11d6495f66823883e568255978d51ff40b7ff5af@group.calendar.google.com":MAILTO:9a724c6862e16b0fceb2c03b11d6495f66823883e568255978d51ff40b7ff5af@group.calendar.google.com
END:VEVENT
BEGIN:VEVENT
DTSTART;TZID=America/New_York:20240118T113000
DTEND;TZID=America/New_York:20240118T180000
DTSTAMP:20260425T232111
CREATED:20240103T045014Z
LAST-MODIFIED:20240118T055033Z
UID:10001968-1705577400-1705600800@www.flemingtondiy.org
SUMMARY:Open Hours
DESCRIPTION:Visit the space\, see our current art show\, hang out\, and learn how to get involved!
URL:https://www.flemingtondiy.org/event/open-hours-42/
END:VEVENT
BEGIN:VEVENT
DTSTART;TZID=America/New_York:20240118T190000
DTEND;TZID=America/New_York:20240118T210000
DTSTAMP:20260425T232111
CREATED:20231103T010512Z
LAST-MODIFIED:20240118T055033Z
UID:10001690-1705604400-1705611600@www.flemingtondiy.org
SUMMARY:Monthly Open Bluegrass Jam Session
DESCRIPTION:All players welcome! beginner to pro\nBring your instrument\, a couple of tunes\,\nsome friends and your own refreshments\nFreewill basket to support DIY $5 suggested\nDIY Is open to all ages –strictly no alcohol
URL:https://www.flemingtondiy.org/event/monthly-open-bluegrass-jam-session-10/
END:VEVENT
BEGIN:VEVENT
DTSTART;TZID=America/New_York:20240120T090000
DTEND;TZID=America/New_York:20240120T120000
DTSTAMP:20260425T232111
CREATED:20240114T052006Z
LAST-MODIFIED:20240120T055005Z
UID:10002041-1705741200-1705752000@www.flemingtondiy.org
SUMMARY:Music Together
DESCRIPTION:Every week in our music classes at Music Together Flemington\, babies\, toddlers\, preschoolers\, and the grownups who love them come together for a time of musical play. Little ones love playing along in class\, and caregivers love being a part of their children’s growth into confident music-makers. And everyone loves our songs that’ll have you tapping along in no time \nLearn more and enroll today:https://www.musictogetherflemington.com/ \nJoin with Google Meet: https://meet.google.com/dqb-gpwt-ohj\nLearn more about Meet at: https://support.google.com/a/users/answer/9282720
URL:https://www.flemingtondiy.org/event/music-together-203/
ORGANIZER;CN="9a724c6862e16b0fceb2c03b11d6495f66823883e568255978d51ff40b7ff5af@group.calendar.google.com":MAILTO:9a724c6862e16b0fceb2c03b11d6495f66823883e568255978d51ff40b7ff5af@group.calendar.google.com
END:VEVENT
BEGIN:VEVENT
DTSTART;TZID=America/New_York:20240120T130000
DTEND;TZID=America/New_York:20240120T150000
DTSTAMP:20260425T232111
CREATED:20231229T042008Z
LAST-MODIFIED:20240120T055005Z
UID:10001953-1705755600-1705762800@www.flemingtondiy.org
SUMMARY:Clothing Giveaway w/ Flemington QTs
DESCRIPTION:Part of the joy of being queer and/or trans often involves discovering your own personal sense of style. If you’ve come out and find yourself in need of a brand new wardrobe that better reflects the authentic YOU\, come on over to Flemington DIY on Saturday\, 01/20 from 1-3PM for our first clothing giveaway. Browse items generously donated to Hunterdon County PFLAG and the Flemington QTs by employees of Flemington branch of 3M. Any community members in need of clothing are also welcome\, no questions asked. Please bring your own bags. \nTake what you need\, donate if you can. We will be accepting donations for Flemington DIY for use of the space\, but no one will be turned away for lack of funds. \nAny leftover clothing will be donated to The Closet @ HiTops (Princeton) or PossAbilities Thrift Shop (Flemington). \nQuestions? Contact Jae and Elliott at flemingtonqts@gmail.com. We are accepting new and gently-used clothing donations for the event on a limited basis through 1/20.
URL:https://www.flemingtondiy.org/event/clothing-giveaway-w-flemington-qts/
END:VEVENT
BEGIN:VEVENT
DTSTART;TZID=America/New_York:20240120T190000
DTEND;TZID=America/New_York:20240120T220000
DTSTAMP:20260425T232111
CREATED:20231123T020511Z
LAST-MODIFIED:20240120T055005Z
UID:10001909-1705777200-1705788000@www.flemingtondiy.org
SUMMARY:Live Music
DESCRIPTION:Rubix Pube\n(Alternative/experiment rock)\nDerailment\n(Hardcore punk)\nHematoid\n(Death metal)\nVicious Cycle\n(Hardcore punk)\nDig A Revel\n(Punk rock/pop punk)\nMore bands tba\n$10-15 Donation\nDoors @ 7pm]\nNo Drugs/Alcohol\nAll Ages
URL:https://www.flemingtondiy.org/event/live-music-32/
END:VEVENT
BEGIN:VEVENT
DTSTART;TZID=America/New_York:20240121T110000
DTEND;TZID=America/New_York:20240121T120000
DTSTAMP:20260425T232111
CREATED:20240102T043509Z
LAST-MODIFIED:20240121T055035Z
UID:10001961-1705834800-1705838400@www.flemingtondiy.org
SUMMARY:Tap Project
DESCRIPTION:Come one\, come all\, no tap shoes required!\nJoin us Sunday mornings and learn the language of tap dance (what’s a flap? shuffle? buffalo?) plus tap dance history (did you ever wonder who was Fred Astaire’s teacher?).\nWe’ll learn simple warm ups\, then take those steps and do a simple combination\, add a few together\, and hey\, you have a whole dance!\nGreat music\, great fun\, new friends!\nPlease check calendar for upcoming classes!\nJoin the Facebook group!
URL:https://www.flemingtondiy.org/event/tap-project-39/
END:VEVENT
BEGIN:VEVENT
DTSTART;TZID=America/New_York:20240121T133000
DTEND;TZID=America/New_York:20240121T143000
DTSTAMP:20260425T232111
CREATED:20231130T030638Z
LAST-MODIFIED:20240121T055035Z
UID:10001926-1705843800-1705847400@www.flemingtondiy.org
SUMMARY:Ukraine ENGin Program
DESCRIPTION:Seeking Volunteer Online Tutors (ages 14 through retirees) To Help Ukrainians Improve Their English \nAre you a fluent English speaker with 1 hour/week to spare? \nCome to DIY on Sunday\, January 21st \, from 1:30 – 2:30 to learn how you can become an online volunteer tutor and help a Ukrainian citizen improve their English skills. No need to be able to speak Ukrainian. All of our students speak some degree of English. \n– One to one video chat with a Ukrainian\n– Perfect for students looking for meaningful volunteer service hours or adults interested in giving back\n– One hour/week; Minimum commitment of 3 months\n– You choose the day and time.\n– No teaching experience needed. Training and lessons provided. \nQuestions and sign up at t.demuro@enginprogram.org
URL:https://www.flemingtondiy.org/event/ukraine-engin-program/
END:VEVENT
BEGIN:VEVENT
DTSTART;TZID=America/New_York:20240121T160000
DTEND;TZID=America/New_York:20240121T180000
DTSTAMP:20260425T232111
CREATED:20231210T032015Z
LAST-MODIFIED:20240121T055035Z
UID:10001937-1705852800-1705860000@www.flemingtondiy.org
SUMMARY:What's A Zine + How to Make One
DESCRIPTION:
URL:https://www.flemingtondiy.org/event/whats-a-zine-how-to-make-one/
END:VEVENT
BEGIN:VEVENT
DTSTART;TZID=America/New_York:20240122T091500
DTEND;TZID=America/New_York:20240122T113000
DTSTAMP:20260425T232111
CREATED:20231104T010513Z
LAST-MODIFIED:20240122T060538Z
UID:10001741-1705914900-1705923000@www.flemingtondiy.org
SUMMARY:Music Together
DESCRIPTION:Every week in our music classes at Music Together Flemington\, babies\, toddlers\, preschoolers\, and the grownups who love them come together for a time of musical play. Little ones love playing along in class\, and caregivers love being a part of their children’s growth into confident music-makers. And everyone loves our songs that’ll have you tapping along in no time \nLearn more and enroll today:https://www.musictogetherflemington.com/ \nJoin with Google Meet: https://meet.google.com/eis-bvjj-rgq\nLearn more about Meet at: https://support.google.com/a/users/answer/9282720
URL:https://www.flemingtondiy.org/event/music-together-161/
ORGANIZER;CN="9a724c6862e16b0fceb2c03b11d6495f66823883e568255978d51ff40b7ff5af@group.calendar.google.com":MAILTO:9a724c6862e16b0fceb2c03b11d6495f66823883e568255978d51ff40b7ff5af@group.calendar.google.com
END:VEVENT
BEGIN:VEVENT
DTSTART;TZID=America/New_York:20240122T180000
DTEND;TZID=America/New_York:20240122T210000
DTSTAMP:20260425T232111
CREATED:20231107T010529Z
LAST-MODIFIED:20240122T060538Z
UID:10001802-1705946400-1705957200@www.flemingtondiy.org
SUMMARY:Print Club
DESCRIPTION:Flemington DIY Print Club is a weekly open studio held from 6-9PM every Monday\, $15-30 per printer. It provides an opportunity for local artists and community members new to arts processes to utilize shared printmaking facilities. Print Club provides a platform for artists to network\, build community\, and work collaboratively. \nNo experience? No problem! Our vounteers will guide you through the process from start to finish! \nLearn more: https://www.flemingtondiy.org/printclub/
URL:https://www.flemingtondiy.org/event/print-club-150/
END:VEVENT
BEGIN:VEVENT
DTSTART;TZID=America/New_York:20240123T183000
DTEND;TZID=America/New_York:20240123T203000
DTSTAMP:20260425T232111
CREATED:20231103T010512Z
LAST-MODIFIED:20240123T060505Z
UID:10001689-1706034600-1706041800@www.flemingtondiy.org
SUMMARY:Flemington Acoustic Players
DESCRIPTION:Calling all Hunterdon County pop/rock/folk stars!  Are you looking for a place to practice your acoustic guitar skills\, and maybe do some singing too?   \nOur merry band of music makers is open to players of all abilities! This gathering however is for Acoustic players ONLY; i.e guitars\, ukuleles\, mandolins & banjos. A drummer and/or an acoustic/electric bassist would be welcomed though to help us all stay in time. \nChords and lyrics to the songs will be projected on a screen so there’s no need for you to bring a music stand or tablet. We will be selecting tunes from a song book that includes a wide variety of rock/pop/folk classics. \nCome and have fun with us as we play and sing along to some of everyone’s favorite tunes! \nSuggested donation of $3-5www.flemingtondiy.org/acoustic/
URL:https://www.flemingtondiy.org/event/flemington-acoustic-players-73/
END:VEVENT
BEGIN:VEVENT
DTSTART;TZID=America/New_York:20240125T113000
DTEND;TZID=America/New_York:20240125T180000
DTSTAMP:20260425T232111
CREATED:20240103T045015Z
LAST-MODIFIED:20240125T060555Z
UID:10001969-1706182200-1706205600@www.flemingtondiy.org
SUMMARY:Open Hours
DESCRIPTION:Visit the space\, see our current art show\, hang out\, and learn how to get involved!
URL:https://www.flemingtondiy.org/event/open-hours-64/
END:VEVENT
BEGIN:VEVENT
DTSTART;TZID=America/New_York:20240126T091500
DTEND;TZID=America/New_York:20240126T113000
DTSTAMP:20260425T232111
CREATED:20240125T060514Z
LAST-MODIFIED:20240126T060515Z
UID:10002081-1706260500-1706268600@www.flemingtondiy.org
SUMMARY:Music Together
DESCRIPTION:Every week in our music classes at Music Together Flemington\, babies\, toddlers\, preschoolers\, and the grownups who love them come together for a time of musical play. Little ones love playing along in class\, and caregivers love being a part of their children’s growth into confident music-makers. And everyone loves our songs that’ll have you tapping along in no time\nLearn more and enroll today: https://www.musictogetherflemington.com/
URL:https://www.flemingtondiy.org/event/music-together-148/
END:VEVENT
BEGIN:VEVENT
DTSTART;TZID=America/New_York:20240126T180000
DTEND;TZID=America/New_York:20240126T200000
DTSTAMP:20260425T232111
CREATED:20231220T033509Z
LAST-MODIFIED:20240126T060515Z
UID:10001946-1706292000-1706299200@www.flemingtondiy.org
SUMMARY:DIY Volunteer Pizza Party & 2024 Vision Planning
DESCRIPTION:Happy New Year! Flemington DIY Volunteers are invited to this pizza party to celebrate the new year and vision plan for 2024. \nWe hope to see you there! Please rsvp to Delfina at volunteerflemingtondiy@gmail.com if you will attend.
URL:https://www.flemingtondiy.org/event/diy-volunteer-pizza-party-2024-vision-planning/
END:VEVENT
BEGIN:VEVENT
DTSTART;TZID=America/New_York:20240127T090000
DTEND;TZID=America/New_York:20240127T120000
DTSTAMP:20260425T232111
CREATED:20240123T060505Z
LAST-MODIFIED:20240127T060525Z
UID:10002069-1706346000-1706356800@www.flemingtondiy.org
SUMMARY:Music Together
DESCRIPTION:Every week in our music classes at Music Together Flemington\, babies\, toddlers\, preschoolers\, and the grownups who love them come together for a time of musical play. Little ones love playing along in class\, and caregivers love being a part of their children’s growth into confident music-makers. And everyone loves our songs that’ll have you tapping along in no time \nLearn more and enroll today:https://www.musictogetherflemington.com/ \nJoin with Google Meet: https://meet.google.com/dqb-gpwt-ohj\nLearn more about Meet at: https://support.google.com/a/users/answer/9282720
URL:https://www.flemingtondiy.org/event/music-together-158/
ORGANIZER;CN="9a724c6862e16b0fceb2c03b11d6495f66823883e568255978d51ff40b7ff5af@group.calendar.google.com":MAILTO:9a724c6862e16b0fceb2c03b11d6495f66823883e568255978d51ff40b7ff5af@group.calendar.google.com
END:VEVENT
BEGIN:VEVENT
DTSTART;TZID=America/New_York:20240127T130000
DTEND;TZID=America/New_York:20240127T140000
DTSTAMP:20260425T232111
CREATED:20231229T042009Z
LAST-MODIFIED:20240127T060525Z
UID:10001954-1706360400-1706364000@www.flemingtondiy.org
SUMMARY:Coffee & Queer Community
DESCRIPTION:Join the Flemington QTs for a casual hangout for all LGBTQIA+ folks and allies. Join us to enjoy some locally brewed coffee and build community.
URL:https://www.flemingtondiy.org/event/coffee-queer-community-2/
END:VEVENT
BEGIN:VEVENT
DTSTART;TZID=America/New_York:20240128T110000
DTEND;TZID=America/New_York:20240128T120000
DTSTAMP:20260425T232111
CREATED:20240102T043510Z
LAST-MODIFIED:20240128T060532Z
UID:10001962-1706439600-1706443200@www.flemingtondiy.org
SUMMARY:Tap Project
DESCRIPTION:Come one\, come all\, no tap shoes required!\nJoin us Sunday mornings and learn the language of tap dance (what’s a flap? shuffle? buffalo?) plus tap dance history (did you ever wonder who was Fred Astaire’s teacher?).\nWe’ll learn simple warm ups\, then take those steps and do a simple combination\, add a few together\, and hey\, you have a whole dance!\nGreat music\, great fun\, new friends!\nPlease check calendar for upcoming classes!\nJoin the Facebook group!
URL:https://www.flemingtondiy.org/event/tap-project-40/
END:VEVENT
BEGIN:VEVENT
DTSTART;TZID=America/New_York:20240129T091500
DTEND;TZID=America/New_York:20240129T113000
DTSTAMP:20260425T232111
CREATED:20231104T010514Z
LAST-MODIFIED:20240129T060615Z
UID:10001747-1706519700-1706527800@www.flemingtondiy.org
SUMMARY:Music Together
DESCRIPTION:Every week in our music classes at Music Together Flemington\, babies\, toddlers\, preschoolers\, and the grownups who love them come together for a time of musical play. Little ones love playing along in class\, and caregivers love being a part of their children’s growth into confident music-makers. And everyone loves our songs that’ll have you tapping along in no time \nLearn more and enroll today:https://www.musictogetherflemington.com/ \nJoin with Google Meet: https://meet.google.com/eis-bvjj-rgq\nLearn more about Meet at: https://support.google.com/a/users/answer/9282720
URL:https://www.flemingtondiy.org/event/music-together-166/
ORGANIZER;CN="9a724c6862e16b0fceb2c03b11d6495f66823883e568255978d51ff40b7ff5af@group.calendar.google.com":MAILTO:9a724c6862e16b0fceb2c03b11d6495f66823883e568255978d51ff40b7ff5af@group.calendar.google.com
END:VEVENT
BEGIN:VEVENT
DTSTART;TZID=America/New_York:20240129T180000
DTEND;TZID=America/New_York:20240129T200000
DTSTAMP:20260425T232111
CREATED:20240119T055009Z
LAST-MODIFIED:20240129T060615Z
UID:10002058-1706551200-1706558400@www.flemingtondiy.org
SUMMARY:Hunterdon Fiber Artist Meeting
DESCRIPTION:Looking to meet other fiber artists in the Hunterdon county area?  Think about coming to Hunterdon Fiber Artists meet up to socialize and connect with others doing the fiber art craft that they love. \nAll are welcome.  Just bring your craft be it knitting\, crocheting\, spinning\, etc.\, and be prepared to meet lots of fun and interesting people!  We even have mini educational talks on requested topics! \nOur FB group is Hunterdon Fiber Artists https://www.facebook.com/groups/1101970274078722 \nOur Ravelry group is https://www.ravelry.com/groups/hunterdon-fiber-artists?s=tab \nEvery other Monday at DIY; $3-5 suggested donation.
URL:https://www.flemingtondiy.org/event/hunterdon-fiber-artist-meeting/
END:VEVENT
BEGIN:VEVENT
DTSTART;TZID=America/New_York:20240129T180000
DTEND;TZID=America/New_York:20240129T210000
DTSTAMP:20260425T232111
CREATED:20231107T010531Z
LAST-MODIFIED:20240129T060615Z
UID:10001803-1706551200-1706562000@www.flemingtondiy.org
SUMMARY:Print Club
DESCRIPTION:Flemington DIY Print Club is a weekly open studio held from 6-9PM every Monday\, $15-30 per printer. It provides an opportunity for local artists and community members new to arts processes to utilize shared printmaking facilities. Print Club provides a platform for artists to network\, build community\, and work collaboratively. \nNo experience? No problem! Our vounteers will guide you through the process from start to finish! \nLearn more: https://www.flemingtondiy.org/printclub/
URL:https://www.flemingtondiy.org/event/print-club-151/
END:VEVENT
BEGIN:VEVENT
DTSTART;TZID=America/New_York:20240131T193000
DTEND;TZID=America/New_York:20240131T213000
DTSTAMP:20260425T232111
CREATED:20231101T010512Z
LAST-MODIFIED:20240131T062022Z
UID:10001663-1706729400-1706736600@www.flemingtondiy.org
SUMMARY:Poetry Open Mic
DESCRIPTION:show up & sign up\ndonations at the door\nall ages
URL:https://www.flemingtondiy.org/event/poetry-open-mic-18/
END:VEVENT
BEGIN:VEVENT
DTSTART;TZID=America/New_York:20240201T113000
DTEND;TZID=America/New_York:20240201T180000
DTSTAMP:20260425T232111
CREATED:20240103T045016Z
LAST-MODIFIED:20240201T063527Z
UID:10001970-1706787000-1706810400@www.flemingtondiy.org
SUMMARY:Open Hours
DESCRIPTION:Visit the space\, see our current art show\, hang out\, and learn how to get involved!
URL:https://www.flemingtondiy.org/event/open-hours-68/
END:VEVENT
BEGIN:VEVENT
DTSTART;TZID=America/New_York:20240202T091500
DTEND;TZID=America/New_York:20240202T113000
DTSTAMP:20260425T232111
CREATED:20240125T060515Z
LAST-MODIFIED:20240202T063529Z
UID:10002082-1706865300-1706873400@www.flemingtondiy.org
SUMMARY:Music Together
DESCRIPTION:Every week in our music classes at Music Together Flemington\, babies\, toddlers\, preschoolers\, and the grownups who love them come together for a time of musical play. Little ones love playing along in class\, and caregivers love being a part of their children’s growth into confident music-makers. And everyone loves our songs that’ll have you tapping along in no time\nLearn more and enroll today: https://www.musictogetherflemington.com/
URL:https://www.flemingtondiy.org/event/music-together-169/
END:VEVENT
BEGIN:VEVENT
DTSTART;TZID=America/New_York:20240202T120000
DTEND;TZID=America/New_York:20240202T140000
DTSTAMP:20260425T232111
CREATED:20230830T220517Z
LAST-MODIFIED:20240202T063529Z
UID:10001592-1706875200-1706882400@www.flemingtondiy.org
SUMMARY:First Fridays: Print Club for Homeschoolers
DESCRIPTION:First Friday of Every Month$15-30 per student\, ages 12-18\nFlemington DIY and Raritan Learning Cooperative are collaborating to offer a monthly print club for kids ages 12-18\, on the first Friday of every month from 11am-1pm. Bring a design and a t-shirt or anything you want to print on. You’ll get to learn the process of screenprinting\, create your own screen\, and print posters and shirts!https://www.flemingtondiy.org/first-fridays/
URL:https://www.flemingtondiy.org/event/first-fridays-print-club-for-homeschoolers-4/
END:VEVENT
BEGIN:VEVENT
DTSTART;TZID=America/New_York:20240203T090000
DTEND;TZID=America/New_York:20240203T120000
DTSTAMP:20260425T232111
CREATED:20240123T060506Z
LAST-MODIFIED:20240203T063532Z
UID:10002070-1706950800-1706961600@www.flemingtondiy.org
SUMMARY:Music Together
DESCRIPTION:Every week in our music classes at Music Together Flemington\, babies\, toddlers\, preschoolers\, and the grownups who love them come together for a time of musical play. Little ones love playing along in class\, and caregivers love being a part of their children’s growth into confident music-makers. And everyone loves our songs that’ll have you tapping along in no time \nLearn more and enroll today:https://www.musictogetherflemington.com/ \nJoin with Google Meet: https://meet.google.com/dqb-gpwt-ohj\nLearn more about Meet at: https://support.google.com/a/users/answer/9282720
URL:https://www.flemingtondiy.org/event/music-together-159/
ORGANIZER;CN="9a724c6862e16b0fceb2c03b11d6495f66823883e568255978d51ff40b7ff5af@group.calendar.google.com":MAILTO:9a724c6862e16b0fceb2c03b11d6495f66823883e568255978d51ff40b7ff5af@group.calendar.google.com
END:VEVENT
BEGIN:VEVENT
DTSTART;TZID=America/New_York:20240203T130000
DTEND;TZID=America/New_York:20240203T150000
DTSTAMP:20260425T232111
CREATED:20231222T035013Z
LAST-MODIFIED:20240203T063532Z
UID:10001948-1706965200-1706972400@www.flemingtondiy.org
SUMMARY:The Seven Principles of Making Marriage Work: A GOTTMAN WORKSHOP FOR COUPLES
DESCRIPTION:Your friendly local marriage and family therapist Nicole Locorriere\, LMFT is hosting a couples workshop to teach evidence-based principles for making marriage work. This two-hour lecture is an introduction to the Gottman Method\, one of the most widely accepted couples therapy frameworks practiced today. Couples will learn how to enhance their friendship\, as well as how and why this is the foundation of a sound relationship house. It’s a great fit for couples who are struggling to communicate\, and who love each other but don’t feel connected. The workshop does not require that couples share any intimate information with other participants or the host.  \nYour host\, Gottman Leader\, Nicole is a licensed marriage and family therapist and owner of Prologue Therapy and Relationship Counseling at 115 Main Street in Flemington. She specializes in helping couples rekindle romance after feeling like “roommates\,” couples who are on the brink of divorce\, and individuals who are looking for clarity regarding their relationships. When she’s not working\, Nicole loves to crochet\, write poems\, and spend time with her husband\, Jeff\, and their goldendoodle\, Holly. \nLEARN MORE & REGISTER HERE: https://www.flemingtondiy.org/marriage/
URL:https://www.flemingtondiy.org/event/the-seven-principles-of-making-marriage-work-a-gottman-workshop-for-couples/
END:VEVENT
BEGIN:VEVENT
DTSTART;TZID=America/New_York:20240203T160000
DTEND;TZID=America/New_York:20240203T180000
DTSTAMP:20260425T232111
CREATED:20231229T042009Z
LAST-MODIFIED:20240203T063532Z
UID:10001955-1706976000-1706983200@www.flemingtondiy.org
SUMMARY:Coffee & Queer Community
DESCRIPTION:Join the Flemington QTs for a casual hangout for all LGBTQIA+ folks and allies. Join us to enjoy some locally brewed coffee and build community.
URL:https://www.flemingtondiy.org/event/coffee-queer-community-3/
END:VEVENT
BEGIN:VEVENT
DTSTART;TZID=America/New_York:20240204T110000
DTEND;TZID=America/New_York:20240204T120000
DTSTAMP:20260425T232111
CREATED:20240102T043511Z
LAST-MODIFIED:20240204T063541Z
UID:10001963-1707044400-1707048000@www.flemingtondiy.org
SUMMARY:Tap Project
DESCRIPTION:Come one\, come all\, no tap shoes required!\nJoin us Sunday mornings and learn the language of tap dance (what’s a flap? shuffle? buffalo?) plus tap dance history (did you ever wonder who was Fred Astaire’s teacher?).\nWe’ll learn simple warm ups\, then take those steps and do a simple combination\, add a few together\, and hey\, you have a whole dance!\nGreat music\, great fun\, new friends!\nPlease check calendar for upcoming classes!\nJoin the Facebook group!
URL:https://www.flemingtondiy.org/event/tap-project-41/
END:VEVENT
BEGIN:VEVENT
DTSTART;TZID=America/New_York:20240204T130000
DTEND;TZID=America/New_York:20240204T170000
DTSTAMP:20260425T232111
CREATED:20231103T010513Z
LAST-MODIFIED:20240204T063541Z
UID:10001691-1707051600-1707066000@www.flemingtondiy.org
SUMMARY:Open Jazz Jams
DESCRIPTION:Open Jazz Jams are held he first Sunday of every month. \nThe sessions will provide an opportunity for musicians to play with an experienced band. From 1-2 PM the hosting musicians for the week will play. Other musicians will be invited to sit in and play between 2-5 PM (typically a minimum of 2 songs each\, circumstances permitting). With the exception of drum kit and piano\, all musicians should bring their own equipment (instruments\, amps\, drum sticks\, microphones\, etc.). The sessions will focus primarily on jazz standards and other jazz tunes contained in Hal Leonard Real Books volumes 1 through 3. Newcomers will be coached through the process.  \nA $3 to $5 donation to Flemington DIY will be required from each musician that plays at the session. Visitors that just want to listen to the music are also welcome to attend for all or any part of the 1-5 PM sessions free of charge.  \nFor questions about the sessions\, or to be added to the monthly text notification list for last minute cancellations or reschedules\, please email njjazzjam@gmail.com
URL:https://www.flemingtondiy.org/event/open-jazz-jams-14/
END:VEVENT
END:VCALENDAR