BEGIN:VCALENDAR
VERSION:2.0
PRODID:-//Flemington DIY - ECPv6.15.20//NONSGML v1.0//EN
CALSCALE:GREGORIAN
METHOD:PUBLISH
X-WR-CALNAME:Flemington DIY
X-ORIGINAL-URL:https://www.flemingtondiy.org
X-WR-CALDESC:Events for Flemington DIY
REFRESH-INTERVAL;VALUE=DURATION:PT1H
X-Robots-Tag:noindex
X-PUBLISHED-TTL:PT1H
BEGIN:VTIMEZONE
TZID:America/New_York
BEGIN:DAYLIGHT
TZOFFSETFROM:-0500
TZOFFSETTO:-0400
TZNAME:EDT
DTSTART:20230312T070000
END:DAYLIGHT
BEGIN:STANDARD
TZOFFSETFROM:-0400
TZOFFSETTO:-0500
TZNAME:EST
DTSTART:20231105T060000
END:STANDARD
BEGIN:DAYLIGHT
TZOFFSETFROM:-0500
TZOFFSETTO:-0400
TZNAME:EDT
DTSTART:20240310T070000
END:DAYLIGHT
BEGIN:STANDARD
TZOFFSETFROM:-0400
TZOFFSETTO:-0500
TZNAME:EST
DTSTART:20241103T060000
END:STANDARD
BEGIN:DAYLIGHT
TZOFFSETFROM:-0500
TZOFFSETTO:-0400
TZNAME:EDT
DTSTART:20250309T070000
END:DAYLIGHT
BEGIN:STANDARD
TZOFFSETFROM:-0400
TZOFFSETTO:-0500
TZNAME:EST
DTSTART:20251102T060000
END:STANDARD
END:VTIMEZONE
BEGIN:VEVENT
DTSTART;TZID=America/New_York:20240613T113000
DTEND;TZID=America/New_York:20240613T180000
DTSTAMP:20260425T123624
CREATED:20240103T045027Z
LAST-MODIFIED:20240613T163251Z
UID:10001995-1718278200-1718301600@www.flemingtondiy.org
SUMMARY:Open Hours
DESCRIPTION:Visit the space\, see our current art show\, hang out\, and learn how to get involved!
URL:https://www.flemingtondiy.org/event/open-hours-88/
END:VEVENT
BEGIN:VEVENT
DTSTART;TZID=America/New_York:20240612T180000
DTEND;TZID=America/New_York:20240612T193000
DTSTAMP:20260425T123624
CREATED:20240530T235055Z
LAST-MODIFIED:20240611T233550Z
UID:10002352-1718215200-1718220600@www.flemingtondiy.org
SUMMARY:Screenprint a Shirt with Safe in Hunterdon
DESCRIPTION:Bring a blank shirt or a tote bag and screen print a special SAFE in Hunterdon slogan on it! Presented by Flemington DIY Print Club & SAFE. \nThis event is free and open to the public\, but participants must bring their own shirt to print on.
URL:https://www.flemingtondiy.org/event/screenprint-a-shirt-with-safe-in-hunterdon/
END:VEVENT
BEGIN:VEVENT
DTSTART;TZID=America/New_York:20240612T161500
DTEND;TZID=America/New_York:20240612T171500
DTSTAMP:20260425T123624
CREATED:20240325T202122Z
LAST-MODIFIED:20240611T233549Z
UID:10002209-1718208900-1718212500@www.flemingtondiy.org
SUMMARY:Music Together
DESCRIPTION:Every week in our music classes at Music Together Flemington\, babies\, toddlers\, preschoolers\, and the grownups who love them come together for a time of musical play. Little ones love playing along in class\, and caregivers love being a part of their children’s growth into confident music-makers. And everyone loves our songs that’ll have you tapping along in no time \nLearn more and enroll today: https://www.musictogetherflemington.com/
URL:https://www.flemingtondiy.org/event/music-together-234/
END:VEVENT
BEGIN:VEVENT
DTSTART;TZID=America/New_York:20240612T094500
DTEND;TZID=America/New_York:20240612T120000
DTSTAMP:20260425T123624
CREATED:20240325T202122Z
LAST-MODIFIED:20240611T233549Z
UID:10002208-1718185500-1718193600@www.flemingtondiy.org
SUMMARY:Music Together
DESCRIPTION:Every week in our music classes at Music Together Flemington\, babies\, toddlers\, preschoolers\, and the grownups who love them come together for a time of musical play. Little ones love playing along in class\, and caregivers love being a part of their children’s growth into confident music-makers. And everyone loves our songs that’ll have you tapping along in no time \nLearn more and enroll today: https://www.musictogetherflemington.com/
URL:https://www.flemingtondiy.org/event/music-together-233/
END:VEVENT
BEGIN:VEVENT
DTSTART;TZID=America/New_York:20240611T190000
DTEND;TZID=America/New_York:20240611T210000
DTSTAMP:20260425T123624
CREATED:20240103T045027Z
LAST-MODIFIED:20240611T233549Z
UID:10001994-1718132400-1718139600@www.flemingtondiy.org
SUMMARY:Songwriter Circle
DESCRIPTION:Hey\, songwriters: Do you have songs that are half finished? Lyrics you’re not entirely happy with? A songwriting circle is not a performance. It’s an opportunity to connect with other songwriters\, play your song idea for us – whether it’s fully formed or not – and receive gentle\, respectful\, and constructive feedback. All genres welcome! Please bring a few hard copies of your lyrics to share (they’ll be returned to you). We have a piano available. Donations at the door
URL:https://www.flemingtondiy.org/event/songwriter-circle-16/
END:VEVENT
BEGIN:VEVENT
DTSTART;TZID=America/New_York:20240611T161500
DTEND;TZID=America/New_York:20240611T170000
DTSTAMP:20260425T123624
CREATED:20240223T161841Z
LAST-MODIFIED:20240610T233550Z
UID:10002125-1718122500-1718125200@www.flemingtondiy.org
SUMMARY:Youth Art Club
DESCRIPTION:Creative Whimsies is looking for kids grades 3-8 to join us for After School Art Enrichment classes taught by local artist & certified teacher\, Christine Brandt. \nKids will create unique projects\, and develop their creative thinking skills in a fun\, relaxed atmosphere outside of the school environment. \nLimited spots available! \nSign Up + More info: https://www.flemingtondiy.org/art-club/
URL:https://www.flemingtondiy.org/event/youth-art-club-26/
END:VEVENT
BEGIN:VEVENT
DTSTART;TZID=America/New_York:20240611T100000
DTEND;TZID=America/New_York:20240611T153000
DTSTAMP:20260425T123624
CREATED:20240512T233635Z
LAST-MODIFIED:20240610T233550Z
UID:10002282-1718100000-1718119800@www.flemingtondiy.org
SUMMARY:Open Hours
DESCRIPTION:Visit the space\, see our current art show\, hang out\, and learn how to get involved!
URL:https://www.flemingtondiy.org/event/open-hours-121/
END:VEVENT
BEGIN:VEVENT
DTSTART;TZID=America/New_York:20240610T180000
DTEND;TZID=America/New_York:20240610T210000
DTSTAMP:20260425T123624
CREATED:20231107T010549Z
LAST-MODIFIED:20240610T233550Z
UID:10001822-1718042400-1718053200@www.flemingtondiy.org
SUMMARY:Print Club
DESCRIPTION:Flemington DIY Print Club is a weekly open studio held from 6-9PM every Monday\, $15-30 per printer. It provides an opportunity for local artists and community members new to arts processes to utilize shared printmaking facilities. Print Club provides a platform for artists to network\, build community\, and work collaboratively. \nNo experience? No problem! Our vounteers will guide you through the process from start to finish! \nLearn more: https://www.flemingtondiy.org/printclub/
URL:https://www.flemingtondiy.org/event/print-club-184/
END:VEVENT
BEGIN:VEVENT
DTSTART;TZID=America/New_York:20240610T091500
DTEND;TZID=America/New_York:20240610T113000
DTSTAMP:20260425T123624
CREATED:20240325T202121Z
LAST-MODIFIED:20240608T235101Z
UID:10002207-1718010900-1718019000@www.flemingtondiy.org
SUMMARY:Music Together
DESCRIPTION:Every week in our music classes at Music Together Flemington\, babies\, toddlers\, preschoolers\, and the grownups who love them come together for a time of musical play. Little ones love playing along in class\, and caregivers love being a part of their children’s growth into confident music-makers. And everyone loves our songs that’ll have you tapping along in no time \nLearn more and enroll today: https://www.musictogetherflemington.com/
URL:https://www.flemingtondiy.org/event/music-together-232/
END:VEVENT
BEGIN:VEVENT
DTSTART;TZID=America/New_York:20240609T143000
DTEND;TZID=America/New_York:20240609T170000
DTSTAMP:20260425T123624
CREATED:20231104T010522Z
LAST-MODIFIED:20240608T235101Z
UID:10001792-1717943400-1717952400@www.flemingtondiy.org
SUMMARY:Women's Comedy Open Mic
DESCRIPTION:Ever wanted to share a joke with your friends? Have a friend who you think is hilarious but don’t know how to let other ladies know about her talent? Here’s an opportunity to give it a try. Enjoy a safe space to share laughs – and if you fail – it’s ok to get up and try again!Sign up in advance: https://www.jotform.com/assign/233097504623152/232664975561063
URL:https://www.flemingtondiy.org/event/womens-comedy-open-mic-8/
END:VEVENT
BEGIN:VEVENT
DTSTART;TZID=America/New_York:20240609T110000
DTEND;TZID=America/New_York:20240609T120000
DTSTAMP:20260425T123624
CREATED:20240509T195454Z
LAST-MODIFIED:20240608T235100Z
UID:10002269-1717930800-1717934400@www.flemingtondiy.org
SUMMARY:Tap Project
DESCRIPTION:Come one\, come all\, no tap shoes required!\nJoin us Sunday mornings and learn the language of tap dance (what’s a flap? shuffle? buffalo?) plus tap dance history (did you ever wonder who was Fred Astaire’s teacher?).\nWe'll learn simple warm ups\, then take those steps and do a simple combination\, add a few together\, and hey\, you have a whole dance!\nGreat music\, great fun\, new friends!\nPlease check calendar for upcoming classes!
URL:https://www.flemingtondiy.org/event/tap-project-51/
END:VEVENT
BEGIN:VEVENT
DTSTART;TZID=America/New_York:20240608T130000
DTEND;TZID=America/New_York:20240608T223000
DTSTAMP:20260425T123624
CREATED:20240426T225020Z
LAST-MODIFIED:20240608T235100Z
UID:10002259-1717851600-1717885800@www.flemingtondiy.org
SUMMARY:NJ vs Valhalla 2
DESCRIPTION:Very excited to announce NEW JERSEY VS VALHALLA: THE SEQUEL!! A day full of the tri states finest hardcore ranging from all over its beautiful spectrum.\nBands: Massa Nera\, Pottersfield\, Trophy Hunt\, Permanent Tension\, Respirator\, Dead Sure\, Sevencrimsonsuns\, Kiande Amedha\, Mt. Ida\, Half/ Cross\, Stress Spells\nTickets will be available at the door\, set times and more info coming soon!
URL:https://www.flemingtondiy.org/event/nj-vs-valhalla-2/
END:VEVENT
BEGIN:VEVENT
DTSTART;TZID=America/New_York:20240608T090000
DTEND;TZID=America/New_York:20240608T120000
DTSTAMP:20260425T123624
CREATED:20240325T202121Z
LAST-MODIFIED:20240607T233537Z
UID:10002206-1717837200-1717848000@www.flemingtondiy.org
SUMMARY:Music Together
DESCRIPTION:Every week in our music classes at Music Together Flemington\, babies\, toddlers\, preschoolers\, and the grownups who love them come together for a time of musical play. Little ones love playing along in class\, and caregivers love being a part of their children’s growth into confident music-makers. And everyone loves our songs that’ll have you tapping along in no time \nLearn more and enroll today: https://www.musictogetherflemington.com/
URL:https://www.flemingtondiy.org/event/music-together-231/
END:VEVENT
BEGIN:VEVENT
DTSTART;TZID=America/New_York:20240607T190000
DTEND;TZID=America/New_York:20240607T220000
DTSTAMP:20260425T123624
CREATED:20240322T200515Z
LAST-MODIFIED:20240607T233537Z
UID:10002157-1717786800-1717797600@www.flemingtondiy.org
SUMMARY:Live Music
DESCRIPTION:Fed Ash\n(Hardcore punk)\nUnhinged\n(Grind/death metal)\nCathari\n(Noisecore)\nKeefchamber\n(Black Punk / Death)\nDisoviet\n(d-beat)\n$10 Donation\nDoors @ 6:30pm\nAll Ages\nNo Drugs/Alcohol
URL:https://www.flemingtondiy.org/event/live-music-61/
END:VEVENT
BEGIN:VEVENT
DTSTART;TZID=America/New_York:20240607T150000
DTEND;TZID=America/New_York:20240607T180000
DTSTAMP:20260425T123624
CREATED:20240513T233513Z
LAST-MODIFIED:20240606T233548Z
UID:10002285-1717772400-1717783200@www.flemingtondiy.org
SUMMARY:QT Art Show Open Hours
DESCRIPTION:
URL:https://www.flemingtondiy.org/event/qt-art-show-open-hours-2/
END:VEVENT
BEGIN:VEVENT
DTSTART;TZID=America/New_York:20240607T091500
DTEND;TZID=America/New_York:20240607T113000
DTSTAMP:20260425T123624
CREATED:20240325T202121Z
LAST-MODIFIED:20240606T233547Z
UID:10002205-1717751700-1717759800@www.flemingtondiy.org
SUMMARY:Music Together
DESCRIPTION:Every week in our music classes at Music Together Flemington\, babies\, toddlers\, preschoolers\, and the grownups who love them come together for a time of musical play. Little ones love playing along in class\, and caregivers love being a part of their children’s growth into confident music-makers. And everyone loves our songs that’ll have you tapping along in no time \nLearn more and enroll today: https://www.musictogetherflemington.com/
URL:https://www.flemingtondiy.org/event/music-together-230/
END:VEVENT
BEGIN:VEVENT
DTSTART;TZID=America/New_York:20240606T113000
DTEND;TZID=America/New_York:20240606T180000
DTSTAMP:20260425T123624
CREATED:20240103T045027Z
LAST-MODIFIED:20240605T233511Z
UID:10001993-1717673400-1717696800@www.flemingtondiy.org
SUMMARY:Open Hours
DESCRIPTION:Visit the space\, see our current art show\, hang out\, and learn how to get involved!
URL:https://www.flemingtondiy.org/event/open-hours-87/
END:VEVENT
BEGIN:VEVENT
DTSTART;TZID=America/New_York:20240605T161500
DTEND;TZID=America/New_York:20240605T171500
DTSTAMP:20260425T123624
CREATED:20240325T202121Z
LAST-MODIFIED:20240604T233535Z
UID:10002204-1717604100-1717607700@www.flemingtondiy.org
SUMMARY:Music Together
DESCRIPTION:Every week in our music classes at Music Together Flemington\, babies\, toddlers\, preschoolers\, and the grownups who love them come together for a time of musical play. Little ones love playing along in class\, and caregivers love being a part of their children’s growth into confident music-makers. And everyone loves our songs that’ll have you tapping along in no time \nLearn more and enroll today: https://www.musictogetherflemington.com/
URL:https://www.flemingtondiy.org/event/music-together-229/
END:VEVENT
BEGIN:VEVENT
DTSTART;TZID=America/New_York:20240605T094500
DTEND;TZID=America/New_York:20240605T120000
DTSTAMP:20260425T123624
CREATED:20240325T202120Z
LAST-MODIFIED:20240604T233535Z
UID:10002203-1717580700-1717588800@www.flemingtondiy.org
SUMMARY:Music Together
DESCRIPTION:Every week in our music classes at Music Together Flemington\, babies\, toddlers\, preschoolers\, and the grownups who love them come together for a time of musical play. Little ones love playing along in class\, and caregivers love being a part of their children’s growth into confident music-makers. And everyone loves our songs that’ll have you tapping along in no time \nLearn more and enroll today: https://www.musictogetherflemington.com/
URL:https://www.flemingtondiy.org/event/music-together-228/
END:VEVENT
BEGIN:VEVENT
DTSTART;TZID=America/New_York:20240604T193000
DTEND;TZID=America/New_York:20240604T203000
DTSTAMP:20260425T123624
CREATED:20240509T195454Z
LAST-MODIFIED:20240604T233535Z
UID:10002268-1717529400-1717533000@www.flemingtondiy.org
SUMMARY:Art Circle Meeting In Person
DESCRIPTION:
URL:https://www.flemingtondiy.org/event/art-circle-meeting-in-person/
END:VEVENT
BEGIN:VEVENT
DTSTART;TZID=America/New_York:20240604T161500
DTEND;TZID=America/New_York:20240604T170000
DTSTAMP:20260425T123624
CREATED:20240223T161840Z
LAST-MODIFIED:20240602T235123Z
UID:10002124-1717517700-1717520400@www.flemingtondiy.org
SUMMARY:Youth Art Club
DESCRIPTION:Creative Whimsies is looking for kids grades 3-8 to join us for After School Art Enrichment classes taught by local artist & certified teacher\, Christine Brandt. \nKids will create unique projects\, and develop their creative thinking skills in a fun\, relaxed atmosphere outside of the school environment. \nLimited spots available! \nSign Up + More info: https://www.flemingtondiy.org/art-club/
URL:https://www.flemingtondiy.org/event/youth-art-club-25/
END:VEVENT
BEGIN:VEVENT
DTSTART;TZID=America/New_York:20240604T100000
DTEND;TZID=America/New_York:20240604T153000
DTSTAMP:20260425T123624
CREATED:20240512T233634Z
LAST-MODIFIED:20240602T235123Z
UID:10002281-1717495200-1717515000@www.flemingtondiy.org
SUMMARY:Open Hours
DESCRIPTION:Visit the space\, see our current art show\, hang out\, and learn how to get involved!
URL:https://www.flemingtondiy.org/event/open-hours-120/
END:VEVENT
BEGIN:VEVENT
DTSTART;TZID=America/New_York:20240603T180000
DTEND;TZID=America/New_York:20240603T210000
DTSTAMP:20260425T123624
CREATED:20231107T010549Z
LAST-MODIFIED:20240602T235123Z
UID:10001821-1717437600-1717448400@www.flemingtondiy.org
SUMMARY:Print Club
DESCRIPTION:Flemington DIY Print Club is a weekly open studio held from 6-9PM every Monday\, $15-30 per printer. It provides an opportunity for local artists and community members new to arts processes to utilize shared printmaking facilities. Print Club provides a platform for artists to network\, build community\, and work collaboratively. \nNo experience? No problem! Our vounteers will guide you through the process from start to finish! \nLearn more: https://www.flemingtondiy.org/printclub/
URL:https://www.flemingtondiy.org/event/print-club-183/
END:VEVENT
BEGIN:VEVENT
DTSTART;TZID=America/New_York:20240603T091500
DTEND;TZID=America/New_York:20240603T113000
DTSTAMP:20260425T123624
CREATED:20240325T202120Z
LAST-MODIFIED:20240602T235123Z
UID:10002202-1717406100-1717414200@www.flemingtondiy.org
SUMMARY:Music Together
DESCRIPTION:Every week in our music classes at Music Together Flemington\, babies\, toddlers\, preschoolers\, and the grownups who love them come together for a time of musical play. Little ones love playing along in class\, and caregivers love being a part of their children’s growth into confident music-makers. And everyone loves our songs that’ll have you tapping along in no time \nLearn more and enroll today: https://www.musictogetherflemington.com/
URL:https://www.flemingtondiy.org/event/music-together-227/
END:VEVENT
BEGIN:VEVENT
DTSTART;TZID=America/New_York:20240602T180000
DTEND;TZID=America/New_York:20240602T200000
DTSTAMP:20260425T123624
CREATED:20240429T230532Z
LAST-MODIFIED:20240602T235123Z
UID:10002262-1717351200-1717358400@www.flemingtondiy.org
SUMMARY:Queer is Here! Art Opening
DESCRIPTION:The Flemington QTs invite all to the Opening Reception of our art gallery show at Flemington DIY. This collaborative exhibit will feature artwork from LGBTQIA+ people living in Hunterdon County and nearby Central New Jersey and will address our experiences as queer and transgender people living in the rural part of the Garden State.
URL:https://www.flemingtondiy.org/event/art-opening-qts/
END:VEVENT
BEGIN:VEVENT
DTSTART;TZID=America/New_York:20240602T130000
DTEND;TZID=America/New_York:20240602T170000
DTSTAMP:20260425T123624
CREATED:20231103T010515Z
LAST-MODIFIED:20240601T233549Z
UID:10001703-1717333200-1717347600@www.flemingtondiy.org
SUMMARY:Open Jazz Jams
DESCRIPTION:Open Jazz Jams are held he first Sunday of every month. \nThe sessions will provide an opportunity for musicians to play with an experienced band. From 1-2 PM the hosting musicians for the week will play. Other musicians will be invited to sit in and play between 2-5 PM (typically a minimum of 2 songs each\, circumstances permitting). With the exception of drum kit and piano\, all musicians should bring their own equipment (instruments\, amps\, drum sticks\, microphones\, etc.). The sessions will focus primarily on jazz standards and other jazz tunes contained in Hal Leonard Real Books volumes 1 through 3. Newcomers will be coached through the process.  \nA $3 to $5 donation to Flemington DIY will be required from each musician that plays at the session. Visitors that just want to listen to the music are also welcome to attend for all or any part of the 1-5 PM sessions free of charge.  \nFor questions about the sessions\, or to be added to the monthly text notification list for last minute cancellations or reschedules\, please email njjazzjam@gmail.com
URL:https://www.flemingtondiy.org/event/open-jazz-jams-18/
END:VEVENT
BEGIN:VEVENT
DTSTART;TZID=America/New_York:20240602T110000
DTEND;TZID=America/New_York:20240602T120000
DTSTAMP:20260425T123624
CREATED:20240509T195453Z
LAST-MODIFIED:20240601T233549Z
UID:10002267-1717326000-1717329600@www.flemingtondiy.org
SUMMARY:Tap Project
DESCRIPTION:Come one\, come all\, no tap shoes required!\nJoin us Sunday mornings and learn the language of tap dance (what’s a flap? shuffle? buffalo?) plus tap dance history (did you ever wonder who was Fred Astaire’s teacher?).\nWe'll learn simple warm ups\, then take those steps and do a simple combination\, add a few together\, and hey\, you have a whole dance!\nGreat music\, great fun\, new friends!\nPlease check calendar for upcoming classes!
URL:https://www.flemingtondiy.org/event/tap-project-50/
END:VEVENT
BEGIN:VEVENT
DTSTART;TZID=America/New_York:20240601T190000
DTEND;TZID=America/New_York:20240601T220000
DTSTAMP:20260425T123624
CREATED:20240223T161840Z
LAST-MODIFIED:20240601T233549Z
UID:10002123-1717268400-1717279200@www.flemingtondiy.org
SUMMARY:Live Music
DESCRIPTION:Bugger\n(Noise)\nPainted Faces \n(Psych/Noise/Experimental)\nCop Funeral\n(Noise/Already Dead Tapes)\nWest Jersey Airport\n(Psych Rock/Proto-grunge)\nDoors @ 7pm\n$10-15 Donation\nNo Drugs/Alcohol
URL:https://www.flemingtondiy.org/event/live-music-54/
END:VEVENT
BEGIN:VEVENT
DTSTART;TZID=America/New_York:20240601T130000
DTEND;TZID=America/New_York:20240601T160000
DTSTAMP:20260425T123624
CREATED:20240513T233512Z
LAST-MODIFIED:20240530T235126Z
UID:10002284-1717246800-1717257600@www.flemingtondiy.org
SUMMARY:QT Art Show Open Hours
DESCRIPTION:
URL:https://www.flemingtondiy.org/event/qt-art-show-open-hours/
END:VEVENT
BEGIN:VEVENT
DTSTART;TZID=America/New_York:20240601T090000
DTEND;TZID=America/New_York:20240601T120000
DTSTAMP:20260425T123624
CREATED:20240325T202119Z
LAST-MODIFIED:20240530T235125Z
UID:10002201-1717232400-1717243200@www.flemingtondiy.org
SUMMARY:Music Together
DESCRIPTION:Every week in our music classes at Music Together Flemington\, babies\, toddlers\, preschoolers\, and the grownups who love them come together for a time of musical play. Little ones love playing along in class\, and caregivers love being a part of their children’s growth into confident music-makers. And everyone loves our songs that’ll have you tapping along in no time \nLearn more and enroll today: https://www.musictogetherflemington.com/
URL:https://www.flemingtondiy.org/event/music-together-226/
END:VEVENT
END:VCALENDAR