BEGIN:VCALENDAR
VERSION:2.0
PRODID:-//Flemington DIY - ECPv6.15.20//NONSGML v1.0//EN
CALSCALE:GREGORIAN
METHOD:PUBLISH
X-WR-CALNAME:Flemington DIY
X-ORIGINAL-URL:https://www.flemingtondiy.org
X-WR-CALDESC:Events for Flemington DIY
REFRESH-INTERVAL;VALUE=DURATION:PT1H
X-Robots-Tag:noindex
X-PUBLISHED-TTL:PT1H
BEGIN:VTIMEZONE
TZID:America/New_York
BEGIN:DAYLIGHT
TZOFFSETFROM:-0500
TZOFFSETTO:-0400
TZNAME:EDT
DTSTART:20240310T070000
END:DAYLIGHT
BEGIN:STANDARD
TZOFFSETFROM:-0400
TZOFFSETTO:-0500
TZNAME:EST
DTSTART:20241103T060000
END:STANDARD
BEGIN:DAYLIGHT
TZOFFSETFROM:-0500
TZOFFSETTO:-0400
TZNAME:EDT
DTSTART:20250309T070000
END:DAYLIGHT
BEGIN:STANDARD
TZOFFSETFROM:-0400
TZOFFSETTO:-0500
TZNAME:EST
DTSTART:20251102T060000
END:STANDARD
BEGIN:DAYLIGHT
TZOFFSETFROM:-0500
TZOFFSETTO:-0400
TZNAME:EDT
DTSTART:20260308T070000
END:DAYLIGHT
BEGIN:STANDARD
TZOFFSETFROM:-0400
TZOFFSETTO:-0500
TZNAME:EST
DTSTART:20261101T060000
END:STANDARD
END:VTIMEZONE
BEGIN:VEVENT
DTSTART;TZID=America/New_York:20250510T193000
DTEND;TZID=America/New_York:20250510T220000
DTSTAMP:20260425T064305
CREATED:20250329T233533Z
LAST-MODIFIED:20250510T235036Z
UID:10003114-1746905400-1746914400@www.flemingtondiy.org
SUMMARY:11 Year Anniversary Show
DESCRIPTION:We’re excited to announce our 11 Year Anniversary show\, happening Saturday\, May 10\, 2025. \nThe bands:Toads (punk)Shirthole (punk)Rotoscope (motorik punk) \nTickets: $12 advance / $15 at the doorAll ages / No booze No drugsDoors open 7:30pm / First band 8pm \nTickets: https://www.flemingtondiy.org/11-2/
URL:https://www.flemingtondiy.org/event/11-year-anniversary-show/
END:VEVENT
BEGIN:VEVENT
DTSTART;TZID=America/New_York:20250510T090000
DTEND;TZID=America/New_York:20250510T120000
DTSTAMP:20260425T064305
CREATED:20250208T233543Z
LAST-MODIFIED:20250509T235109Z
UID:10003052-1746867600-1746878400@www.flemingtondiy.org
SUMMARY:Music Together Spring Classes
DESCRIPTION:
URL:https://www.flemingtondiy.org/event/music-together-spring-classes-23/
END:VEVENT
BEGIN:VEVENT
DTSTART;TZID=America/New_York:20250509T093000
DTEND;TZID=America/New_York:20250509T113000
DTSTAMP:20260425T064305
CREATED:20250208T233543Z
LAST-MODIFIED:20250508T233508Z
UID:10003051-1746783000-1746790200@www.flemingtondiy.org
SUMMARY:Music Together Spring Classes
DESCRIPTION:
URL:https://www.flemingtondiy.org/event/music-together-spring-classes-22/
END:VEVENT
BEGIN:VEVENT
DTSTART;TZID=America/New_York:20250508T113000
DTEND;TZID=America/New_York:20250508T180000
DTSTAMP:20260425T064305
CREATED:20241221T233533Z
LAST-MODIFIED:20250507T233602Z
UID:10002847-1746703800-1746727200@www.flemingtondiy.org
SUMMARY:Open Hours
DESCRIPTION:Visit the space\, see our current art shows\, hang out\, and learn how to get involved!
URL:https://www.flemingtondiy.org/event/open-hours-182/
END:VEVENT
BEGIN:VEVENT
DTSTART;TZID=America/New_York:20250507T190000
DTEND;TZID=America/New_York:20250507T203000
DTSTAMP:20260425T064305
CREATED:20250105T235039Z
LAST-MODIFIED:20250507T233602Z
UID:10002926-1746644400-1746649800@www.flemingtondiy.org
SUMMARY:Volunteer Information Session
DESCRIPTION:Did you know Flemington DIY is 100% volunteer-run and operated? \nJoin us for an informational session & orientation to learn more about our volunteer program. \nPlease pre-register: https://forms.gle/g1uWeb9oSkn6ym4R8Walk ins are also always welcome!
URL:https://www.flemingtondiy.org/event/volunteer-information-session-3/
END:VEVENT
BEGIN:VEVENT
DTSTART;TZID=America/New_York:20250506T173000
DTEND;TZID=America/New_York:20250506T190000
DTSTAMP:20260425T064305
CREATED:20250203T235025Z
LAST-MODIFIED:20250505T233552Z
UID:10003010-1746552600-1746558000@www.flemingtondiy.org
SUMMARY:Monthly Food Drive
DESCRIPTION:Did you know that Flemington has six Little Food Pantries (LFPs)? LFPs are small food pantries that allow community members in need to have open access to food\, water\, and hygiene items. These pantries depend on the support of donations from people like you! Come together with your community for a monthly food drive to stock four of the pantries. This drive will support the LFPs located at 10 New Jersey Avenue\, Flemington DIY (26 Stangl Road)\, Flemington Presbyterian (10 East Main Street)\, and Echelon Studio’s Personal Hygiene Pantry (27 Fulper Road). \nRecommended donations: \n\nWater bottles\nDry goods like box mixes\, rice\, oatmeal\, etc.\nGranola and protein bars (without chocolate)\nCoffee and tea\nCrackers\nRamen and pot noodles\nInstant soup packets\nHygiene products (esp. menstrual hygiene products)\nIndividual drink mix packets\nShelf-stable milk\nPackaged or canned tuna and chicken\nCanned goods and can openers\nPeanut butter and jelly\n\nPlease no expired items\, open packages\, or frozen/refrigerated items. \nWant to get involved? Sign up here to volunteer! https://forms.gle/GY3tUPUXRWeBSLAz8Questions? Contact Jae at flemingtonqts@gmail.com.
URL:https://www.flemingtondiy.org/event/monthly-food-drive-8/
END:VEVENT
BEGIN:VEVENT
DTSTART;TZID=America/New_York:20250506T123000
DTEND;TZID=America/New_York:20250506T180000
DTSTAMP:20260425T064305
CREATED:20250207T233520Z
LAST-MODIFIED:20250505T233552Z
UID:10003025-1746534600-1746554400@www.flemingtondiy.org
SUMMARY:Open Hours
DESCRIPTION:Visit the space\, see our current art shows\, hang out\, and learn how to get involved!
URL:https://www.flemingtondiy.org/event/open-hours-256/
END:VEVENT
BEGIN:VEVENT
DTSTART;TZID=America/New_York:20250506T093000
DTEND;TZID=America/New_York:20250506T123000
DTSTAMP:20260425T064305
CREATED:20250208T233542Z
LAST-MODIFIED:20250505T233551Z
UID:10003050-1746523800-1746534600@www.flemingtondiy.org
SUMMARY:Music Together Spring Classes
DESCRIPTION:
URL:https://www.flemingtondiy.org/event/music-together-spring-classes-21/
END:VEVENT
BEGIN:VEVENT
DTSTART;TZID=America/New_York:20250505T180000
DTEND;TZID=America/New_York:20250505T210000
DTSTAMP:20260425T064305
CREATED:20231107T010613Z
LAST-MODIFIED:20250505T233551Z
UID:10001869-1746468000-1746478800@www.flemingtondiy.org
SUMMARY:Print Club
DESCRIPTION:Flemington DIY Print Club is a weekly open studio held from 6-9PM every Monday\, $15-30 per printer. It provides an opportunity for local artists and community members new to arts processes to utilize shared printmaking facilities. Print Club provides a platform for artists to network\, build community\, and work collaboratively. \nNo experience? No problem! Our vounteers will guide you through the process from start to finish! \nLearn more: https://www.flemingtondiy.org/printclub/
URL:https://www.flemingtondiy.org/event/print-club-231/
END:VEVENT
BEGIN:VEVENT
DTSTART;TZID=America/New_York:20250505T180000
DTEND;TZID=America/New_York:20250505T200000
DTSTAMP:20260425T064305
CREATED:20241220T233618Z
LAST-MODIFIED:20250505T233551Z
UID:10002794-1746468000-1746475200@www.flemingtondiy.org
SUMMARY:Hunterdon Fiber Artist Meeting
DESCRIPTION:Looking to meet other fiber artists in the Hunterdon county area?  Think about coming to Hunterdon Fiber Artists meet up to socialize and connect with others doing the fiber art craft that they love. \nAll are welcome.  Just bring your craft be it knitting\, crocheting\, spinning\, etc.\, and be prepared to meet lots of fun and interesting people!  We even have mini educational talks on requested topics! \nOur FB group is Hunterdon Fiber Artists https://www.facebook.com/groups/1101970274078722 \nOur Ravelry group is https://www.ravelry.com/groups/hunterdon-fiber-artists?s=tab \nEvery other Monday at DIY; $3-5 suggested donation.
URL:https://www.flemingtondiy.org/event/hunterdon-fiber-artist-meeting-60/
END:VEVENT
BEGIN:VEVENT
DTSTART;TZID=America/New_York:20250505T163000
DTEND;TZID=America/New_York:20250505T173000
DTSTAMP:20260425T064305
CREATED:20250403T233526Z
LAST-MODIFIED:20250504T233557Z
UID:10003123-1746462600-1746466200@www.flemingtondiy.org
SUMMARY:Music Together Spring 2025 Evening Classes
DESCRIPTION:
URL:https://www.flemingtondiy.org/event/music-together-spring-2025-evening-classes-5/
END:VEVENT
BEGIN:VEVENT
DTSTART;TZID=America/New_York:20250505T093000
DTEND;TZID=America/New_York:20250505T113000
DTSTAMP:20260425T064305
CREATED:20250208T233541Z
LAST-MODIFIED:20250504T233557Z
UID:10003049-1746437400-1746444600@www.flemingtondiy.org
SUMMARY:Music Together Spring Classes
DESCRIPTION:
URL:https://www.flemingtondiy.org/event/music-together-spring-classes-20/
END:VEVENT
BEGIN:VEVENT
DTSTART;TZID=America/New_York:20250504T130000
DTEND;TZID=America/New_York:20250504T170000
DTSTAMP:20260425T064305
CREATED:20240928T233701Z
LAST-MODIFIED:20250502T235128Z
UID:10002594-1746363600-1746378000@www.flemingtondiy.org
SUMMARY:Open Jazz Jams
DESCRIPTION:Open Jazz Jams are held he first Sunday of every month. \nThe sessions will provide an opportunity for musicians to play with an experienced band. From 1-2 PM the hosting musicians for the week will play. Other musicians will be invited to sit in and play between 2-5 PM (typically a minimum of 2 songs each\, circumstances permitting). With the exception of drum kit and piano\, all musicians should bring their own equipment (instruments\, amps\, drum sticks\, microphones\, etc.). The sessions will focus primarily on jazz standards and other jazz tunes contained in Hal Leonard Real Books volumes 1 through 3. Newcomers will be coached through the process.  \nA $3 to $5 donation to Flemington DIY will be required from each musician that plays at the session. Visitors that just want to listen to the music are also welcome to attend for all or any part of the 1-5 PM sessions free of charge.  \nFor questions about the sessions\, or to be added to the monthly text notification list for last minute cancellations or reschedules\, please email njjazzjam@gmail.com
URL:https://www.flemingtondiy.org/event/open-jazz-jams-26/
END:VEVENT
BEGIN:VEVENT
DTSTART;TZID=America/New_York:20250504T080000
DTEND;TZID=America/New_York:20250504T100000
DTSTAMP:20260425T064305
CREATED:20250421T233514Z
LAST-MODIFIED:20250502T235128Z
UID:10003154-1746345600-1746352800@www.flemingtondiy.org
SUMMARY:Community Bird Walk
DESCRIPTION:It’s spring migration! Join us on a community bird walk to meet some friends and see some birds!  \nOn May 4th\, we’ll be meeting outside Alkemy Coffee in Flemington at 8am and walking toward Tuccamirgan Park!  \nPlease bring binoculars if you’ve got ’em. \nRegistration required: https://forms.gle/FKueAyN256whVP297Suggested donation will benefit Flemington DIY and the Raptor Trust.
URL:https://www.flemingtondiy.org/event/community-bird-walk/
END:VEVENT
BEGIN:VEVENT
DTSTART;TZID=America/New_York:20250503T193000
DTEND;TZID=America/New_York:20250503T210000
DTSTAMP:20260425T064305
CREATED:20250417T233517Z
LAST-MODIFIED:20250502T235127Z
UID:10003141-1746300600-1746306000@www.flemingtondiy.org
SUMMARY:Classy & Sassy Women’s Comedy Showcase
DESCRIPTION:Join us for our second Women’s Comedy Showcase Saturday\, May 3\, 7:30pm\, featuring performers from our monthly comedy open mic. Comics include Megan Henninger\, Carolynn Mincin\, Yelena\, Noelle Rhodes\, Charlyn Lynch\, Bhumika G\, and Jeanette Orr. \nTickets $17 advance // $20 at the doorhttps://www.flemingtondiy.org/sassy2/
URL:https://www.flemingtondiy.org/event/classy-sassy-womens-comedy-showcase/
END:VEVENT
BEGIN:VEVENT
DTSTART;TZID=America/New_York:20250503T150000
DTEND;TZID=America/New_York:20250503T170000
DTSTAMP:20260425T064305
CREATED:20250127T233602Z
LAST-MODIFIED:20250502T235127Z
UID:10002997-1746284400-1746291600@www.flemingtondiy.org
SUMMARY:Community Quilt Project
DESCRIPTION:
URL:https://www.flemingtondiy.org/event/community-quilt-project-at-jca/
LOCATION:Jersey Community Acupuncture 21 Stangl Rd\, Flemington\, NJ\, United States
GEO:40.50786;-74.863283
END:VEVENT
BEGIN:VEVENT
DTSTART;TZID=America/New_York:20250503T090000
DTEND;TZID=America/New_York:20250503T120000
DTSTAMP:20260425T064305
CREATED:20250208T233541Z
LAST-MODIFIED:20250502T235127Z
UID:10003048-1746262800-1746273600@www.flemingtondiy.org
SUMMARY:Music Together Spring Classes
DESCRIPTION:
URL:https://www.flemingtondiy.org/event/music-together-spring-classes-19/
END:VEVENT
BEGIN:VEVENT
DTSTART;TZID=America/New_York:20250502T170000
DTEND;TZID=America/New_York:20250502T200000
DTSTAMP:20260425T064305
CREATED:20241112T233614Z
LAST-MODIFIED:20250502T235127Z
UID:10002687-1746205200-1746216000@www.flemingtondiy.org
SUMMARY:3rd Annual Member & Volunteer Art Show Opening
DESCRIPTION:Our members and volunteers do so much for us. They are the driving force behind all we do – supporting us at events\, sustaining us financially\, and so much more. It’s time we support and honor them! This art exhibit will showcase the talents of those who continuously keep DIY going! \nExhibit runs through May 2025 with select gallery hours
URL:https://www.flemingtondiy.org/event/art-show-opening/
END:VEVENT
BEGIN:VEVENT
DTSTART;TZID=America/New_York:20250502T093000
DTEND;TZID=America/New_York:20250502T113000
DTSTAMP:20260425T064305
CREATED:20250208T233541Z
LAST-MODIFIED:20250501T235015Z
UID:10003047-1746178200-1746185400@www.flemingtondiy.org
SUMMARY:Music Together Spring Classes
DESCRIPTION:
URL:https://www.flemingtondiy.org/event/music-together-spring-classes-18/
END:VEVENT
BEGIN:VEVENT
DTSTART;TZID=America/New_York:20250501T113000
DTEND;TZID=America/New_York:20250501T180000
DTSTAMP:20260425T064305
CREATED:20241221T233532Z
LAST-MODIFIED:20250430T233515Z
UID:10002845-1746099000-1746122400@www.flemingtondiy.org
SUMMARY:Open Hours
DESCRIPTION:Visit the space\, see our current art shows\, hang out\, and learn how to get involved!
URL:https://www.flemingtondiy.org/event/open-hours-180/
END:VEVENT
BEGIN:VEVENT
DTSTART;TZID=America/New_York:20250430T193000
DTEND;TZID=America/New_York:20250430T213000
DTSTAMP:20260425T064305
CREATED:20250224T233542Z
LAST-MODIFIED:20250430T233514Z
UID:10003081-1746041400-1746048600@www.flemingtondiy.org
SUMMARY:Poetry Open Mic
DESCRIPTION:Community members of all levels are invited to read their poetry and listen to the work of others. If you’re looking for a welcoming group of emerging and established poets and beatniks\, this is for you! \nShow up and sign up. No pre-registration to participate. Donations for the space encouraged at the door. All ages but please be aware that mature and sometimes sensitive topics are explored and mentioned at this event.
URL:https://www.flemingtondiy.org/event/poetry-open-mic-43/
END:VEVENT
BEGIN:VEVENT
DTSTART;TZID=America/New_York:20250429T123000
DTEND;TZID=America/New_York:20250429T180000
DTSTAMP:20260425T064305
CREATED:20250207T233519Z
LAST-MODIFIED:20250428T233541Z
UID:10003024-1745929800-1745949600@www.flemingtondiy.org
SUMMARY:Open Hours
DESCRIPTION:Visit the space\, see our current art shows\, hang out\, and learn how to get involved!
URL:https://www.flemingtondiy.org/event/open-hours-255/
END:VEVENT
BEGIN:VEVENT
DTSTART;TZID=America/New_York:20250429T093000
DTEND;TZID=America/New_York:20250429T123000
DTSTAMP:20260425T064305
CREATED:20250208T233540Z
LAST-MODIFIED:20250428T233541Z
UID:10003046-1745919000-1745929800@www.flemingtondiy.org
SUMMARY:Music Together Spring Classes
DESCRIPTION:
URL:https://www.flemingtondiy.org/event/music-together-spring-classes-17/
END:VEVENT
BEGIN:VEVENT
DTSTART;TZID=America/New_York:20250428T180000
DTEND;TZID=America/New_York:20250428T210000
DTSTAMP:20260425T064305
CREATED:20231107T010612Z
LAST-MODIFIED:20250428T233541Z
UID:10001868-1745863200-1745874000@www.flemingtondiy.org
SUMMARY:Print Club
DESCRIPTION:Flemington DIY Print Club is a weekly open studio held from 6-9PM every Monday\, $15-30 per printer. It provides an opportunity for local artists and community members new to arts processes to utilize shared printmaking facilities. Print Club provides a platform for artists to network\, build community\, and work collaboratively. \nNo experience? No problem! Our vounteers will guide you through the process from start to finish! \nLearn more: https://www.flemingtondiy.org/printclub/
URL:https://www.flemingtondiy.org/event/print-club-230/
END:VEVENT
BEGIN:VEVENT
DTSTART;TZID=America/New_York:20250428T180000
DTEND;TZID=America/New_York:20250428T200000
DTSTAMP:20260425T064305
CREATED:20250326T233604Z
LAST-MODIFIED:20250428T233541Z
UID:10003113-1745863200-1745870400@www.flemingtondiy.org
SUMMARY:Hunterdon Fiber Artists
DESCRIPTION:Looking to meet other fiber artists in the Hunterdon county area?  Think about coming to Hunterdon Fiber Artists meet up to socialize and connect with others doing the fiber art craft that they love. \nAll are welcome.  Just bring your craft be it knitting\, crocheting\, spinning\, etc.\, and be prepared to meet lots of fun and interesting people!  We even have mini educational talks on requested topics! \nOur FB group is Hunterdon Fiber Artists https://www.facebook.com/groups/1101970274078722 \nOur Ravelry group is https://www.ravelry.com/groups/hunterdon-fiber-artists?s=tab \nEvery other Monday at DIY; $3-5 suggested donation.
URL:https://www.flemingtondiy.org/event/hunterdon-fiber-artists/
END:VEVENT
BEGIN:VEVENT
DTSTART;TZID=America/New_York:20250428T163000
DTEND;TZID=America/New_York:20250428T173000
DTSTAMP:20260425T064305
CREATED:20250403T233524Z
LAST-MODIFIED:20250427T233623Z
UID:10003122-1745857800-1745861400@www.flemingtondiy.org
SUMMARY:Music Together Spring 2025 Evening Classes
DESCRIPTION:
URL:https://www.flemingtondiy.org/event/music-together-spring-2025-evening-classes-4/
END:VEVENT
BEGIN:VEVENT
DTSTART;TZID=America/New_York:20250428T093000
DTEND;TZID=America/New_York:20250428T113000
DTSTAMP:20260425T064305
CREATED:20250208T233540Z
LAST-MODIFIED:20250427T233623Z
UID:10003045-1745832600-1745839800@www.flemingtondiy.org
SUMMARY:Music Together Spring Classes
DESCRIPTION:
URL:https://www.flemingtondiy.org/event/music-together-spring-classes-16/
END:VEVENT
BEGIN:VEVENT
DTSTART;TZID=America/New_York:20250426T190000
DTEND;TZID=America/New_York:20250426T220000
DTSTAMP:20260425T064305
CREATED:20250318T235023Z
LAST-MODIFIED:20250425T235026Z
UID:10003109-1745694000-1745704800@www.flemingtondiy.org
SUMMARY:Live Music
DESCRIPTION:Plane Hopper(Progressive Emo)Off Knowneous  (Japanese Rock)Countdown from Ten (Heavier Math Rock )J Thoubbs (Post-Hardcore / Math Rock)  \n$10 DonationDoors @ 6:30pmAll AgesNo Drugs/Alcohol
URL:https://www.flemingtondiy.org/event/live-music-99/
END:VEVENT
BEGIN:VEVENT
DTSTART;TZID=America/New_York:20250426T140000
DTEND;TZID=America/New_York:20250426T160000
DTSTAMP:20260425T064305
CREATED:20250320T233519Z
LAST-MODIFIED:20250425T235025Z
UID:10003111-1745676000-1745683200@www.flemingtondiy.org
SUMMARY:I Too Am America: Poetry Reading w/Open Mic
DESCRIPTION:New Jersey poets Hugo Dos Santos\, Ysabel Y. González\, and Toma Zbrizher\, will be reading from their work in celebration of National Poetry Month. This event is open to the community and will feature an open mic to follow.  \nhttps://www.flemingtondiy.org/apr-26-i-too-am-america-poetry-reading-w-open-mic/
URL:https://www.flemingtondiy.org/event/i-too-am-america-poetry-reading-w-open-mic/
END:VEVENT
BEGIN:VEVENT
DTSTART;TZID=America/New_York:20250426T123000
DTEND;TZID=America/New_York:20250426T180000
DTSTAMP:20260425T064305
CREATED:20250331T235022Z
LAST-MODIFIED:20250425T235024Z
UID:10003118-1745670600-1745690400@www.flemingtondiy.org
SUMMARY:Garden State Art Weekend @ DIY!
DESCRIPTION:Join us for a weekend of creative community vibes at Garden State Art Weeekend at DIY! Stop by during our open hours to check out the “Art for Footprints of Uganda” fundraising show by OurNaturalState\, explore The Art Machine (a vintage vending machine filled with local mini art!)\, and participate in pop-up art experiences like a DIY community chalkboard and casual art-making hangs \nFriday\, April 25: 12:30 PM – 6:00 PM  \nSaturday\, April 26: 12:30 PM – 6:00 PM *I Too Am America: Poetry Reading w. Open Mic* Also going on 2-4pm Saturday 4/26 Come for both!
URL:https://www.flemingtondiy.org/event/garden-state-art-weekend-diy-2/
END:VEVENT
END:VCALENDAR