BEGIN:VCALENDAR
VERSION:2.0
PRODID:-//Flemington DIY - ECPv6.15.20//NONSGML v1.0//EN
CALSCALE:GREGORIAN
METHOD:PUBLISH
X-ORIGINAL-URL:https://www.flemingtondiy.org
X-WR-CALDESC:Events for Flemington DIY
REFRESH-INTERVAL;VALUE=DURATION:PT1H
X-Robots-Tag:noindex
X-PUBLISHED-TTL:PT1H
BEGIN:VTIMEZONE
TZID:America/New_York
BEGIN:DAYLIGHT
TZOFFSETFROM:-0500
TZOFFSETTO:-0400
TZNAME:EDT
DTSTART:20270314T070000
END:DAYLIGHT
BEGIN:STANDARD
TZOFFSETFROM:-0400
TZOFFSETTO:-0500
TZNAME:EST
DTSTART:20271107T060000
END:STANDARD
BEGIN:DAYLIGHT
TZOFFSETFROM:-0500
TZOFFSETTO:-0400
TZNAME:EDT
DTSTART:20280312T070000
END:DAYLIGHT
BEGIN:STANDARD
TZOFFSETFROM:-0400
TZOFFSETTO:-0500
TZNAME:EST
DTSTART:20281105T060000
END:STANDARD
BEGIN:DAYLIGHT
TZOFFSETFROM:-0500
TZOFFSETTO:-0400
TZNAME:EDT
DTSTART:20290311T070000
END:DAYLIGHT
BEGIN:STANDARD
TZOFFSETFROM:-0400
TZOFFSETTO:-0500
TZNAME:EST
DTSTART:20291104T060000
END:STANDARD
END:VTIMEZONE
BEGIN:VEVENT
DTSTART;TZID=America/New_York:20280117T180000
DTEND;TZID=America/New_York:20280117T210000
DTSTAMP:20260425T121634
CREATED:20260412T235802Z
LAST-MODIFIED:20260423T234935Z
UID:10004156-1831744800-1831755600@www.flemingtondiy.org
SUMMARY:Print Club
DESCRIPTION:Flemington DIY Print Club is a weekly open studio held from 6-9PM every Monday\, $15-30 per printer. It provides an opportunity for local artists and community members new to arts processes to utilize shared printmaking facilities. Print Club provides a platform for artists to network\, build community\, and work collaboratively. \nNo experience? No problem! Our vounteers will guide you through the process from start to finish! \nLearn more: https://www.flemingtondiy.org/printclub/
URL:https://www.flemingtondiy.org/event/print-club-458/
END:VEVENT
BEGIN:VEVENT
DTSTART;TZID=America/New_York:20280118T113000
DTEND;TZID=America/New_York:20280118T180000
DTSTAMP:20260425T121634
CREATED:20260118T235739Z
LAST-MODIFIED:20260423T234935Z
UID:10003835-1831807800-1831831200@www.flemingtondiy.org
SUMMARY:Open Hours
DESCRIPTION:Visit the space\, see our current art shows\, hang out\, and learn how to get involved!
URL:https://www.flemingtondiy.org/event/open-hours-463/
END:VEVENT
BEGIN:VEVENT
DTSTART;TZID=America/New_York:20280120T113000
DTEND;TZID=America/New_York:20280120T180000
DTSTAMP:20260425T121634
CREATED:20260120T235826Z
LAST-MODIFIED:20260423T234935Z
UID:10003838-1831980600-1832004000@www.flemingtondiy.org
SUMMARY:Open Hours
DESCRIPTION:
URL:https://www.flemingtondiy.org/event/open-hours-464/
END:VEVENT
BEGIN:VEVENT
DTSTART;TZID=America/New_York:20280121T190000
DTEND;TZID=America/New_York:20280121T220000
DTSTAMP:20260425T121634
CREATED:20260122T235739Z
LAST-MODIFIED:20260423T234935Z
UID:10003860-1832094000-1832104800@www.flemingtondiy.org
SUMMARY:Third Friday Board Games
DESCRIPTION:Third Friday Board Game Night All ages | Bring your own game or play with one of ours | Meet new people\, have fun\, casual! No RSVP required\, just show up. Free to attend\, donations to Flemington DIY welcomed.
URL:https://www.flemingtondiy.org/event/third-friday-board-games-24/
END:VEVENT
BEGIN:VEVENT
DTSTART;TZID=America/New_York:20280124T180000
DTEND;TZID=America/New_York:20280124T200000
DTSTAMP:20260425T121634
CREATED:20260406T130951Z
LAST-MODIFIED:20260423T234935Z
UID:10004035-1832349600-1832356800@www.flemingtondiy.org
SUMMARY:Hunterdon Fiber Artist Meeting
DESCRIPTION:Looking to meet other fiber artists in the Hunterdon county area?  Think about coming to Hunterdon Fiber Artists meet up to socialize and connect with others doing the fiber art craft that they love. \nAll are welcome.  Just bring your craft be it knitting\, crocheting\, spinning\, etc.\, and be prepared to meet lots of fun and interesting people!  We even have mini educational talks on requested topics! \nOur FB group is Hunterdon Fiber Artists https://www.facebook.com/groups/1101970274078722 \nOur Ravelry group is https://www.ravelry.com/groups/hunterdon-fiber-artists?s=tab \nEvery other Monday at DIY; $3-5 suggested donation.
URL:https://www.flemingtondiy.org/event/hunterdon-fiber-artist-meeting-159/
END:VEVENT
BEGIN:VEVENT
DTSTART;TZID=America/New_York:20280124T180000
DTEND;TZID=America/New_York:20280124T210000
DTSTAMP:20260425T121634
CREATED:20260412T235803Z
LAST-MODIFIED:20260423T234935Z
UID:10004157-1832349600-1832360400@www.flemingtondiy.org
SUMMARY:Print Club
DESCRIPTION:Flemington DIY Print Club is a weekly open studio held from 6-9PM every Monday\, $15-30 per printer. It provides an opportunity for local artists and community members new to arts processes to utilize shared printmaking facilities. Print Club provides a platform for artists to network\, build community\, and work collaboratively. \nNo experience? No problem! Our vounteers will guide you through the process from start to finish! \nLearn more: https://www.flemingtondiy.org/printclub/
URL:https://www.flemingtondiy.org/event/print-club-459/
END:VEVENT
BEGIN:VEVENT
DTSTART;TZID=America/New_York:20280125T113000
DTEND;TZID=America/New_York:20280125T180000
DTSTAMP:20260425T121634
CREATED:20260125T234246Z
LAST-MODIFIED:20260423T234935Z
UID:10003862-1832412600-1832436000@www.flemingtondiy.org
SUMMARY:Open Hours
DESCRIPTION:Visit the space\, see our current art shows\, hang out\, and learn how to get involved!
URL:https://www.flemingtondiy.org/event/open-hours-465/
END:VEVENT
BEGIN:VEVENT
DTSTART;TZID=America/New_York:20280125T190000
DTEND;TZID=America/New_York:20280125T210000
DTSTAMP:20260425T121634
CREATED:20260126T234248Z
LAST-MODIFIED:20260423T234935Z
UID:10003863-1832439600-1832446800@www.flemingtondiy.org
SUMMARY:Classical Music Jam
DESCRIPTION:Jazz bands jam\, rock bands jam\, bluegrass players jams… why not a classical jam?? \nStrings\, brass\, woodwinds… Come join a classical music jam!!   \nBring a piece or two of music to share\, and sit in on the jam!   \nBring your instrument\, music (duo\, trio\, quartet\, etc. or even a full orchestra arrangement) and a stand\, be ready to share\, and let’s play some classical music in an informal setting.   \nWe jam once a month on the 4th Tuesday from 7 PM – 9 PM.   $5 suggested donation to Flemington DIY.  \nDon’t have music\, Don’t have a stand?…. Don’t worry!  Just bring your instrument\, and jam with us! \nCome share your talent and play! Take a break\, relax\, and listen to others.   \nUpcoming Tuesdays:   \n9/30 \n10/28 \n11/25 \n12/23 \nClassical is cool too!  See you at the jam!  
URL:https://www.flemingtondiy.org/event/classical-music-jam-28/
END:VEVENT
BEGIN:VEVENT
DTSTART;TZID=America/New_York:20280126T193000
DTEND;TZID=America/New_York:20280126T220000
DTSTAMP:20260425T121634
CREATED:20260127T234240Z
LAST-MODIFIED:20260423T234935Z
UID:10003864-1832527800-1832536800@www.flemingtondiy.org
SUMMARY:Poetry Open Mic
DESCRIPTION:Community members of all levels are invited to read their poetry and listen to the work of others. If you’re looking for a welcoming group of emerging and established poets and beatniks\, this is for you!Show up and sign up. No pre-registration to participate. Donations for the space encouraged at the door. All ages but please be aware that mature and sometimes sensitive topics are explored and mentioned at this event.
URL:https://www.flemingtondiy.org/event/poetry-open-mic-64/
END:VEVENT
BEGIN:VEVENT
DTSTART;TZID=America/New_York:20280127T113000
DTEND;TZID=America/New_York:20280127T180000
DTSTAMP:20260425T121634
CREATED:20260127T234240Z
LAST-MODIFIED:20260423T234935Z
UID:10003865-1832585400-1832608800@www.flemingtondiy.org
SUMMARY:Open Hours
DESCRIPTION:
URL:https://www.flemingtondiy.org/event/open-hours-466/
END:VEVENT
BEGIN:VEVENT
DTSTART;TZID=America/New_York:20280131T180000
DTEND;TZID=America/New_York:20280131T200000
DTSTAMP:20260425T121634
CREATED:20260406T130951Z
LAST-MODIFIED:20260423T234936Z
UID:10004036-1832954400-1832961600@www.flemingtondiy.org
SUMMARY:Hunterdon Fiber Artist Meeting
DESCRIPTION:Looking to meet other fiber artists in the Hunterdon county area?  Think about coming to Hunterdon Fiber Artists meet up to socialize and connect with others doing the fiber art craft that they love. \nAll are welcome.  Just bring your craft be it knitting\, crocheting\, spinning\, etc.\, and be prepared to meet lots of fun and interesting people!  We even have mini educational talks on requested topics! \nOur FB group is Hunterdon Fiber Artists https://www.facebook.com/groups/1101970274078722 \nOur Ravelry group is https://www.ravelry.com/groups/hunterdon-fiber-artists?s=tab \nEvery other Monday at DIY; $3-5 suggested donation.
URL:https://www.flemingtondiy.org/event/hunterdon-fiber-artist-meeting-160/
END:VEVENT
BEGIN:VEVENT
DTSTART;TZID=America/New_York:20280131T180000
DTEND;TZID=America/New_York:20280131T210000
DTSTAMP:20260425T121634
CREATED:20260412T235803Z
LAST-MODIFIED:20260423T234936Z
UID:10004158-1832954400-1832965200@www.flemingtondiy.org
SUMMARY:Print Club
DESCRIPTION:Flemington DIY Print Club is a weekly open studio held from 6-9PM every Monday\, $15-30 per printer. It provides an opportunity for local artists and community members new to arts processes to utilize shared printmaking facilities. Print Club provides a platform for artists to network\, build community\, and work collaboratively. \nNo experience? No problem! Our vounteers will guide you through the process from start to finish! \nLearn more: https://www.flemingtondiy.org/printclub/
URL:https://www.flemingtondiy.org/event/print-club-460/
END:VEVENT
BEGIN:VEVENT
DTSTART;TZID=America/New_York:20280201T113000
DTEND;TZID=America/New_York:20280201T180000
DTSTAMP:20260425T121634
CREATED:20260201T234245Z
LAST-MODIFIED:20260423T234936Z
UID:10003881-1833017400-1833040800@www.flemingtondiy.org
SUMMARY:Open Hours
DESCRIPTION:Visit the space\, see our current art shows\, hang out\, and learn how to get involved!
URL:https://www.flemingtondiy.org/event/open-hours-467/
END:VEVENT
BEGIN:VEVENT
DTSTART;TZID=America/New_York:20280203T113000
DTEND;TZID=America/New_York:20280203T180000
DTSTAMP:20260425T121634
CREATED:20260203T235756Z
LAST-MODIFIED:20260423T234936Z
UID:10003883-1833190200-1833213600@www.flemingtondiy.org
SUMMARY:Open Hours
DESCRIPTION:
URL:https://www.flemingtondiy.org/event/open-hours-468/
END:VEVENT
BEGIN:VEVENT
DTSTART;TZID=America/New_York:20280207T180000
DTEND;TZID=America/New_York:20280207T200000
DTSTAMP:20260425T121634
CREATED:20260406T130951Z
LAST-MODIFIED:20260423T234936Z
UID:10004037-1833559200-1833566400@www.flemingtondiy.org
SUMMARY:Hunterdon Fiber Artist Meeting
DESCRIPTION:Looking to meet other fiber artists in the Hunterdon county area?  Think about coming to Hunterdon Fiber Artists meet up to socialize and connect with others doing the fiber art craft that they love. \nAll are welcome.  Just bring your craft be it knitting\, crocheting\, spinning\, etc.\, and be prepared to meet lots of fun and interesting people!  We even have mini educational talks on requested topics! \nOur FB group is Hunterdon Fiber Artists https://www.facebook.com/groups/1101970274078722 \nOur Ravelry group is https://www.ravelry.com/groups/hunterdon-fiber-artists?s=tab \nEvery other Monday at DIY; $3-5 suggested donation.
URL:https://www.flemingtondiy.org/event/hunterdon-fiber-artist-meeting-161/
END:VEVENT
BEGIN:VEVENT
DTSTART;TZID=America/New_York:20280207T180000
DTEND;TZID=America/New_York:20280207T210000
DTSTAMP:20260425T121634
CREATED:20260412T235803Z
LAST-MODIFIED:20260423T234936Z
UID:10004159-1833559200-1833570000@www.flemingtondiy.org
SUMMARY:Print Club
DESCRIPTION:Flemington DIY Print Club is a weekly open studio held from 6-9PM every Monday\, $15-30 per printer. It provides an opportunity for local artists and community members new to arts processes to utilize shared printmaking facilities. Print Club provides a platform for artists to network\, build community\, and work collaboratively. \nNo experience? No problem! Our vounteers will guide you through the process from start to finish! \nLearn more: https://www.flemingtondiy.org/printclub/
URL:https://www.flemingtondiy.org/event/print-club-461/
END:VEVENT
BEGIN:VEVENT
DTSTART;TZID=America/New_York:20280208T113000
DTEND;TZID=America/New_York:20280208T180000
DTSTAMP:20260425T121634
CREATED:20260208T234243Z
LAST-MODIFIED:20260423T234936Z
UID:10003897-1833622200-1833645600@www.flemingtondiy.org
SUMMARY:Open Hours
DESCRIPTION:Visit the space\, see our current art shows\, hang out\, and learn how to get involved!
URL:https://www.flemingtondiy.org/event/open-hours-469/
END:VEVENT
BEGIN:VEVENT
DTSTART;TZID=America/New_York:20280208T190000
DTEND;TZID=America/New_York:20280208T210000
DTSTAMP:20260425T121634
CREATED:20260209T234242Z
LAST-MODIFIED:20260423T234936Z
UID:10003900-1833649200-1833656400@www.flemingtondiy.org
SUMMARY:Songwriter Circle
DESCRIPTION:Hey\, songwriters: Do you have songs that are half finished? Lyrics you’re not entirely happy with? A songwriting circle is not a performance. It’s an opportunity to connect with other songwriters\, play your song idea for us – whether it’s fully formed or not – and receive gentle\, respectful\, and constructive feedback. All genres welcome! Please bring a few hard copies of your lyrics to share (they’ll be returned to you). We have a piano available. Donations at the door
URL:https://www.flemingtondiy.org/event/songwriter-circle-60/
END:VEVENT
BEGIN:VEVENT
DTSTART;TZID=America/New_York:20280210T113000
DTEND;TZID=America/New_York:20280210T180000
DTSTAMP:20260425T121634
CREATED:20260210T234259Z
LAST-MODIFIED:20260423T234936Z
UID:10003903-1833795000-1833818400@www.flemingtondiy.org
SUMMARY:Open Hours
DESCRIPTION:
URL:https://www.flemingtondiy.org/event/open-hours-470/
END:VEVENT
BEGIN:VEVENT
DTSTART;TZID=America/New_York:20280214T180000
DTEND;TZID=America/New_York:20280214T200000
DTSTAMP:20260425T121634
CREATED:20260406T130952Z
LAST-MODIFIED:20260423T234936Z
UID:10004038-1834164000-1834171200@www.flemingtondiy.org
SUMMARY:Hunterdon Fiber Artist Meeting
DESCRIPTION:Looking to meet other fiber artists in the Hunterdon county area?  Think about coming to Hunterdon Fiber Artists meet up to socialize and connect with others doing the fiber art craft that they love. \nAll are welcome.  Just bring your craft be it knitting\, crocheting\, spinning\, etc.\, and be prepared to meet lots of fun and interesting people!  We even have mini educational talks on requested topics! \nOur FB group is Hunterdon Fiber Artists https://www.facebook.com/groups/1101970274078722 \nOur Ravelry group is https://www.ravelry.com/groups/hunterdon-fiber-artists?s=tab \nEvery other Monday at DIY; $3-5 suggested donation.
URL:https://www.flemingtondiy.org/event/hunterdon-fiber-artist-meeting-162/
END:VEVENT
BEGIN:VEVENT
DTSTART;TZID=America/New_York:20280214T180000
DTEND;TZID=America/New_York:20280214T210000
DTSTAMP:20260425T121634
CREATED:20260412T235803Z
LAST-MODIFIED:20260423T234936Z
UID:10004160-1834164000-1834174800@www.flemingtondiy.org
SUMMARY:Print Club
DESCRIPTION:Flemington DIY Print Club is a weekly open studio held from 6-9PM every Monday\, $15-30 per printer. It provides an opportunity for local artists and community members new to arts processes to utilize shared printmaking facilities. Print Club provides a platform for artists to network\, build community\, and work collaboratively. \nNo experience? No problem! Our vounteers will guide you through the process from start to finish! \nLearn more: https://www.flemingtondiy.org/printclub/
URL:https://www.flemingtondiy.org/event/print-club-462/
END:VEVENT
BEGIN:VEVENT
DTSTART;TZID=America/New_York:20280215T113000
DTEND;TZID=America/New_York:20280215T180000
DTSTAMP:20260425T121634
CREATED:20260215T234253Z
LAST-MODIFIED:20260423T234936Z
UID:10003912-1834227000-1834250400@www.flemingtondiy.org
SUMMARY:Open Hours
DESCRIPTION:Visit the space\, see our current art shows\, hang out\, and learn how to get involved!
URL:https://www.flemingtondiy.org/event/open-hours-471/
END:VEVENT
BEGIN:VEVENT
DTSTART;TZID=America/New_York:20280217T113000
DTEND;TZID=America/New_York:20280217T180000
DTSTAMP:20260425T121634
CREATED:20260217T234244Z
LAST-MODIFIED:20260423T234936Z
UID:10003918-1834399800-1834423200@www.flemingtondiy.org
SUMMARY:Open Hours
DESCRIPTION:
URL:https://www.flemingtondiy.org/event/open-hours-472/
END:VEVENT
BEGIN:VEVENT
DTSTART;TZID=America/New_York:20280218T190000
DTEND;TZID=America/New_York:20280218T220000
DTSTAMP:20260425T121634
CREATED:20260219T234248Z
LAST-MODIFIED:20260423T234936Z
UID:10003921-1834513200-1834524000@www.flemingtondiy.org
SUMMARY:Third Friday Board Games
DESCRIPTION:Third Friday Board Game Night All ages | Bring your own game or play with one of ours | Meet new people\, have fun\, casual! No RSVP required\, just show up. Free to attend\, donations to Flemington DIY welcomed.
URL:https://www.flemingtondiy.org/event/third-friday-board-games-25/
END:VEVENT
BEGIN:VEVENT
DTSTART;TZID=America/New_York:20280221T180000
DTEND;TZID=America/New_York:20280221T200000
DTSTAMP:20260425T121634
CREATED:20260406T130952Z
LAST-MODIFIED:20260423T234936Z
UID:10004039-1834768800-1834776000@www.flemingtondiy.org
SUMMARY:Hunterdon Fiber Artist Meeting
DESCRIPTION:Looking to meet other fiber artists in the Hunterdon county area?  Think about coming to Hunterdon Fiber Artists meet up to socialize and connect with others doing the fiber art craft that they love. \nAll are welcome.  Just bring your craft be it knitting\, crocheting\, spinning\, etc.\, and be prepared to meet lots of fun and interesting people!  We even have mini educational talks on requested topics! \nOur FB group is Hunterdon Fiber Artists https://www.facebook.com/groups/1101970274078722 \nOur Ravelry group is https://www.ravelry.com/groups/hunterdon-fiber-artists?s=tab \nEvery other Monday at DIY; $3-5 suggested donation.
URL:https://www.flemingtondiy.org/event/hunterdon-fiber-artist-meeting-163/
END:VEVENT
BEGIN:VEVENT
DTSTART;TZID=America/New_York:20280221T180000
DTEND;TZID=America/New_York:20280221T210000
DTSTAMP:20260425T121634
CREATED:20260412T235804Z
LAST-MODIFIED:20260423T234936Z
UID:10004161-1834768800-1834779600@www.flemingtondiy.org
SUMMARY:Print Club
DESCRIPTION:Flemington DIY Print Club is a weekly open studio held from 6-9PM every Monday\, $15-30 per printer. It provides an opportunity for local artists and community members new to arts processes to utilize shared printmaking facilities. Print Club provides a platform for artists to network\, build community\, and work collaboratively. \nNo experience? No problem! Our vounteers will guide you through the process from start to finish! \nLearn more: https://www.flemingtondiy.org/printclub/
URL:https://www.flemingtondiy.org/event/print-club-463/
END:VEVENT
BEGIN:VEVENT
DTSTART;TZID=America/New_York:20280222T113000
DTEND;TZID=America/New_York:20280222T180000
DTSTAMP:20260425T121634
CREATED:20260222T234247Z
LAST-MODIFIED:20260423T234936Z
UID:10003923-1834831800-1834855200@www.flemingtondiy.org
SUMMARY:Open Hours
DESCRIPTION:Visit the space\, see our current art shows\, hang out\, and learn how to get involved!
URL:https://www.flemingtondiy.org/event/open-hours-473/
END:VEVENT
BEGIN:VEVENT
DTSTART;TZID=America/New_York:20280222T190000
DTEND;TZID=America/New_York:20280222T210000
DTSTAMP:20260425T121634
CREATED:20260223T234250Z
LAST-MODIFIED:20260423T234936Z
UID:10003924-1834858800-1834866000@www.flemingtondiy.org
SUMMARY:Classical Music Jam
DESCRIPTION:Jazz bands jam\, rock bands jam\, bluegrass players jams… why not a classical jam?? \nStrings\, brass\, woodwinds… Come join a classical music jam!!   \nBring a piece or two of music to share\, and sit in on the jam!   \nBring your instrument\, music (duo\, trio\, quartet\, etc. or even a full orchestra arrangement) and a stand\, be ready to share\, and let’s play some classical music in an informal setting.   \nWe jam once a month on the 4th Tuesday from 7 PM – 9 PM.   $5 suggested donation to Flemington DIY.  \nDon’t have music\, Don’t have a stand?…. Don’t worry!  Just bring your instrument\, and jam with us! \nCome share your talent and play! Take a break\, relax\, and listen to others.   \nUpcoming Tuesdays:   \n9/30 \n10/28 \n11/25 \n12/23 \nClassical is cool too!  See you at the jam!  
URL:https://www.flemingtondiy.org/event/classical-music-jam-29/
END:VEVENT
BEGIN:VEVENT
DTSTART;TZID=America/New_York:20280223T193000
DTEND;TZID=America/New_York:20280223T220000
DTSTAMP:20260425T121634
CREATED:20260224T234300Z
LAST-MODIFIED:20260423T234936Z
UID:10003925-1834947000-1834956000@www.flemingtondiy.org
SUMMARY:Poetry Open Mic
DESCRIPTION:Community members of all levels are invited to read their poetry and listen to the work of others. If you’re looking for a welcoming group of emerging and established poets and beatniks\, this is for you!Show up and sign up. No pre-registration to participate. Donations for the space encouraged at the door. All ages but please be aware that mature and sometimes sensitive topics are explored and mentioned at this event.
URL:https://www.flemingtondiy.org/event/poetry-open-mic-65/
END:VEVENT
BEGIN:VEVENT
DTSTART;TZID=America/New_York:20280224T113000
DTEND;TZID=America/New_York:20280224T180000
DTSTAMP:20260425T121634
CREATED:20260224T234300Z
LAST-MODIFIED:20260423T234936Z
UID:10003926-1835004600-1835028000@www.flemingtondiy.org
SUMMARY:Open Hours
DESCRIPTION:
URL:https://www.flemingtondiy.org/event/open-hours-474/
END:VEVENT
END:VCALENDAR