BEGIN:VCALENDAR
VERSION:2.0
PRODID:-//Flemington DIY - ECPv6.15.20//NONSGML v1.0//EN
CALSCALE:GREGORIAN
METHOD:PUBLISH
X-WR-CALNAME:Flemington DIY
X-ORIGINAL-URL:https://www.flemingtondiy.org
X-WR-CALDESC:Events for Flemington DIY
REFRESH-INTERVAL;VALUE=DURATION:PT1H
X-Robots-Tag:noindex
X-PUBLISHED-TTL:PT1H
BEGIN:VTIMEZONE
TZID:America/New_York
BEGIN:DAYLIGHT
TZOFFSETFROM:-0500
TZOFFSETTO:-0400
TZNAME:EDT
DTSTART:20240310T070000
END:DAYLIGHT
BEGIN:STANDARD
TZOFFSETFROM:-0400
TZOFFSETTO:-0500
TZNAME:EST
DTSTART:20241103T060000
END:STANDARD
BEGIN:DAYLIGHT
TZOFFSETFROM:-0500
TZOFFSETTO:-0400
TZNAME:EDT
DTSTART:20250309T070000
END:DAYLIGHT
BEGIN:STANDARD
TZOFFSETFROM:-0400
TZOFFSETTO:-0500
TZNAME:EST
DTSTART:20251102T060000
END:STANDARD
BEGIN:DAYLIGHT
TZOFFSETFROM:-0500
TZOFFSETTO:-0400
TZNAME:EDT
DTSTART:20260308T070000
END:DAYLIGHT
BEGIN:STANDARD
TZOFFSETFROM:-0400
TZOFFSETTO:-0500
TZNAME:EST
DTSTART:20261101T060000
END:STANDARD
END:VTIMEZONE
BEGIN:VEVENT
DTSTART;TZID=America/New_York:20250615T130000
DTEND;TZID=America/New_York:20250615T150000
DTSTAMP:20260425T064226
CREATED:20250410T235124Z
LAST-MODIFIED:20250614T233611Z
UID:10003136-1749992400-1749999600@www.flemingtondiy.org
SUMMARY:Gallery Open Hours
DESCRIPTION:
URL:https://www.flemingtondiy.org/event/gallery-open-hours-17/
END:VEVENT
BEGIN:VEVENT
DTSTART;TZID=America/New_York:20250614T140000
DTEND;TZID=America/New_York:20250614T210000
DTSTAMP:20260425T064226
CREATED:20250329T233539Z
LAST-MODIFIED:20250614T233611Z
UID:10003115-1749909600-1749934800@www.flemingtondiy.org
SUMMARY:NJ vs VALHALLA 4
DESCRIPTION:Sunrot(New Jersey Post Sludge)https://sunrot.bandcamp.com/music \nThin(Metal Grindcore Screamo)https://thinshred.bandcamp.com/music \nTrophy Hunt(RI Blackened Screamo)https://trophyhunt.bandcamp.com/album/the-branches-on-either-side \nStress Spells (North Jersey Post hardcore)https://stressspells.bandcamp.com/ \nBlemish(Shore Style Grind)https://blemishnj.bandcamp.com/ \nDisappearences (Philly Crusty Hardcore)https://disappearanceshc.bandcamp.com/album/iii \nIrata(NYC Devastating Twinkly Skramz)https://irata4k.bandcamp.com/album/fire-and-forget \nScary Hours(NJ Metallic Hardcore)https://scaryhours.bandcamp.com/music \n$15 at the doorBenefit for Cosecha NJ
URL:https://www.flemingtondiy.org/event/nj-vs-valhalla-4/
END:VEVENT
BEGIN:VEVENT
DTSTART;TZID=America/New_York:20250614T090000
DTEND;TZID=America/New_York:20250614T120000
DTSTAMP:20260425T064226
CREATED:20250208T233549Z
LAST-MODIFIED:20250613T233519Z
UID:10003069-1749891600-1749902400@www.flemingtondiy.org
SUMMARY:Music Together Spring Classes
DESCRIPTION:
URL:https://www.flemingtondiy.org/event/music-together-spring-classes-40/
END:VEVENT
BEGIN:VEVENT
DTSTART;TZID=America/New_York:20250613T180000
DTEND;TZID=America/New_York:20250613T200000
DTSTAMP:20260425T064226
CREATED:20250417T233526Z
LAST-MODIFIED:20250613T233518Z
UID:10003142-1749837600-1749844800@www.flemingtondiy.org
SUMMARY:LGBTQIA+ DV Rountable
DESCRIPTION:
URL:https://www.flemingtondiy.org/event/lgbtqia-dv-rountable/
END:VEVENT
BEGIN:VEVENT
DTSTART;TZID=America/New_York:20250612T180000
DTEND;TZID=America/New_York:20250612T200000
DTSTAMP:20260425T064226
CREATED:20250106T235041Z
LAST-MODIFIED:20250612T233557Z
UID:10002931-1749751200-1749758400@www.flemingtondiy.org
SUMMARY:ASL Chat
DESCRIPTION:American Sign Language (ASL) is the predominant sign language of deaf and hard of hearing people in the United States. If you know or are learning ASL\, come sign with us in a casual and supportive space. Deaf\, hard of hearing\, and hearing people are welcome. Come socialize and make new friends in a voice-off environment!  \nFlemington DIY ASL Chats are in person and free to attend. There is no registration required. Please note that everyone is expected to use ASL to communicate during the events.
URL:https://www.flemingtondiy.org/event/asl-chat-3/
END:VEVENT
BEGIN:VEVENT
DTSTART;TZID=America/New_York:20250612T123000
DTEND;TZID=America/New_York:20250612T180000
DTSTAMP:20260425T064226
CREATED:20241221T233536Z
LAST-MODIFIED:20250611T233516Z
UID:10002857-1749731400-1749751200@www.flemingtondiy.org
SUMMARY:Open Hours
DESCRIPTION:Visit the space\, see our current art shows\, hang out\, and learn how to get involved!
URL:https://www.flemingtondiy.org/event/open-hours-192/
END:VEVENT
BEGIN:VEVENT
DTSTART;TZID=America/New_York:20250610T190000
DTEND;TZID=America/New_York:20250610T210000
DTSTAMP:20260425T064226
CREATED:20240929T233643Z
LAST-MODIFIED:20250609T235132Z
UID:10002629-1749582000-1749589200@www.flemingtondiy.org
SUMMARY:Songwriter Circle
DESCRIPTION:Hey\, songwriters: Do you have songs that are half finished? Lyrics you’re not entirely happy with? A songwriting circle is not a performance. It’s an opportunity to connect with other songwriters\, play your song idea for us – whether it’s fully formed or not – and receive gentle\, respectful\, and constructive feedback. All genres welcome! Please bring a few hard copies of your lyrics to share (they’ll be returned to you). We have a piano available. Donations at the door
URL:https://www.flemingtondiy.org/event/songwriter-circle-28/
END:VEVENT
BEGIN:VEVENT
DTSTART;TZID=America/New_York:20250610T123000
DTEND;TZID=America/New_York:20250610T180000
DTSTAMP:20260425T064226
CREATED:20250602T233512Z
LAST-MODIFIED:20250609T235132Z
UID:10003212-1749558600-1749578400@www.flemingtondiy.org
SUMMARY:Open Hours
DESCRIPTION:
URL:https://www.flemingtondiy.org/event/open-hours-173/
END:VEVENT
BEGIN:VEVENT
DTSTART;TZID=America/New_York:20250609T180000
DTEND;TZID=America/New_York:20250609T210000
DTSTAMP:20260425T064226
CREATED:20231107T010614Z
LAST-MODIFIED:20250609T235132Z
UID:10001874-1749492000-1749502800@www.flemingtondiy.org
SUMMARY:Print Club
DESCRIPTION:Flemington DIY Print Club is a weekly open studio held from 6-9PM every Monday\, $15-30 per printer. It provides an opportunity for local artists and community members new to arts processes to utilize shared printmaking facilities. Print Club provides a platform for artists to network\, build community\, and work collaboratively. \nNo experience? No problem! Our vounteers will guide you through the process from start to finish! \nLearn more: https://www.flemingtondiy.org/printclub/
URL:https://www.flemingtondiy.org/event/print-club-236/
END:VEVENT
BEGIN:VEVENT
DTSTART;TZID=America/New_York:20250609T093000
DTEND;TZID=America/New_York:20250609T113000
DTSTAMP:20260425T064226
CREATED:20250208T233549Z
LAST-MODIFIED:20250608T235024Z
UID:10003068-1749461400-1749468600@www.flemingtondiy.org
SUMMARY:Music Together Spring Classes
DESCRIPTION:
URL:https://www.flemingtondiy.org/event/music-together-spring-classes-39/
END:VEVENT
BEGIN:VEVENT
DTSTART;TZID=America/New_York:20250608T180000
DTEND;TZID=America/New_York:20250608T220000
DTSTAMP:20260425T064226
CREATED:20250521T235020Z
LAST-MODIFIED:20250608T235024Z
UID:10003199-1749405600-1749420000@www.flemingtondiy.org
SUMMARY:Hunterdon Central Presents: The Guitar Showcase
DESCRIPTION:The Guitar Showcase is a music club at Hunterdon Central that features all kinds such as guitar\, bass\, drums\, keyboard\, and vocals. Each year\, we put together a set list and perform as band. Our set features genres such as rock and indie – Also featuring the band KAJED (rock/metal) \nProceeds go toward the Flemington Food Pantry and Flemington DIYDoors: Donations\, $5 for entry
URL:https://www.flemingtondiy.org/event/hunterdon-central-presents-the-guitar-showcase/
END:VEVENT
BEGIN:VEVENT
DTSTART;TZID=America/New_York:20250608T143000
DTEND;TZID=America/New_York:20250608T170000
DTSTAMP:20260425T064226
CREATED:20250304T233530Z
LAST-MODIFIED:20250607T235109Z
UID:10003096-1749393000-1749402000@www.flemingtondiy.org
SUMMARY:Women's Comedy Open Mic
DESCRIPTION:Ever wanted to share a joke with your friends? Have a friend who you think is hilarious but don’t know how to let other ladies know about her talent? Here’s an opportunity to give it a try. Enjoy a safe space to share laughs – and if you fail – it’s ok to get up and try again!
URL:https://www.flemingtondiy.org/event/womens-comedy-open-mic-30/
END:VEVENT
BEGIN:VEVENT
DTSTART;TZID=America/New_York:20250608T120000
DTEND;TZID=America/New_York:20250608T140000
DTSTAMP:20260425T064226
CREATED:20250410T235117Z
LAST-MODIFIED:20250607T235109Z
UID:10003135-1749384000-1749391200@www.flemingtondiy.org
SUMMARY:Gallery Open Hours
DESCRIPTION:
URL:https://www.flemingtondiy.org/event/gallery-open-hours-16/
END:VEVENT
BEGIN:VEVENT
DTSTART;TZID=America/New_York:20250607T120000
DTEND;TZID=America/New_York:20250607T150000
DTSTAMP:20260425T064226
CREATED:20250410T235116Z
LAST-MODIFIED:20250606T233546Z
UID:10003134-1749297600-1749308400@www.flemingtondiy.org
SUMMARY:Gallery Open Hours
DESCRIPTION:
URL:https://www.flemingtondiy.org/event/gallery-open-hours-15/
END:VEVENT
BEGIN:VEVENT
DTSTART;TZID=America/New_York:20250607T100000
DTEND;TZID=America/New_York:20250607T170000
DTSTAMP:20260425T064226
CREATED:20250404T235101Z
LAST-MODIFIED:20250606T233546Z
UID:10003130-1749290400-1749315600@www.flemingtondiy.org
SUMMARY:Within Spirit Psychic Fest in tent
DESCRIPTION:●      6/7/25: Saturday\, 10 am – 5pm: Within Spirit Psychic Festin tent \nJoin with Google Meet: https://meet.google.com/yqv-uuwt-acsOr dial: (US) +1 725-999-2708 PIN: 157445595#More phone numbers: https://tel.meet/yqv-uuwt-acs?pin=7540473384250&hs=7 \nLearn more about Meet at: https://support.google.com/a/users/answer/9282720
URL:https://www.flemingtondiy.org/event/within-spirit-psychic-fest-in-tent/
ORGANIZER;CN="director@flemingtoncommunitypartnership.org":MAILTO:director@flemingtoncommunitypartnership.org
END:VEVENT
BEGIN:VEVENT
DTSTART;TZID=America/New_York:20250607T090000
DTEND;TZID=America/New_York:20250607T120000
DTSTAMP:20260425T064226
CREATED:20250208T233548Z
LAST-MODIFIED:20250606T233546Z
UID:10003067-1749286800-1749297600@www.flemingtondiy.org
SUMMARY:Music Together Spring Classes
DESCRIPTION:
URL:https://www.flemingtondiy.org/event/music-together-spring-classes-38/
END:VEVENT
BEGIN:VEVENT
DTSTART;TZID=America/New_York:20250606T170000
DTEND;TZID=America/New_York:20250606T190000
DTSTAMP:20260425T064226
CREATED:20250128T175558Z
LAST-MODIFIED:20250604T235218Z
UID:10003002-1749229200-1749236400@www.flemingtondiy.org
SUMMARY:The Art Academy Student Opening
DESCRIPTION:
URL:https://www.flemingtondiy.org/event/the-art-academy-student-opening/
END:VEVENT
BEGIN:VEVENT
DTSTART;TZID=America/New_York:20250606T093000
DTEND;TZID=America/New_York:20250606T113000
DTSTAMP:20260425T064226
CREATED:20250208T233548Z
LAST-MODIFIED:20250604T235218Z
UID:10003066-1749202200-1749209400@www.flemingtondiy.org
SUMMARY:Music Together Spring Classes
DESCRIPTION:
URL:https://www.flemingtondiy.org/event/music-together-spring-classes-37/
END:VEVENT
BEGIN:VEVENT
DTSTART;TZID=America/New_York:20250605T190000
DTEND;TZID=America/New_York:20250605T220000
DTSTAMP:20260425T064226
CREATED:20250522T235017Z
LAST-MODIFIED:20250604T235218Z
UID:10003205-1749150000-1749160800@www.flemingtondiy.org
SUMMARY:Live Music - Acoustic Show
DESCRIPTION:Singer/songwriter acoustic show \nSkinny VeinsGreg McGarvey Wherever You AreStrange VelvetDavy Jones Locker \n$10Doors @ 7:00\, Music @ 7:30All agesNo alcohol / No drugs
URL:https://www.flemingtondiy.org/event/live-music-acoustic-show/
END:VEVENT
BEGIN:VEVENT
DTSTART;TZID=America/New_York:20250605T113000
DTEND;TZID=America/New_York:20250605T170000
DTSTAMP:20260425T064226
CREATED:20241221T233536Z
LAST-MODIFIED:20250604T235218Z
UID:10002855-1749123000-1749142800@www.flemingtondiy.org
SUMMARY:Open Hours
DESCRIPTION:Visit the space\, see our current art shows\, hang out\, and learn how to get involved!
URL:https://www.flemingtondiy.org/event/open-hours-190/
END:VEVENT
BEGIN:VEVENT
DTSTART;TZID=America/New_York:20250603T173000
DTEND;TZID=America/New_York:20250603T190000
DTSTAMP:20260425T064226
CREATED:20250507T233526Z
LAST-MODIFIED:20250602T233623Z
UID:10003169-1748971800-1748977200@www.flemingtondiy.org
SUMMARY:Monthly Food Drive and Skill Share
DESCRIPTION:Drop-off a donation to help stock the Little Free Pantries (LFPs) around Flemington Borough and stay to meet your neighbors! Let’s learn from one another and share our knowledge with a monthly Skill Share. \nLittle Free Pantries are located at:Flemington Area Food Pantry LFP\, 154 Rt 31Salvation Army\, Corner of Hopewell Ave & East Main StreetCommunity LFP\, 10 New Jersey AvenueHunterdon County Community Wellness Center\, 44 Emery AveFlemington DIY LFP\, 26 Stangl RoadFlemington Presbyterian Church LFP\, 10 East Main StreetEchelon Studio Self-Care Pantry\, 27 Fulper Road \nRecommended donations:– Water bottles and gatorade– Shelf stable and canned goods (with pop tops)– Personal and menstrual hygiene items– Cup noodles and ramen– Shelf stable juice and milk– Individually packaged snacks and other ready-to-eat foods– Individually wrapped plastic utensils \nWHAT IS A SKILL SHARE?Skill Shares are meet-ups where folks interested in learning from their community members can come together to share their knowledge and/or learn something new. Everyone has a skill that they can share\, from sewing and mending to gardening to holistic health.  Contact flemingtonqts@gmail.com if you are interested in sharing a topic at our monthly sessions on 1st Tuesdays from 5:30-7PM. No previous experience necessary! Email Jae at flemingtonqts@gmail.com if you have a skill to share.
URL:https://www.flemingtondiy.org/event/monthly-food-drive-and-skill-share/
END:VEVENT
BEGIN:VEVENT
DTSTART;TZID=America/New_York:20250603T123000
DTEND;TZID=America/New_York:20250603T180000
DTSTAMP:20260425T064226
CREATED:20250207T233524Z
LAST-MODIFIED:20250602T233623Z
UID:10003029-1748953800-1748973600@www.flemingtondiy.org
SUMMARY:Open Hours
DESCRIPTION:Visit the space\, see our current art shows\, hang out\, and learn how to get involved!
URL:https://www.flemingtondiy.org/event/open-hours-260/
END:VEVENT
BEGIN:VEVENT
DTSTART;TZID=America/New_York:20250603T093000
DTEND;TZID=America/New_York:20250603T123000
DTSTAMP:20260425T064226
CREATED:20250208T233548Z
LAST-MODIFIED:20250602T233623Z
UID:10003065-1748943000-1748953800@www.flemingtondiy.org
SUMMARY:Music Together Spring Classes
DESCRIPTION:
URL:https://www.flemingtondiy.org/event/music-together-spring-classes-36/
END:VEVENT
BEGIN:VEVENT
DTSTART;TZID=America/New_York:20250602T180000
DTEND;TZID=America/New_York:20250602T210000
DTSTAMP:20260425T064226
CREATED:20231107T010614Z
LAST-MODIFIED:20250602T233622Z
UID:10001873-1748887200-1748898000@www.flemingtondiy.org
SUMMARY:Print Club
DESCRIPTION:Flemington DIY Print Club is a weekly open studio held from 6-9PM every Monday\, $15-30 per printer. It provides an opportunity for local artists and community members new to arts processes to utilize shared printmaking facilities. Print Club provides a platform for artists to network\, build community\, and work collaboratively. \nNo experience? No problem! Our vounteers will guide you through the process from start to finish! \nLearn more: https://www.flemingtondiy.org/printclub/
URL:https://www.flemingtondiy.org/event/print-club-235/
END:VEVENT
BEGIN:VEVENT
DTSTART;TZID=America/New_York:20250602T180000
DTEND;TZID=America/New_York:20250602T200000
DTSTAMP:20260425T064226
CREATED:20241220T233619Z
LAST-MODIFIED:20250602T233622Z
UID:10002796-1748887200-1748894400@www.flemingtondiy.org
SUMMARY:Hunterdon Fiber Artist Meeting
DESCRIPTION:Looking to meet other fiber artists in the Hunterdon county area?  Think about coming to Hunterdon Fiber Artists meet up to socialize and connect with others doing the fiber art craft that they love. \nAll are welcome.  Just bring your craft be it knitting\, crocheting\, spinning\, etc.\, and be prepared to meet lots of fun and interesting people!  We even have mini educational talks on requested topics! \nOur FB group is Hunterdon Fiber Artists https://www.facebook.com/groups/1101970274078722 \nOur Ravelry group is https://www.ravelry.com/groups/hunterdon-fiber-artists?s=tab \nEvery other Monday at DIY; $3-5 suggested donation.
URL:https://www.flemingtondiy.org/event/hunterdon-fiber-artist-meeting-62/
END:VEVENT
BEGIN:VEVENT
DTSTART;TZID=America/New_York:20250602T163000
DTEND;TZID=America/New_York:20250602T173000
DTSTAMP:20260425T064226
CREATED:20250403T233538Z
LAST-MODIFIED:20250601T233556Z
UID:10003127-1748881800-1748885400@www.flemingtondiy.org
SUMMARY:Music Together Spring 2025 Evening Classes
DESCRIPTION:
URL:https://www.flemingtondiy.org/event/music-together-spring-2025-evening-classes-9/
END:VEVENT
BEGIN:VEVENT
DTSTART;TZID=America/New_York:20250602T093000
DTEND;TZID=America/New_York:20250602T113000
DTSTAMP:20260425T064226
CREATED:20250208T233547Z
LAST-MODIFIED:20250601T233556Z
UID:10003064-1748856600-1748863800@www.flemingtondiy.org
SUMMARY:Music Together Spring Classes
DESCRIPTION:
URL:https://www.flemingtondiy.org/event/music-together-spring-classes-35/
END:VEVENT
BEGIN:VEVENT
DTSTART;TZID=America/New_York:20250601T130000
DTEND;TZID=America/New_York:20250601T170000
DTSTAMP:20260425T064226
CREATED:20240928T233705Z
LAST-MODIFIED:20250530T235051Z
UID:10002597-1748782800-1748797200@www.flemingtondiy.org
SUMMARY:Open Jazz Jams
DESCRIPTION:Open Jazz Jams are held he first Sunday of every month. \nThe sessions will provide an opportunity for musicians to play with an experienced band. From 1-2 PM the hosting musicians for the week will play. Other musicians will be invited to sit in and play between 2-5 PM (typically a minimum of 2 songs each\, circumstances permitting). With the exception of drum kit and piano\, all musicians should bring their own equipment (instruments\, amps\, drum sticks\, microphones\, etc.). The sessions will focus primarily on jazz standards and other jazz tunes contained in Hal Leonard Real Books volumes 1 through 3. Newcomers will be coached through the process.  \nA $3 to $5 donation to Flemington DIY will be required from each musician that plays at the session. Visitors that just want to listen to the music are also welcome to attend for all or any part of the 1-5 PM sessions free of charge.  \nFor questions about the sessions\, or to be added to the monthly text notification list for last minute cancellations or reschedules\, please email njjazzjam@gmail.com
URL:https://www.flemingtondiy.org/event/open-jazz-jams-27/
END:VEVENT
BEGIN:VEVENT
DTSTART;TZID=America/New_York:20250601T100000
DTEND;TZID=America/New_York:20250601T123000
DTSTAMP:20260425T064226
CREATED:20250114T233532Z
LAST-MODIFIED:20250530T235050Z
UID:10002975-1748772000-1748781000@www.flemingtondiy.org
SUMMARY:Fiber Series: Block printing
DESCRIPTION:Printing techniques can bring unique forms to your fabrics. Learn basic block printing and how to transfer your images onto fabric for lasting\, distinctive designs. You will create\, carve and print your design. All supplies included. You will leave with two 10.5in x 10.5in cotton squares. $35 per person – Limited to 15 participants. REGISTER 
URL:https://www.flemingtondiy.org/event/fiber-series-block-printing/
END:VEVENT
BEGIN:VEVENT
DTSTART;TZID=America/New_York:20250601T090000
DTEND;TZID=America/New_York:20250601T150000
DTSTAMP:20260425T064226
CREATED:20250404T235057Z
LAST-MODIFIED:20250530T235050Z
UID:10003129-1748768400-1748790000@www.flemingtondiy.org
SUMMARY:2nd Annual Stangl Karmafest
DESCRIPTION:●      6/1/25: Sunday\, 10 am – 3 pm: 2nd Annual  – on Stangl  \nJoin with Google Meet: https://meet.google.com/typ-qkor-ohmOr dial: (US) +1 347-773-4211 PIN: 145615648#More phone numbers: https://tel.meet/typ-qkor-ohm?pin=5996387571785&hs=7 \nLearn more about Meet at: https://support.google.com/a/users/answer/9282720
URL:https://www.flemingtondiy.org/event/2nd-annual-stangl-karmafest/
ORGANIZER;CN="director@flemingtoncommunitypartnership.org":MAILTO:director@flemingtoncommunitypartnership.org
END:VEVENT
END:VCALENDAR