BEGIN:VCALENDAR
VERSION:2.0
PRODID:-//Flemington DIY - ECPv6.15.20//NONSGML v1.0//EN
CALSCALE:GREGORIAN
METHOD:PUBLISH
X-WR-CALNAME:Flemington DIY
X-ORIGINAL-URL:https://www.flemingtondiy.org
X-WR-CALDESC:Events for Flemington DIY
REFRESH-INTERVAL;VALUE=DURATION:PT1H
X-Robots-Tag:noindex
X-PUBLISHED-TTL:PT1H
BEGIN:VTIMEZONE
TZID:America/New_York
BEGIN:DAYLIGHT
TZOFFSETFROM:-0500
TZOFFSETTO:-0400
TZNAME:EDT
DTSTART:20240310T070000
END:DAYLIGHT
BEGIN:STANDARD
TZOFFSETFROM:-0400
TZOFFSETTO:-0500
TZNAME:EST
DTSTART:20241103T060000
END:STANDARD
BEGIN:DAYLIGHT
TZOFFSETFROM:-0500
TZOFFSETTO:-0400
TZNAME:EDT
DTSTART:20250309T070000
END:DAYLIGHT
BEGIN:STANDARD
TZOFFSETFROM:-0400
TZOFFSETTO:-0500
TZNAME:EST
DTSTART:20251102T060000
END:STANDARD
BEGIN:DAYLIGHT
TZOFFSETFROM:-0500
TZOFFSETTO:-0400
TZNAME:EDT
DTSTART:20260308T070000
END:DAYLIGHT
BEGIN:STANDARD
TZOFFSETFROM:-0400
TZOFFSETTO:-0500
TZNAME:EST
DTSTART:20261101T060000
END:STANDARD
END:VTIMEZONE
BEGIN:VEVENT
DTSTART;TZID=America/New_York:20250821T190000
DTEND;TZID=America/New_York:20250821T210000
DTSTAMP:20260425T074518
CREATED:20241023T233527Z
LAST-MODIFIED:20250821T235030Z
UID:10002659-1755802800-1755810000@www.flemingtondiy.org
SUMMARY:Monthly Open Bluegrass Jam
DESCRIPTION:Bring your instrument\, a couple of tunes\, some friends and your own refreshments. All players welcome – Beginner to pro!  \nFreewill basket to support DIY $5 suggested Open to all ages –strictly no alcohol  \nQuestions? Contact Ed: rvrecband@gmail.com / ejjank@gmail.com
URL:https://www.flemingtondiy.org/event/monthly-open-bluegrass-jam-8/
END:VEVENT
BEGIN:VEVENT
DTSTART;TZID=America/New_York:20250823T114500
DTEND;TZID=America/New_York:20250823T190000
DTSTAMP:20260425T074518
CREATED:20250710T235044Z
LAST-MODIFIED:20250822T235011Z
UID:10003346-1755949500-1755975600@www.flemingtondiy.org
SUMMARY:Live Music Fest - Rock
DESCRIPTION:Feaster -Psych RockTouch of Red -RockOddly casual – Alt RockBlushboy – Power PopInd-eye-vid – PunkFather before me – Post Hardcore/Skate PunkStarikova – Alt RockAdventure Lost -Rock \nDoors 11:45am \nMusic until 7pmEarly bird admission: $7Day of pricing: $10 \nhttps://www.ticketleap.events/tickets/starikova/koi-pond-flemington
URL:https://www.flemingtondiy.org/event/live-music-fest-rock/
END:VEVENT
BEGIN:VEVENT
DTSTART;TZID=America/New_York:20250825T180000
DTEND;TZID=America/New_York:20250825T200000
DTSTAMP:20260425T074518
CREATED:20241220T233623Z
LAST-MODIFIED:20250825T235014Z
UID:10002802-1756144800-1756152000@www.flemingtondiy.org
SUMMARY:Hunterdon Fiber Artist Meeting
DESCRIPTION:Looking to meet other fiber artists in the Hunterdon county area?  Think about coming to Hunterdon Fiber Artists meet up to socialize and connect with others doing the fiber art craft that they love. \nAll are welcome.  Just bring your craft be it knitting\, crocheting\, spinning\, etc.\, and be prepared to meet lots of fun and interesting people!  We even have mini educational talks on requested topics! \nOur FB group is Hunterdon Fiber Artists https://www.facebook.com/groups/1101970274078722 \nOur Ravelry group is https://www.ravelry.com/groups/hunterdon-fiber-artists?s=tab \nEvery other Monday at DIY; $3-5 suggested donation.
URL:https://www.flemingtondiy.org/event/hunterdon-fiber-artist-meeting-68/
END:VEVENT
BEGIN:VEVENT
DTSTART;TZID=America/New_York:20250826T113000
DTEND;TZID=America/New_York:20250826T180000
DTSTAMP:20260425T074518
CREATED:20250602T233525Z
LAST-MODIFIED:20250825T235014Z
UID:10003223-1756207800-1756231200@www.flemingtondiy.org
SUMMARY:Open Hours
DESCRIPTION:Visit the space\, see our current art shows\, hang out\, and learn how to get involved!
URL:https://www.flemingtondiy.org/event/open-hours-195/
END:VEVENT
BEGIN:VEVENT
DTSTART;TZID=America/New_York:20250827T193000
DTEND;TZID=America/New_York:20250827T213000
DTSTAMP:20260425T074518
CREATED:20250224T233600Z
LAST-MODIFIED:20250826T235134Z
UID:10003085-1756323000-1756330200@www.flemingtondiy.org
SUMMARY:Poetry Open Mic
DESCRIPTION:Community members of all levels are invited to read their poetry and listen to the work of others. If you’re looking for a welcoming group of emerging and established poets and beatniks\, this is for you! \nShow up and sign up. No pre-registration to participate. Donations for the space encouraged at the door. All ages but please be aware that mature and sometimes sensitive topics are explored and mentioned at this event.
URL:https://www.flemingtondiy.org/event/poetry-open-mic-47/
END:VEVENT
BEGIN:VEVENT
DTSTART;TZID=America/New_York:20250828T113000
DTEND;TZID=America/New_York:20250828T180000
DTSTAMP:20260425T074518
CREATED:20241221T233543Z
LAST-MODIFIED:20250826T235134Z
UID:10002879-1756380600-1756404000@www.flemingtondiy.org
SUMMARY:Open Hours
DESCRIPTION:Visit the space\, see our current art shows\, hang out\, and learn how to get involved!
URL:https://www.flemingtondiy.org/event/open-hours-214/
END:VEVENT
BEGIN:VEVENT
DTSTART;TZID=America/New_York:20250828T190000
DTEND;TZID=America/New_York:20250828T210000
DTSTAMP:20260425T074518
CREATED:20250502T235057Z
LAST-MODIFIED:20250828T233507Z
UID:10003167-1756407600-1756414800@www.flemingtondiy.org
SUMMARY:Cancelled: Summer Story Slam
DESCRIPTION:Prepare a five-minute story based on the monthly themes\, put your name on the list and you will be one of the lucky selected to tell your story! \nTheme: Fresh Starts/New Beginnings: Stories about a new beginning\, a brand new you\, or how you have charted a fresh start. \n$10 suggested donation. More info @ flemingtondiy.org/storyslam
URL:https://www.flemingtondiy.org/event/summer-story-slam-4/
END:VEVENT
BEGIN:VEVENT
DTSTART;TZID=America/New_York:20250829T190000
DTEND;TZID=America/New_York:20250829T220000
DTSTAMP:20260425T074518
CREATED:20250727T233511Z
LAST-MODIFIED:20250829T233507Z
UID:10003359-1756494000-1756504800@www.flemingtondiy.org
SUMMARY:Live Music - Metal
DESCRIPTION:Jellyfish Jam (Death Metal/metalcore/nu metal)Endless Midnight (Post Hardcore/metalcore)Spoon of Ukobach (Progessive/Death Metal)A Killer Ostrich (Sludge metal/Hardcore/Grindcore)Restriction (emo/shoegaze/hardcore) \n$10Doors at 6:30pm / Music at 7pmAll agesNo drugs / no alcohol
URL:https://www.flemingtondiy.org/event/live-music-metal-4/
END:VEVENT
BEGIN:VEVENT
DTSTART;TZID=America/New_York:20250830T190000
DTEND;TZID=America/New_York:20250830T220000
DTSTAMP:20260425T074518
CREATED:20250815T233520Z
LAST-MODIFIED:20250830T233557Z
UID:10003399-1756580400-1756591200@www.flemingtondiy.org
SUMMARY:Live Music - Metal
DESCRIPTION:Waffle House of 1000 Corpses (NJ sludge noise metal) Abandon Brain (melodic hardcore/doom) Luna Honey (experimental dark/no wave) King Slender(PA hardcore/emo) \n$106:30All agesNo drugs / no alcohol
URL:https://www.flemingtondiy.org/event/live-music-101/
END:VEVENT
BEGIN:VEVENT
DTSTART;TZID=America/New_York:20250831T080000
DTEND;TZID=America/New_York:20250831T100000
DTSTAMP:20260425T074518
CREATED:20250519T235027Z
LAST-MODIFIED:20250830T233557Z
UID:10003192-1756627200-1756634400@www.flemingtondiy.org
SUMMARY:Community Bird Sit
DESCRIPTION:Last Sunday of the month. 8am-10am. Location will change monthly and be sent to registrants \nJoin us on recurring community bird sits to meet some friends and see some birds! Witness migration from the comfort of a chair or blanket! Come have your morning coffee with us and watch some birds!  \nPlease bring binoculars if you’ve got ’em. \nRegistration required: https://www.flemingtondiy.org/bird/Suggested donation will benefit Flemington DIY and the Raptor Trust.
URL:https://www.flemingtondiy.org/event/community-bird-sit-4/
END:VEVENT
BEGIN:VEVENT
DTSTART;TZID=America/New_York:20250902T113000
DTEND;TZID=America/New_York:20250902T180000
DTSTAMP:20260425T074518
CREATED:20250602T233526Z
LAST-MODIFIED:20250831T235023Z
UID:10003224-1756812600-1756836000@www.flemingtondiy.org
SUMMARY:Open Hours
DESCRIPTION:Visit the space\, see our current art shows\, hang out\, and learn how to get involved!
URL:https://www.flemingtondiy.org/event/open-hours-197/
END:VEVENT
BEGIN:VEVENT
DTSTART;TZID=America/New_York:20250904T113000
DTEND;TZID=America/New_York:20250904T180000
DTSTAMP:20260425T074518
CREATED:20241221T233544Z
LAST-MODIFIED:20250903T233551Z
UID:10002881-1756985400-1757008800@www.flemingtondiy.org
SUMMARY:Open Hours
DESCRIPTION:Visit the space\, see our current art shows\, hang out\, and learn how to get involved!
URL:https://www.flemingtondiy.org/event/open-hours-216/
END:VEVENT
BEGIN:VEVENT
DTSTART;TZID=America/New_York:20250907T080000
DTEND;TZID=America/New_York:20250907T100000
DTSTAMP:20260425T074518
CREATED:20250519T235028Z
LAST-MODIFIED:20250906T233553Z
UID:10003193-1757232000-1757239200@www.flemingtondiy.org
SUMMARY:Community Bird Walk
DESCRIPTION:It’s spring migration! Join us on a community bird walk to meet some friends and see some birds!  \nPlease bring binoculars if you’ve got ’em.Registration required: https://forms.gle/FKueAyN256whVP297Meeting location to be sent ahead of event. \nSuggested donation will benefit Flemington DIY and the Raptor Trust.
URL:https://www.flemingtondiy.org/event/community-bird-walk-5/
END:VEVENT
BEGIN:VEVENT
DTSTART;TZID=America/New_York:20250907T130000
DTEND;TZID=America/New_York:20250907T170000
DTSTAMP:20260425T074518
CREATED:20240928T233720Z
LAST-MODIFIED:20250906T233553Z
UID:10002606-1757250000-1757264400@www.flemingtondiy.org
SUMMARY:Open Jazz Jams
DESCRIPTION:Open Jazz Jams are held he first Sunday of every month. \nThe sessions will provide an opportunity for musicians to play with an experienced band. From 1-2 PM the hosting musicians for the week will play. Other musicians will be invited to sit in and play between 2-5 PM (typically a minimum of 2 songs each\, circumstances permitting). With the exception of drum kit and piano\, all musicians should bring their own equipment (instruments\, amps\, drum sticks\, microphones\, etc.). The sessions will focus primarily on jazz standards and other jazz tunes contained in Hal Leonard Real Books volumes 1 through 3. Newcomers will be coached through the process.  \nA $3 to $5 donation to Flemington DIY will be required from each musician that plays at the session. Visitors that just want to listen to the music are also welcome to attend for all or any part of the 1-5 PM sessions free of charge.  \nFor questions about the sessions\, or to be added to the monthly text notification list for last minute cancellations or reschedules\, please email njjazzjam@gmail.com
URL:https://www.flemingtondiy.org/event/open-jazz-jams-30/
END:VEVENT
BEGIN:VEVENT
DTSTART;TZID=America/New_York:20250908T180000
DTEND;TZID=America/New_York:20250908T200000
DTSTAMP:20260425T074518
CREATED:20241220T233623Z
LAST-MODIFIED:20250908T233508Z
UID:10002803-1757354400-1757361600@www.flemingtondiy.org
SUMMARY:Hunterdon Fiber Artist Meeting
DESCRIPTION:Looking to meet other fiber artists in the Hunterdon county area?  Think about coming to Hunterdon Fiber Artists meet up to socialize and connect with others doing the fiber art craft that they love. \nAll are welcome.  Just bring your craft be it knitting\, crocheting\, spinning\, etc.\, and be prepared to meet lots of fun and interesting people!  We even have mini educational talks on requested topics! \nOur FB group is Hunterdon Fiber Artists https://www.facebook.com/groups/1101970274078722 \nOur Ravelry group is https://www.ravelry.com/groups/hunterdon-fiber-artists?s=tab \nEvery other Monday at DIY; $3-5 suggested donation.
URL:https://www.flemingtondiy.org/event/hunterdon-fiber-artist-meeting-69/
END:VEVENT
BEGIN:VEVENT
DTSTART;TZID=America/New_York:20250908T180000
DTEND;TZID=America/New_York:20250908T210000
DTSTAMP:20260425T074518
CREATED:20231107T010618Z
LAST-MODIFIED:20250908T233509Z
UID:10001887-1757354400-1757365200@www.flemingtondiy.org
SUMMARY:Print Club
DESCRIPTION:Flemington DIY Print Club is a weekly open studio held from 6-9PM every Monday\, $15-30 per printer. It provides an opportunity for local artists and community members new to arts processes to utilize shared printmaking facilities. Print Club provides a platform for artists to network\, build community\, and work collaboratively. \nNo experience? No problem! Our vounteers will guide you through the process from start to finish! \nLearn more: https://www.flemingtondiy.org/printclub/
URL:https://www.flemingtondiy.org/event/print-club-249/
END:VEVENT
BEGIN:VEVENT
DTSTART;TZID=America/New_York:20250909T113000
DTEND;TZID=America/New_York:20250909T180000
DTSTAMP:20260425T074518
CREATED:20250602T233527Z
LAST-MODIFIED:20250908T233509Z
UID:10003225-1757417400-1757440800@www.flemingtondiy.org
SUMMARY:Open Hours
DESCRIPTION:Visit the space\, see our current art shows\, hang out\, and learn how to get involved!
URL:https://www.flemingtondiy.org/event/open-hours-199/
END:VEVENT
BEGIN:VEVENT
DTSTART;TZID=America/New_York:20250909T190000
DTEND;TZID=America/New_York:20250909T210000
DTSTAMP:20260425T074518
CREATED:20240929T233646Z
LAST-MODIFIED:20250909T233509Z
UID:10002632-1757444400-1757451600@www.flemingtondiy.org
SUMMARY:Songwriter Circle
DESCRIPTION:Hey\, songwriters: Do you have songs that are half finished? Lyrics you’re not entirely happy with? A songwriting circle is not a performance. It’s an opportunity to connect with other songwriters\, play your song idea for us – whether it’s fully formed or not – and receive gentle\, respectful\, and constructive feedback. All genres welcome! Please bring a few hard copies of your lyrics to share (they’ll be returned to you). We have a piano available. Donations at the door
URL:https://www.flemingtondiy.org/event/songwriter-circle-31/
END:VEVENT
BEGIN:VEVENT
DTSTART;TZID=America/New_York:20250911T113000
DTEND;TZID=America/New_York:20250911T180000
DTSTAMP:20260425T074518
CREATED:20241221T233544Z
LAST-MODIFIED:20250910T233541Z
UID:10002883-1757590200-1757613600@www.flemingtondiy.org
SUMMARY:Open Hours
DESCRIPTION:Visit the space\, see our current art shows\, hang out\, and learn how to get involved!
URL:https://www.flemingtondiy.org/event/open-hours-218/
END:VEVENT
BEGIN:VEVENT
DTSTART;TZID=America/New_York:20250911T180000
DTEND;TZID=America/New_York:20250911T200000
DTSTAMP:20260425T074518
CREATED:20250106T235049Z
LAST-MODIFIED:20250911T233616Z
UID:10002932-1757613600-1757620800@www.flemingtondiy.org
SUMMARY:ASL Chat
DESCRIPTION:American Sign Language (ASL) is the predominant sign language of deaf and hard of hearing people in the United States. If you know or are learning ASL\, come sign with us in a casual and supportive space. Deaf\, hard of hearing\, and hearing people are welcome. Come socialize and make new friends in a voice-off environment!  \nFlemington DIY ASL Chats are in person and free to attend. There is no registration required. Please note that everyone is expected to use ASL to communicate during the events.
URL:https://www.flemingtondiy.org/event/asl-chat-4/
END:VEVENT
BEGIN:VEVENT
DTSTART;TZID=America/New_York:20250913T090000
DTEND;TZID=America/New_York:20250913T143000
DTSTAMP:20260425T074518
CREATED:20250805T233513Z
LAST-MODIFIED:20250912T233508Z
UID:10003389-1757754000-1757773800@www.flemingtondiy.org
SUMMARY:Chess Tournament
DESCRIPTION:Come and show off your skills Saturday\, September 13 from 10:15am to 2:30pm. Chess sets and chess clocks are provided so that all you have to do is sit and play! NOTE the tournament is capped at 48 entries so try to enter early if possible. Hope to see you there! REGISTER \nWhat is the format of the tournament? It ran in what is known as a chess quad. All of the players that enter will be broken up into groups of 4 based on their ratings and will play everyone in their group once. Players who obtain the most points in their group win the prize (win=1 point\, draw=0.5 point\, loss=0 points). It is done in this format so that the games stay relatively competitive and are not completely lopsided. \nThis tournament does require a USCF (United States Chess Federation) membership to join. Pricing and joining methods can be found via link (https://new.uschess.org/join-us-chess). If this is your USCF rated chess event your rating will begin as “unrated” for the tournament. \nCan these chess games go on forever?No. All games are timed at Game 30 delay 5. This means\, for each game\, both players will have 30 minutes to make all of their moves for the game. Delay 5 means that your time will not start counting down until 5 seconds have passed on your turn. There are three methods of winning a chess game. Checkmating the opponent’s king\, your opponent resigns\, or your opponent runs out of time. \nAny question be sure to contact the tournament director at moledomiguel@gmail.com
URL:https://www.flemingtondiy.org/event/chess-tournament-2/
END:VEVENT
BEGIN:VEVENT
DTSTART;TZID=America/New_York:20250913T160000
DTEND;TZID=America/New_York:20250913T180000
DTSTAMP:20260425T074518
CREATED:20241112T233624Z
LAST-MODIFIED:20250912T233508Z
UID:10002688-1757779200-1757786400@www.flemingtondiy.org
SUMMARY:Collective Liberation Fiber Arts Opening Reception
DESCRIPTION:
URL:https://www.flemingtondiy.org/event/fiber-arts-opening/
END:VEVENT
BEGIN:VEVENT
DTSTART;TZID=America/New_York:20250914T143000
DTEND;TZID=America/New_York:20250914T170000
DTSTAMP:20260425T074518
CREATED:20250304T233539Z
LAST-MODIFIED:20250913T233510Z
UID:10003099-1757860200-1757869200@www.flemingtondiy.org
SUMMARY:Women's Comedy Open Mic
DESCRIPTION:Ever wanted to share a joke with your friends? Have a friend who you think is hilarious but don’t know how to let other ladies know about her talent? Here’s an opportunity to give it a try. Enjoy a safe space to share laughs – and if you fail – it’s ok to get up and try again!
URL:https://www.flemingtondiy.org/event/womens-comedy-open-mic-33/
END:VEVENT
BEGIN:VEVENT
DTSTART;TZID=America/New_York:20250915T180000
DTEND;TZID=America/New_York:20250915T210000
DTSTAMP:20260425T074518
CREATED:20231107T010618Z
LAST-MODIFIED:20250915T233556Z
UID:10001888-1757959200-1757970000@www.flemingtondiy.org
SUMMARY:Print Club
DESCRIPTION:Flemington DIY Print Club is a weekly open studio held from 6-9PM every Monday\, $15-30 per printer. It provides an opportunity for local artists and community members new to arts processes to utilize shared printmaking facilities. Print Club provides a platform for artists to network\, build community\, and work collaboratively. \nNo experience? No problem! Our vounteers will guide you through the process from start to finish! \nLearn more: https://www.flemingtondiy.org/printclub/
URL:https://www.flemingtondiy.org/event/print-club-250/
END:VEVENT
BEGIN:VEVENT
DTSTART;TZID=America/New_York:20250916T113000
DTEND;TZID=America/New_York:20250916T180000
DTSTAMP:20260425T074518
CREATED:20250602T233528Z
LAST-MODIFIED:20250915T233556Z
UID:10003226-1758022200-1758045600@www.flemingtondiy.org
SUMMARY:Open Hours
DESCRIPTION:Visit the space\, see our current art shows\, hang out\, and learn how to get involved!
URL:https://www.flemingtondiy.org/event/open-hours-201/
END:VEVENT
BEGIN:VEVENT
DTSTART;TZID=America/New_York:20250916T183000
DTEND;TZID=America/New_York:20250916T203000
DTSTAMP:20260425T074518
CREATED:20240928T233722Z
LAST-MODIFIED:20250916T233553Z
UID:10002607-1758047400-1758054600@www.flemingtondiy.org
SUMMARY:Flemington Acoustic Players
DESCRIPTION:Calling all Hunterdon County pop/rock/folk stars!  Are you looking for a place to practice your acoustic guitar skills\, and maybe do some singing too?   \nOur merry band of music makers is open to players of all abilities! This gathering however is for Acoustic players ONLY; i.e guitars\, ukuleles\, mandolins & banjos. A drummer and/or an acoustic/electric bassist would be welcomed though to help us all stay in time. \nChords and lyrics to the songs will be projected on a screen so there’s no need for you to bring a music stand or tablet. We will be selecting tunes from a song book that includes a wide variety of rock/pop/folk classics. \nCome and have fun with us as we play and sing along to some of everyone’s favorite tunes! \nSuggested donation of $3-5www.flemingtondiy.org/acoustic/
URL:https://www.flemingtondiy.org/event/flemington-acoustic-players-69/
END:VEVENT
BEGIN:VEVENT
DTSTART;TZID=America/New_York:20250918T113000
DTEND;TZID=America/New_York:20250918T180000
DTSTAMP:20260425T074518
CREATED:20241221T233545Z
LAST-MODIFIED:20250917T233508Z
UID:10002885-1758195000-1758218400@www.flemingtondiy.org
SUMMARY:Open Hours
DESCRIPTION:Visit the space\, see our current art shows\, hang out\, and learn how to get involved!
URL:https://www.flemingtondiy.org/event/open-hours-220/
END:VEVENT
BEGIN:VEVENT
DTSTART;TZID=America/New_York:20250918T190000
DTEND;TZID=America/New_York:20250918T210000
DTSTAMP:20260425T074518
CREATED:20241023T233528Z
LAST-MODIFIED:20250918T233551Z
UID:10002660-1758222000-1758229200@www.flemingtondiy.org
SUMMARY:Monthly Open Bluegrass Jam
DESCRIPTION:Bring your instrument\, a couple of tunes\, some friends and your own refreshments. All players welcome – Beginner to pro!  \nFreewill basket to support DIY $5 suggested Open to all ages –strictly no alcohol  \nQuestions? Contact Ed: rvrecband@gmail.com / ejjank@gmail.com
URL:https://www.flemingtondiy.org/event/monthly-open-bluegrass-jam-9/
END:VEVENT
BEGIN:VEVENT
DTSTART;TZID=America/New_York:20250919T190000
DTEND;TZID=America/New_York:20250919T220000
DTSTAMP:20260425T074518
CREATED:20250521T235034Z
LAST-MODIFIED:20250919T233618Z
UID:10003202-1758308400-1758319200@www.flemingtondiy.org
SUMMARY:Third Friday Board Game Night!
DESCRIPTION:Third Friday Board Game Night running July-November 2025 \nAll ages | Bring your own game or play with one of ours | Meet new people\, have fun\, casual! No RSVP required\, just show up. Free to attend\, donations to Flemington DIY welcomed.
URL:https://www.flemingtondiy.org/event/third-friday-board-game-night-3/
END:VEVENT
BEGIN:VEVENT
DTSTART;TZID=America/New_York:20250920T193000
DTEND;TZID=America/New_York:20250920T223000
DTSTAMP:20260425T074518
CREATED:20250708T233535Z
LAST-MODIFIED:20250920T233546Z
UID:10003345-1758396600-1758407400@www.flemingtondiy.org
SUMMARY:Live Music - Jazz - Joe Rizzolo Quartet
DESCRIPTION:Joe Rizzolo Quartet   \nTim Hegarty-Tenor sax \nNat Janoff Guitar \nJohn Lenis Bass \nJoe Rizzolo Drums \nMore information and advance tickets link coming soon!  \nBecome a Cool Cat Jazz Card holder and get a deep discount on jazz show tickets!  Purchase one here:  https://form.jotform.com/243404827150148 \nMembers save even more! Become a member now: https://www.flemingtondiy.org/member/
URL:https://www.flemingtondiy.org/event/live-music-jazz-joe-rizzolo-quartet/
END:VEVENT
END:VCALENDAR