BEGIN:VCALENDAR
VERSION:2.0
PRODID:-//Flemington DIY - ECPv6.15.20//NONSGML v1.0//EN
CALSCALE:GREGORIAN
METHOD:PUBLISH
X-ORIGINAL-URL:https://www.flemingtondiy.org
X-WR-CALDESC:Events for Flemington DIY
REFRESH-INTERVAL;VALUE=DURATION:PT1H
X-Robots-Tag:noindex
X-PUBLISHED-TTL:PT1H
BEGIN:VTIMEZONE
TZID:America/New_York
BEGIN:DAYLIGHT
TZOFFSETFROM:-0500
TZOFFSETTO:-0400
TZNAME:EDT
DTSTART:20240310T070000
END:DAYLIGHT
BEGIN:STANDARD
TZOFFSETFROM:-0400
TZOFFSETTO:-0500
TZNAME:EST
DTSTART:20241103T060000
END:STANDARD
BEGIN:DAYLIGHT
TZOFFSETFROM:-0500
TZOFFSETTO:-0400
TZNAME:EDT
DTSTART:20250309T070000
END:DAYLIGHT
BEGIN:STANDARD
TZOFFSETFROM:-0400
TZOFFSETTO:-0500
TZNAME:EST
DTSTART:20251102T060000
END:STANDARD
BEGIN:DAYLIGHT
TZOFFSETFROM:-0500
TZOFFSETTO:-0400
TZNAME:EDT
DTSTART:20260308T070000
END:DAYLIGHT
BEGIN:STANDARD
TZOFFSETFROM:-0400
TZOFFSETTO:-0500
TZNAME:EST
DTSTART:20261101T060000
END:STANDARD
END:VTIMEZONE
BEGIN:VEVENT
DTSTART;TZID=America/New_York:20250513T190000
DTEND;TZID=America/New_York:20250513T210000
DTSTAMP:20260425T114459
CREATED:20240929T233642Z
LAST-MODIFIED:20250513T235021Z
UID:10002628-1747162800-1747170000@www.flemingtondiy.org
SUMMARY:Songwriter Circle
DESCRIPTION:Hey\, songwriters: Do you have songs that are half finished? Lyrics you’re not entirely happy with? A songwriting circle is not a performance. It’s an opportunity to connect with other songwriters\, play your song idea for us – whether it’s fully formed or not – and receive gentle\, respectful\, and constructive feedback. All genres welcome! Please bring a few hard copies of your lyrics to share (they’ll be returned to you). We have a piano available. Donations at the door
URL:https://www.flemingtondiy.org/event/songwriter-circle-27/
END:VEVENT
BEGIN:VEVENT
DTSTART;TZID=America/New_York:20250515T113000
DTEND;TZID=America/New_York:20250515T180000
DTSTAMP:20260425T114459
CREATED:20241221T233534Z
LAST-MODIFIED:20250513T235022Z
UID:10002849-1747308600-1747332000@www.flemingtondiy.org
SUMMARY:Open Hours
DESCRIPTION:Visit the space\, see our current art shows\, hang out\, and learn how to get involved!
URL:https://www.flemingtondiy.org/event/open-hours-184/
END:VEVENT
BEGIN:VEVENT
DTSTART;TZID=America/New_York:20250515T190000
DTEND;TZID=America/New_York:20250515T210000
DTSTAMP:20260425T114459
CREATED:20241023T233524Z
LAST-MODIFIED:20250515T233512Z
UID:10002656-1747335600-1747342800@www.flemingtondiy.org
SUMMARY:Monthly Open Bluegrass Jam
DESCRIPTION:Bring your instrument\, a couple of tunes\, some friends and your own refreshments. All players welcome – Beginner to pro!  \nFreewill basket to support DIY $5 suggested Open to all ages –strictly no alcohol  \nQuestions? Contact Ed: rvrecband@gmail.com / ejjank@gmail.com
URL:https://www.flemingtondiy.org/event/monthly-open-bluegrass-jam-5/
END:VEVENT
BEGIN:VEVENT
DTSTART;TZID=America/New_York:20250516T093000
DTEND;TZID=America/New_York:20250516T113000
DTSTAMP:20260425T114459
CREATED:20250208T233544Z
LAST-MODIFIED:20250515T233513Z
UID:10003055-1747387800-1747395000@www.flemingtondiy.org
SUMMARY:Music Together Spring Classes
DESCRIPTION:
URL:https://www.flemingtondiy.org/event/music-together-spring-classes-26/
END:VEVENT
BEGIN:VEVENT
DTSTART;TZID=America/New_York:20250516T190000
DTEND;TZID=America/New_York:20250516T220000
DTSTAMP:20260425T114459
CREATED:20250312T235039Z
LAST-MODIFIED:20250516T235130Z
UID:10003107-1747422000-1747432800@www.flemingtondiy.org
SUMMARY:Live Music - Punk / Alt / Indie
DESCRIPTION:The Wedding Funeral (Gothic Country/Folk Punk)Eighty (Emo/Alternative)Redeye (Post-Hardcore/Pop Punk)Lips of Strangers (Indie Pop) \nDoors @ 7:00$15All AgesNo Drugs/No Alcohol
URL:https://www.flemingtondiy.org/event/live-music-98/
END:VEVENT
BEGIN:VEVENT
DTSTART;TZID=America/New_York:20250517T090000
DTEND;TZID=America/New_York:20250517T120000
DTSTAMP:20260425T114459
CREATED:20250208T233545Z
LAST-MODIFIED:20250516T235130Z
UID:10003056-1747472400-1747483200@www.flemingtondiy.org
SUMMARY:Music Together Spring Classes
DESCRIPTION:
URL:https://www.flemingtondiy.org/event/music-together-spring-classes-27/
END:VEVENT
BEGIN:VEVENT
DTSTART;TZID=America/New_York:20250517T130000
DTEND;TZID=America/New_York:20250517T160000
DTSTAMP:20260425T114459
CREATED:20250122T235043Z
LAST-MODIFIED:20250516T235130Z
UID:10002994-1747486800-1747497600@www.flemingtondiy.org
SUMMARY:Research-In at HC Library
DESCRIPTION:
URL:https://www.flemingtondiy.org/event/research-in-at-hc-library/
LOCATION:Hunterdon County Library – Headquarters 314 State Route 12\, 835 Bolduc Loop\, Flemington\, NJ\, United States
GEO:40.280149;-74.150077
X-APPLE-STRUCTURED-LOCATION;VALUE=URI;X-ADDRESS=Hunterdon County Library – Headquarters 314 State Route 12 835 Bolduc Loop Flemington NJ United States;X-APPLE-RADIUS=500;X-TITLE=835 Bolduc Loop:geo:-74.150077,40.280149
END:VEVENT
BEGIN:VEVENT
DTSTART;TZID=America/New_York:20250517T200000
DTEND;TZID=America/New_York:20250517T220000
DTSTAMP:20260425T114459
CREATED:20241126T233544Z
LAST-MODIFIED:20250517T235011Z
UID:10002733-1747512000-1747519200@www.flemingtondiy.org
SUMMARY:Live Jazz - Heyman
DESCRIPTION:Heyman explores a vast sonic territory of jazz and improvised music. This is a band of innovative improvisers who are all accomplished individuals and long-time musical partners. Michael Hudson-Casanova’s compositions have been praised for being “complex and nuanced\, inventive and accessible.”  While Hudson-Casanova now leads this band from his permanent musical home-base in Chicago\, all of these musicians spend a great deal of time on the Philadelphia music scene\, not to mention touring the country with other renowned musical acts. \nMike Lorenz hails from Bethlehem\, PA. For over a decade\, Mike has kept a busy schedule as a freelancing performer and educator\, leading his trio/quartet in performances up and down the Northeast Corridor on many festivals and club stages. \nMatt Scarano is a drummer\, composer\, and educator living in Philadelphia\, PA. Over the years he has established himself as one of the Philadelphia region’s most sought after drummers for both live and studio performance in a wide variety of styles. Matt has performed throughout the world\, sharing the stage with numerous world-class musicians and artists including Chris Brubeck\, Time For Three\, Ben Schachter\, Matisyahu\, Dick Oatts\, John Swana\, Larry McKenna\, and Dave Allen. \nSandy Eldred is an internationally acclaimed bassist\, composer\, producer\, and music educator residing in Philadelphia\, PA. He is known for his inventiveness and command across music genres. Eldred is the founder of record label\, Each and Only\, and is a recording artist for Ukrainian record label\, LabelWhoAble. \nDoors at 7:30 PM\, Music at 8:00 PM.  \nTickets $18 Advance//$22 Door//15% off for Members! www.flemingtondiy.org/jazz
URL:https://www.flemingtondiy.org/event/live-jazz-heyman/
END:VEVENT
BEGIN:VEVENT
DTSTART;TZID=America/New_York:20250518T183000
DTEND;TZID=America/New_York:20250518T220000
DTSTAMP:20260425T114459
CREATED:20250427T233551Z
LAST-MODIFIED:20250518T235058Z
UID:10003156-1747593000-1747605600@www.flemingtondiy.org
SUMMARY:Live Music - Noise
DESCRIPTION:Clearance (NYC)Harsh Noise \nKevin Winter (Philly)https://kevinwinter.bandcamp.com/album/june-2023Synthesizer Improvisation  \nNaoclhttps://naocl.bandcamp.com/album/gullN.J. Harsh Noise \nLegless (Philly)Harsh Noise \ninarticuksssshhk973NJ Harsh Noise \nStorage Locker Suicide Feedback-Heavy Power electronics \n$10Doors @ 6:00pmNo Drugs/No Alcohol All Ages
URL:https://www.flemingtondiy.org/event/live-music-noise/
END:VEVENT
BEGIN:VEVENT
DTSTART;TZID=America/New_York:20250519T093000
DTEND;TZID=America/New_York:20250519T113000
DTSTAMP:20260425T114459
CREATED:20250208T233545Z
LAST-MODIFIED:20250518T235058Z
UID:10003057-1747647000-1747654200@www.flemingtondiy.org
SUMMARY:Music Together Spring Classes
DESCRIPTION:
URL:https://www.flemingtondiy.org/event/music-together-spring-classes-28/
END:VEVENT
BEGIN:VEVENT
DTSTART;TZID=America/New_York:20250519T163000
DTEND;TZID=America/New_York:20250519T173000
DTSTAMP:20260425T114459
CREATED:20250403T233532Z
LAST-MODIFIED:20250518T235059Z
UID:10003125-1747672200-1747675800@www.flemingtondiy.org
SUMMARY:Music Together Spring 2025 Evening Classes
DESCRIPTION:
URL:https://www.flemingtondiy.org/event/music-together-spring-2025-evening-classes-7/
END:VEVENT
BEGIN:VEVENT
DTSTART;TZID=America/New_York:20250519T180000
DTEND;TZID=America/New_York:20250519T200000
DTSTAMP:20260425T114459
CREATED:20241220T233619Z
LAST-MODIFIED:20250519T235012Z
UID:10002795-1747677600-1747684800@www.flemingtondiy.org
SUMMARY:Hunterdon Fiber Artist Meeting
DESCRIPTION:Looking to meet other fiber artists in the Hunterdon county area?  Think about coming to Hunterdon Fiber Artists meet up to socialize and connect with others doing the fiber art craft that they love. \nAll are welcome.  Just bring your craft be it knitting\, crocheting\, spinning\, etc.\, and be prepared to meet lots of fun and interesting people!  We even have mini educational talks on requested topics! \nOur FB group is Hunterdon Fiber Artists https://www.facebook.com/groups/1101970274078722 \nOur Ravelry group is https://www.ravelry.com/groups/hunterdon-fiber-artists?s=tab \nEvery other Monday at DIY; $3-5 suggested donation.
URL:https://www.flemingtondiy.org/event/hunterdon-fiber-artist-meeting-61/
END:VEVENT
BEGIN:VEVENT
DTSTART;TZID=America/New_York:20250519T180000
DTEND;TZID=America/New_York:20250519T210000
DTSTAMP:20260425T114459
CREATED:20231107T010613Z
LAST-MODIFIED:20250519T235012Z
UID:10001871-1747677600-1747688400@www.flemingtondiy.org
SUMMARY:Print Club
DESCRIPTION:Flemington DIY Print Club is a weekly open studio held from 6-9PM every Monday\, $15-30 per printer. It provides an opportunity for local artists and community members new to arts processes to utilize shared printmaking facilities. Print Club provides a platform for artists to network\, build community\, and work collaboratively. \nNo experience? No problem! Our vounteers will guide you through the process from start to finish! \nLearn more: https://www.flemingtondiy.org/printclub/
URL:https://www.flemingtondiy.org/event/print-club-233/
END:VEVENT
BEGIN:VEVENT
DTSTART;TZID=America/New_York:20250520T093000
DTEND;TZID=America/New_York:20250520T123000
DTSTAMP:20260425T114459
CREATED:20250208T233546Z
LAST-MODIFIED:20250519T235012Z
UID:10003058-1747733400-1747744200@www.flemingtondiy.org
SUMMARY:Music Together Spring Classes
DESCRIPTION:
URL:https://www.flemingtondiy.org/event/music-together-spring-classes-29/
END:VEVENT
BEGIN:VEVENT
DTSTART;TZID=America/New_York:20250520T123000
DTEND;TZID=America/New_York:20250520T180000
DTSTAMP:20260425T114459
CREATED:20250207T233523Z
LAST-MODIFIED:20250519T235012Z
UID:10003027-1747744200-1747764000@www.flemingtondiy.org
SUMMARY:Open Hours
DESCRIPTION:Visit the space\, see our current art shows\, hang out\, and learn how to get involved!
URL:https://www.flemingtondiy.org/event/open-hours-258/
END:VEVENT
BEGIN:VEVENT
DTSTART;TZID=America/New_York:20250520T183000
DTEND;TZID=America/New_York:20250520T203000
DTSTAMP:20260425T114459
CREATED:20240928T233703Z
LAST-MODIFIED:20250520T235104Z
UID:10002595-1747765800-1747773000@www.flemingtondiy.org
SUMMARY:Flemington Acoustic Players
DESCRIPTION:Calling all Hunterdon County pop/rock/folk stars!  Are you looking for a place to practice your acoustic guitar skills\, and maybe do some singing too?   \nOur merry band of music makers is open to players of all abilities! This gathering however is for Acoustic players ONLY; i.e guitars\, ukuleles\, mandolins & banjos. A drummer and/or an acoustic/electric bassist would be welcomed though to help us all stay in time. \nChords and lyrics to the songs will be projected on a screen so there’s no need for you to bring a music stand or tablet. We will be selecting tunes from a song book that includes a wide variety of rock/pop/folk classics. \nCome and have fun with us as we play and sing along to some of everyone’s favorite tunes! \nSuggested donation of $3-5www.flemingtondiy.org/acoustic/
URL:https://www.flemingtondiy.org/event/flemington-acoustic-players-65/
END:VEVENT
BEGIN:VEVENT
DTSTART;TZID=America/New_York:20250522T113000
DTEND;TZID=America/New_York:20250522T180000
DTSTAMP:20260425T114459
CREATED:20241221T233534Z
LAST-MODIFIED:20250521T235057Z
UID:10002851-1747913400-1747936800@www.flemingtondiy.org
SUMMARY:Open Hours
DESCRIPTION:Visit the space\, see our current art shows\, hang out\, and learn how to get involved!
URL:https://www.flemingtondiy.org/event/open-hours-186/
END:VEVENT
BEGIN:VEVENT
DTSTART;TZID=America/New_York:20250523T093000
DTEND;TZID=America/New_York:20250523T113000
DTSTAMP:20260425T114459
CREATED:20250208T233546Z
LAST-MODIFIED:20250522T235046Z
UID:10003059-1747992600-1747999800@www.flemingtondiy.org
SUMMARY:Music Together Spring Classes
DESCRIPTION:
URL:https://www.flemingtondiy.org/event/music-together-spring-classes-30/
END:VEVENT
BEGIN:VEVENT
DTSTART;TZID=America/New_York:20250524T090000
DTEND;TZID=America/New_York:20250524T120000
DTSTAMP:20260425T114459
CREATED:20250208T233546Z
LAST-MODIFIED:20250522T235046Z
UID:10003060-1748077200-1748088000@www.flemingtondiy.org
SUMMARY:Music Together Spring Classes
DESCRIPTION:
URL:https://www.flemingtondiy.org/event/music-together-spring-classes-31/
END:VEVENT
BEGIN:VEVENT
DTSTART;TZID=America/New_York:20250525T080000
DTEND;TZID=America/New_York:20250525T100000
DTSTAMP:20260425T114459
CREATED:20250519T235013Z
LAST-MODIFIED:20250524T233545Z
UID:10003184-1748160000-1748167200@www.flemingtondiy.org
SUMMARY:Community Bird Sit
DESCRIPTION:Last Sunday of the month. 8am-10am. Location will change monthly and be sent to registrants \nJoin us on recurring community bird sits to meet some friends and see some birds! Witness migration from the comfort of a chair or blanket! Come have your morning coffee with us and watch some birds!  \nPlease bring binoculars if you’ve got ’em. \nRegistration required: https://www.flemingtondiy.org/bird/Suggested donation will benefit Flemington DIY and the Raptor Trust.
URL:https://www.flemingtondiy.org/event/community-bird-sit/
END:VEVENT
BEGIN:VEVENT
DTSTART;TZID=America/New_York:20250526T163000
DTEND;TZID=America/New_York:20250526T173000
DTSTAMP:20260425T114459
CREATED:20250403T233534Z
LAST-MODIFIED:20250525T235046Z
UID:10003126-1748277000-1748280600@www.flemingtondiy.org
SUMMARY:Music Together Spring 2025 Evening Classes
DESCRIPTION:
URL:https://www.flemingtondiy.org/event/music-together-spring-2025-evening-classes-8/
END:VEVENT
BEGIN:VEVENT
DTSTART;TZID=America/New_York:20250527T093000
DTEND;TZID=America/New_York:20250527T123000
DTSTAMP:20260425T114459
CREATED:20250208T233546Z
LAST-MODIFIED:20250525T235046Z
UID:10003061-1748338200-1748349000@www.flemingtondiy.org
SUMMARY:Music Together Spring Classes
DESCRIPTION:
URL:https://www.flemingtondiy.org/event/music-together-spring-classes-32/
END:VEVENT
BEGIN:VEVENT
DTSTART;TZID=America/New_York:20250527T123000
DTEND;TZID=America/New_York:20250527T180000
DTSTAMP:20260425T114459
CREATED:20250207T233523Z
LAST-MODIFIED:20250525T235046Z
UID:10003028-1748349000-1748368800@www.flemingtondiy.org
SUMMARY:Open Hours
DESCRIPTION:Visit the space\, see our current art shows\, hang out\, and learn how to get involved!
URL:https://www.flemingtondiy.org/event/open-hours-259/
END:VEVENT
BEGIN:VEVENT
DTSTART;TZID=America/New_York:20250528T193000
DTEND;TZID=America/New_York:20250528T213000
DTSTAMP:20260425T114459
CREATED:20250224T233547Z
LAST-MODIFIED:20250528T233655Z
UID:10003082-1748460600-1748467800@www.flemingtondiy.org
SUMMARY:Poetry Open Mic
DESCRIPTION:Community members of all levels are invited to read their poetry and listen to the work of others. If you’re looking for a welcoming group of emerging and established poets and beatniks\, this is for you! \nShow up and sign up. No pre-registration to participate. Donations for the space encouraged at the door. All ages but please be aware that mature and sometimes sensitive topics are explored and mentioned at this event.
URL:https://www.flemingtondiy.org/event/poetry-open-mic-44/
END:VEVENT
BEGIN:VEVENT
DTSTART;TZID=America/New_York:20250529T113000
DTEND;TZID=America/New_York:20250529T180000
DTSTAMP:20260425T114459
CREATED:20241221T233535Z
LAST-MODIFIED:20250528T233655Z
UID:10002853-1748518200-1748541600@www.flemingtondiy.org
SUMMARY:Open Hours
DESCRIPTION:Visit the space\, see our current art shows\, hang out\, and learn how to get involved!
URL:https://www.flemingtondiy.org/event/open-hours-188/
END:VEVENT
BEGIN:VEVENT
DTSTART;TZID=America/New_York:20250530T093000
DTEND;TZID=America/New_York:20250530T113000
DTSTAMP:20260425T114459
CREATED:20250208T233547Z
LAST-MODIFIED:20250529T233607Z
UID:10003062-1748597400-1748604600@www.flemingtondiy.org
SUMMARY:Music Together Spring Classes
DESCRIPTION:
URL:https://www.flemingtondiy.org/event/music-together-spring-classes-33/
END:VEVENT
BEGIN:VEVENT
DTSTART;TZID=America/New_York:20250531T090000
DTEND;TZID=America/New_York:20250531T120000
DTSTAMP:20260425T114459
CREATED:20250208T233547Z
LAST-MODIFIED:20250530T235050Z
UID:10003063-1748682000-1748692800@www.flemingtondiy.org
SUMMARY:Music Together Spring Classes
DESCRIPTION:
URL:https://www.flemingtondiy.org/event/music-together-spring-classes-34/
END:VEVENT
BEGIN:VEVENT
DTSTART;TZID=America/New_York:20250601T080000
DTEND;TZID=America/New_York:20250601T100000
DTSTAMP:20260425T114459
CREATED:20250519T235014Z
LAST-MODIFIED:20250530T235050Z
UID:10003185-1748764800-1748772000@www.flemingtondiy.org
SUMMARY:Community Bird Walk
DESCRIPTION:It’s spring migration! Join us on a community bird walk to meet some friends and see some birds!  \nPlease bring binoculars if you’ve got ’em.Registration required: https://forms.gle/FKueAyN256whVP297Meeting location to be sent ahead of event. \nSuggested donation will benefit Flemington DIY and the Raptor Trust.
URL:https://www.flemingtondiy.org/event/community-bird-walk-2/
END:VEVENT
BEGIN:VEVENT
DTSTART;TZID=America/New_York:20250601T090000
DTEND;TZID=America/New_York:20250601T140000
DTSTAMP:20260425T114459
CREATED:20250519T235015Z
LAST-MODIFIED:20250530T235050Z
UID:10003186-1748768400-1748786400@www.flemingtondiy.org
SUMMARY:2nd Annual Stangl Karmafest
DESCRIPTION:🌸 Stangl Karma Fest 2025 🌸Date: Sunday\, June 1st\, 2025Time: 9:00 AM – 3:00 PMLocation: Stangl Road\, Flemington\, NJWebsite: wildfloweryogacollective.com/karmafest \nJoin us for the 2nd Annual Karma Fest — a vibrant\, family-friendly celebration of community\, creativity\, healing\, and movement! Stretch\, dance\, explore\, and connect with offerings for all ages. \n✨ Highlights Include:• Free Yoga Classes (Gentle\, TRX\, Mixed Level)• Workshops (Art\, Mindfulness\, Essential Oils\, Tea Leaf Reading & more)• Live Music & Open Jazz Jams• Kids Yoga Zone\, Hula Hooping\, and Family Activities• Drum Circle with Alex Gonzalez• D.J. Zone with Andrew Ho• Tarot\, Birth Chart & Reiki Readings (fee)• Aura Photography (fee)• Food Trucks\, Artisan Vendors\, and more! \n🌀 Presented by Wildflower Yoga Collective \n💜 Follow updates on Facebook @StanglKarmaFest
URL:https://www.flemingtondiy.org/event/2nd-annual-stangl-karmafest-2/
END:VEVENT
BEGIN:VEVENT
DTSTART;TZID=America/New_York:20250601T090000
DTEND;TZID=America/New_York:20250601T150000
DTSTAMP:20260425T114459
CREATED:20250404T235057Z
LAST-MODIFIED:20250530T235050Z
UID:10003129-1748768400-1748790000@www.flemingtondiy.org
SUMMARY:2nd Annual Stangl Karmafest
DESCRIPTION:●      6/1/25: Sunday\, 10 am – 3 pm: 2nd Annual  – on Stangl  \nJoin with Google Meet: https://meet.google.com/typ-qkor-ohmOr dial: (US) +1 347-773-4211 PIN: 145615648#More phone numbers: https://tel.meet/typ-qkor-ohm?pin=5996387571785&hs=7 \nLearn more about Meet at: https://support.google.com/a/users/answer/9282720
URL:https://www.flemingtondiy.org/event/2nd-annual-stangl-karmafest/
ORGANIZER;CN="director@flemingtoncommunitypartnership.org":MAILTO:director@flemingtoncommunitypartnership.org
END:VEVENT
END:VCALENDAR