BEGIN:VCALENDAR
VERSION:2.0
PRODID:-//Flemington DIY - ECPv6.15.20//NONSGML v1.0//EN
CALSCALE:GREGORIAN
METHOD:PUBLISH
X-ORIGINAL-URL:https://www.flemingtondiy.org
X-WR-CALDESC:Events for Flemington DIY
REFRESH-INTERVAL;VALUE=DURATION:PT1H
X-Robots-Tag:noindex
X-PUBLISHED-TTL:PT1H
BEGIN:VTIMEZONE
TZID:America/New_York
BEGIN:DAYLIGHT
TZOFFSETFROM:-0500
TZOFFSETTO:-0400
TZNAME:EDT
DTSTART:20240310T070000
END:DAYLIGHT
BEGIN:STANDARD
TZOFFSETFROM:-0400
TZOFFSETTO:-0500
TZNAME:EST
DTSTART:20241103T060000
END:STANDARD
BEGIN:DAYLIGHT
TZOFFSETFROM:-0500
TZOFFSETTO:-0400
TZNAME:EDT
DTSTART:20250309T070000
END:DAYLIGHT
BEGIN:STANDARD
TZOFFSETFROM:-0400
TZOFFSETTO:-0500
TZNAME:EST
DTSTART:20251102T060000
END:STANDARD
BEGIN:DAYLIGHT
TZOFFSETFROM:-0500
TZOFFSETTO:-0400
TZNAME:EDT
DTSTART:20260308T070000
END:DAYLIGHT
BEGIN:STANDARD
TZOFFSETFROM:-0400
TZOFFSETTO:-0500
TZNAME:EST
DTSTART:20261101T060000
END:STANDARD
END:VTIMEZONE
BEGIN:VEVENT
DTSTART;TZID=America/New_York:20251109T090000
DTEND;TZID=America/New_York:20251109T140000
DTSTAMP:20260424T034907
CREATED:20251028T235222Z
LAST-MODIFIED:20251108T233734Z
UID:10003518-1762678800-1762696800@www.flemingtondiy.org
SUMMARY:The Artist Is In
DESCRIPTION:The Artist is InThe Art of Letter Cutting\, Eric Spencer\, 10am – 1pmLess is more – The improvised photo studio\, Nolan YamashiroSculpting out of a single lump of clay\, Ben VoglerSheltering Islands a Rock & Clay workshop on mixed-media miniature sculpture\, Simon Keller.         10am – 1pm\, RSVP 10 participants max.\, materials provided\,         no prior experience needed. Walk-ins welcome. Fee: $20.00 per person.
URL:https://www.flemingtondiy.org/event/the-artist-is-in/
END:VEVENT
BEGIN:VEVENT
DTSTART;TZID=America/New_York:20251109T143000
DTEND;TZID=America/New_York:20251109T170000
DTSTAMP:20260424T034907
CREATED:20250304T233544Z
LAST-MODIFIED:20251108T233735Z
UID:10003101-1762698600-1762707600@www.flemingtondiy.org
SUMMARY:Women's Comedy Open Mic
DESCRIPTION:Ever wanted to share a joke with your friends? Have a friend who you think is hilarious but don’t know how to let other ladies know about her talent? Here’s an opportunity to give it a try. Enjoy a safe space to share laughs – and if you fail – it’s ok to get up and try again!
URL:https://www.flemingtondiy.org/event/womens-comedy-open-mic-35/
END:VEVENT
BEGIN:VEVENT
DTSTART;TZID=America/New_York:20251109T180000
DTEND;TZID=America/New_York:20251109T210000
DTSTAMP:20260424T034907
CREATED:20251028T235222Z
LAST-MODIFIED:20251109T235236Z
UID:10003519-1762711200-1762722000@www.flemingtondiy.org
SUMMARY:The Artist Is In
DESCRIPTION:
URL:https://www.flemingtondiy.org/event/the-artist-is-in-2/
END:VEVENT
BEGIN:VEVENT
DTSTART;TZID=America/New_York:20251110T180000
DTEND;TZID=America/New_York:20251110T200000
DTSTAMP:20260424T034907
CREATED:20250916T233518Z
LAST-MODIFIED:20251110T235211Z
UID:10003423-1762797600-1762804800@www.flemingtondiy.org
SUMMARY:Photography Skillshare
DESCRIPTION:This skillshare is for anyone interested in photography and interested in learning from one another. Please come whether you are interested in learning and/or sharing tips or teaching others. Activity will be guided by the interests and skills of attendees. \nWhat to bring: Any camera including phone cameras.  Interchangeable lens cameras are encouraged. Film cameras are also welcome!  \nREGISTRATION REQUIRED: https://form.jotform.com/252577171465160
URL:https://www.flemingtondiy.org/event/photograph-skillshare/
END:VEVENT
BEGIN:VEVENT
DTSTART;TZID=America/New_York:20251110T180000
DTEND;TZID=America/New_York:20251110T210000
DTSTAMP:20260424T034907
CREATED:20231110T012039Z
LAST-MODIFIED:20251110T235211Z
UID:10001897-1762797600-1762808400@www.flemingtondiy.org
SUMMARY:Print Club
DESCRIPTION:Flemington DIY Print Club is a weekly open studio held from 6-9PM every Monday\, $15-30 per printer. It provides an opportunity for local artists and community members new to arts processes to utilize shared printmaking facilities. Print Club provides a platform for artists to network\, build community\, and work collaboratively. \nNo experience? No problem! Our vounteers will guide you through the process from start to finish! \nLearn more: https://www.flemingtondiy.org/printclub/
URL:https://www.flemingtondiy.org/event/print-club-168/
END:VEVENT
BEGIN:VEVENT
DTSTART;TZID=America/New_York:20251111T113000
DTEND;TZID=America/New_York:20251111T180000
DTSTAMP:20260424T034907
CREATED:20250602T233537Z
LAST-MODIFIED:20251110T235211Z
UID:10003234-1762860600-1762884000@www.flemingtondiy.org
SUMMARY:Open Hours
DESCRIPTION:Visit the space\, see our current art shows\, hang out\, and learn how to get involved!
URL:https://www.flemingtondiy.org/event/open-hours-217/
END:VEVENT
BEGIN:VEVENT
DTSTART;TZID=America/New_York:20251111T190000
DTEND;TZID=America/New_York:20251111T210000
DTSTAMP:20260424T034907
CREATED:20240929T233648Z
LAST-MODIFIED:20251111T235235Z
UID:10002634-1762887600-1762894800@www.flemingtondiy.org
SUMMARY:Songwriter Circle
DESCRIPTION:Hey\, songwriters: Do you have songs that are half finished? Lyrics you’re not entirely happy with? A songwriting circle is not a performance. It’s an opportunity to connect with other songwriters\, play your song idea for us – whether it’s fully formed or not – and receive gentle\, respectful\, and constructive feedback. All genres welcome! Please bring a few hard copies of your lyrics to share (they’ll be returned to you). We have a piano available. Donations at the door
URL:https://www.flemingtondiy.org/event/songwriter-circle-33/
END:VEVENT
BEGIN:VEVENT
DTSTART;TZID=America/New_York:20251113T113000
DTEND;TZID=America/New_York:20251113T180000
DTSTAMP:20260424T034907
CREATED:20241221T233550Z
LAST-MODIFIED:20251111T235235Z
UID:10002901-1763033400-1763056800@www.flemingtondiy.org
SUMMARY:Open Hours
DESCRIPTION:Visit the space\, see our current art shows\, hang out\, and learn how to get involved!
URL:https://www.flemingtondiy.org/event/open-hours-236/
END:VEVENT
BEGIN:VEVENT
DTSTART;TZID=America/New_York:20251113T180000
DTEND;TZID=America/New_York:20251113T200000
DTSTAMP:20260424T034907
CREATED:20250106T235054Z
LAST-MODIFIED:20251113T233731Z
UID:10002933-1763056800-1763064000@www.flemingtondiy.org
SUMMARY:ASL Chat
DESCRIPTION:American Sign Language (ASL) is the predominant sign language of deaf and hard of hearing people in the United States. If you know or are learning ASL\, come sign with us in a casual and supportive space. Deaf\, hard of hearing\, and hearing people are welcome. Come socialize and make new friends in a voice-off environment!  \nFlemington DIY ASL Chats are in person and free to attend. There is no registration required. Please note that everyone is expected to use ASL to communicate during the events.
URL:https://www.flemingtondiy.org/event/asl-chat-5/
END:VEVENT
BEGIN:VEVENT
DTSTART;TZID=America/New_York:20251114T190000
DTEND;TZID=America/New_York:20251114T220000
DTSTAMP:20260424T034907
CREATED:20251026T235223Z
LAST-MODIFIED:20251114T235210Z
UID:10003513-1763146800-1763157600@www.flemingtondiy.org
SUMMARY:Live Music - Metal
DESCRIPTION:Corpse Farmer (Sludge/Noise Metal)Messiahnide (Black Metal)Necrophiliac Yacht Club (Funeral Groove)Waffle House of 1000 Corpses (Sludge/Noise Metal) \n$10Doors @6:30\, Music @7:00All agesNo drugs/no alcohol
URL:https://www.flemingtondiy.org/event/live-music-metal-5/
END:VEVENT
BEGIN:VEVENT
DTSTART;TZID=America/New_York:20251115T090000
DTEND;TZID=America/New_York:20251115T143000
DTSTAMP:20260424T034907
CREATED:20251028T235223Z
LAST-MODIFIED:20251114T235211Z
UID:10003520-1763197200-1763217000@www.flemingtondiy.org
SUMMARY:Gallery Open Hours and Art Making
DESCRIPTION:Art as you pleaseYou make it up
URL:https://www.flemingtondiy.org/event/gallery-open-hours-and-art-making/
END:VEVENT
BEGIN:VEVENT
DTSTART;TZID=America/New_York:20251115T150000
DTEND;TZID=America/New_York:20251115T170000
DTSTAMP:20260424T034907
CREATED:20250813T235022Z
LAST-MODIFIED:20251114T235211Z
UID:10003398-1763218800-1763226000@www.flemingtondiy.org
SUMMARY:Art Circle Book Binding
DESCRIPTION:
URL:https://www.flemingtondiy.org/event/art-circle-book-binding/
END:VEVENT
BEGIN:VEVENT
DTSTART;TZID=America/New_York:20251115T200000
DTEND;TZID=America/New_York:20251115T220000
DTSTAMP:20260424T034907
CREATED:20250805T233526Z
LAST-MODIFIED:20251115T235229Z
UID:10003392-1763236800-1763244000@www.flemingtondiy.org
SUMMARY:Live Music - Jazz - Alexa Torres & Mario Wellmann Quartet
DESCRIPTION:Alexa Torres & Mario Wellmann Quartet \nAlexa Torres Alexa Torres is a Latinx jazz violinist\, composer\, and ethnographic researcher based in Austin and New York. She has performed across the U.S.\, Latin America\, and Europe\, sharing the stage with Grammy-winning artists such as Kurt Elling and Mon Laferte. Her work blends contemplative melody\, rich harmonic textures\, and atypical forms. Her 2024 debut\, In Situ\, received airplay on NPR and coverage in Strings Magazine and All About Jazz. Earlier this year she was nominated in the “Best Strings” category for the 2025 Austin Music Awards.Website: www.alexatorresmusic.comInstagram: @alexatorresmusic \nMario Wellmann Chilean jazz guitarist and composer based in New York and Austin. A two-time DownBeat Student Music Award recipient\, Mario has performed in South America\, Europe\, and the U.S.\, sharing the stage with artists including Sinne Eeg and Kurt Elling. His writing and improvisation fuse modern aesthetics with jazz traditions.Website: www.mariowellmann.comInstagram: @mariowguitar \nThe Alexa Torres & Mario Wellmann Quartet presents original music that weaves contemporary jazz language with rhythmic ideas from Latin America. This Fall 2025 tour frames the music around reconstruction—building sound worlds from fragments of melody and memory: Chile’s democratic rebuilding after the dictatorship\, the post-earthquake/tsunami recovery of communities\, the personal reweaving of lives shaped by exile and diaspora\, among other themes. Anchoring the group are Guillermo López (MM\, Juilliard; appearances at Blue Note\, Smalls\, and Dizzy’s) and Daniel Dufour (performances with Seamus Blake\, Rotem Sivan\, and others across the U.S.; faculty at UT Austin). \nDoors open at 7:30 PM; Music begins at 8:00 PM. \nTickets are $18 in advance and $22 at the door.  \nPlease click here for tickets. 
URL:https://www.flemingtondiy.org/event/live-music-jazz-alexa-torres-mario-wellmann-quartet/
END:VEVENT
BEGIN:VEVENT
DTSTART;TZID=America/New_York:20251116T090000
DTEND;TZID=America/New_York:20251116T133000
DTSTAMP:20260424T034907
CREATED:20251028T235223Z
LAST-MODIFIED:20251115T235229Z
UID:10003521-1763283600-1763299800@www.flemingtondiy.org
SUMMARY:Clay Dance & Pentatonic Permutations
DESCRIPTION:Meditation on Geologic Metabolism in motion\, Simon Keller● Pentatonic Permutations\, soundscape  live streaming\, Benjamin Heidersberger10 am – 12 pm\, RSVP 5 participants max.\, material provided\, recommended donation for participants: $10.00.
URL:https://www.flemingtondiy.org/event/clay-dance-pentatonic-permutations/
END:VEVENT
BEGIN:VEVENT
DTSTART;TZID=America/New_York:20251117T180000
DTEND;TZID=America/New_York:20251117T200000
DTSTAMP:20260424T034907
CREATED:20241220T233627Z
LAST-MODIFIED:20251117T235226Z
UID:10002808-1763402400-1763409600@www.flemingtondiy.org
SUMMARY:Hunterdon Fiber Artist Meeting
DESCRIPTION:Looking to meet other fiber artists in the Hunterdon county area?  Think about coming to Hunterdon Fiber Artists meet up to socialize and connect with others doing the fiber art craft that they love. \nAll are welcome.  Just bring your craft be it knitting\, crocheting\, spinning\, etc.\, and be prepared to meet lots of fun and interesting people!  We even have mini educational talks on requested topics! \nOur FB group is Hunterdon Fiber Artists https://www.facebook.com/groups/1101970274078722 \nOur Ravelry group is https://www.ravelry.com/groups/hunterdon-fiber-artists?s=tab \nEvery other Monday at DIY; $3-5 suggested donation.
URL:https://www.flemingtondiy.org/event/hunterdon-fiber-artist-meeting-74/
END:VEVENT
BEGIN:VEVENT
DTSTART;TZID=America/New_York:20251117T180000
DTEND;TZID=America/New_York:20251117T210000
DTSTAMP:20260424T034907
CREATED:20231117T015028Z
LAST-MODIFIED:20251117T235226Z
UID:10001906-1763402400-1763413200@www.flemingtondiy.org
SUMMARY:Print Club
DESCRIPTION:Flemington DIY Print Club is a weekly open studio held from 6-9PM every Monday\, $15-30 per printer. It provides an opportunity for local artists and community members new to arts processes to utilize shared printmaking facilities. Print Club provides a platform for artists to network\, build community\, and work collaboratively. \nNo experience? No problem! Our vounteers will guide you through the process from start to finish! \nLearn more: https://www.flemingtondiy.org/printclub/
URL:https://www.flemingtondiy.org/event/print-club-258/
END:VEVENT
BEGIN:VEVENT
DTSTART;TZID=America/New_York:20251118T113000
DTEND;TZID=America/New_York:20251118T180000
DTSTAMP:20260424T034907
CREATED:20250602T233537Z
LAST-MODIFIED:20251117T235226Z
UID:10003235-1763465400-1763488800@www.flemingtondiy.org
SUMMARY:Open Hours
DESCRIPTION:Visit the space\, see our current art shows\, hang out\, and learn how to get involved!
URL:https://www.flemingtondiy.org/event/open-hours-219/
END:VEVENT
BEGIN:VEVENT
DTSTART;TZID=America/New_York:20251118T183000
DTEND;TZID=America/New_York:20251118T203000
DTSTAMP:20260424T034907
CREATED:20240928T233728Z
LAST-MODIFIED:20251118T235229Z
UID:10002613-1763490600-1763497800@www.flemingtondiy.org
SUMMARY:Flemington Acoustic Players
DESCRIPTION:Calling all Hunterdon County pop/rock/folk stars!  Are you looking for a place to practice your acoustic guitar skills\, and maybe do some singing too?   \nOur merry band of music makers is open to players of all abilities! This gathering however is for Acoustic players ONLY; i.e guitars\, ukuleles\, mandolins & banjos. A drummer and/or an acoustic/electric bassist would be welcomed though to help us all stay in time. \nChords and lyrics to the songs will be projected on a screen so there’s no need for you to bring a music stand or tablet. We will be selecting tunes from a song book that includes a wide variety of rock/pop/folk classics. \nCome and have fun with us as we play and sing along to some of everyone’s favorite tunes! \nSuggested donation of $3-5www.flemingtondiy.org/acoustic/
URL:https://www.flemingtondiy.org/event/flemington-acoustic-players-85/
END:VEVENT
BEGIN:VEVENT
DTSTART;TZID=America/New_York:20251119T183000
DTEND;TZID=America/New_York:20251119T203000
DTSTAMP:20260424T034907
CREATED:20250916T233519Z
LAST-MODIFIED:20251118T235229Z
UID:10003424-1763577000-1763584200@www.flemingtondiy.org
SUMMARY:Light Painting/Night Photography Workshop
DESCRIPTION:For all skill levels. This will be an informal workshop/practice session to learn the basics of lightpainting and experiment with more advanced techniques. \nWhat to bring:  \nRequired: Tripod (or means to stabilize camera)\, a camera that allows full manual control\, flashlights or any other light source to use as paintbrushes.  Optional: any object you may wish to paint and photograph. \nREGISTRATION REQUIRED: https://form.jotform.com/252577171465160
URL:https://www.flemingtondiy.org/event/light-painting-night-photography-workshop/
END:VEVENT
BEGIN:VEVENT
DTSTART;TZID=America/New_York:20251120T113000
DTEND;TZID=America/New_York:20251120T180000
DTSTAMP:20260424T034907
CREATED:20241221T233551Z
LAST-MODIFIED:20251118T235229Z
UID:10002903-1763638200-1763661600@www.flemingtondiy.org
SUMMARY:Open Hours
DESCRIPTION:Visit the space\, see our current art shows\, hang out\, and learn how to get involved!
URL:https://www.flemingtondiy.org/event/open-hours-238/
END:VEVENT
BEGIN:VEVENT
DTSTART;TZID=America/New_York:20251120T190000
DTEND;TZID=America/New_York:20251120T210000
DTSTAMP:20260424T034907
CREATED:20241023T233530Z
LAST-MODIFIED:20251120T233711Z
UID:10002662-1763665200-1763672400@www.flemingtondiy.org
SUMMARY:Monthly Open Bluegrass Jam
DESCRIPTION:Bring your instrument\, a couple of tunes\, some friends and your own refreshments. All players welcome – Beginner to pro!  \nFreewill basket to support DIY $5 suggested Open to all ages –strictly no alcohol  \nQuestions? Contact Ed: rvrecband@gmail.com / ejjank@gmail.com
URL:https://www.flemingtondiy.org/event/monthly-open-bluegrass-jam-11/
END:VEVENT
BEGIN:VEVENT
DTSTART;TZID=America/New_York:20251121T190000
DTEND;TZID=America/New_York:20251121T220000
DTSTAMP:20260424T034907
CREATED:20250521T235041Z
LAST-MODIFIED:20251121T233743Z
UID:10003204-1763751600-1763762400@www.flemingtondiy.org
SUMMARY:Third Friday Board Game Night!
DESCRIPTION:Third Friday Board Game Night running July-November 2025 \nAll ages | Bring your own game or play with one of ours | Meet new people\, have fun\, casual! No RSVP required\, just show up. Free to attend\, donations to Flemington DIY welcomed.
URL:https://www.flemingtondiy.org/event/third-friday-board-game-night-5/
END:VEVENT
BEGIN:VEVENT
DTSTART;TZID=America/New_York:20251122T090000
DTEND;TZID=America/New_York:20251122T180000
DTSTAMP:20260424T034907
CREATED:20251028T235223Z
LAST-MODIFIED:20251121T233743Z
UID:10003522-1763802000-1763834400@www.flemingtondiy.org
SUMMARY:Gallery Open Hours
DESCRIPTION:Random art activitiesYou make it up
URL:https://www.flemingtondiy.org/event/gallery-open-hours-21/
END:VEVENT
BEGIN:VEVENT
DTSTART;TZID=America/New_York:20251122T193000
DTEND;TZID=America/New_York:20251122T223000
DTSTAMP:20260424T034907
CREATED:20251023T235216Z
LAST-MODIFIED:20251122T235213Z
UID:10003498-1763839800-1763850600@www.flemingtondiy.org
SUMMARY:Classy & Sassy Women’s Comedy Showcase
DESCRIPTION:Join us for our fall Women’s Comedy Showcase Saturday\, November 22\, 2025\, 7:30pm\, featuring performers from our monthly comedy open mic.  \nComics include Megan Henninger\, Carolynn Mincin\, Devon Kay\, Puck\, Charlyn Lynch\, Bhumika G\, and Jeanette Orr. \nTickets $17 advance // $20 at the doorflemingtondiy.org/sassy3
URL:https://www.flemingtondiy.org/event/classy-sassy-womens-comedy-showcase-2/
END:VEVENT
BEGIN:VEVENT
DTSTART;TZID=America/New_York:20251123T090000
DTEND;TZID=America/New_York:20251123T120000
DTSTAMP:20260424T034907
CREATED:20251028T235223Z
LAST-MODIFIED:20251122T235213Z
UID:10003523-1763888400-1763899200@www.flemingtondiy.org
SUMMARY:Clay Dance & Pentatonic Permutations
DESCRIPTION:Clay Dance Coils\, Frank May and Simon Keller● Pentatonic Permutations\, soundscape  live streaming\, Benjamin Heidersberger 10 am – 12 pm\, RSVP 5 participants max.\, material provided\, recommended donation for participants: $10.00.
URL:https://www.flemingtondiy.org/event/clay-dance-pentatonic-permutations-2/
END:VEVENT
BEGIN:VEVENT
DTSTART;TZID=America/New_York:20251123T140000
DTEND;TZID=America/New_York:20251123T170000
DTSTAMP:20260424T034907
CREATED:20251026T235224Z
LAST-MODIFIED:20251122T235213Z
UID:10003514-1763906400-1763917200@www.flemingtondiy.org
SUMMARY:Live Music - Rock
DESCRIPTION:A Girl and a Clown (noise rock/sludge metal/skramz)Rubix Pube (mutant rock)Ookazi (improv core)Indeyevid (alternative punk) \n$10Doors @ 1:30\, Music @ 2:00All agesNo drugs/no alcohol
URL:https://www.flemingtondiy.org/event/live-music-rock-5/
END:VEVENT
BEGIN:VEVENT
DTSTART;TZID=America/New_York:20251124T180000
DTEND;TZID=America/New_York:20251124T200000
DTSTAMP:20260424T034907
CREATED:20251022T233720Z
LAST-MODIFIED:20251124T235229Z
UID:10003495-1764007200-1764014400@www.flemingtondiy.org
SUMMARY:Hunterdon Fiber Artists
DESCRIPTION:Looking to meet other fiber artists in the Hunterdon county area?  Think about coming to Hunterdon Fiber Artists meet up to socialize and connect with others doing the fiber art craft that they love. \nAll are welcome.  Just bring your craft be it knitting\, crocheting\, spinning\, etc.\, and be prepared to meet lots of fun and interesting people!  We even have mini educational talks on requested topics! \nOur FB group is Hunterdon Fiber Artists https://www.facebook.com/groups/1101970274078722 \nOur Ravelry group is https://www.ravelry.com/groups/hunterdon-fiber-artists?s=tab \nEvery other Monday at DIY; $3-5 suggested donation.
URL:https://www.flemingtondiy.org/event/hunterdon-fiber-artists-4/
END:VEVENT
BEGIN:VEVENT
DTSTART;TZID=America/New_York:20251124T180000
DTEND;TZID=America/New_York:20251124T210000
DTSTAMP:20260424T034907
CREATED:20231124T022034Z
LAST-MODIFIED:20251124T235229Z
UID:10001912-1764007200-1764018000@www.flemingtondiy.org
SUMMARY:Print Club
DESCRIPTION:Flemington DIY Print Club is a weekly open studio held from 6-9PM every Monday\, $15-30 per printer. It provides an opportunity for local artists and community members new to arts processes to utilize shared printmaking facilities. Print Club provides a platform for artists to network\, build community\, and work collaboratively. \nNo experience? No problem! Our vounteers will guide you through the process from start to finish! \nLearn more: https://www.flemingtondiy.org/printclub/
URL:https://www.flemingtondiy.org/event/print-club-259/
END:VEVENT
BEGIN:VEVENT
DTSTART;TZID=America/New_York:20251125T113000
DTEND;TZID=America/New_York:20251125T180000
DTSTAMP:20260424T034907
CREATED:20250602T233538Z
LAST-MODIFIED:20251124T235229Z
UID:10003236-1764070200-1764093600@www.flemingtondiy.org
SUMMARY:Open Hours
DESCRIPTION:Visit the space\, see our current art shows\, hang out\, and learn how to get involved!
URL:https://www.flemingtondiy.org/event/open-hours-221/
END:VEVENT
BEGIN:VEVENT
DTSTART;TZID=America/New_York:20251125T190000
DTEND;TZID=America/New_York:20251125T210000
DTSTAMP:20260424T034907
CREATED:20250731T233530Z
LAST-MODIFIED:20251125T235233Z
UID:10003367-1764097200-1764104400@www.flemingtondiy.org
SUMMARY:Classical Music Jam
DESCRIPTION:Jazz bands jam\, rock bands jam\, bluegrass players jams… why not a classical jam?? \nStrings\, brass\, woodwinds… Come join a classical music jam!!   \nBring a piece or two of music to share\, and sit in on the jam!   \nBring your instrument\, music (duo\, trio\, quartet\, etc. or even a full orchestra arrangement) and a stand\, be ready to share\, and let’s play some classical music in an informal setting.   \nWe jam once a month on the 4th Tuesday from 7 PM – 9 PM.   $5 suggested donation to Flemington DIY.  \nDon’t have music\, Don’t have a stand?…. Don’t worry!  Just bring your instrument\, and jam with us! \nCome share your talent and play! Take a break\, relax\, and listen to others.   \nUpcoming Tuesdays:   \n9/30 \n10/28 \n11/25 \n12/23 \nClassical is cool too!  See you at the jam!  
URL:https://www.flemingtondiy.org/event/classical-music-jam-3/
END:VEVENT
END:VCALENDAR