BEGIN:VCALENDAR
VERSION:2.0
PRODID:-//Flemington DIY - ECPv6.15.20//NONSGML v1.0//EN
CALSCALE:GREGORIAN
METHOD:PUBLISH
X-WR-CALNAME:Flemington DIY
X-ORIGINAL-URL:https://www.flemingtondiy.org
X-WR-CALDESC:Events for Flemington DIY
REFRESH-INTERVAL;VALUE=DURATION:PT1H
X-Robots-Tag:noindex
X-PUBLISHED-TTL:PT1H
BEGIN:VTIMEZONE
TZID:America/New_York
BEGIN:DAYLIGHT
TZOFFSETFROM:-0500
TZOFFSETTO:-0400
TZNAME:EDT
DTSTART:20250309T070000
END:DAYLIGHT
BEGIN:STANDARD
TZOFFSETFROM:-0400
TZOFFSETTO:-0500
TZNAME:EST
DTSTART:20251102T060000
END:STANDARD
BEGIN:DAYLIGHT
TZOFFSETFROM:-0500
TZOFFSETTO:-0400
TZNAME:EDT
DTSTART:20260308T070000
END:DAYLIGHT
BEGIN:STANDARD
TZOFFSETFROM:-0400
TZOFFSETTO:-0500
TZNAME:EST
DTSTART:20261101T060000
END:STANDARD
BEGIN:DAYLIGHT
TZOFFSETFROM:-0500
TZOFFSETTO:-0400
TZNAME:EDT
DTSTART:20270314T070000
END:DAYLIGHT
BEGIN:STANDARD
TZOFFSETFROM:-0400
TZOFFSETTO:-0500
TZNAME:EST
DTSTART:20271107T060000
END:STANDARD
END:VTIMEZONE
BEGIN:VEVENT
DTSTART;VALUE=DATE:20260115
DTEND;VALUE=DATE:20260222
DTSTAMP:20260423T202524
CREATED:20251113T233719Z
LAST-MODIFIED:20260221T234245Z
UID:10003676-1768435200-1771718399@www.flemingtondiy.org
SUMMARY:Youth Art Show
DESCRIPTION:JANUARY 17 – FEBRUARY 21\, 2026\nOPENING RECEPTION : Saturday\, January 17\, 2026 10am – 12pm\n \nFlemington DIY is starting off the New Year with a Youth Art Show!  We put out the call for young artist (ages 12 and younger) to be apart of an art show.  Seven brave local artists (ages 8-12) answered that call.  \nAll ages are welcome to come see what they’ve made and be inspired to create something yourself.  \n 
URL:https://www.flemingtondiy.org/event/youth-art-show/
END:VEVENT
BEGIN:VEVENT
DTSTART;TZID=America/New_York:20260201T130000
DTEND;TZID=America/New_York:20260201T170000
DTSTAMP:20260423T202524
CREATED:20251010T233509Z
LAST-MODIFIED:20260131T234233Z
UID:10003457-1769950800-1769965200@www.flemingtondiy.org
SUMMARY:Open Jazz Jams
DESCRIPTION:Open Jazz Jams are held he first Sunday of every month. \nThe sessions will provide an opportunity for musicians to play with an experienced band. From 1-2 PM the hosting musicians for the week will play. Other musicians will be invited to sit in and play between 2-5 PM (typically a minimum of 2 songs each\, circumstances permitting). With the exception of drum kit and piano\, all musicians should bring their own equipment (instruments\, amps\, drum sticks\, microphones\, etc.). The sessions will focus primarily on jazz standards and other jazz tunes contained in Hal Leonard Real Books volumes 1 through 3. Newcomers will be coached through the process.  \nA $3 to $5 donation to Flemington DIY will be required from each musician that plays at the session. Visitors that just want to listen to the music are also welcome to attend for all or any part of the 1-5 PM sessions free of charge.  \nFor questions about the sessions\, or to be added to the monthly text notification list for last minute cancellations or reschedules\, please email njjazzjam@gmail.com
URL:https://www.flemingtondiy.org/event/open-jazz-jams-34/
END:VEVENT
BEGIN:VEVENT
DTSTART;TZID=America/New_York:20260202T180000
DTEND;TZID=America/New_York:20260202T210000
DTSTAMP:20260423T202524
CREATED:20240202T063529Z
LAST-MODIFIED:20260202T235741Z
UID:10002095-1770055200-1770066000@www.flemingtondiy.org
SUMMARY:Print Club
DESCRIPTION:Flemington DIY Print Club is a weekly open studio held from 6-9PM every Monday\, $15-30 per printer. It provides an opportunity for local artists and community members new to arts processes to utilize shared printmaking facilities. Print Club provides a platform for artists to network\, build community\, and work collaboratively. \nNo experience? No problem! Our vounteers will guide you through the process from start to finish! \nLearn more: https://www.flemingtondiy.org/printclub/
URL:https://www.flemingtondiy.org/event/print-club-269/
END:VEVENT
BEGIN:VEVENT
DTSTART;TZID=America/New_York:20260203T113000
DTEND;TZID=America/New_York:20260203T180000
DTSTAMP:20260423T202524
CREATED:20250602T233544Z
LAST-MODIFIED:20260202T235741Z
UID:10003246-1770118200-1770141600@www.flemingtondiy.org
SUMMARY:Open Hours
DESCRIPTION:Visit the space\, see our current art shows\, hang out\, and learn how to get involved!
URL:https://www.flemingtondiy.org/event/open-hours-241/
END:VEVENT
BEGIN:VEVENT
DTSTART;TZID=America/New_York:20260203T180000
DTEND;TZID=America/New_York:20260203T193000
DTSTAMP:20260423T202524
CREATED:20260112T234240Z
LAST-MODIFIED:20260203T235738Z
UID:10003818-1770141600-1770147000@www.flemingtondiy.org
SUMMARY:Monthly Food Drive
DESCRIPTION:Did you know that Flemington has seven Little Food Pantries (LFPs)? LFPs are small food pantries that allow community members in need to have open access to food\, water\, and hygiene items. These pantries depend on the support of donations from people like you! Come together with your community for a monthly food drive to stock four of the pantries. How does it work?Volunteers come together at the drive to sort donations that are dropped off from 6-7:15PM. Donations are counted and then sorted into bins for distribution to the pantries. Volunteers take each bin to the pantries to restock them. Any leftover items are distributed to the pantries later in the month.  \nPantries are located at:  \n\nFlemington Area Food Pantry LFP\, 154 Rt 31\nSalvation Army LFP\, Corner of Hopewell Ave & East Main Street\nCommunity LFP\, 10 New Jersey Avenue\nHunterdon County Community Wellness Center LFP\, 44 Emery Ave\nFlemington DIY LFP\, 26 Stangl Road\nFlemington Presbyterian Church LFP\, 10 East Main Street\nEchelon Studio Self-Care Pantry\, 27 Fulper Road\n\nRecommended donations: \n\nWater bottles\n\nShelf-stable milk and juice\n\n \nPackaged or canned tuna and chicken\nDry goods like box mixes\, rice\, oatmeal\, etc.\nGranola and protein bars (without chocolate)\nCoffee and tea\nCrackers\nRamen and pot noodles\nInstant soup packets\nAny personal hygiene products \nMenstrual hygiene products (preference for pads)\nIndividual drink mix packets\nCanned goods and can openers\nPeanut butter and jelly\nSmall cold weather items (hand warmers\, socks\, gloves\, mittens\, scarves\, hats)\nBandaids and neosporin\nPlease no expired items\, open packages\, or frozen/refrigerated items. \nWant to get involved? Contact Jae at flemingtonqts@gmail.com.
URL:https://www.flemingtondiy.org/event/monthly-food-drive-9/
END:VEVENT
BEGIN:VEVENT
DTSTART;TZID=America/New_York:20260205T113000
DTEND;TZID=America/New_York:20260205T180000
DTSTAMP:20260423T202524
CREATED:20251107T233719Z
LAST-MODIFIED:20260204T235725Z
UID:10003536-1770291000-1770314400@www.flemingtondiy.org
SUMMARY:Open Hours
DESCRIPTION:
URL:https://www.flemingtondiy.org/event/open-hours-352/
END:VEVENT
BEGIN:VEVENT
DTSTART;TZID=America/New_York:20260205T180000
DTEND;TZID=America/New_York:20260205T200000
DTSTAMP:20260423T202524
CREATED:20260116T235724Z
LAST-MODIFIED:20260205T235817Z
UID:10003832-1770314400-1770321600@www.flemingtondiy.org
SUMMARY:Paint Beautiful Clouds with Acrylics!
DESCRIPTION:Discover how fun and relaxing painting can be in this 2-hour acrylic painting class\, perfect for beginners or experienced artists of any age. In this session\, you’ll learn how to paint soft\, fluffy clouds drifting across a simple but stunning landscape. You’ll learn step by step\, with easy techniques to capture the sky’s depth and atmosphere while building confidence with acrylic paints. \nNo art experience is needed—just bring your curiosity and creativity! For only $105\, all supplies are included: canvas\, paints\, brushes\, and everything else you’ll need. By the end of class\, you’ll go home with your very own little masterpiece\, ready to hang\, share\, or gift. \nThis class is a wonderful way to try painting for the first time\, enjoy a mindful break from your routine\, or simply spend a couple of hours creating something beautiful. Come paint with us—you’ll be amazed at what you can do! \nhttps://www.flemingtondiy.org/clouds/ \nREGISTER
URL:https://www.flemingtondiy.org/event/paint-beautiful-clouds-with-acrylics/
END:VEVENT
BEGIN:VEVENT
DTSTART;TZID=America/New_York:20260207T150000
DTEND;TZID=America/New_York:20260207T180000
DTSTAMP:20260423T202524
CREATED:20260109T235741Z
LAST-MODIFIED:20260206T235733Z
UID:10003807-1770476400-1770487200@www.flemingtondiy.org
SUMMARY:A Creative Exploration: The Arts + Civic Engagment
DESCRIPTION:A Creative Exploration: The Arts + Civic Engagement  \nJoin us for one or all events. This programming is open to the public while also supporting a cohort of creatives collaborating on a year long arts project.  \n\nFeb 7: A Look at Federal\, State and Local Government \nMarch 28: Beyond a Two Party System\nApril 11: Collective Action\nMay 23: Collective Care + Mutual Aid 
URL:https://www.flemingtondiy.org/event/a-creative-exploration-the-arts-civic-engagment/
END:VEVENT
BEGIN:VEVENT
DTSTART;TZID=America/New_York:20260207T190000
DTEND;TZID=America/New_York:20260207T220000
DTSTAMP:20260423T202524
CREATED:20260119T235752Z
LAST-MODIFIED:20260206T235733Z
UID:10003836-1770490800-1770501600@www.flemingtondiy.org
SUMMARY:Live Music - Metal
DESCRIPTION:Endless midnight- post hardcore Two Betrayals – alt metal/beatdown/nu metalA killer ostrich- grindcore/sludge/alt metal \n$10Door @ 6:30All agesNo drugs/no alcohol
URL:https://www.flemingtondiy.org/event/live-music-metal-8/
END:VEVENT
BEGIN:VEVENT
DTSTART;TZID=America/New_York:20260208T143000
DTEND;TZID=America/New_York:20260208T170000
DTSTAMP:20260423T202524
CREATED:20251023T235219Z
LAST-MODIFIED:20260206T235733Z
UID:10003501-1770561000-1770570000@www.flemingtondiy.org
SUMMARY:Women's Comedy Open Mic
DESCRIPTION:Ever wanted to share a joke with your friends? Have a friend who you think is hilarious but don’t know how to let other ladies know about her talent? Here’s an opportunity to give it a try. Enjoy a safe space to share laughs – and if you fail – it’s ok to get up and try again!
URL:https://www.flemingtondiy.org/event/womens-comedy-open-mic-20/
END:VEVENT
BEGIN:VEVENT
DTSTART;TZID=America/New_York:20260209T180000
DTEND;TZID=America/New_York:20260209T200000
DTSTAMP:20260423T202524
CREATED:20251202T235215Z
LAST-MODIFIED:20260209T234225Z
UID:10003722-1770660000-1770667200@www.flemingtondiy.org
SUMMARY:Hunterdon Fiber Artist Meeting
DESCRIPTION:Looking to meet other fiber artists in the Hunterdon county area?  Think about coming to Hunterdon Fiber Artists meet up to socialize and connect with others doing the fiber art craft that they love. \nAll are welcome.  Just bring your craft be it knitting\, crocheting\, spinning\, etc.\, and be prepared to meet lots of fun and interesting people!  We even have mini educational talks on requested topics! \nOur FB group is Hunterdon Fiber Artists https://www.facebook.com/groups/1101970274078722 \nOur Ravelry group is https://www.ravelry.com/groups/hunterdon-fiber-artists?s=tab \nEvery other Monday at DIY; $3-5 suggested donation.
URL:https://www.flemingtondiy.org/event/hunterdon-fiber-artist-meeting-31/
END:VEVENT
BEGIN:VEVENT
DTSTART;TZID=America/New_York:20260209T180000
DTEND;TZID=America/New_York:20260209T210000
DTSTAMP:20260423T202524
CREATED:20240223T161855Z
LAST-MODIFIED:20260209T234225Z
UID:10002128-1770660000-1770670800@www.flemingtondiy.org
SUMMARY:Print Club
DESCRIPTION:Flemington DIY Print Club is a weekly open studio held from 6-9PM every Monday\, $15-30 per printer. It provides an opportunity for local artists and community members new to arts processes to utilize shared printmaking facilities. Print Club provides a platform for artists to network\, build community\, and work collaboratively. \nNo experience? No problem! Our vounteers will guide you through the process from start to finish! \nLearn more: https://www.flemingtondiy.org/printclub/
URL:https://www.flemingtondiy.org/event/print-club-270/
END:VEVENT
BEGIN:VEVENT
DTSTART;TZID=America/New_York:20260210T113000
DTEND;TZID=America/New_York:20260210T180000
DTSTAMP:20260423T202524
CREATED:20250602T233545Z
LAST-MODIFIED:20260209T234225Z
UID:10003247-1770723000-1770746400@www.flemingtondiy.org
SUMMARY:Open Hours
DESCRIPTION:Visit the space\, see our current art shows\, hang out\, and learn how to get involved!
URL:https://www.flemingtondiy.org/event/open-hours-243/
END:VEVENT
BEGIN:VEVENT
DTSTART;TZID=America/New_York:20260210T190000
DTEND;TZID=America/New_York:20260210T210000
DTSTAMP:20260423T202524
CREATED:20251107T233719Z
LAST-MODIFIED:20260210T234242Z
UID:10003537-1770750000-1770757200@www.flemingtondiy.org
SUMMARY:Songwriter Circle
DESCRIPTION:Hey\, songwriters: Do you have songs that are half finished? Lyrics you’re not entirely happy with? A songwriting circle is not a performance. It’s an opportunity to connect with other songwriters\, play your song idea for us – whether it’s fully formed or not – and receive gentle\, respectful\, and constructive feedback. All genres welcome! Please bring a few hard copies of your lyrics to share (they’ll be returned to you). We have a piano available. Donations at the door
URL:https://www.flemingtondiy.org/event/songwriter-circle-36/
END:VEVENT
BEGIN:VEVENT
DTSTART;TZID=America/New_York:20260212T113000
DTEND;TZID=America/New_York:20260212T180000
DTSTAMP:20260423T202524
CREATED:20251107T233719Z
LAST-MODIFIED:20260211T234233Z
UID:10003538-1770895800-1770919200@www.flemingtondiy.org
SUMMARY:Open Hours
DESCRIPTION:
URL:https://www.flemingtondiy.org/event/open-hours-353/
END:VEVENT
BEGIN:VEVENT
DTSTART;TZID=America/New_York:20260212T180000
DTEND;TZID=America/New_York:20260212T200000
DTSTAMP:20260423T202524
CREATED:20260101T233721Z
LAST-MODIFIED:20260212T234313Z
UID:10003783-1770919200-1770926400@www.flemingtondiy.org
SUMMARY:ASL Chat
DESCRIPTION:American Sign Language (ASL) is the predominant sign language of deaf and hard of hearing people in the United States. If you know or are learning ASL\, come sign with us in a casual and supportive space. Deaf\, hard of hearing\, and hearing people are welcome. Come socialize and make new friends in a voice-off environment!  \nFlemington DIY ASL Chats are in person and free to attend. There is no registration required. Please note that everyone is expected to use ASL to communicate during the events.
URL:https://www.flemingtondiy.org/event/asl-chat-6/
END:VEVENT
BEGIN:VEVENT
DTSTART;TZID=America/New_York:20260213T190000
DTEND;TZID=America/New_York:20260213T220000
DTSTAMP:20260423T202524
CREATED:20251229T233737Z
LAST-MODIFIED:20260213T234238Z
UID:10003776-1771009200-1771020000@www.flemingtondiy.org
SUMMARY:Live Music - Punk / Metal
DESCRIPTION:Blood Moons (post rock)Corpse Farmer (sludge/noise metal)Meteor Police (post hardcore/punk)Toads (sludge punk) \n$10Doors @ 6:30All agesNo drugs/no alcohol
URL:https://www.flemingtondiy.org/event/live-music-punk-metal/
END:VEVENT
BEGIN:VEVENT
DTSTART;TZID=America/New_York:20260214T090000
DTEND;TZID=America/New_York:20260214T120000
DTSTAMP:20260423T202524
CREATED:20260209T234225Z
LAST-MODIFIED:20260213T234238Z
UID:10003898-1771059600-1771070400@www.flemingtondiy.org
SUMMARY:PRIVATE EVENT
DESCRIPTION:Flemington DIY offers private rentals for your events\, meetings\, birthday parties\, photo shoots\, and workshops\, all while supporting this community arts space.  Learn more at flemingtondiy.org/rentals
URL:https://www.flemingtondiy.org/event/private-event-6/
END:VEVENT
BEGIN:VEVENT
DTSTART;TZID=America/New_York:20260214T150000
DTEND;TZID=America/New_York:20260214T170000
DTSTAMP:20260423T202524
CREATED:20260107T235212Z
LAST-MODIFIED:20260213T234238Z
UID:10003798-1771081200-1771088400@www.flemingtondiy.org
SUMMARY:”Perzine” workshop: personal (autobiographical) zines
DESCRIPTION:Come with an idea- and work alongside other zine-makers. Come with printed photos and your ideas! Create a zine about Something you love\, like your pet\, or your garden\, or your home\, or your favorite foods\, or your favorite movies\, or your favorite musical artist…  \nWe’ll have paper\, markers\, crayons\, collage materials\, scissors\, x-acto knives\, cutting mats\, tape\, glue sticks
URL:https://www.flemingtondiy.org/event/perzine-workshop-personal-autobiographical-zines/
END:VEVENT
BEGIN:VEVENT
DTSTART;TZID=America/New_York:20260215T150000
DTEND;TZID=America/New_York:20260215T170000
DTSTAMP:20260423T202524
CREATED:20260107T235213Z
LAST-MODIFIED:20260214T234232Z
UID:10003799-1771167600-1771174800@www.flemingtondiy.org
SUMMARY:Recycled zine workshop
DESCRIPTION:Use only recycled/trash materials to make a zine.
URL:https://www.flemingtondiy.org/event/recycled-zine-workshop/
END:VEVENT
BEGIN:VEVENT
DTSTART;TZID=America/New_York:20260216T180000
DTEND;TZID=America/New_York:20260216T210000
DTSTAMP:20260423T202524
CREATED:20240223T161855Z
LAST-MODIFIED:20260216T234233Z
UID:10002129-1771264800-1771275600@www.flemingtondiy.org
SUMMARY:Print Club
DESCRIPTION:Flemington DIY Print Club is a weekly open studio held from 6-9PM every Monday\, $15-30 per printer. It provides an opportunity for local artists and community members new to arts processes to utilize shared printmaking facilities. Print Club provides a platform for artists to network\, build community\, and work collaboratively. \nNo experience? No problem! Our vounteers will guide you through the process from start to finish! \nLearn more: https://www.flemingtondiy.org/printclub/
URL:https://www.flemingtondiy.org/event/print-club-271/
END:VEVENT
BEGIN:VEVENT
DTSTART;TZID=America/New_York:20260217T113000
DTEND;TZID=America/New_York:20260217T180000
DTSTAMP:20260423T202524
CREATED:20250602T233545Z
LAST-MODIFIED:20260216T234233Z
UID:10003248-1771327800-1771351200@www.flemingtondiy.org
SUMMARY:Open Hours
DESCRIPTION:Visit the space\, see our current art shows\, hang out\, and learn how to get involved!
URL:https://www.flemingtondiy.org/event/open-hours-245/
END:VEVENT
BEGIN:VEVENT
DTSTART;TZID=America/New_York:20260217T183000
DTEND;TZID=America/New_York:20260217T203000
DTSTAMP:20260423T202524
CREATED:20251010T233510Z
LAST-MODIFIED:20260217T234229Z
UID:10003458-1771353000-1771360200@www.flemingtondiy.org
SUMMARY:Flemington Acoustic Players
DESCRIPTION:Calling all Hunterdon County pop/rock/folk stars!  Are you looking for a place to practice your acoustic guitar skills\, and maybe do some singing too?   \nOur merry band of music makers is open to players of all abilities! This gathering however is for Acoustic players ONLY; i.e guitars\, ukuleles\, mandolins & banjos. A drummer and/or an acoustic/electric bassist would be welcomed though to help us all stay in time. \nChords and lyrics to the songs will be projected on a screen so there’s no need for you to bring a music stand or tablet. We will be selecting tunes from a song book that includes a wide variety of rock/pop/folk classics. \nCome and have fun with us as we play and sing along to some of everyone’s favorite tunes! \nSuggested donation of $3-5www.flemingtondiy.org/acoustic/
URL:https://www.flemingtondiy.org/event/flemington-acoustic-players-88/
END:VEVENT
BEGIN:VEVENT
DTSTART;TZID=America/New_York:20260218T190000
DTEND;TZID=America/New_York:20260218T210000
DTSTAMP:20260423T202524
CREATED:20260201T234227Z
LAST-MODIFIED:20260218T234244Z
UID:10003869-1771441200-1771448400@www.flemingtondiy.org
SUMMARY:Keeping Our Community Safe: Monthly Information & Action Meeting
DESCRIPTION:Third Wednesdays | 7–9PM | Flemington DIY \nA monthly gathering of local residents committed to protecting and supporting our immigrant community members. \nTogether\, we will: \n\n\nShare accurate\, up-to-date Know Your Rights information related to ICE presence and immigration enforcement \n\n\nReview protocols for spotting\, documenting\, and responding to ICE activity \n\n\nCoordinate community-based mutual aid efforts \n\n\nCreate and distribute educational materials for neighbors and local businesses \n\n\nStrengthen communication networks that prioritize safety\, dignity\, and collective care \n\n\nThis is a space for informed conversation\, practical preparedness\, coordinated action\, sharing resources\, and strengthening local support networks. All community members who value safety\, solidarity\, and constitutional rights are welcome. \nHosted by concerned community members.
URL:https://www.flemingtondiy.org/event/keeping-our-community-safe-monthly-information-action-meeting/
END:VEVENT
BEGIN:VEVENT
DTSTART;TZID=America/New_York:20260219T113000
DTEND;TZID=America/New_York:20260219T180000
DTSTAMP:20260423T202524
CREATED:20251107T233719Z
LAST-MODIFIED:20260218T234244Z
UID:10003539-1771500600-1771524000@www.flemingtondiy.org
SUMMARY:Open Hours
DESCRIPTION:
URL:https://www.flemingtondiy.org/event/open-hours-354/
END:VEVENT
BEGIN:VEVENT
DTSTART;TZID=America/New_York:20260219T190000
DTEND;TZID=America/New_York:20260219T210000
DTSTAMP:20260423T202524
CREATED:20251010T233510Z
LAST-MODIFIED:20260219T234248Z
UID:10003459-1771527600-1771534800@www.flemingtondiy.org
SUMMARY:Monthly Open Bluegrass Jam
DESCRIPTION:Bring your instrument\, a couple of tunes\, some friends and your own refreshments. All players welcome – Beginner to pro!  \nFreewill basket to support DIY $5 suggested Open to all ages –strictly no alcohol  \nQuestions? Contact Ed: rvrecband@gmail.com / ejjank@gmail.com
URL:https://www.flemingtondiy.org/event/monthly-open-bluegrass-jam-15/
END:VEVENT
BEGIN:VEVENT
DTSTART;TZID=America/New_York:20260220T190000
DTEND;TZID=America/New_York:20260220T220000
DTSTAMP:20260423T202524
CREATED:20251213T233728Z
LAST-MODIFIED:20260220T234229Z
UID:10003757-1771614000-1771624800@www.flemingtondiy.org
SUMMARY:Live Music - Rock / Experimental
DESCRIPTION:Lung (cello/drum art rock)Deathbird Earth (noise rock/punk/prog)whitepicketfence (post punk/experimental rock)Luna Honey (experimental dark/no wave) \n$10Doors @ 6:30All agesNo drugs/no alcohol
URL:https://www.flemingtondiy.org/event/live-music-rock-experimental/
END:VEVENT
BEGIN:VEVENT
DTSTART;TZID=America/New_York:20260221T100000
DTEND;TZID=America/New_York:20260221T173000
DTSTAMP:20260423T202524
CREATED:20251210T233715Z
LAST-MODIFIED:20260220T234229Z
UID:10003754-1771668000-1771695000@www.flemingtondiy.org
SUMMARY:PRIVATE EVENT
DESCRIPTION:Flemington DIY offers private rentals for your events\, meetings\, birthday parties\, photo shoots\, and workshops\, all while supporting this community arts space.  Learn more at flemingtondiy.org/rentals
URL:https://www.flemingtondiy.org/event/private-event-5/
END:VEVENT
BEGIN:VEVENT
DTSTART;TZID=America/New_York:20260221T193000
DTEND;TZID=America/New_York:20260221T220000
DTSTAMP:20260423T202524
CREATED:20260106T235228Z
LAST-MODIFIED:20260221T234245Z
UID:10003793-1771702200-1771711200@www.flemingtondiy.org
SUMMARY:Live Jazz: Mauricio de Souza Bossa Brazil Carnivale
DESCRIPTION:Featuring  Nobuki Takamen\,  David Kingsnorth and special guest Behn Gillece \nDoors 7:30pm / Music 8pmTickets: $18 adv / $22 door15% off for members!flemingtondiy.org/jazz
URL:https://www.flemingtondiy.org/event/live-jazz-mauricio-de-souza-bossa-brazil-carnivale/
END:VEVENT
BEGIN:VEVENT
DTSTART;TZID=America/New_York:20260222T183000
DTEND;TZID=America/New_York:20260222T223000
DTSTAMP:20260423T202524
CREATED:20251216T233714Z
LAST-MODIFIED:20260222T234229Z
UID:10003762-1771785000-1771799400@www.flemingtondiy.org
SUMMARY:A New Jersey Experiment: Chris Gethard (comedy) and David Dondero (songs)
DESCRIPTION:NEW DATE! Comedian Chris Gethard returns with legendary singer songwriter David Dondero.  \n6:30 doors 7pm show $20 adv / $25 door \nGeneral admission on sale Feb 6 – limited tickets available!
URL:https://www.flemingtondiy.org/event/a-new-jersey-experiment-chris-gethard-comedy-and-david-dondero-songs/
END:VEVENT
END:VCALENDAR