BEGIN:VCALENDAR
VERSION:2.0
PRODID:-//Flemington DIY - ECPv6.15.20//NONSGML v1.0//EN
CALSCALE:GREGORIAN
METHOD:PUBLISH
X-WR-CALNAME:Flemington DIY
X-ORIGINAL-URL:https://www.flemingtondiy.org
X-WR-CALDESC:Events for Flemington DIY
REFRESH-INTERVAL;VALUE=DURATION:PT1H
X-Robots-Tag:noindex
X-PUBLISHED-TTL:PT1H
BEGIN:VTIMEZONE
TZID:America/New_York
BEGIN:DAYLIGHT
TZOFFSETFROM:-0500
TZOFFSETTO:-0400
TZNAME:EDT
DTSTART:20240310T070000
END:DAYLIGHT
BEGIN:STANDARD
TZOFFSETFROM:-0400
TZOFFSETTO:-0500
TZNAME:EST
DTSTART:20241103T060000
END:STANDARD
BEGIN:DAYLIGHT
TZOFFSETFROM:-0500
TZOFFSETTO:-0400
TZNAME:EDT
DTSTART:20250309T070000
END:DAYLIGHT
BEGIN:STANDARD
TZOFFSETFROM:-0400
TZOFFSETTO:-0500
TZNAME:EST
DTSTART:20251102T060000
END:STANDARD
BEGIN:DAYLIGHT
TZOFFSETFROM:-0500
TZOFFSETTO:-0400
TZNAME:EDT
DTSTART:20260308T070000
END:DAYLIGHT
BEGIN:STANDARD
TZOFFSETFROM:-0400
TZOFFSETTO:-0500
TZNAME:EST
DTSTART:20261101T060000
END:STANDARD
END:VTIMEZONE
BEGIN:VEVENT
DTSTART;TZID=America/New_York:20250629T130000
DTEND;TZID=America/New_York:20250629T150000
DTSTAMP:20260424T101247
CREATED:20250410T235131Z
LAST-MODIFIED:20250628T233600Z
UID:10003139-1751202000-1751209200@www.flemingtondiy.org
SUMMARY:Gallery Open Hours
DESCRIPTION:
URL:https://www.flemingtondiy.org/event/gallery-open-hours-20/
END:VEVENT
BEGIN:VEVENT
DTSTART;TZID=America/New_York:20250630T180000
DTEND;TZID=America/New_York:20250630T200000
DTSTAMP:20260424T101247
CREATED:20241220T233620Z
LAST-MODIFIED:20250630T235117Z
UID:10002798-1751306400-1751313600@www.flemingtondiy.org
SUMMARY:Hunterdon Fiber Artist Meeting
DESCRIPTION:Looking to meet other fiber artists in the Hunterdon county area?  Think about coming to Hunterdon Fiber Artists meet up to socialize and connect with others doing the fiber art craft that they love. \nAll are welcome.  Just bring your craft be it knitting\, crocheting\, spinning\, etc.\, and be prepared to meet lots of fun and interesting people!  We even have mini educational talks on requested topics! \nOur FB group is Hunterdon Fiber Artists https://www.facebook.com/groups/1101970274078722 \nOur Ravelry group is https://www.ravelry.com/groups/hunterdon-fiber-artists?s=tab \nEvery other Monday at DIY; $3-5 suggested donation.
URL:https://www.flemingtondiy.org/event/hunterdon-fiber-artist-meeting-64/
END:VEVENT
BEGIN:VEVENT
DTSTART;TZID=America/New_York:20250701T113000
DTEND;TZID=America/New_York:20250701T180000
DTSTAMP:20260424T101247
CREATED:20250602T233516Z
LAST-MODIFIED:20250630T235117Z
UID:10003215-1751369400-1751392800@www.flemingtondiy.org
SUMMARY:Open Hours
DESCRIPTION:Visit the space\, see our current art shows\, hang out\, and learn how to get involved!
URL:https://www.flemingtondiy.org/event/open-hours-179/
END:VEVENT
BEGIN:VEVENT
DTSTART;TZID=America/New_York:20250701T173000
DTEND;TZID=America/New_York:20250701T190000
DTSTAMP:20260424T101247
CREATED:20250507T233530Z
LAST-MODIFIED:20250630T235117Z
UID:10003170-1751391000-1751396400@www.flemingtondiy.org
SUMMARY:Monthly Food Drive and Skill Share
DESCRIPTION:Drop-off a donation to help stock the Little Free Pantries (LFPs) around Flemington Borough and stay to meet your neighbors! Let’s learn from one another and share our knowledge with a monthly Skill Share. \nLittle Free Pantries are located at:Flemington Area Food Pantry LFP\, 154 Rt 31Salvation Army\, Corner of Hopewell Ave & East Main StreetCommunity LFP\, 10 New Jersey AvenueHunterdon County Community Wellness Center\, 44 Emery AveFlemington DIY LFP\, 26 Stangl RoadFlemington Presbyterian Church LFP\, 10 East Main StreetEchelon Studio Self-Care Pantry\, 27 Fulper Road \nRecommended donations:– Water bottles and gatorade– Shelf stable and canned goods (with pop tops)– Personal and menstrual hygiene items– Cup noodles and ramen– Shelf stable juice and milk– Individually packaged snacks and other ready-to-eat foods– Individually wrapped plastic utensils \nWHAT IS A SKILL SHARE?Skill Shares are meet-ups where folks interested in learning from their community members can come together to share their knowledge and/or learn something new. Everyone has a skill that they can share\, from sewing and mending to gardening to holistic health.  Contact flemingtonqts@gmail.com if you are interested in sharing a topic at our monthly sessions on 1st Tuesdays from 5:30-7PM. No previous experience necessary! Email Jae at flemingtonqts@gmail.com if you have a skill to share.
URL:https://www.flemingtondiy.org/event/monthly-food-drive-and-skill-share-2/
END:VEVENT
BEGIN:VEVENT
DTSTART;TZID=America/New_York:20250703T113000
DTEND;TZID=America/New_York:20250703T180000
DTSTAMP:20260424T101247
CREATED:20241221T233539Z
LAST-MODIFIED:20250702T233548Z
UID:10002863-1751542200-1751565600@www.flemingtondiy.org
SUMMARY:Open Hours
DESCRIPTION:Visit the space\, see our current art shows\, hang out\, and learn how to get involved!
URL:https://www.flemingtondiy.org/event/open-hours-198/
END:VEVENT
BEGIN:VEVENT
DTSTART;TZID=America/New_York:20250705T130000
DTEND;TZID=America/New_York:20250705T150000
DTSTAMP:20260424T101247
CREATED:20250627T233512Z
LAST-MODIFIED:20250704T233605Z
UID:10003327-1751720400-1751727600@www.flemingtondiy.org
SUMMARY:Open Gallery Hours
DESCRIPTION:
URL:https://www.flemingtondiy.org/event/open-gallery-hours-4/
END:VEVENT
BEGIN:VEVENT
DTSTART;TZID=America/New_York:20250706T080000
DTEND;TZID=America/New_York:20250706T100000
DTSTAMP:20260424T101247
CREATED:20250519T235022Z
LAST-MODIFIED:20250705T235157Z
UID:10003189-1751788800-1751796000@www.flemingtondiy.org
SUMMARY:Community Bird Walk
DESCRIPTION:It’s spring migration! Join us on a community bird walk to meet some friends and see some birds!  \nPlease bring binoculars if you’ve got ’em.Registration required: https://forms.gle/FKueAyN256whVP297Meeting location to be sent ahead of event. \nSuggested donation will benefit Flemington DIY and the Raptor Trust.
URL:https://www.flemingtondiy.org/event/community-bird-walk-3/
END:VEVENT
BEGIN:VEVENT
DTSTART;TZID=America/New_York:20250706T130000
DTEND;TZID=America/New_York:20250706T150000
DTSTAMP:20260424T101247
CREATED:20250627T233513Z
LAST-MODIFIED:20250705T235157Z
UID:10003328-1751806800-1751814000@www.flemingtondiy.org
SUMMARY:Open Gallery Hours
DESCRIPTION:
URL:https://www.flemingtondiy.org/event/open-gallery-hours-5/
END:VEVENT
BEGIN:VEVENT
DTSTART;TZID=America/New_York:20250707T180000
DTEND;TZID=America/New_York:20250707T200000
DTSTAMP:20260424T101247
CREATED:20250520T235027Z
LAST-MODIFIED:20250706T235026Z
UID:10003198-1751911200-1751918400@www.flemingtondiy.org
SUMMARY:Hunterdon Fiber Artist Meeting
DESCRIPTION:Looking to meet other fiber artists in the Hunterdon county area?  Think about coming to Hunterdon Fiber Artists meet up to socialize and connect with others doing the fiber art craft that they love. \nAll are welcome.  Just bring your craft be it knitting\, crocheting\, spinning\, etc.\, and be prepared to meet lots of fun and interesting people!  We even have mini educational talks on requested topics! \nOur FB group is Hunterdon Fiber Artists https://www.facebook.com/groups/1101970274078722 \nOur Ravelry group is https://www.ravelry.com/groups/hunterdon-fiber-artists?s=tab \nEvery other Monday at DIY; $3-5 suggested donation.
URL:https://www.flemingtondiy.org/event/hunterdon-fiber-artist-meeting-27/
END:VEVENT
BEGIN:VEVENT
DTSTART;TZID=America/New_York:20250707T180000
DTEND;TZID=America/New_York:20250707T210000
DTSTAMP:20260424T101247
CREATED:20231107T010615Z
LAST-MODIFIED:20250706T235027Z
UID:10001878-1751911200-1751922000@www.flemingtondiy.org
SUMMARY:Print Club
DESCRIPTION:Flemington DIY Print Club is a weekly open studio held from 6-9PM every Monday\, $15-30 per printer. It provides an opportunity for local artists and community members new to arts processes to utilize shared printmaking facilities. Print Club provides a platform for artists to network\, build community\, and work collaboratively. \nNo experience? No problem! Our vounteers will guide you through the process from start to finish! \nLearn more: https://www.flemingtondiy.org/printclub/
URL:https://www.flemingtondiy.org/event/print-club-240/
END:VEVENT
BEGIN:VEVENT
DTSTART;TZID=America/New_York:20250708T113000
DTEND;TZID=America/New_York:20250708T180000
DTSTAMP:20260424T101247
CREATED:20250602T233517Z
LAST-MODIFIED:20250706T235028Z
UID:10003216-1751974200-1751997600@www.flemingtondiy.org
SUMMARY:Open Hours
DESCRIPTION:Visit the space\, see our current art shows\, hang out\, and learn how to get involved!
URL:https://www.flemingtondiy.org/event/open-hours-181/
END:VEVENT
BEGIN:VEVENT
DTSTART;TZID=America/New_York:20250708T190000
DTEND;TZID=America/New_York:20250708T210000
DTSTAMP:20260424T101247
CREATED:20240929T233644Z
LAST-MODIFIED:20250708T233619Z
UID:10002630-1752001200-1752008400@www.flemingtondiy.org
SUMMARY:Songwriter Circle
DESCRIPTION:Hey\, songwriters: Do you have songs that are half finished? Lyrics you’re not entirely happy with? A songwriting circle is not a performance. It’s an opportunity to connect with other songwriters\, play your song idea for us – whether it’s fully formed or not – and receive gentle\, respectful\, and constructive feedback. All genres welcome! Please bring a few hard copies of your lyrics to share (they’ll be returned to you). We have a piano available. Donations at the door
URL:https://www.flemingtondiy.org/event/songwriter-circle-29/
END:VEVENT
BEGIN:VEVENT
DTSTART;TZID=America/New_York:20250710T113000
DTEND;TZID=America/New_York:20250710T180000
DTSTAMP:20260424T101247
CREATED:20241221T233540Z
LAST-MODIFIED:20250709T235016Z
UID:10002865-1752147000-1752170400@www.flemingtondiy.org
SUMMARY:Open Hours
DESCRIPTION:Visit the space\, see our current art shows\, hang out\, and learn how to get involved!
URL:https://www.flemingtondiy.org/event/open-hours-200/
END:VEVENT
BEGIN:VEVENT
DTSTART;TZID=America/New_York:20250711T190000
DTEND;TZID=America/New_York:20250711T220000
DTSTAMP:20260424T101247
CREATED:20250627T233513Z
LAST-MODIFIED:20250711T235026Z
UID:10003329-1752260400-1752271200@www.flemingtondiy.org
SUMMARY:Live Music - Noise
DESCRIPTION:Original Painted Faces (avant garde psych noise)Play With Friends (avant garde experimental)Bugger (harsh noise)Storage Locker Suicide (feedback heavy harsh noise) \n$10Doors @ 6:30All agesNo Drugs / No Alcohol
URL:https://www.flemingtondiy.org/event/live-music-noise-2/
END:VEVENT
BEGIN:VEVENT
DTSTART;TZID=America/New_York:20250712T120000
DTEND;TZID=America/New_York:20250712T140000
DTSTAMP:20260424T101247
CREATED:20250627T233513Z
LAST-MODIFIED:20250711T235026Z
UID:10003330-1752321600-1752328800@www.flemingtondiy.org
SUMMARY:Open Gallery Hours
DESCRIPTION:
URL:https://www.flemingtondiy.org/event/open-gallery-hours-6/
END:VEVENT
BEGIN:VEVENT
DTSTART;TZID=America/New_York:20250712T150000
DTEND;TZID=America/New_York:20250712T170000
DTSTAMP:20260424T101247
CREATED:20250110T233554Z
LAST-MODIFIED:20250711T235027Z
UID:10002967-1752332400-1752339600@www.flemingtondiy.org
SUMMARY:Community Quilt Project
DESCRIPTION:
URL:https://www.flemingtondiy.org/event/community-quilt-project-3/
END:VEVENT
BEGIN:VEVENT
DTSTART;TZID=America/New_York:20250712T173000
DTEND;TZID=America/New_York:20250712T223000
DTSTAMP:20260424T101247
CREATED:20250627T233513Z
LAST-MODIFIED:20250712T235011Z
UID:10003331-1752341400-1752359400@www.flemingtondiy.org
SUMMARY:Live Jazz: Sivan Arbel Group
DESCRIPTION:Critically acclaimed Israeli vocalist\, composer\, and arranger Sivan Arbel is a dynamic force on the international jazz scene. Her music offers a window into a rich inner world\, blending her deep love for jazz with diverse influences from her Israeli roots\, vibrant New York community\, and global travels. https://www.sivanarbel.com \n$18 advance / $22 doorDoors 7:30pm / Show 8pmMembers receive 15% off \nPurchase tickets here:www.flemingtondiy.org/jazz \nBecome a Cool Cat Jazz Card holder and get a deep discount on jazz show tickets!  Purchase one here:  https://form.jotform.com/243404827150148 \nMembers save even more! Become a member now: https://www.flemingtondiy.org/member/
URL:https://www.flemingtondiy.org/event/live-jazz-sivan-arbel-group/
END:VEVENT
BEGIN:VEVENT
DTSTART;TZID=America/New_York:20250713T120000
DTEND;TZID=America/New_York:20250713T140000
DTSTAMP:20260424T101247
CREATED:20250627T233514Z
LAST-MODIFIED:20250712T235011Z
UID:10003332-1752408000-1752415200@www.flemingtondiy.org
SUMMARY:Open Gallery Hours
DESCRIPTION:
URL:https://www.flemingtondiy.org/event/open-gallery-hours-7/
END:VEVENT
BEGIN:VEVENT
DTSTART;TZID=America/New_York:20250713T143000
DTEND;TZID=America/New_York:20250713T170000
DTSTAMP:20260424T101247
CREATED:20250304T233534Z
LAST-MODIFIED:20250712T235012Z
UID:10003097-1752417000-1752426000@www.flemingtondiy.org
SUMMARY:Women's Comedy Open Mic
DESCRIPTION:Ever wanted to share a joke with your friends? Have a friend who you think is hilarious but don’t know how to let other ladies know about her talent? Here’s an opportunity to give it a try. Enjoy a safe space to share laughs – and if you fail – it’s ok to get up and try again!
URL:https://www.flemingtondiy.org/event/womens-comedy-open-mic-31/
END:VEVENT
BEGIN:VEVENT
DTSTART;TZID=America/New_York:20250713T190000
DTEND;TZID=America/New_York:20250713T220000
DTSTAMP:20260424T101247
CREATED:20250606T233512Z
LAST-MODIFIED:20250713T235022Z
UID:10003316-1752433200-1752444000@www.flemingtondiy.org
SUMMARY:Live Music - Metal
DESCRIPTION:Waffle House of 1000 Corpses (Noise Metal/Sludge)Black Winter (Metalcore/Deathcore)Dragsholm (Blackened Death Metal)The Martyr (Alt Metal) \n$10Doors @ 6:30\, Music @ 7All AgesNo Drugs / No Alcohol
URL:https://www.flemingtondiy.org/event/live-music-metal-2/
END:VEVENT
BEGIN:VEVENT
DTSTART;TZID=America/New_York:20250714T180000
DTEND;TZID=America/New_York:20250714T200000
DTSTAMP:20260424T101247
CREATED:20241220T233621Z
LAST-MODIFIED:20250714T235125Z
UID:10002799-1752516000-1752523200@www.flemingtondiy.org
SUMMARY:Hunterdon Fiber Artist Meeting
DESCRIPTION:Looking to meet other fiber artists in the Hunterdon county area?  Think about coming to Hunterdon Fiber Artists meet up to socialize and connect with others doing the fiber art craft that they love. \nAll are welcome.  Just bring your craft be it knitting\, crocheting\, spinning\, etc.\, and be prepared to meet lots of fun and interesting people!  We even have mini educational talks on requested topics! \nOur FB group is Hunterdon Fiber Artists https://www.facebook.com/groups/1101970274078722 \nOur Ravelry group is https://www.ravelry.com/groups/hunterdon-fiber-artists?s=tab \nEvery other Monday at DIY; $3-5 suggested donation.
URL:https://www.flemingtondiy.org/event/hunterdon-fiber-artist-meeting-65/
END:VEVENT
BEGIN:VEVENT
DTSTART;TZID=America/New_York:20250714T180000
DTEND;TZID=America/New_York:20250714T210000
DTSTAMP:20260424T101247
CREATED:20231107T010615Z
LAST-MODIFIED:20250714T235124Z
UID:10001879-1752516000-1752526800@www.flemingtondiy.org
SUMMARY:Print Club
DESCRIPTION:Flemington DIY Print Club is a weekly open studio held from 6-9PM every Monday\, $15-30 per printer. It provides an opportunity for local artists and community members new to arts processes to utilize shared printmaking facilities. Print Club provides a platform for artists to network\, build community\, and work collaboratively. \nNo experience? No problem! Our vounteers will guide you through the process from start to finish! \nLearn more: https://www.flemingtondiy.org/printclub/
URL:https://www.flemingtondiy.org/event/print-club-241/
END:VEVENT
BEGIN:VEVENT
DTSTART;TZID=America/New_York:20250715T113000
DTEND;TZID=America/New_York:20250715T180000
DTSTAMP:20260424T101247
CREATED:20250602T233518Z
LAST-MODIFIED:20250714T235125Z
UID:10003217-1752579000-1752602400@www.flemingtondiy.org
SUMMARY:Open Hours
DESCRIPTION:Visit the space\, see our current art shows\, hang out\, and learn how to get involved!
URL:https://www.flemingtondiy.org/event/open-hours-183/
END:VEVENT
BEGIN:VEVENT
DTSTART;TZID=America/New_York:20250715T183000
DTEND;TZID=America/New_York:20250715T203000
DTSTAMP:20260424T101247
CREATED:20240928T233713Z
LAST-MODIFIED:20250715T235024Z
UID:10002601-1752604200-1752611400@www.flemingtondiy.org
SUMMARY:Flemington Acoustic Players
DESCRIPTION:Calling all Hunterdon County pop/rock/folk stars!  Are you looking for a place to practice your acoustic guitar skills\, and maybe do some singing too?   \nOur merry band of music makers is open to players of all abilities! This gathering however is for Acoustic players ONLY; i.e guitars\, ukuleles\, mandolins & banjos. A drummer and/or an acoustic/electric bassist would be welcomed though to help us all stay in time. \nChords and lyrics to the songs will be projected on a screen so there’s no need for you to bring a music stand or tablet. We will be selecting tunes from a song book that includes a wide variety of rock/pop/folk classics. \nCome and have fun with us as we play and sing along to some of everyone’s favorite tunes! \nSuggested donation of $3-5www.flemingtondiy.org/acoustic/
URL:https://www.flemingtondiy.org/event/flemington-acoustic-players-67/
END:VEVENT
BEGIN:VEVENT
DTSTART;TZID=America/New_York:20250716T190000
DTEND;TZID=America/New_York:20250716T203000
DTSTAMP:20260424T101247
CREATED:20250623T235014Z
LAST-MODIFIED:20250715T235024Z
UID:10003325-1752692400-1752697800@www.flemingtondiy.org
SUMMARY:For the Girls: Relationship Workshop
DESCRIPTION:You’re invited to For The Girls\, a supportive and empowering workshop hosted by Erika Bellomo\, LAMFT\, designed to help women better understand gaslighting\, identify narcissistic behavior\, and build healthy relationship dynamics. This event isn’t just informative—it’s a full experience. Enjoy “girl dinner”-style snacks\, pretty mocktails\, and a warm\, welcoming vibe where healing and sisterhood come together. Think cozy conversation\, self-reflection\, and supportive\, like-minded women. \nRegister at www.flemingtondiy.org/FortheGirls
URL:https://www.flemingtondiy.org/event/for-the-girls-relationship-workshop/
END:VEVENT
BEGIN:VEVENT
DTSTART;TZID=America/New_York:20250717T113000
DTEND;TZID=America/New_York:20250717T180000
DTSTAMP:20260424T101247
CREATED:20241221T233540Z
LAST-MODIFIED:20250715T235024Z
UID:10002867-1752751800-1752775200@www.flemingtondiy.org
SUMMARY:Open Hours
DESCRIPTION:Visit the space\, see our current art shows\, hang out\, and learn how to get involved!
URL:https://www.flemingtondiy.org/event/open-hours-202/
END:VEVENT
BEGIN:VEVENT
DTSTART;TZID=America/New_York:20250717T180000
DTEND;TZID=America/New_York:20250717T200000
DTSTAMP:20260424T101247
CREATED:20250628T233526Z
LAST-MODIFIED:20250717T233554Z
UID:10003337-1752775200-1752782400@www.flemingtondiy.org
SUMMARY:Mural Battle: Battle of the Walls
DESCRIPTION:Mural Battle: Battle of the Walls This neighborly competition invites two artists to duke it out with pens and markers\, for a two hour art-making extravaganza. Our host\, OurNaturalState\, will choose a theme\, and YOU (the artist)\, will create something\, anything\, you think portrays that theme in your OWN style.  \nWinners get their art placed in a highly trafficked area in Flemington\, as well as a “bio post”\, and other social shout outs to bathe them in their winner’s glory. \nJoin us every 3rd Thursday during Sip and Stroll on Stangl Rd in Flemington from June to December for some art\, community and fun. \nThe first battle begins June 19th 2025 from 6-8 just outside of Flemington DIY. \nFor more info or to get involved please contact:@OurNaturalState on IGORournaturalstateofbeing@gmail.com
URL:https://www.flemingtondiy.org/event/mural-battle-battle-of-the-walls-8/
END:VEVENT
BEGIN:VEVENT
DTSTART;TZID=America/New_York:20250717T190000
DTEND;TZID=America/New_York:20250717T210000
DTSTAMP:20260424T101247
CREATED:20241023T233526Z
LAST-MODIFIED:20250717T233554Z
UID:10002658-1752778800-1752786000@www.flemingtondiy.org
SUMMARY:Monthly Open Bluegrass Jam
DESCRIPTION:Bring your instrument\, a couple of tunes\, some friends and your own refreshments. All players welcome – Beginner to pro!  \nFreewill basket to support DIY $5 suggested Open to all ages –strictly no alcohol  \nQuestions? Contact Ed: rvrecband@gmail.com / ejjank@gmail.com
URL:https://www.flemingtondiy.org/event/monthly-open-bluegrass-jam-7/
END:VEVENT
BEGIN:VEVENT
DTSTART;TZID=America/New_York:20250718T190000
DTEND;TZID=America/New_York:20250718T220000
DTSTAMP:20260424T101247
CREATED:20250521T235027Z
LAST-MODIFIED:20250718T233634Z
UID:10003200-1752865200-1752876000@www.flemingtondiy.org
SUMMARY:Third Friday Board Game Night!
DESCRIPTION:Third Friday Board Game Night running July-November 2025 \nAll ages | Bring your own game or play with one of ours | Meet new people\, have fun\, casual! No RSVP required\, just show up. Free to attend\, donations to Flemington DIY welcomed.
URL:https://www.flemingtondiy.org/event/third-friday-board-game-night/
END:VEVENT
BEGIN:VEVENT
DTSTART;TZID=America/New_York:20250719T110000
DTEND;TZID=America/New_York:20250719T123000
DTSTAMP:20260424T101247
CREATED:20250623T235015Z
LAST-MODIFIED:20250718T233636Z
UID:10003326-1752922800-1752928200@www.flemingtondiy.org
SUMMARY:For the Girls: Relationship Workshop
DESCRIPTION:You’re invited to For The Girls\, a supportive and empowering workshop hosted by Erika Bellomo\, LAMFT\, designed to help women better understand gaslighting\, identify narcissistic behavior\, and build healthy relationship dynamics. This event isn’t just informative—it’s a full experience. Enjoy “girl dinner”-style snacks\, pretty mocktails\, and a warm\, welcoming vibe where healing and sisterhood come together. Think cozy conversation\, self-reflection\, and supportive\, like-minded women. \nRegister at www.flemingtondiy.org/FortheGirls
URL:https://www.flemingtondiy.org/event/for-the-girls-relationship-workshop-2/
END:VEVENT
END:VCALENDAR