BEGIN:VCALENDAR
VERSION:2.0
PRODID:-//Flemington DIY - ECPv6.15.20//NONSGML v1.0//EN
CALSCALE:GREGORIAN
METHOD:PUBLISH
X-WR-CALNAME:Flemington DIY
X-ORIGINAL-URL:https://www.flemingtondiy.org
X-WR-CALDESC:Events for Flemington DIY
REFRESH-INTERVAL;VALUE=DURATION:PT1H
X-Robots-Tag:noindex
X-PUBLISHED-TTL:PT1H
BEGIN:VTIMEZONE
TZID:America/New_York
BEGIN:DAYLIGHT
TZOFFSETFROM:-0500
TZOFFSETTO:-0400
TZNAME:EDT
DTSTART:20220313T070000
END:DAYLIGHT
BEGIN:STANDARD
TZOFFSETFROM:-0400
TZOFFSETTO:-0500
TZNAME:EST
DTSTART:20221106T060000
END:STANDARD
BEGIN:DAYLIGHT
TZOFFSETFROM:-0500
TZOFFSETTO:-0400
TZNAME:EDT
DTSTART:20230312T070000
END:DAYLIGHT
BEGIN:STANDARD
TZOFFSETFROM:-0400
TZOFFSETTO:-0500
TZNAME:EST
DTSTART:20231105T060000
END:STANDARD
BEGIN:DAYLIGHT
TZOFFSETFROM:-0500
TZOFFSETTO:-0400
TZNAME:EDT
DTSTART:20240310T070000
END:DAYLIGHT
BEGIN:STANDARD
TZOFFSETFROM:-0400
TZOFFSETTO:-0500
TZNAME:EST
DTSTART:20241103T060000
END:STANDARD
END:VTIMEZONE
BEGIN:VEVENT
DTSTART;TZID=America/New_York:20231102T094500
DTEND;TZID=America/New_York:20231102T110000
DTSTAMP:20260425T200532
CREATED:20230918T225012Z
LAST-MODIFIED:20231102T010505Z
UID:10001614-1698918300-1698922800@www.flemingtondiy.org
SUMMARY:Music Together
DESCRIPTION:Every week in our music classes at Music Together Flemington\, babies\, toddlers\, preschoolers\, and the grownups who love them come together for a time of musical play. Little ones love playing along in class\, and caregivers love being a part of their children’s growth into confident music-makers. And everyone loves our songs that’ll have you tapping along in no time \nLearn more and enroll today:https://www.musictogetherflemington.com/
URL:https://www.flemingtondiy.org/event/music-together-155/
END:VEVENT
BEGIN:VEVENT
DTSTART;TZID=America/New_York:20231102T113000
DTEND;TZID=America/New_York:20231102T180000
DTSTAMP:20260425T200532
CREATED:20230920T225026Z
LAST-MODIFIED:20231102T010505Z
UID:10001623-1698924600-1698948000@www.flemingtondiy.org
SUMMARY:Open Hours
DESCRIPTION:stop in\, say hi\, see art\, and learn about DIY!
URL:https://www.flemingtondiy.org/event/open-hours-61/
END:VEVENT
BEGIN:VEVENT
DTSTART;TZID=America/New_York:20231103T091500
DTEND;TZID=America/New_York:20231103T113000
DTSTAMP:20260425T200532
CREATED:20230812T145048Z
LAST-MODIFIED:20231103T010519Z
UID:10001540-1699002900-1699011000@www.flemingtondiy.org
SUMMARY:Music Together
DESCRIPTION:Every week in our music classes at Music Together Flemington\, babies\, toddlers\, preschoolers\, and the grownups who love them come together for a time of musical play. Little ones love playing along in class\, and caregivers love being a part of their children’s growth into confident music-makers. And everyone loves our songs that’ll have you tapping along in no time \nLearn more and enroll today:https://www.musictogetherflemington.com/
URL:https://www.flemingtondiy.org/event/music-together-143/
END:VEVENT
BEGIN:VEVENT
DTSTART;TZID=America/New_York:20231103T120000
DTEND;TZID=America/New_York:20231103T140000
DTSTAMP:20260425T200532
CREATED:20230830T220513Z
LAST-MODIFIED:20231103T010519Z
UID:10001590-1699012800-1699020000@www.flemingtondiy.org
SUMMARY:First Fridays: Print Club for Homeschoolers
DESCRIPTION:First Friday of Every Month$15-30 per student\, ages 12-18\nFlemington DIY and Raritan Learning Cooperative are collaborating to offer a monthly print club for kids ages 12-18\, on the first Friday of every month from 11am-1pm. Bring a design and a t-shirt or anything you want to print on. You’ll get to learn the process of screenprinting\, create your own screen\, and print posters and shirts!https://www.flemingtondiy.org/first-fridays/
URL:https://www.flemingtondiy.org/event/first-fridays-print-club-for-homeschoolers-2/
END:VEVENT
BEGIN:VEVENT
DTSTART;TZID=America/New_York:20231104T120000
DTEND;TZID=America/New_York:20231104T150000
DTSTAMP:20260425T200532
CREATED:20230925T225012Z
LAST-MODIFIED:20231104T010525Z
UID:10001642-1699099200-1699110000@www.flemingtondiy.org
SUMMARY:"We’re all stuck here\, might as well get along" Art opening reception
DESCRIPTION:
URL:https://www.flemingtondiy.org/event/were-all-stuck-here-might-as-well-get-along-art-opening-reception/
END:VEVENT
BEGIN:VEVENT
DTSTART;TZID=America/New_York:20231105T130000
DTEND;TZID=America/New_York:20231105T170000
DTSTAMP:20260425T200532
CREATED:20231103T010506Z
LAST-MODIFIED:20231105T010542Z
UID:10001681-1699189200-1699203600@www.flemingtondiy.org
SUMMARY:Open Jazz Jams
DESCRIPTION:Open Jazz Jams are held he first Sunday of every month. \nThe sessions will provide an opportunity for musicians to play with an experienced band. From 1-2 PM the hosting musicians for the week will play. Other musicians will be invited to sit in and play between 2-5 PM (typically a minimum of 2 songs each\, circumstances permitting). With the exception of drum kit and piano\, all musicians should bring their own equipment (instruments\, amps\, drum sticks\, microphones\, etc.). The sessions will focus primarily on jazz standards and other jazz tunes contained in Hal Leonard Real Books volumes 1 through 3. Newcomers will be coached through the process.  \nA $3 to $5 donation to Flemington DIY will be required from each musician that plays at the session. Visitors that just want to listen to the music are also welcome to attend for all or any part of the 1-5 PM sessions free of charge.  \nFor questions about the sessions\, or to be added to the monthly text notification list for last minute cancellations or reschedules\, please email njjazzjam@gmail.com
URL:https://www.flemingtondiy.org/event/open-jazz-jams-11/
END:VEVENT
BEGIN:VEVENT
DTSTART;TZID=America/New_York:20231106T091500
DTEND;TZID=America/New_York:20231106T123000
DTSTAMP:20260425T200532
CREATED:20230812T145048Z
LAST-MODIFIED:20231106T010536Z
UID:10001541-1699262100-1699273800@www.flemingtondiy.org
SUMMARY:Music Together
DESCRIPTION:Every week in our music classes at Music Together Flemington\, babies\, toddlers\, preschoolers\, and the grownups who love them come together for a time of musical play. Little ones love playing along in class\, and caregivers love being a part of their children’s growth into confident music-makers. And everyone loves our songs that’ll have you tapping along in no time \nLearn more and enroll today:https://www.musictogetherflemington.com/
URL:https://www.flemingtondiy.org/event/music-together-144/
END:VEVENT
BEGIN:VEVENT
DTSTART;TZID=America/New_York:20231106T180000
DTEND;TZID=America/New_York:20231106T210000
DTSTAMP:20260425T200532
CREATED:20230110T162552Z
LAST-MODIFIED:20231107T010621Z
UID:10001058-1699293600-1699304400@www.flemingtondiy.org
SUMMARY:Print Club
DESCRIPTION:Flemington DIY Print Club is a weekly open studio held from 6-9PM every Monday\, $15-30 per printer. It provides an opportunity for local artists and community members new to arts processes to utilize shared printmaking facilities. Print Club provides a platform for artists to network\, build community\, and work collaboratively. \nNo experience? No problem! Our vounteers will guide you through the process from start to finish! \nLearn more: https://www.flemingtondiy.org/printclub/
URL:https://www.flemingtondiy.org/event/print-club-162/
END:VEVENT
BEGIN:VEVENT
DTSTART;TZID=America/New_York:20231107T090000
DTEND;TZID=America/New_York:20231107T140000
DTSTAMP:20260425T200532
CREATED:20231102T010506Z
LAST-MODIFIED:20231107T010621Z
UID:10001674-1699347600-1699365600@www.flemingtondiy.org
SUMMARY:Gallery Open Hours: "We’re all stuck here\, might as well get along"
DESCRIPTION:Gallery Open Hours. Stop by and check out the latest exhibit on display!More info on the artist & show: https://www.flemingtondiy.org/our-natural-state/
URL:https://www.flemingtondiy.org/event/gallery-open-hours-were-all-stuck-here-might-as-well-get-along/
END:VEVENT
BEGIN:VEVENT
DTSTART;TZID=America/New_York:20231109T094500
DTEND;TZID=America/New_York:20231109T110000
DTSTAMP:20260425T200532
CREATED:20230918T225012Z
LAST-MODIFIED:20231109T012030Z
UID:10001615-1699523100-1699527600@www.flemingtondiy.org
SUMMARY:Music Together
DESCRIPTION:Every week in our music classes at Music Together Flemington\, babies\, toddlers\, preschoolers\, and the grownups who love them come together for a time of musical play. Little ones love playing along in class\, and caregivers love being a part of their children’s growth into confident music-makers. And everyone loves our songs that’ll have you tapping along in no time \nLearn more and enroll today:https://www.musictogetherflemington.com/
URL:https://www.flemingtondiy.org/event/music-together-156/
END:VEVENT
BEGIN:VEVENT
DTSTART;TZID=America/New_York:20231109T113000
DTEND;TZID=America/New_York:20231109T180000
DTSTAMP:20260425T200532
CREATED:20230920T225026Z
LAST-MODIFIED:20231109T012030Z
UID:10001624-1699529400-1699552800@www.flemingtondiy.org
SUMMARY:Open Hours
DESCRIPTION:stop in\, say hi\, see art\, and learn about DIY!
URL:https://www.flemingtondiy.org/event/open-hours-62/
END:VEVENT
BEGIN:VEVENT
DTSTART;TZID=America/New_York:20231110T091500
DTEND;TZID=America/New_York:20231110T113000
DTSTAMP:20260425T200532
CREATED:20230812T145049Z
LAST-MODIFIED:20231110T012039Z
UID:10001544-1699607700-1699615800@www.flemingtondiy.org
SUMMARY:Music Together
DESCRIPTION:Every week in our music classes at Music Together Flemington\, babies\, toddlers\, preschoolers\, and the grownups who love them come together for a time of musical play. Little ones love playing along in class\, and caregivers love being a part of their children’s growth into confident music-makers. And everyone loves our songs that’ll have you tapping along in no time \nLearn more and enroll today:https://www.musictogetherflemington.com/
URL:https://www.flemingtondiy.org/event/music-together-146/
END:VEVENT
BEGIN:VEVENT
DTSTART;TZID=America/New_York:20231110T190000
DTEND;TZID=America/New_York:20231110T220000
DTSTAMP:20260425T200532
CREATED:20230922T225028Z
LAST-MODIFIED:20231111T012028Z
UID:10001639-1699642800-1699653600@www.flemingtondiy.org
SUMMARY:When Waves Collide: Music & Dance Festival
DESCRIPTION:When Waves Collide is a collaborative music and dance festival that connects professional musicians and dancers to create new work together.\nFeaturing 8 brand new collaborations\, WHEN WAVES COLLIDE is back for its third year running! Artists from NYC\, Philadelphia\, local counties\, and abroad all come together in Hunterdon County to present 8 different cutting-edge works. This festival is not to be missed! The event takes place on Friday\, November 10th at 7 pm. There will be a meet-and-greet reception with refreshments following the show.\nCollaborations:\nTina Bararian w/ Dani Hawkins\nNerissa Tunnessen w/ Samantha Xiao Cody Megan Chu w/ Cecilia Vacanti\nMichelle Lukach w/ Sean Ivy\nJelani Taylor w/ Hannah Burke\nLiberty Styles w/ Ed Hermann\nMolly Weidmaier and Ava Rakowski w/ John Carroll\nMelinda Matticoli w/ Izze Stein\nFunding is made possible in part by the Hunterdon County Board of County Commissioners\, through funds administered by the Cultural & Heritage Commission.\n TICKETS:\nhttps://www.eventbrite.com/e/when-waves-collide-2023-tickets-715549416567?aff=efbeventtix
URL:https://www.flemingtondiy.org/event/when-waves-collide-music-dance-festival/
END:VEVENT
BEGIN:VEVENT
DTSTART;TZID=America/New_York:20231111T110000
DTEND;TZID=America/New_York:20231111T150000
DTSTAMP:20260425T200532
CREATED:20231102T010506Z
LAST-MODIFIED:20231111T012028Z
UID:10001675-1699700400-1699714800@www.flemingtondiy.org
SUMMARY:Gallery Open Hours: "We’re all stuck here\, might as well get along"
DESCRIPTION:Gallery Open Hours. Stop by and check out the latest exhibit on display!More info on the artist & show: https://www.flemingtondiy.org/our-natural-state/
URL:https://www.flemingtondiy.org/event/gallery-open-hours-were-all-stuck-here-might-as-well-get-along-2/
END:VEVENT
BEGIN:VEVENT
DTSTART;TZID=America/New_York:20231111T190000
DTEND;TZID=America/New_York:20231111T220000
DTSTAMP:20260425T200532
CREATED:20230901T220521Z
LAST-MODIFIED:20231112T012031Z
UID:10001595-1699729200-1699740000@www.flemingtondiy.org
SUMMARY:Live Music
DESCRIPTION:Make a Wish Rave\nDJ g3yblad3 (faraday DJ set)\nKNØTZuØ\neternalBlue\n$10-15 Donation\nDoors @ 7pm\nNo Alcohol/Drugs
URL:https://www.flemingtondiy.org/event/live-music-30/
END:VEVENT
BEGIN:VEVENT
DTSTART;TZID=America/New_York:20231112T110000
DTEND;TZID=America/New_York:20231112T120000
DTSTAMP:20260425T200532
CREATED:20231002T232202Z
LAST-MODIFIED:20231112T012031Z
UID:10001648-1699786800-1699790400@www.flemingtondiy.org
SUMMARY:Tap Project
DESCRIPTION:Come one\, come all\, no tap shoes required! \nJoin us Sunday mornings and learn the language of tap dance (what’s a flap? shuffle? buffalo?) plus tap dance history (did you ever wonder who was Fred Astaire’s teacher?). \nWe’ll learn simple warm ups\, then take those steps and do a simple combination\, add a few together\, and hey\, you have a whole dance! \nGreat music\, great fun\, new friends! \nPlease check calendar for upcoming classes!Join the Facebook group!
URL:https://www.flemingtondiy.org/event/tap-project-32/
END:VEVENT
BEGIN:VEVENT
DTSTART;TZID=America/New_York:20231112T130000
DTEND;TZID=America/New_York:20231112T170000
DTSTAMP:20260425T200532
CREATED:20231003T232013Z
LAST-MODIFIED:20231112T012031Z
UID:10001654-1699794000-1699808400@www.flemingtondiy.org
SUMMARY:Abortion\, Spice\, & Everything Nice: an artisan market supporting Abortion Access
DESCRIPTION:Join NJAAF on Sunday\, November 12th\, 1:00 – 5:00pm at Flemington DIY for our very first Artisan Market Supporting Abortion Access!\nThe market will feature handmade jewelry\, apparel\, gifts\, décor\, and more\, by local makers and artists–all selling their goods in support of NJAAF’s mission.\nAdmission is $10 suggested donation at the door\, or in advance.\nAll proceeds will help fund the cost of abortion care for people traveling to\, from\, and within New Jersey.\nIf you’re a vendor and would like to participate\, please apply by October 20: Vendor Signup Form\nLearn more about NJAAF at www.njaaf.org
URL:https://www.flemingtondiy.org/event/abortion-spice-everything-nice-an-artisan-market-supporting-abortion-access/
END:VEVENT
BEGIN:VEVENT
DTSTART;TZID=America/New_York:20231112T190000
DTEND;TZID=America/New_York:20231112T230000
DTSTAMP:20260425T200532
CREATED:20230823T213522Z
LAST-MODIFIED:20231113T013533Z
UID:10001580-1699815600-1699830000@www.flemingtondiy.org
SUMMARY:Live Music
DESCRIPTION:Punk rock heavyweights OFF WITH THEIR HEADS visit FDIY with School Drugs + more TBA \nGET TICKETS
URL:https://www.flemingtondiy.org/event/live-music-16/
END:VEVENT
BEGIN:VEVENT
DTSTART;TZID=America/New_York:20231113T091500
DTEND;TZID=America/New_York:20231113T123000
DTSTAMP:20260425T200532
CREATED:20230812T145049Z
LAST-MODIFIED:20231113T013533Z
UID:10001545-1699866900-1699878600@www.flemingtondiy.org
SUMMARY:Music Together
DESCRIPTION:Every week in our music classes at Music Together Flemington\, babies\, toddlers\, preschoolers\, and the grownups who love them come together for a time of musical play. Little ones love playing along in class\, and caregivers love being a part of their children’s growth into confident music-makers. And everyone loves our songs that’ll have you tapping along in no time \nLearn more and enroll today:https://www.musictogetherflemington.com/
URL:https://www.flemingtondiy.org/event/music-together-147/
END:VEVENT
BEGIN:VEVENT
DTSTART;TZID=America/New_York:20231113T180000
DTEND;TZID=America/New_York:20231113T210000
DTSTAMP:20260425T200532
CREATED:20230110T162552Z
LAST-MODIFIED:20231114T013513Z
UID:10001059-1699898400-1699909200@www.flemingtondiy.org
SUMMARY:Print Club
DESCRIPTION:Flemington DIY Print Club is a weekly open studio held from 6-9PM every Monday\, $15-30 per printer. It provides an opportunity for local artists and community members new to arts processes to utilize shared printmaking facilities. Print Club provides a platform for artists to network\, build community\, and work collaboratively. \nNo experience? No problem! Our vounteers will guide you through the process from start to finish! \nLearn more: https://www.flemingtondiy.org/printclub/
URL:https://www.flemingtondiy.org/event/print-club-163/
END:VEVENT
BEGIN:VEVENT
DTSTART;TZID=America/New_York:20231114T090000
DTEND;TZID=America/New_York:20231114T130000
DTSTAMP:20260425T200532
CREATED:20231103T010507Z
LAST-MODIFIED:20231114T013513Z
UID:10001682-1699952400-1699966800@www.flemingtondiy.org
SUMMARY:Gallery Open Hours: "We’re all stuck here\, might as well get along"
DESCRIPTION:Gallery Open Hours. Stop by and check out the latest exhibit on display!More info on the artist & show: https://www.flemingtondiy.org/our-natural-state/
URL:https://www.flemingtondiy.org/event/gallery-open-hours-were-all-stuck-here-might-as-well-get-along-8/
END:VEVENT
BEGIN:VEVENT
DTSTART;TZID=America/New_York:20231114T190000
DTEND;TZID=America/New_York:20231114T210000
DTSTAMP:20260425T200532
CREATED:20230818T205041Z
LAST-MODIFIED:20231115T013529Z
UID:10001576-1699988400-1699995600@www.flemingtondiy.org
SUMMARY:Songwriter Circle
DESCRIPTION:Hey\, songwriters: Do you have songs that are half finished? Lyrics you’re not entirely happy with? A songwriting circle is not a performance. It’s an opportunity to connect with other songwriters\, play your song idea for us – whether it’s fully formed or not – and receive gentle\, respectful\, and constructive feedback. All genres welcome! Please bring a few hard copies of your lyrics to share (they’ll be returned to you). We have a piano available. Donations at the door
URL:https://www.flemingtondiy.org/event/songwriter-circle-10/
END:VEVENT
BEGIN:VEVENT
DTSTART;TZID=America/New_York:20231115T090000
DTEND;TZID=America/New_York:20231115T130000
DTSTAMP:20260425T200532
CREATED:20231102T010507Z
LAST-MODIFIED:20231115T013529Z
UID:10001676-1700038800-1700053200@www.flemingtondiy.org
SUMMARY:Gallery Open Hours: "We’re all stuck here\, might as well get along"
DESCRIPTION:Gallery Open Hours. Stop by and check out the latest exhibit on display!More info on the artist & show: https://www.flemingtondiy.org/our-natural-state/
URL:https://www.flemingtondiy.org/event/gallery-open-hours-were-all-stuck-here-might-as-well-get-along-3/
END:VEVENT
BEGIN:VEVENT
DTSTART;TZID=America/New_York:20231115T190000
DTEND;TZID=America/New_York:20231115T200000
DTSTAMP:20260425T200532
CREATED:20231021T003511Z
LAST-MODIFIED:20231115T013529Z
UID:10001660-1700074800-1700078400@www.flemingtondiy.org
SUMMARY:How To: Starting a New Program at DIY
DESCRIPTION:Do you have a skill or topic you want to share with the community? Have you ever wanted to start a community group around a common interest? Flemington DIY accepts proposals for community-oriented classes\, workshops\, and events year around. Most of our programming comes from dedicated volunteers who have a passion for something and have decided to share it with their community. \nThis workshop will go over what is needed to start your own program at DIY and tips for making it a success. This workshop is open to current volunteers and non-volunteers.  \nPlease note: This event is different from our volunteer information session as this will focus solely on program development whereas the information session is an overview of our general volunteer program. \nPLEASE RSVP HERE: https://forms.gle/vt8XzDZ2Tpye3MgH9
URL:https://www.flemingtondiy.org/event/how-to-starting-a-new-program-at-diy/
END:VEVENT
BEGIN:VEVENT
DTSTART;TZID=America/New_York:20231116T094500
DTEND;TZID=America/New_York:20231116T110000
DTSTAMP:20260425T200532
CREATED:20230918T225013Z
LAST-MODIFIED:20231116T013507Z
UID:10001616-1700127900-1700132400@www.flemingtondiy.org
SUMMARY:Music Together
DESCRIPTION:Every week in our music classes at Music Together Flemington\, babies\, toddlers\, preschoolers\, and the grownups who love them come together for a time of musical play. Little ones love playing along in class\, and caregivers love being a part of their children’s growth into confident music-makers. And everyone loves our songs that’ll have you tapping along in no time \nLearn more and enroll today:https://www.musictogetherflemington.com/
URL:https://www.flemingtondiy.org/event/music-together-157/
END:VEVENT
BEGIN:VEVENT
DTSTART;TZID=America/New_York:20231116T113000
DTEND;TZID=America/New_York:20231116T180000
DTSTAMP:20260425T200532
CREATED:20230920T225027Z
LAST-MODIFIED:20231116T013507Z
UID:10001625-1700134200-1700157600@www.flemingtondiy.org
SUMMARY:Open Hours
DESCRIPTION:stop in\, say hi\, see art\, and learn about DIY!
URL:https://www.flemingtondiy.org/event/open-hours-63/
END:VEVENT
BEGIN:VEVENT
DTSTART;TZID=America/New_York:20231116T190000
DTEND;TZID=America/New_York:20231116T210000
DTSTAMP:20260425T200532
CREATED:20231103T010508Z
LAST-MODIFIED:20231117T015028Z
UID:10001683-1700161200-1700168400@www.flemingtondiy.org
SUMMARY:Monthly Open Bluegrass Jam Session
DESCRIPTION:All players welcome! beginner to pro\nBring your instrument\, a couple of tunes\,\nsome friends and your own refreshments\nFreewill basket to support DIY $5 suggested\nDIY Is open to all ages –strictly no alcohol
URL:https://www.flemingtondiy.org/event/monthly-open-bluegrass-jam-session-8/
END:VEVENT
BEGIN:VEVENT
DTSTART;TZID=America/New_York:20231117T091500
DTEND;TZID=America/New_York:20231117T113000
DTSTAMP:20260425T200532
CREATED:20230812T145049Z
LAST-MODIFIED:20231117T015028Z
UID:10001548-1700212500-1700220600@www.flemingtondiy.org
SUMMARY:Music Together
DESCRIPTION:Every week in our music classes at Music Together Flemington\, babies\, toddlers\, preschoolers\, and the grownups who love them come together for a time of musical play. Little ones love playing along in class\, and caregivers love being a part of their children’s growth into confident music-makers. And everyone loves our songs that’ll have you tapping along in no time \nLearn more and enroll today:https://www.musictogetherflemington.com/
URL:https://www.flemingtondiy.org/event/music-together-149/
END:VEVENT
BEGIN:VEVENT
DTSTART;TZID=America/New_York:20231118T130000
DTEND;TZID=America/New_York:20231118T160000
DTSTAMP:20260425T200532
CREATED:20230926T225016Z
LAST-MODIFIED:20231118T015045Z
UID:10001643-1700312400-1700323200@www.flemingtondiy.org
SUMMARY:Meet up @ Michener Museum
DESCRIPTION:Meet us at the museum! Join Flemington DIY volunteers\, members\, and other supporters to explore the contemporary exhibit “Never Broken: Vizualizing Lenape Histories” at the Michener Museum in Doylestown\, PA. This is a public meetup event facilitated by Flemington DIY – participants should plan to purchase their own tickets and plan their transportation to the site. Flemington DIY will be sponsoring a limited amount of free tickets to BIPoC attendees (rsvp required).  \nPlease RSVP using the link below:  \nhttps://bitly.ws/Vsbq \nTickets can be purchased online or in person at the museum.  \nAdult: $15.00Senior: $13.00College Student with Valid ID: $8.00Youth age 6-18: $5.00Children under 6: FreeChildren must be accompanied by an adult at all times. \nDate: November 18\, 2023 at 1pm. Meet at the ticket office.  Location: The James A. Michener Art Museum138 South Pine StreetDoylestown\, PA 18901 \nRead more about the exhibit we will visit here: https://www.michenerartmuseum.org/mam_exhibitions/never-broken-visualizing-lenape-histories/ \nQuestions? Email volunteerflemingtondiy@gmail.com 
URL:https://www.flemingtondiy.org/event/meet-up-michener-museum/
END:VEVENT
BEGIN:VEVENT
DTSTART;TZID=America/New_York:20231119T110000
DTEND;TZID=America/New_York:20231119T120000
DTSTAMP:20260425T200532
CREATED:20231002T232203Z
LAST-MODIFIED:20231119T015040Z
UID:10001649-1700391600-1700395200@www.flemingtondiy.org
SUMMARY:Tap Project
DESCRIPTION:Come one\, come all\, no tap shoes required! \nJoin us Sunday mornings and learn the language of tap dance (what’s a flap? shuffle? buffalo?) plus tap dance history (did you ever wonder who was Fred Astaire’s teacher?). \nWe’ll learn simple warm ups\, then take those steps and do a simple combination\, add a few together\, and hey\, you have a whole dance! \nGreat music\, great fun\, new friends! \nPlease check calendar for upcoming classes!Join the Facebook group!
URL:https://www.flemingtondiy.org/event/tap-project-33/
END:VEVENT
END:VCALENDAR