BEGIN:VCALENDAR
VERSION:2.0
PRODID:-//Flemington DIY - ECPv6.15.20//NONSGML v1.0//EN
CALSCALE:GREGORIAN
METHOD:PUBLISH
X-WR-CALNAME:Flemington DIY
X-ORIGINAL-URL:https://www.flemingtondiy.org
X-WR-CALDESC:Events for Flemington DIY
REFRESH-INTERVAL;VALUE=DURATION:PT1H
X-Robots-Tag:noindex
X-PUBLISHED-TTL:PT1H
BEGIN:VTIMEZONE
TZID:America/New_York
BEGIN:DAYLIGHT
TZOFFSETFROM:-0500
TZOFFSETTO:-0400
TZNAME:EDT
DTSTART:20220313T070000
END:DAYLIGHT
BEGIN:STANDARD
TZOFFSETFROM:-0400
TZOFFSETTO:-0500
TZNAME:EST
DTSTART:20221106T060000
END:STANDARD
BEGIN:DAYLIGHT
TZOFFSETFROM:-0500
TZOFFSETTO:-0400
TZNAME:EDT
DTSTART:20230312T070000
END:DAYLIGHT
BEGIN:STANDARD
TZOFFSETFROM:-0400
TZOFFSETTO:-0500
TZNAME:EST
DTSTART:20231105T060000
END:STANDARD
BEGIN:DAYLIGHT
TZOFFSETFROM:-0500
TZOFFSETTO:-0400
TZNAME:EDT
DTSTART:20240310T070000
END:DAYLIGHT
BEGIN:STANDARD
TZOFFSETFROM:-0400
TZOFFSETTO:-0500
TZNAME:EST
DTSTART:20241103T060000
END:STANDARD
END:VTIMEZONE
BEGIN:VEVENT
DTSTART;TZID=America/New_York:20230930T120000
DTEND;TZID=America/New_York:20230930T170000
DTSTAMP:20260425T232110
CREATED:20230606T122128Z
LAST-MODIFIED:20230929T230516Z
UID:10001420-1696075200-1696093200@www.flemingtondiy.org
SUMMARY:NJ STORYTELLING FEST
DESCRIPTION:http://njstorytellingfestival.com/ \nJoin us as storytellers from throughout New Jersey and the Tri-State area convene for  at the Flemington Arts & Cultural district  to regale visitors with a whole new crop of stories – and more than 50 storytellers at five locations on Stangl Road. Stories of all types from The Moth-type ‘real stories from real people’ to family legacy stories to children’s stories.  \nLegacy Storytelling Workshop \nEvery family has stories worth sharing. Discover the family stories you always knew were there. The stories of your family are vital treasures and gifts that only you and your family can give to your ancestors for generations to come!. Please join us for an exciting and interactive Legacy Storytelling Workshop to help “build” your family legacy stories. \n The Story Slam \nThe Story Slam takes place from noon to 1 PM to begin the fun.  Contestants are chosen at random to recount a 5 minute-or-less personal tale. The theme is HOME TOWN.  \nThe Lightning Round \nA continuous rotation of tellers will perform throughout the farm from 1 to 5 PM\, followed by the festival’s signature close\, the Lightning Round\, from 4 to 5 PM.  All are encouraged to participate!
URL:https://www.flemingtondiy.org/event/nj-storytelling-fest/
END:VEVENT
BEGIN:VEVENT
DTSTART;TZID=America/New_York:20230930T100000
DTEND;TZID=America/New_York:20230930T120000
DTSTAMP:20260425T232110
CREATED:20230322T082119Z
LAST-MODIFIED:20230929T230516Z
UID:10001316-1696068000-1696075200@www.flemingtondiy.org
SUMMARY:LEARN TO POURPAINT: Adult Class
DESCRIPTION:Join us in learning the latest art craze sweeping the country by local artist & musician Chris Zelenka.\nStudents will learn all the basic concepts to create some really cool art pieces\, all supplies included\, you create your very own amazing piece to keep.\nOpen to all adults\nCOST; $50 per student\nInfo and sign up: www.flemingtondiy.org/pourpaint
URL:https://www.flemingtondiy.org/event/learn-to-pourpaint-adult-class-13/
END:VEVENT
BEGIN:VEVENT
DTSTART;TZID=America/New_York:20230929T190000
DTEND;TZID=America/New_York:20230929T220000
DTSTAMP:20260425T232110
CREATED:20230629T130534Z
LAST-MODIFIED:20230929T230516Z
UID:10001472-1696014000-1696024800@www.flemingtondiy.org
SUMMARY:Live Music
DESCRIPTION:Circle Round the Sun\nInstantly Radioactive\n$5-10 @ Door\nDoors 7pm\nNo Alcohol/Drugs.
URL:https://www.flemingtondiy.org/event/live-music-15/
END:VEVENT
BEGIN:VEVENT
DTSTART;TZID=America/New_York:20230929T091500
DTEND;TZID=America/New_York:20230929T113000
DTSTAMP:20260425T232110
CREATED:20230812T145044Z
LAST-MODIFIED:20230928T230509Z
UID:10001520-1695978900-1695987000@www.flemingtondiy.org
SUMMARY:Music Together
DESCRIPTION:Every week in our music classes at Music Together Flemington\, babies\, toddlers\, preschoolers\, and the grownups who love them come together for a time of musical play. Little ones love playing along in class\, and caregivers love being a part of their children’s growth into confident music-makers. And everyone loves our songs that’ll have you tapping along in no time \nLearn more and enroll today:https://www.musictogetherflemington.com/
URL:https://www.flemingtondiy.org/event/music-together-128/
END:VEVENT
BEGIN:VEVENT
DTSTART;TZID=America/New_York:20230928T113000
DTEND;TZID=America/New_York:20230928T180000
DTSTAMP:20260425T232110
CREATED:20230920T225023Z
LAST-MODIFIED:20230927T230504Z
UID:10001618-1695900600-1695924000@www.flemingtondiy.org
SUMMARY:Open Hours
DESCRIPTION:stop in\, say hi\, see art\, and learn about DIY!
URL:https://www.flemingtondiy.org/event/open-hours-56/
END:VEVENT
BEGIN:VEVENT
DTSTART;TZID=America/New_York:20230928T094500
DTEND;TZID=America/New_York:20230928T110000
DTSTAMP:20260425T232110
CREATED:20230918T225008Z
LAST-MODIFIED:20230927T230504Z
UID:10001609-1695894300-1695898800@www.flemingtondiy.org
SUMMARY:Music Together
DESCRIPTION:Every week in our music classes at Music Together Flemington\, babies\, toddlers\, preschoolers\, and the grownups who love them come together for a time of musical play. Little ones love playing along in class\, and caregivers love being a part of their children’s growth into confident music-makers. And everyone loves our songs that’ll have you tapping along in no time \nLearn more and enroll today:https://www.musictogetherflemington.com/
URL:https://www.flemingtondiy.org/event/music-together-150/
END:VEVENT
BEGIN:VEVENT
DTSTART;TZID=America/New_York:20230927T193000
DTEND;TZID=America/New_York:20230927T213000
DTSTAMP:20260425T232110
CREATED:20221103T205629Z
LAST-MODIFIED:20230927T230504Z
UID:10000747-1695843000-1695850200@www.flemingtondiy.org
SUMMARY:Poetry Open Mic
DESCRIPTION:show up & sign up\ndonations at the door\nall ages
URL:https://www.flemingtondiy.org/event/poetry-open-mic-8/
END:VEVENT
BEGIN:VEVENT
DTSTART;TZID=America/New_York:20230925T180000
DTEND;TZID=America/New_York:20230925T210000
DTSTAMP:20260425T232110
CREATED:20230110T162551Z
LAST-MODIFIED:20230925T225007Z
UID:10001052-1695664800-1695675600@www.flemingtondiy.org
SUMMARY:Print Club
DESCRIPTION:Flemington DIY Print Club is a weekly open studio held from 6-9PM every Monday\, $15-30 per printer. It provides an opportunity for local artists and community members new to arts processes to utilize shared printmaking facilities. Print Club provides a platform for artists to network\, build community\, and work collaboratively. \nNo experience? No problem! Our vounteers will guide you through the process from start to finish! \nLearn more: https://www.flemingtondiy.org/printclub/
URL:https://www.flemingtondiy.org/event/print-club-156/
END:VEVENT
BEGIN:VEVENT
DTSTART;TZID=America/New_York:20230925T180000
DTEND;TZID=America/New_York:20230925T200000
DTSTAMP:20260425T232110
CREATED:20230615T125044Z
LAST-MODIFIED:20230925T225007Z
UID:10001434-1695664800-1695672000@www.flemingtondiy.org
SUMMARY:Fiber Freaks
DESCRIPTION:Fiber Freaks is a group of fiber enthusiasts working in all fiber arts in a sociable\, casual environment. Participation is suggested $5 per session\, with all proceeds benefiting the arts space \nJoin the Facebook group! \nQuestions? Reach out directly: flemingtonfiberfreaks@gmail.com \nLearn more: https://www.flemingtondiy.org/fiber-freaks/
URL:https://www.flemingtondiy.org/event/fiber-freaks-73/
END:VEVENT
BEGIN:VEVENT
DTSTART;TZID=America/New_York:20230925T160000
DTEND;TZID=America/New_York:20230925T180000
DTSTAMP:20260425T232110
CREATED:20230921T225010Z
LAST-MODIFIED:20230924T225238Z
UID:10001633-1695657600-1695664800@www.flemingtondiy.org
SUMMARY:Youth Art Class
DESCRIPTION:For kids grades 3-8\nCreative Whimsies is looking for kids grades 3-8 to join us for After School Art Enrichment classes taught by local artist & certified teacher\, Christine Brandt. \nKids will create unique projects\, and develop their creative thinking skills in a fun\, relaxed atmosphere outside of the school environment. \nLimited spots available! \nClass Schedule:\n\nMonday\, September 11\nMonday\, September 18\nMonday\, September 25\nMonday\, October 2\nTuesday\, October 9\nMonday\, October 16\nMonday\, October 23\nMonday\, October 30\n\nCost: $80 per student for 4 weeks (all materials included) \nClasses & Time:  \nJunior Class (grades 3-5)Mondays 4:00-4:45 pm \nSenior Class (grades 6-8)Mondays 5:00-6:00 pm \nRegistration & Payment:via Creative Whimsies’ website \nContact\nChristine BrandtLessons@creativewhimsies.com(908) 824-5326Facebook: Creative Whimsies MUST SIGN UP IN ADVANCE
URL:https://www.flemingtondiy.org/event/youth-art-class-9/
END:VEVENT
BEGIN:VEVENT
DTSTART;TZID=America/New_York:20230925T091500
DTEND;TZID=America/New_York:20230925T123000
DTSTAMP:20260425T232110
CREATED:20230812T145043Z
LAST-MODIFIED:20230924T225238Z
UID:10001516-1695633300-1695645000@www.flemingtondiy.org
SUMMARY:Music Together
DESCRIPTION:Every week in our music classes at Music Together Flemington\, babies\, toddlers\, preschoolers\, and the grownups who love them come together for a time of musical play. Little ones love playing along in class\, and caregivers love being a part of their children’s growth into confident music-makers. And everyone loves our songs that’ll have you tapping along in no time \nLearn more and enroll today:https://www.musictogetherflemington.com/
URL:https://www.flemingtondiy.org/event/music-together-126/
END:VEVENT
BEGIN:VEVENT
DTSTART;TZID=America/New_York:20230924T110000
DTEND;TZID=America/New_York:20230924T120000
DTSTAMP:20260425T232110
CREATED:20230828T215213Z
LAST-MODIFIED:20230923T225041Z
UID:10001585-1695553200-1695556800@www.flemingtondiy.org
SUMMARY:Tap Project
DESCRIPTION:Come one\, come all\, no tap shoes required! \nJoin us Sunday mornings and learn the language of tap dance (what’s a flap? shuffle? buffalo?) plus tap dance history (did you ever wonder who was Fred Astaire’s teacher?). \nWe’ll learn simple warm ups\, then take those steps and do a simple combination\, add a few together\, and hey\, you have a whole dance! \nGreat music\, great fun\, new friends!$10
URL:https://www.flemingtondiy.org/event/tap-project-29/
END:VEVENT
BEGIN:VEVENT
DTSTART;VALUE=DATE:20230923
DTEND;VALUE=DATE:20230924
DTSTAMP:20260425T232110
CREATED:20230608T122039Z
LAST-MODIFIED:20230923T225041Z
UID:10001425-1695427200-1695513599@www.flemingtondiy.org
SUMMARY:Salsa Fest
DESCRIPTION:
URL:https://www.flemingtondiy.org/event/salsa-fest/
END:VEVENT
BEGIN:VEVENT
DTSTART;TZID=America/New_York:20230922T091500
DTEND;TZID=America/New_York:20230922T113000
DTSTAMP:20260425T232110
CREATED:20230812T145043Z
LAST-MODIFIED:20230921T225009Z
UID:10001515-1695374100-1695382200@www.flemingtondiy.org
SUMMARY:Music Together
DESCRIPTION:Every week in our music classes at Music Together Flemington\, babies\, toddlers\, preschoolers\, and the grownups who love them come together for a time of musical play. Little ones love playing along in class\, and caregivers love being a part of their children’s growth into confident music-makers. And everyone loves our songs that’ll have you tapping along in no time \nLearn more and enroll today:https://www.musictogetherflemington.com/
URL:https://www.flemingtondiy.org/event/music-together-125/
END:VEVENT
BEGIN:VEVENT
DTSTART;TZID=America/New_York:20230921T190000
DTEND;TZID=America/New_York:20230921T210000
DTSTAMP:20260425T232110
CREATED:20230425T095132Z
LAST-MODIFIED:20230921T225009Z
UID:10001358-1695322800-1695330000@www.flemingtondiy.org
SUMMARY:Monthly Open Bluegrass Jam Session
DESCRIPTION:All players welcome! beginner to pro\nBring your instrument\, a couple of tunes\,\nsome friends and your own refreshments\nFreewill basket to support DIY $5 suggested\nDIY Is open to all ages –strictly no alcohol
URL:https://www.flemingtondiy.org/event/monthly-open-bluegrass-jam-session-5/
END:VEVENT
BEGIN:VEVENT
DTSTART;TZID=America/New_York:20230921T113000
DTEND;TZID=America/New_York:20230921T180000
DTSTAMP:20260425T232110
CREATED:20230920T225022Z
LAST-MODIFIED:20230920T225030Z
UID:10001617-1695295800-1695319200@www.flemingtondiy.org
SUMMARY:Open Hours
DESCRIPTION:stop in\, say hi\, see art\, and learn about DIY!
URL:https://www.flemingtondiy.org/event/open-hours-55/
END:VEVENT
BEGIN:VEVENT
DTSTART;TZID=America/New_York:20230921T094500
DTEND;TZID=America/New_York:20230921T110000
DTSTAMP:20260425T232110
CREATED:20230918T225007Z
LAST-MODIFIED:20230920T225030Z
UID:10001608-1695289500-1695294000@www.flemingtondiy.org
SUMMARY:Music Together
DESCRIPTION:Every week in our music classes at Music Together Flemington\, babies\, toddlers\, preschoolers\, and the grownups who love them come together for a time of musical play. Little ones love playing along in class\, and caregivers love being a part of their children’s growth into confident music-makers. And everyone loves our songs that’ll have you tapping along in no time \nLearn more and enroll today:https://www.musictogetherflemington.com/
URL:https://www.flemingtondiy.org/event/music-together-123/
END:VEVENT
BEGIN:VEVENT
DTSTART;TZID=America/New_York:20230920T180000
DTEND;TZID=America/New_York:20230920T190000
DTSTAMP:20260425T232110
CREATED:20230809T143519Z
LAST-MODIFIED:20230920T225030Z
UID:10001507-1695232800-1695236400@www.flemingtondiy.org
SUMMARY:Volunteer Informational Session (Orientation)
DESCRIPTION:Did you know Flemington DIY is 100% volunteer-run and operated? \nJoin us for an informational session & orientation to learn more about our volunteer program. \nPlease pre-register: https://forms.gle/g1uWeb9oSkn6ym4R8Walk ins are also always welcome!  
URL:https://www.flemingtondiy.org/event/volunteer-informational-session-orientation/
END:VEVENT
BEGIN:VEVENT
DTSTART;TZID=America/New_York:20230919T183000
DTEND;TZID=America/New_York:20230919T203000
DTSTAMP:20260425T232110
CREATED:20230816T205043Z
LAST-MODIFIED:20230919T225019Z
UID:10001556-1695148200-1695155400@www.flemingtondiy.org
SUMMARY:Flemington Acoustic Players
DESCRIPTION:Calling all Hunterdon County pop/rock/folk stars!  Are you looking for a place to practice your acoustic guitar skills\, and maybe do some singing too?   \nOur merry band of music makers is open to players of all abilities! This gathering however is for Acoustic players ONLY; i.e guitars\, ukuleles\, mandolins & banjos. A drummer and/or an acoustic/electric bassist would be welcomed though to help us all stay in time. \nChords and lyrics to the songs will be projected on a screen so there’s no need for you to bring a music stand or tablet. We will be selecting tunes from a song book that includes a wide variety of rock/pop/folk classics. \nCome and have fun with us as we play and sing along to some of everyone’s favorite tunes! \nSuggested donation of $3-5www.flemingtondiy.org/acoustic/
URL:https://www.flemingtondiy.org/event/flemington-acoustic-players-58/
END:VEVENT
BEGIN:VEVENT
DTSTART;TZID=America/New_York:20230918T180000
DTEND;TZID=America/New_York:20230918T210000
DTSTAMP:20260425T232110
CREATED:20230110T162551Z
LAST-MODIFIED:20230918T225007Z
UID:10001051-1695060000-1695070800@www.flemingtondiy.org
SUMMARY:Print Club
DESCRIPTION:Flemington DIY Print Club is a weekly open studio held from 6-9PM every Monday\, $15-30 per printer. It provides an opportunity for local artists and community members new to arts processes to utilize shared printmaking facilities. Print Club provides a platform for artists to network\, build community\, and work collaboratively. \nNo experience? No problem! Our vounteers will guide you through the process from start to finish! \nLearn more: https://www.flemingtondiy.org/printclub/
URL:https://www.flemingtondiy.org/event/print-club-155/
END:VEVENT
BEGIN:VEVENT
DTSTART;TZID=America/New_York:20230918T160000
DTEND;TZID=America/New_York:20230918T180000
DTSTAMP:20260425T232110
CREATED:20230907T220515Z
LAST-MODIFIED:20230917T223830Z
UID:10001598-1695052800-1695060000@www.flemingtondiy.org
SUMMARY:Youth Art Class
DESCRIPTION:
URL:https://www.flemingtondiy.org/event/youth-art-class-2/
END:VEVENT
BEGIN:VEVENT
DTSTART;TZID=America/New_York:20230918T091500
DTEND;TZID=America/New_York:20230918T123000
DTSTAMP:20260425T232110
CREATED:20230812T145043Z
LAST-MODIFIED:20230917T223830Z
UID:10001512-1695028500-1695040200@www.flemingtondiy.org
SUMMARY:Music Together
DESCRIPTION:Every week in our music classes at Music Together Flemington\, babies\, toddlers\, preschoolers\, and the grownups who love them come together for a time of musical play. Little ones love playing along in class\, and caregivers love being a part of their children’s growth into confident music-makers. And everyone loves our songs that’ll have you tapping along in no time \nLearn more and enroll today:https://www.musictogetherflemington.com/
URL:https://www.flemingtondiy.org/event/music-together-120/
END:VEVENT
BEGIN:VEVENT
DTSTART;TZID=America/New_York:20230917T190000
DTEND;TZID=America/New_York:20230917T220000
DTSTAMP:20260425T232110
CREATED:20230629T130533Z
LAST-MODIFIED:20230917T223830Z
UID:10001471-1694977200-1694988000@www.flemingtondiy.org
SUMMARY:Live Music
DESCRIPTION:Black Chuck Bass\nN.G.G.A.\nShaq G.\nTawobi\n$10-15 @ door\nDoors @ 7pm\nNo Drugs/Alcohol
URL:https://www.flemingtondiy.org/event/live-music-4/
END:VEVENT
BEGIN:VEVENT
DTSTART;TZID=America/New_York:20230917T110000
DTEND;TZID=America/New_York:20230917T120000
DTSTAMP:20260425T232110
CREATED:20230828T215212Z
LAST-MODIFIED:20230916T223525Z
UID:10001584-1694948400-1694952000@www.flemingtondiy.org
SUMMARY:Tap Project
DESCRIPTION:Come one\, come all\, no tap shoes required! \nJoin us Sunday mornings and learn the language of tap dance (what’s a flap? shuffle? buffalo?) plus tap dance history (did you ever wonder who was Fred Astaire’s teacher?). \nWe’ll learn simple warm ups\, then take those steps and do a simple combination\, add a few together\, and hey\, you have a whole dance! \nGreat music\, great fun\, new friends!$10
URL:https://www.flemingtondiy.org/event/tap-project-28/
END:VEVENT
BEGIN:VEVENT
DTSTART;TZID=America/New_York:20230916T190000
DTEND;TZID=America/New_York:20230916T220000
DTSTAMP:20260425T232110
CREATED:20230718T130600Z
LAST-MODIFIED:20230916T223525Z
UID:10001485-1694890800-1694901600@www.flemingtondiy.org
SUMMARY:Live Music
DESCRIPTION:Syanide\nEndless Midnight\nSuccumbed\nStellium\n$10-15 Donation\nDoors @ 7pm\nNo alcohol/drugs
URL:https://www.flemingtondiy.org/event/live-music-23/
END:VEVENT
BEGIN:VEVENT
DTSTART;TZID=America/New_York:20230915T190000
DTEND;TZID=America/New_York:20230915T220000
DTSTAMP:20260425T232110
CREATED:20230711T130546Z
LAST-MODIFIED:20230915T223504Z
UID:10001481-1694804400-1694815200@www.flemingtondiy.org
SUMMARY:Live Music
DESCRIPTION:TwoMoonsAway\nNight Gallery\nAntonio Franco\n$10-15 at door\nDoors @ 7pm\nNo Drugs/Alcohol
URL:https://www.flemingtondiy.org/event/live-music-20/
END:VEVENT
BEGIN:VEVENT
DTSTART;TZID=America/New_York:20230915T091500
DTEND;TZID=America/New_York:20230915T113000
DTSTAMP:20260425T232110
CREATED:20230812T145042Z
LAST-MODIFIED:20230914T223519Z
UID:10001511-1694769300-1694777400@www.flemingtondiy.org
SUMMARY:Music Together
DESCRIPTION:Every week in our music classes at Music Together Flemington\, babies\, toddlers\, preschoolers\, and the grownups who love them come together for a time of musical play. Little ones love playing along in class\, and caregivers love being a part of their children’s growth into confident music-makers. And everyone loves our songs that’ll have you tapping along in no time \nLearn more and enroll today:https://www.musictogetherflemington.com/
URL:https://www.flemingtondiy.org/event/music-together-116/
END:VEVENT
BEGIN:VEVENT
DTSTART;TZID=America/New_York:20230914T190000
DTEND;TZID=America/New_York:20230914T220000
DTSTAMP:20260425T232110
CREATED:20230727T140526Z
LAST-MODIFIED:20230914T223519Z
UID:10001492-1694718000-1694728800@www.flemingtondiy.org
SUMMARY:Live Music
DESCRIPTION:Patrick Mawn$10-15 donationDoors @ 7pmNo drugs/alcohol.
URL:https://www.flemingtondiy.org/event/live-music-25/
END:VEVENT
BEGIN:VEVENT
DTSTART;TZID=America/New_York:20230914T130000
DTEND;TZID=America/New_York:20230914T180000
DTSTAMP:20260425T232110
CREATED:20230812T145042Z
LAST-MODIFIED:20230913T222019Z
UID:10001510-1694696400-1694714400@www.flemingtondiy.org
SUMMARY:Open Hours
DESCRIPTION:stop in\, say hi\, see art\, and learn about DIY!
URL:https://www.flemingtondiy.org/event/open-hours-24/
END:VEVENT
BEGIN:VEVENT
DTSTART;TZID=America/New_York:20230914T091500
DTEND;TZID=America/New_York:20230914T123000
DTSTAMP:20260425T232110
CREATED:20230812T145042Z
LAST-MODIFIED:20230913T222019Z
UID:10001509-1694682900-1694694600@www.flemingtondiy.org
SUMMARY:Music Together
DESCRIPTION:Every week in our music classes at Music Together Flemington\, babies\, toddlers\, preschoolers\, and the grownups who love them come together for a time of musical play. Little ones love playing along in class\, and caregivers love being a part of their children’s growth into confident music-makers. And everyone loves our songs that’ll have you tapping along in no time \nLearn more and enroll today:https://www.musictogetherflemington.com/
URL:https://www.flemingtondiy.org/event/music-together-112/
END:VEVENT
END:VCALENDAR