BEGIN:VCALENDAR
VERSION:2.0
PRODID:-//Flemington DIY - ECPv6.15.20//NONSGML v1.0//EN
CALSCALE:GREGORIAN
METHOD:PUBLISH
X-WR-CALNAME:Flemington DIY
X-ORIGINAL-URL:https://www.flemingtondiy.org
X-WR-CALDESC:Events for Flemington DIY
REFRESH-INTERVAL;VALUE=DURATION:PT1H
X-Robots-Tag:noindex
X-PUBLISHED-TTL:PT1H
BEGIN:VTIMEZONE
TZID:America/New_York
BEGIN:DAYLIGHT
TZOFFSETFROM:-0500
TZOFFSETTO:-0400
TZNAME:EDT
DTSTART:20250309T070000
END:DAYLIGHT
BEGIN:STANDARD
TZOFFSETFROM:-0400
TZOFFSETTO:-0500
TZNAME:EST
DTSTART:20251102T060000
END:STANDARD
BEGIN:DAYLIGHT
TZOFFSETFROM:-0500
TZOFFSETTO:-0400
TZNAME:EDT
DTSTART:20260308T070000
END:DAYLIGHT
BEGIN:STANDARD
TZOFFSETFROM:-0400
TZOFFSETTO:-0500
TZNAME:EST
DTSTART:20261101T060000
END:STANDARD
BEGIN:DAYLIGHT
TZOFFSETFROM:-0500
TZOFFSETTO:-0400
TZNAME:EDT
DTSTART:20270314T070000
END:DAYLIGHT
BEGIN:STANDARD
TZOFFSETFROM:-0400
TZOFFSETTO:-0500
TZNAME:EST
DTSTART:20271107T060000
END:STANDARD
END:VTIMEZONE
BEGIN:VEVENT
DTSTART;VALUE=DATE:20260403
DTEND;VALUE=DATE:20260427
DTSTAMP:20260423T152736
CREATED:20260206T235735Z
LAST-MODIFIED:20260422T234258Z
UID:10003887-1775174400-1777247999@www.flemingtondiy.org
SUMMARY:Set in Stone - Printer in Residence Art Show
DESCRIPTION:Set in Stone\, Mariah McLaughlin’s culmination of a yearlong Printer-in-Residence\, brings together a body of work that combines ceramics and screenprinting to expand the limits of traditional printmaking. By moving printed imagery onto clay and treating ceramic surfaces as sites for layering\, repetition\, and variation\, the work expands screenprinting beyond a t-shirt or paper. Find out more here  \nhttps://www.nevermoreartworks.com  \nhttps://www.flemingtondiy.org/programs/printclub/
URL:https://www.flemingtondiy.org/event/mariah-mclaughlin-printer-in-residence-art-show/
END:VEVENT
BEGIN:VEVENT
DTSTART;TZID=America/New_York:20260423T113000
DTEND;TZID=America/New_York:20260423T180000
DTSTAMP:20260423T152736
CREATED:20251107T233721Z
LAST-MODIFIED:20260422T234258Z
UID:10003550-1776943800-1776967200@www.flemingtondiy.org
SUMMARY:Open Hours
DESCRIPTION:
URL:https://www.flemingtondiy.org/event/open-hours-363/
END:VEVENT
BEGIN:VEVENT
DTSTART;TZID=America/New_York:20260425T090000
DTEND;TZID=America/New_York:20260425T120000
DTSTAMP:20260423T152736
CREATED:20260211T234235Z
LAST-MODIFIED:20260422T234258Z
UID:10003904-1777107600-1777118400@www.flemingtondiy.org
SUMMARY:Pedals for Progress Bike & Sewing Machine Collection Drive
DESCRIPTION:Pedals for Progress will be collecting adult & kids’ bikes and sewing machines to send to Togo\,Rwanda\, Tanzania\, Belize and Guatemala. Help us put unused bikes and sewing machines to good use in the developing world. \nAll material and monetary donations are tax deductible and a receipt will be provided on site.Bikes should be rust free. No children’s trikes\, but bikes with flat tires in need of some repairare accepted. Portable sewing machines should be in working condition. \nRAIN OR SHINE!  \nFor more info contact Alan: alan@p4p.org \nTo read more about our cause visit: P4P.org
URL:https://www.flemingtondiy.org/event/pedals-for-progress-bike-sewing-machine-collection-drive-2/
END:VEVENT
BEGIN:VEVENT
DTSTART;TZID=America/New_York:20260425T133000
DTEND;TZID=America/New_York:20260425T220000
DTSTAMP:20260423T152736
CREATED:20260216T234236Z
LAST-MODIFIED:20260422T234258Z
UID:10003916-1777123800-1777154400@www.flemingtondiy.org
SUMMARY:Live Music - Modular Synth Fest
DESCRIPTION:Nick Mellis Presents: New Jersey Modular Synth Fest \nQuasi ChaosBad ElectricRitual AudioStep RecorderMike.govAdvance Corpse MaterialsFloyd the Semiconductor  \n$15Doors @ 1:30\, Music @ 2:00All agesNo drugs / no alcohol
URL:https://www.flemingtondiy.org/event/live-music-synth-fest/
END:VEVENT
BEGIN:VEVENT
DTSTART;TZID=America/New_York:20260426T100000
DTEND;TZID=America/New_York:20260426T120000
DTSTAMP:20260423T152736
CREATED:20260406T130924Z
LAST-MODIFIED:20260422T234258Z
UID:10003955-1777197600-1777204800@www.flemingtondiy.org
SUMMARY:Snail Mail Social
DESCRIPTION:Prologue Therapy’s new book club\, The Healing Shelf\, read The Correspondent by Viriginia Evans in March\, and it inspired us to host a letter-writing party! Join us for a cozy and cheerful Snail Mail Social\, where a simple note can brighten someone’s day. We’ll provide everything you need—stationery\, stamps\, and plenty of snacks—so you can settle in and write heartfelt letters to senior citizens in nursing homes across the country. Whether you share a favorite memory\, a few kind words\, or a little encouragement\, your letters have the power to spark connection and joy. Come as you are\, stay as long as you like\, and enjoy good company while sending a little happiness through the mail.
URL:https://www.flemingtondiy.org/event/letter-writing-party/
END:VEVENT
BEGIN:VEVENT
DTSTART;TZID=America/New_York:20260426T150000
DTEND;TZID=America/New_York:20260426T190000
DTSTAMP:20260423T152736
CREATED:20260313T234227Z
LAST-MODIFIED:20260422T234258Z
UID:10003940-1777215600-1777230000@www.flemingtondiy.org
SUMMARY:5th Anniversary Rising Stars Talent Showcase
DESCRIPTION:We are thrilled to share that we are celebrating 5 years of hosting this very special event! Registration is now open for any performers (musicians\, vocalists\, dancers\, etc.)\, ages 5 – 18\, who would like to participate in our April 26th show at 3:00PM. \nWe welcome all levels\, from beginners to seasoned performers\, to our judgement free space! Here’s how to join us:– All first-time performers must send a brief sample video of your talent to talentshowdiy@gmail.com anytime before the submission deadline of Sun.\, April 19th. Your submission is not an audition\, but rather helps us diversify the program.– Sorry\, but we are not able to accommodate walk-ins.– Previous performers can register at the same above email address.– Performances can be solo or in small groups. (Friends and relatives are welcome!)– Microphones and a piano are available on site for those who will need it. \nAdmission:To celebrate our partnership\, all tickets for this event are specially priced at just $5 and will be sold at the door 😊. Still free for ages 5 and below and\, of course\, no charge for our performers! \nCake will be served during intermission! Donations will be accepted with 100% of the collection going towards future programming at DIY. Let’s keep it going for another 5 years! Invite your family\, friends and neighbors! This one is going to be special!
URL:https://www.flemingtondiy.org/event/5th-anniversary-rising-stars-talent-showcase/
END:VEVENT
BEGIN:VEVENT
DTSTART;TZID=America/New_York:20260427T180000
DTEND;TZID=America/New_York:20260427T200000
DTSTAMP:20260423T152736
CREATED:20260406T130924Z
LAST-MODIFIED:20260422T234258Z
UID:10003956-1777312800-1777320000@www.flemingtondiy.org
SUMMARY:Hunterdon Fiber Artist Meeting
DESCRIPTION:Looking to meet other fiber artists in the Hunterdon county area?  Think about coming to Hunterdon Fiber Artists meet up to socialize and connect with others doing the fiber art craft that they love. \nAll are welcome.  Just bring your craft be it knitting\, crocheting\, spinning\, etc.\, and be prepared to meet lots of fun and interesting people!  We even have mini educational talks on requested topics! \nOur FB group is Hunterdon Fiber Artists https://www.facebook.com/groups/1101970274078722 \nOur Ravelry group is https://www.ravelry.com/groups/hunterdon-fiber-artists?s=tab \nEvery other Monday at DIY; $3-5 suggested donation.
URL:https://www.flemingtondiy.org/event/hunterdon-fiber-artist-meeting-85/
END:VEVENT
BEGIN:VEVENT
DTSTART;TZID=America/New_York:20260427T180000
DTEND;TZID=America/New_York:20260427T210000
DTSTAMP:20260423T152736
CREATED:20260412T235738Z
LAST-MODIFIED:20260422T234258Z
UID:10004066-1777312800-1777323600@www.flemingtondiy.org
SUMMARY:Print Club
DESCRIPTION:Flemington DIY Print Club is a weekly open studio held from 6-9PM every Monday\, $15-30 per printer. It provides an opportunity for local artists and community members new to arts processes to utilize shared printmaking facilities. Print Club provides a platform for artists to network\, build community\, and work collaboratively. \nNo experience? No problem! Our vounteers will guide you through the process from start to finish! \nLearn more: https://www.flemingtondiy.org/printclub/
URL:https://www.flemingtondiy.org/event/print-club-368/
END:VEVENT
BEGIN:VEVENT
DTSTART;TZID=America/New_York:20260428T113000
DTEND;TZID=America/New_York:20260428T180000
DTSTAMP:20260423T152736
CREATED:20250602T233550Z
LAST-MODIFIED:20260422T234258Z
UID:10003258-1777375800-1777399200@www.flemingtondiy.org
SUMMARY:Open Hours
DESCRIPTION:Visit the space\, see our current art shows\, hang out\, and learn how to get involved!
URL:https://www.flemingtondiy.org/event/open-hours-269/
END:VEVENT
BEGIN:VEVENT
DTSTART;TZID=America/New_York:20260428T190000
DTEND;TZID=America/New_York:20260428T210000
DTSTAMP:20260423T152736
CREATED:20250731T233540Z
LAST-MODIFIED:20260422T234258Z
UID:10003372-1777402800-1777410000@www.flemingtondiy.org
SUMMARY:Classical Music Jam
DESCRIPTION:Jazz bands jam\, rock bands jam\, bluegrass players jams… why not a classical jam?? \nStrings\, brass\, woodwinds… Come join a classical music jam!!   \nBring a piece or two of music to share\, and sit in on the jam!   \nBring your instrument\, music (duo\, trio\, quartet\, etc. or even a full orchestra arrangement) and a stand\, be ready to share\, and let’s play some classical music in an informal setting.   \nWe jam once a month on the 4th Tuesday from 7 PM – 9 PM.   $5 suggested donation to Flemington DIY.  \nDon’t have music\, Don’t have a stand?…. Don’t worry!  Just bring your instrument\, and jam with us! \nCome share your talent and play! Take a break\, relax\, and listen to others.   \nUpcoming Tuesdays:   \n9/30 \n10/28 \n11/25 \n12/23 \nClassical is cool too!  See you at the jam!  
URL:https://www.flemingtondiy.org/event/classical-music-jam-8/
END:VEVENT
BEGIN:VEVENT
DTSTART;TZID=America/New_York:20260429T180000
DTEND;TZID=America/New_York:20260429T210000
DTSTAMP:20260423T152736
CREATED:20260406T130924Z
LAST-MODIFIED:20260422T234258Z
UID:10003957-1777485600-1777496400@www.flemingtondiy.org
SUMMARY:Figure Drawing Class
DESCRIPTION:Figure Drawing Class\nwith Instructor Vincent D’Amico\, 31-Year Veteran EducatorWednesday\, April 29\, 2026\, 6-9pm$55 per person\, all materials included\n \nAlways wanted to draw people\, but didn’t know where to start? Join artist and educator Vincent D’Amico for a relaxed\, supportive 3-hour intensive. We will work with a live\, clothed model (activewear/bathing suit) to deconstruct the human body into simple shapes and fluid lines.  \nWhether you’re looking to master anatomical proportions or just want to capture the energy of a pose through fast-paced gesture sketches\, this workshop is for you. No judgment\, no “nude studio” nerves—just great music\, expert guidance\, and the joy of capturing life on paper.  \nWhat we will cover \n\nThe 30-Second Gesture: Capturing movement and “The Line of Action.”\nThe “Proportion Map” – Simple tricks to get the head-to-body ratio right.\nSustained Study: Focusing on light\, shadow\, and form in longer poses.\n\nAll levels are welcome! From total beginners to seasoned sketchers looking to sharpen their eye. \nRegister here.
URL:https://www.flemingtondiy.org/event/figure-drawing-class/
END:VEVENT
BEGIN:VEVENT
DTSTART;TZID=America/New_York:20260430T113000
DTEND;TZID=America/New_York:20260430T180000
DTSTAMP:20260423T152736
CREATED:20251107T233721Z
LAST-MODIFIED:20260422T234258Z
UID:10003551-1777548600-1777572000@www.flemingtondiy.org
SUMMARY:Open Hours
DESCRIPTION:
URL:https://www.flemingtondiy.org/event/open-hours-364/
END:VEVENT
END:VCALENDAR