BEGIN:VCALENDAR
VERSION:2.0
PRODID:-//Flemington DIY - ECPv6.15.20//NONSGML v1.0//EN
CALSCALE:GREGORIAN
METHOD:PUBLISH
X-ORIGINAL-URL:https://www.flemingtondiy.org
X-WR-CALDESC:Events for Flemington DIY
REFRESH-INTERVAL;VALUE=DURATION:PT1H
X-Robots-Tag:noindex
X-PUBLISHED-TTL:PT1H
BEGIN:VTIMEZONE
TZID:America/New_York
BEGIN:DAYLIGHT
TZOFFSETFROM:-0500
TZOFFSETTO:-0400
TZNAME:EDT
DTSTART:20230312T070000
END:DAYLIGHT
BEGIN:STANDARD
TZOFFSETFROM:-0400
TZOFFSETTO:-0500
TZNAME:EST
DTSTART:20231105T060000
END:STANDARD
BEGIN:DAYLIGHT
TZOFFSETFROM:-0500
TZOFFSETTO:-0400
TZNAME:EDT
DTSTART:20240310T070000
END:DAYLIGHT
BEGIN:STANDARD
TZOFFSETFROM:-0400
TZOFFSETTO:-0500
TZNAME:EST
DTSTART:20241103T060000
END:STANDARD
BEGIN:DAYLIGHT
TZOFFSETFROM:-0500
TZOFFSETTO:-0400
TZNAME:EDT
DTSTART:20250309T070000
END:DAYLIGHT
BEGIN:STANDARD
TZOFFSETFROM:-0400
TZOFFSETTO:-0500
TZNAME:EST
DTSTART:20251102T060000
END:STANDARD
END:VTIMEZONE
BEGIN:VEVENT
DTSTART;TZID=America/New_York:20240301T091500
DTEND;TZID=America/New_York:20240301T113000
DTSTAMP:20260425T121912
CREATED:20240125T060523Z
LAST-MODIFIED:20240229T180550Z
UID:10002086-1709284500-1709292600@www.flemingtondiy.org
SUMMARY:Music Together
DESCRIPTION:Every week in our music classes at Music Together Flemington\, babies\, toddlers\, preschoolers\, and the grownups who love them come together for a time of musical play. Little ones love playing along in class\, and caregivers love being a part of their children’s growth into confident music-makers. And everyone loves our songs that’ll have you tapping along in no time\nLearn more and enroll today: https://www.musictogetherflemington.com/
URL:https://www.flemingtondiy.org/event/music-together-174/
END:VEVENT
BEGIN:VEVENT
DTSTART;TZID=America/New_York:20240301T120000
DTEND;TZID=America/New_York:20240301T140000
DTSTAMP:20260425T121912
CREATED:20230830T220517Z
LAST-MODIFIED:20240301T180820Z
UID:10001593-1709294400-1709301600@www.flemingtondiy.org
SUMMARY:First Fridays: Print Club for Homeschoolers
DESCRIPTION:First Friday of Every Month$15-30 per student\, ages 12-18\nFlemington DIY and Raritan Learning Cooperative are collaborating to offer a monthly print club for kids ages 12-18\, on the first Friday of every month from 11am-1pm. Bring a design and a t-shirt or anything you want to print on. You’ll get to learn the process of screenprinting\, create your own screen\, and print posters and shirts!https://www.flemingtondiy.org/first-fridays/
URL:https://www.flemingtondiy.org/event/first-fridays-print-club-for-homeschoolers-5/
END:VEVENT
BEGIN:VEVENT
DTSTART;TZID=America/New_York:20240302T090000
DTEND;TZID=America/New_York:20240302T120000
DTSTAMP:20260425T121912
CREATED:20240123T060510Z
LAST-MODIFIED:20240301T180820Z
UID:10002075-1709370000-1709380800@www.flemingtondiy.org
SUMMARY:Music Together
DESCRIPTION:Every week in our music classes at Music Together Flemington\, babies\, toddlers\, preschoolers\, and the grownups who love them come together for a time of musical play. Little ones love playing along in class\, and caregivers love being a part of their children’s growth into confident music-makers. And everyone loves our songs that’ll have you tapping along in no time \nLearn more and enroll today:https://www.musictogetherflemington.com/ \nJoin with Google Meet: https://meet.google.com/dqb-gpwt-ohj\nLearn more about Meet at: https://support.google.com/a/users/answer/9282720
URL:https://www.flemingtondiy.org/event/music-together-164/
ORGANIZER;CN="9a724c6862e16b0fceb2c03b11d6495f66823883e568255978d51ff40b7ff5af@group.calendar.google.com":MAILTO:9a724c6862e16b0fceb2c03b11d6495f66823883e568255978d51ff40b7ff5af@group.calendar.google.com
END:VEVENT
BEGIN:VEVENT
DTSTART;TZID=America/New_York:20240302T120000
DTEND;TZID=America/New_York:20240302T180000
DTSTAMP:20260425T121912
CREATED:20240104T045015Z
LAST-MODIFIED:20240302T182134Z
UID:10002029-1709380800-1709402400@www.flemingtondiy.org
SUMMARY:lessISmore: Opening Reception
DESCRIPTION:This work showcases art that is born out of the few\, the lesser\, the bare necessities… Rather than relying on a false abundance of multitudes of materials\, agents and devices\, these artists focus on reduction\, simplicity\, back to the basics\, the non-processed\, and untamed. Concept by Simon Keller. \nwww.flemingtondiy.org/lessismore \nFeatured Artists:Eric SpencerBenjamin VoglerGrace LaForgeReiko Kita \nThe Cone9 CoLab:Simon KellerBob DikenJohn Marron \nGuest Artist:Frank May \n\n\nMeet the artists \n\n\nOpening events \n\n\nDemo  (Reiko) 1 pm – 2 pm \nFree form Tea Ceremony (Simon) 2:30 pm – 4:00 pm \n(Recommended donation: $10 for active participants\, max. 6)
URL:https://www.flemingtondiy.org/event/lessismore-opening-reception/
END:VEVENT
BEGIN:VEVENT
DTSTART;TZID=America/New_York:20240303T110000
DTEND;TZID=America/New_York:20240303T120000
DTSTAMP:20260425T121912
CREATED:20240223T161831Z
LAST-MODIFIED:20240302T182135Z
UID:10002099-1709463600-1709467200@www.flemingtondiy.org
SUMMARY:Tap Project
DESCRIPTION:Come one\, come all\, no tap shoes required!\nJoin us Sunday mornings and learn the language of tap dance (what’s a flap? shuffle? buffalo?) plus tap dance history (did you ever wonder who was Fred Astaire’s teacher?).\nWe'll learn simple warm ups\, then take those steps and do a simple combination\, add a few together\, and hey\, you have a whole dance!\nGreat music\, great fun\, new friends!\nPlease check calendar for upcoming classes!\nJoin the Facebook group!
URL:https://www.flemingtondiy.org/event/tap-project-44/
END:VEVENT
BEGIN:VEVENT
DTSTART;TZID=America/New_York:20240303T130000
DTEND;TZID=America/New_York:20240303T170000
DTSTAMP:20260425T121912
CREATED:20231103T010513Z
LAST-MODIFIED:20240303T183616Z
UID:10001694-1709470800-1709485200@www.flemingtondiy.org
SUMMARY:Open Jazz Jams
DESCRIPTION:Open Jazz Jams are held he first Sunday of every month. \nThe sessions will provide an opportunity for musicians to play with an experienced band. From 1-2 PM the hosting musicians for the week will play. Other musicians will be invited to sit in and play between 2-5 PM (typically a minimum of 2 songs each\, circumstances permitting). With the exception of drum kit and piano\, all musicians should bring their own equipment (instruments\, amps\, drum sticks\, microphones\, etc.). The sessions will focus primarily on jazz standards and other jazz tunes contained in Hal Leonard Real Books volumes 1 through 3. Newcomers will be coached through the process.  \nA $3 to $5 donation to Flemington DIY will be required from each musician that plays at the session. Visitors that just want to listen to the music are also welcome to attend for all or any part of the 1-5 PM sessions free of charge.  \nFor questions about the sessions\, or to be added to the monthly text notification list for last minute cancellations or reschedules\, please email njjazzjam@gmail.com
URL:https://www.flemingtondiy.org/event/open-jazz-jams-15/
END:VEVENT
BEGIN:VEVENT
DTSTART;TZID=America/New_York:20240304T091500
DTEND;TZID=America/New_York:20240304T113000
DTSTAMP:20260425T121912
CREATED:20231104T010519Z
LAST-MODIFIED:20240303T183616Z
UID:10001778-1709543700-1709551800@www.flemingtondiy.org
SUMMARY:Music Together
DESCRIPTION:Every week in our music classes at Music Together Flemington\, babies\, toddlers\, preschoolers\, and the grownups who love them come together for a time of musical play. Little ones love playing along in class\, and caregivers love being a part of their children’s growth into confident music-makers. And everyone loves our songs that’ll have you tapping along in no time \nLearn more and enroll today:https://www.musictogetherflemington.com/ \nJoin with Google Meet: https://meet.google.com/eis-bvjj-rgq\nLearn more about Meet at: https://support.google.com/a/users/answer/9282720
URL:https://www.flemingtondiy.org/event/music-together-191/
ORGANIZER;CN="9a724c6862e16b0fceb2c03b11d6495f66823883e568255978d51ff40b7ff5af@group.calendar.google.com":MAILTO:9a724c6862e16b0fceb2c03b11d6495f66823883e568255978d51ff40b7ff5af@group.calendar.google.com
END:VEVENT
BEGIN:VEVENT
DTSTART;TZID=America/New_York:20240304T180000
DTEND;TZID=America/New_York:20240304T210000
DTSTAMP:20260425T121912
CREATED:20231107T010543Z
LAST-MODIFIED:20240304T183605Z
UID:10001808-1709575200-1709586000@www.flemingtondiy.org
SUMMARY:Print Club
DESCRIPTION:Flemington DIY Print Club is a weekly open studio held from 6-9PM every Monday\, $15-30 per printer. It provides an opportunity for local artists and community members new to arts processes to utilize shared printmaking facilities. Print Club provides a platform for artists to network\, build community\, and work collaboratively. \nNo experience? No problem! Our vounteers will guide you through the process from start to finish! \nLearn more: https://www.flemingtondiy.org/printclub/
URL:https://www.flemingtondiy.org/event/print-club-170/
END:VEVENT
BEGIN:VEVENT
DTSTART;TZID=America/New_York:20240305T161500
DTEND;TZID=America/New_York:20240305T170000
DTSTAMP:20260425T121912
CREATED:20240223T161831Z
LAST-MODIFIED:20240305T183848Z
UID:10002100-1709655300-1709658000@www.flemingtondiy.org
SUMMARY:Youth Art Club
DESCRIPTION:Creative Whimsies is looking for kids grades 3-8 to join us for After School Art Enrichment classes taught by local artist & certified teacher\, Christine Brandt. \nKids will create unique projects\, and develop their creative thinking skills in a fun\, relaxed atmosphere outside of the school environment. \nLimited spots available! \nSign Up + More info: https://www.flemingtondiy.org/art-club/
URL:https://www.flemingtondiy.org/event/youth-art-club-12/
END:VEVENT
BEGIN:VEVENT
DTSTART;TZID=America/New_York:20240307T113000
DTEND;TZID=America/New_York:20240307T180000
DTSTAMP:20260425T121912
CREATED:20240103T045021Z
LAST-MODIFIED:20240307T185141Z
UID:10001976-1709811000-1709834400@www.flemingtondiy.org
SUMMARY:Open Hours
DESCRIPTION:Visit the space\, see our current art show\, hang out\, and learn how to get involved!
URL:https://www.flemingtondiy.org/event/open-hours-74/
END:VEVENT
BEGIN:VEVENT
DTSTART;TZID=America/New_York:20240308T091500
DTEND;TZID=America/New_York:20240308T113000
DTSTAMP:20260425T121912
CREATED:20240125T060524Z
LAST-MODIFIED:20240307T185141Z
UID:10002087-1709889300-1709897400@www.flemingtondiy.org
SUMMARY:Music Together
DESCRIPTION:Every week in our music classes at Music Together Flemington\, babies\, toddlers\, preschoolers\, and the grownups who love them come together for a time of musical play. Little ones love playing along in class\, and caregivers love being a part of their children’s growth into confident music-makers. And everyone loves our songs that’ll have you tapping along in no time\nLearn more and enroll today: https://www.musictogetherflemington.com/
URL:https://www.flemingtondiy.org/event/music-together-175/
END:VEVENT
BEGIN:VEVENT
DTSTART;TZID=America/New_York:20240308T180000
DTEND;TZID=America/New_York:20240308T200000
DTSTAMP:20260425T121912
CREATED:20240104T045015Z
LAST-MODIFIED:20240308T190625Z
UID:10002030-1709920800-1709928000@www.flemingtondiy.org
SUMMARY:lessISmore: Art Performance
DESCRIPTION:Gravity – a mix of art history\, demonstration and performance with Frank May \nwww.flemingtondiy.org/lessismore
URL:https://www.flemingtondiy.org/event/lessismore-art-performance/
END:VEVENT
BEGIN:VEVENT
DTSTART;TZID=America/New_York:20240309T090000
DTEND;TZID=America/New_York:20240309T120000
DTSTAMP:20260425T121912
CREATED:20240123T060511Z
LAST-MODIFIED:20240308T190625Z
UID:10002076-1709974800-1709985600@www.flemingtondiy.org
SUMMARY:Music Together
DESCRIPTION:Every week in our music classes at Music Together Flemington\, babies\, toddlers\, preschoolers\, and the grownups who love them come together for a time of musical play. Little ones love playing along in class\, and caregivers love being a part of their children’s growth into confident music-makers. And everyone loves our songs that’ll have you tapping along in no time \nLearn more and enroll today:https://www.musictogetherflemington.com/ \nJoin with Google Meet: https://meet.google.com/dqb-gpwt-ohj\nLearn more about Meet at: https://support.google.com/a/users/answer/9282720
URL:https://www.flemingtondiy.org/event/music-together-165/
ORGANIZER;CN="9a724c6862e16b0fceb2c03b11d6495f66823883e568255978d51ff40b7ff5af@group.calendar.google.com":MAILTO:9a724c6862e16b0fceb2c03b11d6495f66823883e568255978d51ff40b7ff5af@group.calendar.google.com
END:VEVENT
BEGIN:VEVENT
DTSTART;TZID=America/New_York:20240309T120000
DTEND;TZID=America/New_York:20240309T180000
DTSTAMP:20260425T121912
CREATED:20240104T045016Z
LAST-MODIFIED:20240309T190623Z
UID:10002031-1709985600-1710007200@www.flemingtondiy.org
SUMMARY:lessISmore: Zeitseelen (spirits of time) - Ceramic Sculpture Workshop  for Families & Individuals
DESCRIPTION:  Mixed media miniature sculpture with Simon Keller\, 3pm – 6pm \n                       10 participants max.\, material is provided\, no prior experience needed \n                       Fee: $20.00 per person. \nwww.flemingtondiy.org/lessismore \n\n\nSail deep time\, join the journey! The boat\, a vessel and symbol of traverse\, actually and spiritually. Depicted in epic lore\, our dreams\, used in journeys of discovery\, spiritual rituals\, trade\, warfare and peace\, sportive competition and leisure and warm water puddles after a summer afternoon shower. \nZeitseelen is an inclusive installation of mixed-media miniature sculptures that invitespeople of all ages to create their own boat and join the journey. Our workshop onMarch 9th will give you the opportunity to get involved. \nIn its 10th year zeitseelen has grown to over 50 vessels\, continuously growing. Thiscollab art work was showcased in Germany (2013)\, Japan (2023)\, the US (2017\, 2022) and now here\, Flemington DIY! \nA workshop with Simon Keller for adults and children\, no prior experience needed..We will explore by using only 3 basic materials and simple\, effective techniques tocreate our own\, unique mixed media miniature sculpture. Materials and tools areprovided. \nAdult and Children\, no prior experience needed\, 10 participants max\,.
URL:https://www.flemingtondiy.org/event/lessismore-workshop-for-families-individuals/
END:VEVENT
BEGIN:VEVENT
DTSTART;TZID=America/New_York:20240309T190000
DTEND;TZID=America/New_York:20240309T220000
DTSTAMP:20260425T121912
CREATED:20240223T161832Z
LAST-MODIFIED:20240309T190623Z
UID:10002101-1710010800-1710021600@www.flemingtondiy.org
SUMMARY:Live Music
DESCRIPTION:2/14\n(Pop punk punk trio/NYC)\nNot Yer Baby\n(Dance Punk)\nYoung and Doomed\n(Alt Rock)\nStraight Jacket Feeling\n(Emo)\n$10-15 Donation\nDoors @ 7pm\nNo Drugs/Alcohol
URL:https://www.flemingtondiy.org/event/live-music-51/
END:VEVENT
BEGIN:VEVENT
DTSTART;TZID=America/New_York:20240310T110000
DTEND;TZID=America/New_York:20240310T120000
DTSTAMP:20260425T121912
CREATED:20240223T161832Z
LAST-MODIFIED:20240309T190624Z
UID:10002102-1710068400-1710072000@www.flemingtondiy.org
SUMMARY:Tap Project
DESCRIPTION:Come one\, come all\, no tap shoes required!\nJoin us Sunday mornings and learn the language of tap dance (what’s a flap? shuffle? buffalo?) plus tap dance history (did you ever wonder who was Fred Astaire’s teacher?).\nWe'll learn simple warm ups\, then take those steps and do a simple combination\, add a few together\, and hey\, you have a whole dance!\nGreat music\, great fun\, new friends!\nPlease check calendar for upcoming classes!\nJoin the Facebook group!
URL:https://www.flemingtondiy.org/event/tap-project-45/
END:VEVENT
BEGIN:VEVENT
DTSTART;TZID=America/New_York:20240310T143000
DTEND;TZID=America/New_York:20240310T170000
DTSTAMP:20260425T121912
CREATED:20231104T010520Z
LAST-MODIFIED:20240310T192046Z
UID:10001783-1710081000-1710090000@www.flemingtondiy.org
SUMMARY:Women's Comedy Open Mic
DESCRIPTION:Ever wanted to share a joke with your friends? Have a friend who you think is hilarious but don’t know how to let other ladies know about her talent? Here’s an opportunity to give it a try. Enjoy a safe space to share laughs – and if you fail – it’s ok to get up and try again!Sign up in advance: https://www.jotform.com/assign/233097504623152/232664975561063
URL:https://www.flemingtondiy.org/event/womens-comedy-open-mic-5/
END:VEVENT
BEGIN:VEVENT
DTSTART;TZID=America/New_York:20240310T190000
DTEND;TZID=America/New_York:20240310T220000
DTSTAMP:20260425T121912
CREATED:20240223T161832Z
LAST-MODIFIED:20240310T192046Z
UID:10002103-1710097200-1710108000@www.flemingtondiy.org
SUMMARY:Live Music Volunteer SubCommittee Meeting (in-person)
DESCRIPTION:Our live shows are an incredible asset to Flemington DIY! During our Monthly meetings we’ll discuss past live shows and how to make future ones even better! See you there!\nJoin with Google Meet: https://meet.google.com/qnp-ahdu-ian\nLearn more about Meet at: https://support.google.com/a/users/answer/9282720
URL:https://www.flemingtondiy.org/event/live-music-volunteer-subcommittee-meeting-in-person/
END:VEVENT
BEGIN:VEVENT
DTSTART;TZID=America/New_York:20240311T091500
DTEND;TZID=America/New_York:20240311T113000
DTSTAMP:20260425T121912
CREATED:20231104T010520Z
LAST-MODIFIED:20240310T192046Z
UID:10001784-1710148500-1710156600@www.flemingtondiy.org
SUMMARY:Music Together
DESCRIPTION:Every week in our music classes at Music Together Flemington\, babies\, toddlers\, preschoolers\, and the grownups who love them come together for a time of musical play. Little ones love playing along in class\, and caregivers love being a part of their children’s growth into confident music-makers. And everyone loves our songs that’ll have you tapping along in no time \nLearn more and enroll today:https://www.musictogetherflemington.com/ \nJoin with Google Meet: https://meet.google.com/eis-bvjj-rgq\nLearn more about Meet at: https://support.google.com/a/users/answer/9282720
URL:https://www.flemingtondiy.org/event/music-together-196/
ORGANIZER;CN="9a724c6862e16b0fceb2c03b11d6495f66823883e568255978d51ff40b7ff5af@group.calendar.google.com":MAILTO:9a724c6862e16b0fceb2c03b11d6495f66823883e568255978d51ff40b7ff5af@group.calendar.google.com
END:VEVENT
BEGIN:VEVENT
DTSTART;TZID=America/New_York:20240311T180000
DTEND;TZID=America/New_York:20240311T200000
DTSTAMP:20260425T121912
CREATED:20240122T060515Z
LAST-MODIFIED:20240311T192034Z
UID:10002064-1710180000-1710187200@www.flemingtondiy.org
SUMMARY:CANCELLED: Hunterdon Fiber Artist Meeting
DESCRIPTION:Looking to meet other fiber artists in the Hunterdon county area?  Think about coming to Hunterdon Fiber Artists meet up to socialize and connect with others doing the fiber art craft that they love. \nAll are welcome.  Just bring your craft be it knitting\, crocheting\, spinning\, etc.\, and be prepared to meet lots of fun and interesting people!  We even have mini educational talks on requested topics! \nOur FB group is Hunterdon Fiber Artists https://www.facebook.com/groups/1101970274078722 \nOur Ravelry group is https://www.ravelry.com/groups/hunterdon-fiber-artists?s=tab \nEvery other Monday at DIY; $3-5 suggested donation.
URL:https://www.flemingtondiy.org/event/hunterdon-fiber-artist-meeting-4/
END:VEVENT
BEGIN:VEVENT
DTSTART;TZID=America/New_York:20240311T180000
DTEND;TZID=America/New_York:20240311T210000
DTSTAMP:20260425T121912
CREATED:20231107T010544Z
LAST-MODIFIED:20240311T192034Z
UID:10001809-1710180000-1710190800@www.flemingtondiy.org
SUMMARY:Print Club
DESCRIPTION:Flemington DIY Print Club is a weekly open studio held from 6-9PM every Monday\, $15-30 per printer. It provides an opportunity for local artists and community members new to arts processes to utilize shared printmaking facilities. Print Club provides a platform for artists to network\, build community\, and work collaboratively. \nNo experience? No problem! Our vounteers will guide you through the process from start to finish! \nLearn more: https://www.flemingtondiy.org/printclub/
URL:https://www.flemingtondiy.org/event/print-club-171/
END:VEVENT
BEGIN:VEVENT
DTSTART;TZID=America/New_York:20240312T161500
DTEND;TZID=America/New_York:20240312T170000
DTSTAMP:20260425T121912
CREATED:20240223T161833Z
LAST-MODIFIED:20240312T192112Z
UID:10002104-1710260100-1710262800@www.flemingtondiy.org
SUMMARY:Youth Art Club
DESCRIPTION:Creative Whimsies is looking for kids grades 3-8 to join us for After School Art Enrichment classes taught by local artist & certified teacher\, Christine Brandt. \nKids will create unique projects\, and develop their creative thinking skills in a fun\, relaxed atmosphere outside of the school environment. \nLimited spots available! \nSign Up + More info: https://www.flemingtondiy.org/art-club/
URL:https://www.flemingtondiy.org/event/youth-art-club-13/
END:VEVENT
BEGIN:VEVENT
DTSTART;TZID=America/New_York:20240312T190000
DTEND;TZID=America/New_York:20240312T210000
DTSTAMP:20260425T121912
CREATED:20240103T045022Z
LAST-MODIFIED:20240312T192112Z
UID:10001977-1710270000-1710277200@www.flemingtondiy.org
SUMMARY:Songwriter Circle
DESCRIPTION:Hey\, songwriters: Do you have songs that are half finished? Lyrics you’re not entirely happy with? A songwriting circle is not a performance. It’s an opportunity to connect with other songwriters\, play your song idea for us – whether it’s fully formed or not – and receive gentle\, respectful\, and constructive feedback. All genres welcome! Please bring a few hard copies of your lyrics to share (they’ll be returned to you). We have a piano available. Donations at the door
URL:https://www.flemingtondiy.org/event/songwriter-circle-13/
END:VEVENT
BEGIN:VEVENT
DTSTART;TZID=America/New_York:20240314T113000
DTEND;TZID=America/New_York:20240314T180000
DTSTAMP:20260425T121912
CREATED:20240103T045022Z
LAST-MODIFIED:20240314T193827Z
UID:10001978-1710415800-1710439200@www.flemingtondiy.org
SUMMARY:Open Hours
DESCRIPTION:Visit the space\, see our current art show\, hang out\, and learn how to get involved!
URL:https://www.flemingtondiy.org/event/open-hours-75/
END:VEVENT
BEGIN:VEVENT
DTSTART;TZID=America/New_York:20240314T180000
DTEND;TZID=America/New_York:20240314T200000
DTSTAMP:20260425T121912
CREATED:20231208T032018Z
LAST-MODIFIED:20240314T193827Z
UID:10001935-1710439200-1710446400@www.flemingtondiy.org
SUMMARY:American Sign Language (ASL) Chat
DESCRIPTION:Come sign with us! Join us for an ASL Chat at Flemington DIY at 6pm. Deaf\, hard of hearing\, and hearing people who know or are learning American Sign Language (ASL) are welcome. Please note that this is a voice-off event so all are expected to use ASL to communicate.
URL:https://www.flemingtondiy.org/event/american-sign-language-asl-chat-11/
END:VEVENT
BEGIN:VEVENT
DTSTART;TZID=America/New_York:20240315T091500
DTEND;TZID=America/New_York:20240315T113000
DTSTAMP:20260425T121912
CREATED:20240125T060526Z
LAST-MODIFIED:20240314T193827Z
UID:10002088-1710494100-1710502200@www.flemingtondiy.org
SUMMARY:Music Together
DESCRIPTION:Every week in our music classes at Music Together Flemington\, babies\, toddlers\, preschoolers\, and the grownups who love them come together for a time of musical play. Little ones love playing along in class\, and caregivers love being a part of their children’s growth into confident music-makers. And everyone loves our songs that’ll have you tapping along in no time\nLearn more and enroll today: https://www.musictogetherflemington.com/
URL:https://www.flemingtondiy.org/event/music-together-177/
END:VEVENT
BEGIN:VEVENT
DTSTART;TZID=America/New_York:20240316T090000
DTEND;TZID=America/New_York:20240316T120000
DTSTAMP:20260425T121912
CREATED:20240123T060512Z
LAST-MODIFIED:20240315T195058Z
UID:10002077-1710579600-1710590400@www.flemingtondiy.org
SUMMARY:Music Together
DESCRIPTION:Every week in our music classes at Music Together Flemington\, babies\, toddlers\, preschoolers\, and the grownups who love them come together for a time of musical play. Little ones love playing along in class\, and caregivers love being a part of their children’s growth into confident music-makers. And everyone loves our songs that’ll have you tapping along in no time \nLearn more and enroll today:https://www.musictogetherflemington.com/ \nJoin with Google Meet: https://meet.google.com/dqb-gpwt-ohj\nLearn more about Meet at: https://support.google.com/a/users/answer/9282720
URL:https://www.flemingtondiy.org/event/music-together-167/
ORGANIZER;CN="9a724c6862e16b0fceb2c03b11d6495f66823883e568255978d51ff40b7ff5af@group.calendar.google.com":MAILTO:9a724c6862e16b0fceb2c03b11d6495f66823883e568255978d51ff40b7ff5af@group.calendar.google.com
END:VEVENT
BEGIN:VEVENT
DTSTART;TZID=America/New_York:20240316T120000
DTEND;TZID=America/New_York:20240316T180000
DTSTAMP:20260425T121912
CREATED:20240104T045017Z
LAST-MODIFIED:20240316T195102Z
UID:10002032-1710590400-1710612000@www.flemingtondiy.org
SUMMARY:lessISmore: Artist(s) present
DESCRIPTION:The Artist Is In\, demo of work/techniques \n(Ben\, Eric\, Bob) 1 pm – 4 pm \nFree form Tea Ceremony (Simon) 4:00 pm – 5:30 pm \nRecommended donation:  $10 for active participants (max. 6) \nwww.flemingtondiy.org/lessismore
URL:https://www.flemingtondiy.org/event/lessismore-artists-present/
END:VEVENT
BEGIN:VEVENT
DTSTART;TZID=America/New_York:20240316T193000
DTEND;TZID=America/New_York:20240316T223000
DTSTAMP:20260425T121912
CREATED:20231231T043516Z
LAST-MODIFIED:20240316T195102Z
UID:10001959-1710617400-1710628200@www.flemingtondiy.org
SUMMARY:Live Music
DESCRIPTION:Roia Rafieyan\nAndrew Dunn\nThomas P. Florek\n(All singer-song writer show)\n$10 Donation\nDoors @ 7pm\nAll Ages\nNo Drugs/Alcohol
URL:https://www.flemingtondiy.org/event/live-music-18/
END:VEVENT
BEGIN:VEVENT
DTSTART;TZID=America/New_York:20240317T190000
DTEND;TZID=America/New_York:20240317T220000
DTSTAMP:20260425T121912
CREATED:20231122T020522Z
LAST-MODIFIED:20240317T200610Z
UID:10001908-1710702000-1710712800@www.flemingtondiy.org
SUMMARY:Live Music Show Canceled for 3/17
DESCRIPTION:
URL:https://www.flemingtondiy.org/event/live-music-37/
END:VEVENT
END:VCALENDAR