BEGIN:VCALENDAR
VERSION:2.0
PRODID:-//Flemington DIY - ECPv6.15.20//NONSGML v1.0//EN
CALSCALE:GREGORIAN
METHOD:PUBLISH
X-ORIGINAL-URL:https://www.flemingtondiy.org
X-WR-CALDESC:Events for Flemington DIY
REFRESH-INTERVAL;VALUE=DURATION:PT1H
X-Robots-Tag:noindex
X-PUBLISHED-TTL:PT1H
BEGIN:VTIMEZONE
TZID:America/New_York
BEGIN:DAYLIGHT
TZOFFSETFROM:-0500
TZOFFSETTO:-0400
TZNAME:EDT
DTSTART:20220313T070000
END:DAYLIGHT
BEGIN:STANDARD
TZOFFSETFROM:-0400
TZOFFSETTO:-0500
TZNAME:EST
DTSTART:20221106T060000
END:STANDARD
BEGIN:DAYLIGHT
TZOFFSETFROM:-0500
TZOFFSETTO:-0400
TZNAME:EDT
DTSTART:20230312T070000
END:DAYLIGHT
BEGIN:STANDARD
TZOFFSETFROM:-0400
TZOFFSETTO:-0500
TZNAME:EST
DTSTART:20231105T060000
END:STANDARD
BEGIN:DAYLIGHT
TZOFFSETFROM:-0500
TZOFFSETTO:-0400
TZNAME:EDT
DTSTART:20240310T070000
END:DAYLIGHT
BEGIN:STANDARD
TZOFFSETFROM:-0400
TZOFFSETTO:-0500
TZNAME:EST
DTSTART:20241103T060000
END:STANDARD
END:VTIMEZONE
BEGIN:VEVENT
DTSTART;TZID=America/New_York:20231001T110000
DTEND;TZID=America/New_York:20231001T120000
DTSTAMP:20260425T200535
CREATED:20230929T230506Z
LAST-MODIFIED:20230930T230520Z
UID:10001644-1696158000-1696161600@www.flemingtondiy.org
SUMMARY:Tap Project
DESCRIPTION:Come one\, come all\, no tap shoes required! \nJoin us Sunday mornings and learn the language of tap dance (what’s a flap? shuffle? buffalo?) plus tap dance history (did you ever wonder who was Fred Astaire’s teacher?). \nWe’ll learn simple warm ups\, then take those steps and do a simple combination\, add a few together\, and hey\, you have a whole dance! \nGreat music\, great fun\, new friends! \nPlease check calendar for upcoming classes!Join the Facebook group!
URL:https://www.flemingtondiy.org/event/tap-project-30/
END:VEVENT
BEGIN:VEVENT
DTSTART;TZID=America/New_York:20231001T130000
DTEND;TZID=America/New_York:20231001T170000
DTSTAMP:20260425T200535
CREATED:20230207T050925Z
LAST-MODIFIED:20230930T230520Z
UID:10001111-1696165200-1696179600@www.flemingtondiy.org
SUMMARY:Open Jazz Jams
DESCRIPTION:Open Jazz Jams at Flemington DIY will be held from 1-5 PM the first Sunday of every month starting March 5th\, 2023. The sessions will provide an opportunity for musicians to play with an experienced band. From 1-2 PM the hosting musicians for the week will play. Other musicians will be invited to sit in and play between 2-5 PM (typically a minimum of 2 songs each\, circumstances permitting). With the exception of drum kit and piano\, all musicians should bring their own equipment (instruments\, amps\, drum sticks\, microphones\, etc.). The sessions will focus primarily on jazz standards and other jazz tunes contained in Hal Leonard Real Books volumes 1 through 3. Newcomers will be coached through the process.  \nA $3 to $5 donation to Flemington DIY will be required from each musician that plays at the session. Visitors that just want to listen to the music are also welcome to attend for all or any part of the 1-5 PM sessions free of charge.  \nFor questions about the sessions\, or to be added to the monthly text notification list for last minute cancellations or reschedules\, please email njjazzjam@gmail.com
URL:https://www.flemingtondiy.org/event/open-jazz-jams-7/
END:VEVENT
BEGIN:VEVENT
DTSTART;TZID=America/New_York:20231001T190000
DTEND;TZID=America/New_York:20231001T220000
DTSTAMP:20260425T200535
CREATED:20230815T204800Z
LAST-MODIFIED:20231001T232022Z
UID:10001555-1696186800-1696197600@www.flemingtondiy.org
SUMMARY:LiveMusic
DESCRIPTION:Fermented Beats\nLove? Said the Commander\n$10-15 Donation\nDoors @ 7pm\nNo Drugs/Alcohol
URL:https://www.flemingtondiy.org/event/livemusic/
END:VEVENT
BEGIN:VEVENT
DTSTART;TZID=America/New_York:20231002T091500
DTEND;TZID=America/New_York:20231002T123000
DTSTAMP:20260425T200535
CREATED:20230812T145044Z
LAST-MODIFIED:20231001T232022Z
UID:10001521-1696238100-1696249800@www.flemingtondiy.org
SUMMARY:Music Together
DESCRIPTION:Every week in our music classes at Music Together Flemington\, babies\, toddlers\, preschoolers\, and the grownups who love them come together for a time of musical play. Little ones love playing along in class\, and caregivers love being a part of their children’s growth into confident music-makers. And everyone loves our songs that’ll have you tapping along in no time \nLearn more and enroll today:https://www.musictogetherflemington.com/
URL:https://www.flemingtondiy.org/event/music-together-129/
END:VEVENT
BEGIN:VEVENT
DTSTART;TZID=America/New_York:20231002T160000
DTEND;TZID=America/New_York:20231002T180000
DTSTAMP:20260425T200535
CREATED:20230921T225010Z
LAST-MODIFIED:20231001T232022Z
UID:10001634-1696262400-1696269600@www.flemingtondiy.org
SUMMARY:Youth Art Class
DESCRIPTION:For kids grades 3-8\nCreative Whimsies is looking for kids grades 3-8 to join us for After School Art Enrichment classes taught by local artist & certified teacher\, Christine Brandt. \nKids will create unique projects\, and develop their creative thinking skills in a fun\, relaxed atmosphere outside of the school environment. \nLimited spots available! \nClass Schedule:\n\nMonday\, September 11\nMonday\, September 18\nMonday\, September 25\nMonday\, October 2\nTuesday\, October 9\nMonday\, October 16\nMonday\, October 23\nMonday\, October 30\n\nCost: $80 per student for 4 weeks (all materials included) \nClasses & Time:  \nJunior Class (grades 3-5)Mondays 4:00-4:45 pm \nSenior Class (grades 6-8)Mondays 5:00-6:00 pm \nRegistration & Payment:via Creative Whimsies’ website \nContact\nChristine BrandtLessons@creativewhimsies.com(908) 824-5326Facebook: Creative Whimsies MUST SIGN UP IN ADVANCE
URL:https://www.flemingtondiy.org/event/youth-art-class-10/
END:VEVENT
BEGIN:VEVENT
DTSTART;TZID=America/New_York:20231002T180000
DTEND;TZID=America/New_York:20231002T210000
DTSTAMP:20260425T200535
CREATED:20230110T162552Z
LAST-MODIFIED:20231002T232156Z
UID:10001053-1696269600-1696280400@www.flemingtondiy.org
SUMMARY:Print Club
DESCRIPTION:Flemington DIY Print Club is a weekly open studio held from 6-9PM every Monday\, $15-30 per printer. It provides an opportunity for local artists and community members new to arts processes to utilize shared printmaking facilities. Print Club provides a platform for artists to network\, build community\, and work collaboratively. \nNo experience? No problem! Our vounteers will guide you through the process from start to finish! \nLearn more: https://www.flemingtondiy.org/printclub/
URL:https://www.flemingtondiy.org/event/print-club-157/
END:VEVENT
BEGIN:VEVENT
DTSTART;TZID=America/New_York:20231004T190000
DTEND;TZID=America/New_York:20231004T220000
DTSTAMP:20260425T200535
CREATED:20230706T130638Z
LAST-MODIFIED:20231004T233505Z
UID:10001475-1696446000-1696456800@www.flemingtondiy.org
SUMMARY:Live Music
DESCRIPTION:Bobby Edge\nThe Cryptkeeper 5\nROAMCK\n$10-15 Donation\nDoors @ 7pm\nNo Drugs/Alcohol.
URL:https://www.flemingtondiy.org/event/live-music-17/
END:VEVENT
BEGIN:VEVENT
DTSTART;TZID=America/New_York:20231005T094500
DTEND;TZID=America/New_York:20231005T110000
DTSTAMP:20260425T200535
CREATED:20230918T225009Z
LAST-MODIFIED:20231004T233505Z
UID:10001610-1696499100-1696503600@www.flemingtondiy.org
SUMMARY:Music Together
DESCRIPTION:Every week in our music classes at Music Together Flemington\, babies\, toddlers\, preschoolers\, and the grownups who love them come together for a time of musical play. Little ones love playing along in class\, and caregivers love being a part of their children’s growth into confident music-makers. And everyone loves our songs that’ll have you tapping along in no time \nLearn more and enroll today:https://www.musictogetherflemington.com/
URL:https://www.flemingtondiy.org/event/music-together-151/
END:VEVENT
BEGIN:VEVENT
DTSTART;TZID=America/New_York:20231005T113000
DTEND;TZID=America/New_York:20231005T180000
DTSTAMP:20260425T200535
CREATED:20230920T225023Z
LAST-MODIFIED:20231004T233505Z
UID:10001619-1696505400-1696528800@www.flemingtondiy.org
SUMMARY:Open Hours
DESCRIPTION:stop in\, say hi\, see art\, and learn about DIY!
URL:https://www.flemingtondiy.org/event/open-hours-57/
END:VEVENT
BEGIN:VEVENT
DTSTART;TZID=America/New_York:20231006T091500
DTEND;TZID=America/New_York:20231006T113000
DTSTAMP:20260425T200535
CREATED:20230812T145045Z
LAST-MODIFIED:20231005T233524Z
UID:10001524-1696583700-1696591800@www.flemingtondiy.org
SUMMARY:Music Together
DESCRIPTION:Every week in our music classes at Music Together Flemington\, babies\, toddlers\, preschoolers\, and the grownups who love them come together for a time of musical play. Little ones love playing along in class\, and caregivers love being a part of their children’s growth into confident music-makers. And everyone loves our songs that’ll have you tapping along in no time \nLearn more and enroll today:https://www.musictogetherflemington.com/
URL:https://www.flemingtondiy.org/event/music-together-131/
END:VEVENT
BEGIN:VEVENT
DTSTART;TZID=America/New_York:20231006T120000
DTEND;TZID=America/New_York:20231006T140000
DTSTAMP:20260425T200535
CREATED:20230830T220510Z
LAST-MODIFIED:20231005T233524Z
UID:10001589-1696593600-1696600800@www.flemingtondiy.org
SUMMARY:First Fridays: Print Club for Homeschoolers
DESCRIPTION:First Friday of Every Month$15-30 per student\, ages 12-18\nFlemington DIY and Raritan Learning Cooperative are collaborating to offer a monthly print club for kids ages 12-18\, on the first Friday of every month from 11am-1pm. Bring a design and a t-shirt or anything you want to print on. You’ll get to learn the process of screenprinting\, create your own screen\, and print posters and shirts!https://www.flemingtondiy.org/first-fridays/
URL:https://www.flemingtondiy.org/event/first-fridays-print-club-for-homeschoolers/
END:VEVENT
BEGIN:VEVENT
DTSTART;TZID=America/New_York:20231006T190000
DTEND;TZID=America/New_York:20231006T220000
DTSTAMP:20260425T200535
CREATED:20230805T142037Z
LAST-MODIFIED:20231006T233519Z
UID:10001503-1696618800-1696629600@www.flemingtondiy.org
SUMMARY:Live Music
DESCRIPTION:10Penny\nYou Want Milk\nMedukha\nDoors @ 7pm\nNo Drugs/Alcohol
URL:https://www.flemingtondiy.org/event/live-music-27/
END:VEVENT
BEGIN:VEVENT
DTSTART;TZID=America/New_York:20231007T090000
DTEND;TZID=America/New_York:20231007T120000
DTSTAMP:20260425T200535
CREATED:20231004T233506Z
LAST-MODIFIED:20231006T233519Z
UID:10001655-1696669200-1696680000@www.flemingtondiy.org
SUMMARY:Music Together
DESCRIPTION:
URL:https://www.flemingtondiy.org/event/music-together-124/
END:VEVENT
BEGIN:VEVENT
DTSTART;TZID=America/New_York:20231007T170000
DTEND;TZID=America/New_York:20231007T200000
DTSTAMP:20260425T200535
CREATED:20230105T014101Z
LAST-MODIFIED:20231007T233506Z
UID:10000905-1696698000-1696708800@www.flemingtondiy.org
SUMMARY:Michelle Hoffman Ten Eyck Art Show Opening Reception
DESCRIPTION:Opening Saturday\, October 7\, 5-8pmExhibit runs through October 2023\nAbout the Artist \nMichelle Hoffman Ten Eyck is a ceramic artist\, who has been creating since childhood. Local to Flemington\, she has been building her ceramic business\, Way of the Butterfly\, since 2015. Michelle works full-full time as a therapist/ crisis worker.   \nMichelle creates dreamy and functional pottery\, including wall hangings\, figurines\, dishes\, and jewelry.  Her work is often described as “whimsical” and “storybook-like”\, with a heavy Halloween influence.  By default\, this makes it “sweetly spooky”. \nMichelle shows and sells her pieces at several art festivals per year\, and has her work in a few wonderful stores\, the most local being the Gift Horse in Flemington.   \n\nArtist Statement: \nHello! \nI am delighted to invite you to my upcoming show\, “Pieces of the Moon”.  Much of my work encompasses\, and is inspired by a lunar influence.  Many of my creations included in the show are centered around this common theme.  (Along with many other fun items!). Since the show is during the month of October\, it has also taken on a spooky twist.   \nI am so excited to show you the fun things I have been working on\, and I’m looking forward to meeting new friends!
URL:https://www.flemingtondiy.org/event/michelle-ten-eyck-art-show-opening/
END:VEVENT
BEGIN:VEVENT
DTSTART;TZID=America/New_York:20231008T100000
DTEND;TZID=America/New_York:20231008T130000
DTSTAMP:20260425T200535
CREATED:20230816T205045Z
LAST-MODIFIED:20231007T233506Z
UID:10001557-1696759200-1696770000@www.flemingtondiy.org
SUMMARY:HC Mama's Clothing/Toy Swap
DESCRIPTION:
URL:https://www.flemingtondiy.org/event/hc-mamas-clothing-toy-swap/
END:VEVENT
BEGIN:VEVENT
DTSTART;TZID=America/New_York:20231009T091500
DTEND;TZID=America/New_York:20231009T123000
DTSTAMP:20260425T200535
CREATED:20230812T145045Z
LAST-MODIFIED:20231008T233531Z
UID:10001525-1696842900-1696854600@www.flemingtondiy.org
SUMMARY:Music Together
DESCRIPTION:Every week in our music classes at Music Together Flemington\, babies\, toddlers\, preschoolers\, and the grownups who love them come together for a time of musical play. Little ones love playing along in class\, and caregivers love being a part of their children’s growth into confident music-makers. And everyone loves our songs that’ll have you tapping along in no time \nLearn more and enroll today:https://www.musictogetherflemington.com/
URL:https://www.flemingtondiy.org/event/music-together-132/
END:VEVENT
BEGIN:VEVENT
DTSTART;TZID=America/New_York:20231009T180000
DTEND;TZID=America/New_York:20231009T200000
DTSTAMP:20260425T200535
CREATED:20230615T125045Z
LAST-MODIFIED:20231008T233531Z
UID:10001435-1696874400-1696881600@www.flemingtondiy.org
SUMMARY:Fiber Freaks
DESCRIPTION:Fiber Freaks is a group of fiber enthusiasts working in all fiber arts in a sociable\, casual environment. Participation is suggested $5 per session\, with all proceeds benefiting the arts space \nJoin the Facebook group! \nQuestions? Reach out directly: flemingtonfiberfreaks@gmail.com \nLearn more: https://www.flemingtondiy.org/fiber-freaks/
URL:https://www.flemingtondiy.org/event/fiber-freaks-74/
END:VEVENT
BEGIN:VEVENT
DTSTART;TZID=America/New_York:20231009T190000
DTEND;TZID=America/New_York:20231009T220000
DTSTAMP:20260425T200535
CREATED:20230526T140112Z
LAST-MODIFIED:20231009T233621Z
UID:10001410-1696878000-1696888800@www.flemingtondiy.org
SUMMARY:Live Music
DESCRIPTION:Bhajan Bhoy (Amsterdam Netherlands)\nHUMAN ADULT BAND\nJeffrey Alexander + The Heavy Lidders (Philadelphia Pennsylvania)\nPlutonian Burrito\n$10-15 Donation\nDoors @ 7pm \nNo Drugs/Alcohol.
URL:https://www.flemingtondiy.org/event/live-music-6/
END:VEVENT
BEGIN:VEVENT
DTSTART;TZID=America/New_York:20231010T160000
DTEND;TZID=America/New_York:20231010T180000
DTSTAMP:20260425T200535
CREATED:20230907T220518Z
LAST-MODIFIED:20231009T233621Z
UID:10001601-1696953600-1696960800@www.flemingtondiy.org
SUMMARY:Youth Art Class
DESCRIPTION:For kids grades 3-8\nCreative Whimsies is looking for kids grades 3-8 to join us for After School Art Enrichment classes taught by local artist & certified teacher\, Christine Brandt. \nKids will create unique projects\, and develop their creative thinking skills in a fun\, relaxed atmosphere outside of the school environment. \nLimited spots available! \nClass Schedule:\n\nMonday\, September 11\nMonday\, September 18\nMonday\, September 25\nMonday\, October 2\nTuesday\, October 9\nMonday\, October 16\nMonday\, October 23\nMonday\, October 30\n\nCost: $80 per student for 4 weeks (all materials included) \nClasses & Time:  \nJunior Class (grades 3-5)Mondays 4:00-4:45 pm \nSenior Class (grades 6-8)Mondays 5:00-6:00 pm \nRegistration & Payment:via Creative Whimsies’ website \nContact\nChristine BrandtLessons@creativewhimsies.com(908) 824-5326Facebook: Creative Whimsies MUST SIGN UP IN ADVANCE
URL:https://www.flemingtondiy.org/event/youth-art-class-5/
END:VEVENT
BEGIN:VEVENT
DTSTART;TZID=America/New_York:20231010T190000
DTEND;TZID=America/New_York:20231010T210000
DTSTAMP:20260425T200535
CREATED:20230818T205038Z
LAST-MODIFIED:20231010T233601Z
UID:10001575-1696964400-1696971600@www.flemingtondiy.org
SUMMARY:Songwriter Circle
DESCRIPTION:Hey\, songwriters: Do you have songs that are half finished? Lyrics you’re not entirely happy with? A songwriting circle is not a performance. It’s an opportunity to connect with other songwriters\, play your song idea for us – whether it’s fully formed or not – and receive gentle\, respectful\, and constructive feedback. All genres welcome! Please bring a few hard copies of your lyrics to share (they’ll be returned to you). We have a piano available. Donations at the door
URL:https://www.flemingtondiy.org/event/songwriter-circle-9/
END:VEVENT
BEGIN:VEVENT
DTSTART;TZID=America/New_York:20231011T183000
DTEND;TZID=America/New_York:20231011T200000
DTSTAMP:20260425T200535
CREATED:20230921T225012Z
LAST-MODIFIED:20231011T233518Z
UID:10001635-1697049000-1697054400@www.flemingtondiy.org
SUMMARY:Coming Out Stories
DESCRIPTION:Hear from a collection of queer and trans folks about their experiences coming out and exploring their authentic identities on National Coming Out Day. Hosted by Flemington QTs!  RSVP: https://forms.gle/J7tJhBrAjnxnsCsSA
URL:https://www.flemingtondiy.org/event/coming-out-stories/
END:VEVENT
BEGIN:VEVENT
DTSTART;TZID=America/New_York:20231012T094500
DTEND;TZID=America/New_York:20231012T110000
DTSTAMP:20260425T200535
CREATED:20230918T225010Z
LAST-MODIFIED:20231011T233518Z
UID:10001611-1697103900-1697108400@www.flemingtondiy.org
SUMMARY:Music Together
DESCRIPTION:Every week in our music classes at Music Together Flemington\, babies\, toddlers\, preschoolers\, and the grownups who love them come together for a time of musical play. Little ones love playing along in class\, and caregivers love being a part of their children’s growth into confident music-makers. And everyone loves our songs that’ll have you tapping along in no time \nLearn more and enroll today:https://www.musictogetherflemington.com/
URL:https://www.flemingtondiy.org/event/music-together-152/
END:VEVENT
BEGIN:VEVENT
DTSTART;TZID=America/New_York:20231012T113000
DTEND;TZID=America/New_York:20231012T180000
DTSTAMP:20260425T200535
CREATED:20230920T225024Z
LAST-MODIFIED:20231011T233519Z
UID:10001620-1697110200-1697133600@www.flemingtondiy.org
SUMMARY:Open Hours
DESCRIPTION:stop in\, say hi\, see art\, and learn about DIY!
URL:https://www.flemingtondiy.org/event/open-hours-58/
END:VEVENT
BEGIN:VEVENT
DTSTART;TZID=America/New_York:20231012T190000
DTEND;TZID=America/New_York:20231012T220000
DTSTAMP:20260425T200535
CREATED:20230807T142019Z
LAST-MODIFIED:20231012T233515Z
UID:10001505-1697137200-1697148000@www.flemingtondiy.org
SUMMARY:Live Music
DESCRIPTION:Farrah Faucet\n$10-15 Donation\nDoors @ 7pm\nNo Drugs/Alcohol
URL:https://www.flemingtondiy.org/event/live-music-29/
END:VEVENT
BEGIN:VEVENT
DTSTART;TZID=America/New_York:20231013T091500
DTEND;TZID=America/New_York:20231013T113000
DTSTAMP:20260425T200535
CREATED:20230812T145046Z
LAST-MODIFIED:20231012T233515Z
UID:10001528-1697188500-1697196600@www.flemingtondiy.org
SUMMARY:Music Together
DESCRIPTION:Every week in our music classes at Music Together Flemington\, babies\, toddlers\, preschoolers\, and the grownups who love them come together for a time of musical play. Little ones love playing along in class\, and caregivers love being a part of their children’s growth into confident music-makers. And everyone loves our songs that’ll have you tapping along in no time \nLearn more and enroll today:https://www.musictogetherflemington.com/
URL:https://www.flemingtondiy.org/event/music-together-134/
END:VEVENT
BEGIN:VEVENT
DTSTART;TZID=America/New_York:20231013T190000
DTEND;TZID=America/New_York:20231013T220000
DTSTAMP:20260425T200535
CREATED:20230802T142046Z
LAST-MODIFIED:20231013T233515Z
UID:10001496-1697223600-1697234400@www.flemingtondiy.org
SUMMARY:Live Music
DESCRIPTION:Drook\nSaint Germaine\nJoudy\nHolzil  \n$10-15 Donation\nNo Drugs/Alcohol
URL:https://www.flemingtondiy.org/event/live-music-8/
END:VEVENT
BEGIN:VEVENT
DTSTART;TZID=America/New_York:20231014T100000
DTEND;TZID=America/New_York:20231014T140000
DTSTAMP:20260425T200535
CREATED:20230816T205046Z
LAST-MODIFIED:20231013T233515Z
UID:10001558-1697277600-1697292000@www.flemingtondiy.org
SUMMARY:Gallery Open Hours: Pieces of the Moon: Art by Michelle Hoffman Ten Eyck
DESCRIPTION:Gallery Open Hours: Pieces of the Moon: Art by Michelle Hoffman Ten Eyckhttps://www.flemingtondiy.org/pieces-of-the-moon/
URL:https://www.flemingtondiy.org/event/gallery-open-hours-pieces-of-the-moon-art-by-michelle-hoffman-ten-eyck/
END:VEVENT
BEGIN:VEVENT
DTSTART;TZID=America/New_York:20231014T190000
DTEND;TZID=America/New_York:20231014T220000
DTSTAMP:20260425T200535
CREATED:20230805T142037Z
LAST-MODIFIED:20231014T235018Z
UID:10001504-1697310000-1697320800@www.flemingtondiy.org
SUMMARY:Live Music
DESCRIPTION:Soul Debt \nSpoon of Ukobach \nPRDGMS\,\nWhen Hell Ascends Tonight \nDoors @ 7pm\n$10-15 Donation\nNo Drugs/Alcohol
URL:https://www.flemingtondiy.org/event/live-music-28/
END:VEVENT
BEGIN:VEVENT
DTSTART;TZID=America/New_York:20231015T110000
DTEND;TZID=America/New_York:20231015T120000
DTSTAMP:20260425T200535
CREATED:20230929T230508Z
LAST-MODIFIED:20231014T235018Z
UID:10001645-1697367600-1697371200@www.flemingtondiy.org
SUMMARY:Tap Project
DESCRIPTION:Come one\, come all\, no tap shoes required! \nJoin us Sunday mornings and learn the language of tap dance (what’s a flap? shuffle? buffalo?) plus tap dance history (did you ever wonder who was Fred Astaire’s teacher?). \nWe’ll learn simple warm ups\, then take those steps and do a simple combination\, add a few together\, and hey\, you have a whole dance! \nGreat music\, great fun\, new friends! \nPlease check calendar for upcoming classes!Join the Facebook group!
URL:https://www.flemingtondiy.org/event/tap-project-31/
END:VEVENT
BEGIN:VEVENT
DTSTART;TZID=America/New_York:20231016T091500
DTEND;TZID=America/New_York:20231016T123000
DTSTAMP:20260425T200535
CREATED:20230812T145046Z
LAST-MODIFIED:20231015T235017Z
UID:10001529-1697447700-1697459400@www.flemingtondiy.org
SUMMARY:Music Together
DESCRIPTION:Every week in our music classes at Music Together Flemington\, babies\, toddlers\, preschoolers\, and the grownups who love them come together for a time of musical play. Little ones love playing along in class\, and caregivers love being a part of their children’s growth into confident music-makers. And everyone loves our songs that’ll have you tapping along in no time \nLearn more and enroll today:https://www.musictogetherflemington.com/
URL:https://www.flemingtondiy.org/event/music-together-135/
END:VEVENT
END:VCALENDAR