BEGIN:VCALENDAR
VERSION:2.0
PRODID:-//Flemington DIY - ECPv6.15.20//NONSGML v1.0//EN
CALSCALE:GREGORIAN
METHOD:PUBLISH
X-WR-CALNAME:Flemington DIY
X-ORIGINAL-URL:https://www.flemingtondiy.org
X-WR-CALDESC:Events for Flemington DIY
REFRESH-INTERVAL;VALUE=DURATION:PT1H
X-Robots-Tag:noindex
X-PUBLISHED-TTL:PT1H
BEGIN:VTIMEZONE
TZID:America/New_York
BEGIN:DAYLIGHT
TZOFFSETFROM:-0500
TZOFFSETTO:-0400
TZNAME:EDT
DTSTART:20240310T070000
END:DAYLIGHT
BEGIN:STANDARD
TZOFFSETFROM:-0400
TZOFFSETTO:-0500
TZNAME:EST
DTSTART:20241103T060000
END:STANDARD
BEGIN:DAYLIGHT
TZOFFSETFROM:-0500
TZOFFSETTO:-0400
TZNAME:EDT
DTSTART:20250309T070000
END:DAYLIGHT
BEGIN:STANDARD
TZOFFSETFROM:-0400
TZOFFSETTO:-0500
TZNAME:EST
DTSTART:20251102T060000
END:STANDARD
BEGIN:DAYLIGHT
TZOFFSETFROM:-0500
TZOFFSETTO:-0400
TZNAME:EDT
DTSTART:20260308T070000
END:DAYLIGHT
BEGIN:STANDARD
TZOFFSETFROM:-0400
TZOFFSETTO:-0500
TZNAME:EST
DTSTART:20261101T060000
END:STANDARD
END:VTIMEZONE
BEGIN:VEVENT
DTSTART;TZID=America/New_York:20250308T090000
DTEND;TZID=America/New_York:20250308T110000
DTSTAMP:20260425T115602
CREATED:20241220T233614Z
LAST-MODIFIED:20250306T235058Z
UID:10002784-1741424400-1741431600@www.flemingtondiy.org
SUMMARY:Music Together Winter Classes
DESCRIPTION:
URL:https://www.flemingtondiy.org/event/music-together-winter-classes-36/
END:VEVENT
BEGIN:VEVENT
DTSTART;TZID=America/New_York:20250308T190000
DTEND;TZID=America/New_York:20250308T220000
DTSTAMP:20260425T115602
CREATED:20250210T235027Z
LAST-MODIFIED:20250308T233551Z
UID:10003071-1741460400-1741471200@www.flemingtondiy.org
SUMMARY:Live Music
DESCRIPTION:Wormmother(NJ Furry Noise Rapper)TS Julien(NY Futurist Propaganda)Hypertrophy(NY Powerlifting Harsh Noise)Relief (NJ Noise)
URL:https://www.flemingtondiy.org/event/live-music-95/
END:VEVENT
BEGIN:VEVENT
DTSTART;TZID=America/New_York:20250309T110000
DTEND;TZID=America/New_York:20250309T130000
DTSTAMP:20260425T115602
CREATED:20250304T233513Z
LAST-MODIFIED:20250308T233551Z
UID:10003091-1741518000-1741525200@www.flemingtondiy.org
SUMMARY:Self Defense & Empowerment Seminar
DESCRIPTION:EPOC Fitness NJ is presenting a Self Defense & Empowerment Workshop on March 9\, 2025 from 11:00AM till 1:00PM.  The workshop fee is $65. \nThis program is designed to give participants basic knowledge of some self-defense techniques. Topics of discussion will include situational awareness\, threat assessment and visualization skills. Students will learn how to not become a victim by analyzing body language and understanding their own intuition. This is an interactive course and there will be hands-on demonstrations of techniques that the students will practice.  Various scenarios will be discussed to give participants an understanding of their personal weapons and how to get away from an attacker.  \nContact or register at: www.epocfitnessnj.com
URL:https://www.flemingtondiy.org/event/self-defense-empowerment-seminar/
END:VEVENT
BEGIN:VEVENT
DTSTART;TZID=America/New_York:20250309T143000
DTEND;TZID=America/New_York:20250309T170000
DTSTAMP:20260425T115602
CREATED:20250304T233513Z
LAST-MODIFIED:20250308T233551Z
UID:10003092-1741530600-1741539600@www.flemingtondiy.org
SUMMARY:Women's Comedy Open Mic
DESCRIPTION:Ever wanted to share a joke with your friends? Have a friend who you think is hilarious but don’t know how to let other ladies know about her talent? Here’s an opportunity to give it a try. Enjoy a safe space to share laughs – and if you fail – it’s ok to get up and try again!
URL:https://www.flemingtondiy.org/event/womens-comedy-open-mic-14/
END:VEVENT
BEGIN:VEVENT
DTSTART;TZID=America/New_York:20250310T093000
DTEND;TZID=America/New_York:20250310T113000
DTSTAMP:20260425T115602
CREATED:20250107T235050Z
LAST-MODIFIED:20250309T233610Z
UID:10002962-1741599000-1741606200@www.flemingtondiy.org
SUMMARY:Music Together Winter Classes
DESCRIPTION:
URL:https://www.flemingtondiy.org/event/music-together-winter-classes-70/
END:VEVENT
BEGIN:VEVENT
DTSTART;TZID=America/New_York:20250310T180000
DTEND;TZID=America/New_York:20250310T200000
DTSTAMP:20260425T115602
CREATED:20241220T233614Z
LAST-MODIFIED:20250310T233545Z
UID:10002786-1741629600-1741636800@www.flemingtondiy.org
SUMMARY:Hunterdon Fiber Artist Meeting
DESCRIPTION:Looking to meet other fiber artists in the Hunterdon county area?  Think about coming to Hunterdon Fiber Artists meet up to socialize and connect with others doing the fiber art craft that they love. \nAll are welcome.  Just bring your craft be it knitting\, crocheting\, spinning\, etc.\, and be prepared to meet lots of fun and interesting people!  We even have mini educational talks on requested topics! \nOur FB group is Hunterdon Fiber Artists https://www.facebook.com/groups/1101970274078722 \nOur Ravelry group is https://www.ravelry.com/groups/hunterdon-fiber-artists?s=tab \nEvery other Monday at DIY; $3-5 suggested donation.
URL:https://www.flemingtondiy.org/event/hunterdon-fiber-artist-meeting-56/
END:VEVENT
BEGIN:VEVENT
DTSTART;TZID=America/New_York:20250310T180000
DTEND;TZID=America/New_York:20250310T210000
DTSTAMP:20260425T115602
CREATED:20231107T010609Z
LAST-MODIFIED:20250310T233545Z
UID:10001861-1741629600-1741640400@www.flemingtondiy.org
SUMMARY:Print Club
DESCRIPTION:Flemington DIY Print Club is a weekly open studio held from 6-9PM every Monday\, $15-30 per printer. It provides an opportunity for local artists and community members new to arts processes to utilize shared printmaking facilities. Print Club provides a platform for artists to network\, build community\, and work collaboratively. \nNo experience? No problem! Our vounteers will guide you through the process from start to finish! \nLearn more: https://www.flemingtondiy.org/printclub/
URL:https://www.flemingtondiy.org/event/print-club-223/
END:VEVENT
BEGIN:VEVENT
DTSTART;TZID=America/New_York:20250311T093000
DTEND;TZID=America/New_York:20250311T123000
DTSTAMP:20260425T115602
CREATED:20250107T235050Z
LAST-MODIFIED:20250310T233545Z
UID:10002963-1741685400-1741696200@www.flemingtondiy.org
SUMMARY:Music Together Winter Classes
DESCRIPTION:
URL:https://www.flemingtondiy.org/event/music-together-winter-classes-71/
END:VEVENT
BEGIN:VEVENT
DTSTART;TZID=America/New_York:20250311T123000
DTEND;TZID=America/New_York:20250311T180000
DTSTAMP:20260425T115602
CREATED:20241221T233527Z
LAST-MODIFIED:20250310T233545Z
UID:10002830-1741696200-1741716000@www.flemingtondiy.org
SUMMARY:Open Hours
DESCRIPTION:Visit the space\, see our current art shows\, hang out\, and learn how to get involved!
URL:https://www.flemingtondiy.org/event/open-hours-165/
END:VEVENT
BEGIN:VEVENT
DTSTART;TZID=America/New_York:20250311T190000
DTEND;TZID=America/New_York:20250311T210000
DTSTAMP:20260425T115602
CREATED:20240929T233640Z
LAST-MODIFIED:20250311T235118Z
UID:10002626-1741719600-1741726800@www.flemingtondiy.org
SUMMARY:Songwriter Circle
DESCRIPTION:Hey\, songwriters: Do you have songs that are half finished? Lyrics you’re not entirely happy with? A songwriting circle is not a performance. It’s an opportunity to connect with other songwriters\, play your song idea for us – whether it’s fully formed or not – and receive gentle\, respectful\, and constructive feedback. All genres welcome! Please bring a few hard copies of your lyrics to share (they’ll be returned to you). We have a piano available. Donations at the door
URL:https://www.flemingtondiy.org/event/songwriter-circle-25/
END:VEVENT
BEGIN:VEVENT
DTSTART;TZID=America/New_York:20250312T180000
DTEND;TZID=America/New_York:20250312T200000
DTSTAMP:20260425T115602
CREATED:20250217T233512Z
LAST-MODIFIED:20250312T235114Z
UID:10003075-1741802400-1741809600@www.flemingtondiy.org
SUMMARY:Shutter Stories: A Photo Talk
DESCRIPTION:Six featured photographers from the Echoes of Emulsion Analog Photgraphy Exhibition (on display through March 31) will present brief artist talks\, showcasing images from their portfolios and discussing their inspirations and technical processes. \nThis event is free and open to the public.
URL:https://www.flemingtondiy.org/event/shutter-stories-a-photo-talk/
END:VEVENT
BEGIN:VEVENT
DTSTART;TZID=America/New_York:20250313T113000
DTEND;TZID=America/New_York:20250313T180000
DTSTAMP:20260425T115602
CREATED:20241221T233528Z
LAST-MODIFIED:20250312T235114Z
UID:10002831-1741865400-1741888800@www.flemingtondiy.org
SUMMARY:Open Hours
DESCRIPTION:Visit the space\, see our current art shows\, hang out\, and learn how to get involved!
URL:https://www.flemingtondiy.org/event/open-hours-166/
END:VEVENT
BEGIN:VEVENT
DTSTART;TZID=America/New_York:20250314T093000
DTEND;TZID=America/New_York:20250314T113000
DTSTAMP:20260425T115602
CREATED:20250107T235050Z
LAST-MODIFIED:20250313T235012Z
UID:10002964-1741944600-1741951800@www.flemingtondiy.org
SUMMARY:Music Together Winter Classes
DESCRIPTION:
URL:https://www.flemingtondiy.org/event/music-together-winter-classes-72/
END:VEVENT
BEGIN:VEVENT
DTSTART;TZID=America/New_York:20250314T180000
DTEND;TZID=America/New_York:20250314T210000
DTSTAMP:20260425T115602
CREATED:20250217T233513Z
LAST-MODIFIED:20250314T235116Z
UID:10003076-1741975200-1741986000@www.flemingtondiy.org
SUMMARY:Volunteer Social - Board Games/Pi Day
DESCRIPTION:This event is DIY volunteers only! Interested in getting involved? Visit flemingtondiy.org/volunteer
URL:https://www.flemingtondiy.org/event/volunteer-social-board-games-pi-day/
END:VEVENT
BEGIN:VEVENT
DTSTART;TZID=America/New_York:20250315T090000
DTEND;TZID=America/New_York:20250315T110000
DTSTAMP:20260425T115602
CREATED:20241220T233615Z
LAST-MODIFIED:20250314T235116Z
UID:10002789-1742029200-1742036400@www.flemingtondiy.org
SUMMARY:Music Together Winter Classes
DESCRIPTION:
URL:https://www.flemingtondiy.org/event/music-together-winter-classes-40/
END:VEVENT
BEGIN:VEVENT
DTSTART;TZID=America/New_York:20250316T120000
DTEND;TZID=America/New_York:20250316T170000
DTSTAMP:20260425T115602
CREATED:20250114T233522Z
LAST-MODIFIED:20250314T235116Z
UID:10002973-1742126400-1742144400@www.flemingtondiy.org
SUMMARY:Bury Your Memories 5th Anniversary Show
DESCRIPTION:Bury Your Memories Music and Comedy Festival is now five years old\, and we are going to celebrate by coming back to Flemington DIY! Co-Founder\, Jason Zoblin\, curated this benefit to commemorate and honor his second cousin\, Marshall Ogen\, who passed away due to brain cancer in October 2024.  \nThe benefit will have Philly native comics including\, Hannah Trav and Megan Goetz plus 4 powerhouse bands lighting up the space: Philly’s own Goalkeeper who bring their pop punk energy and upbeat songs to life. Also performing will be the pop rock group Green Knuckle Material. The hardcore and pop punk NJ Natives\, Sucker Punch. And last but not least the Asbury Park darlings\, Wave Break.  \nProceeds will be benefiting the Abramson Cancer Center where Marshall was treated and was given an extra year and a half of life. \n$15 at the door
URL:https://www.flemingtondiy.org/event/bury-your-memories-5th-anniversary-show/
END:VEVENT
BEGIN:VEVENT
DTSTART;TZID=America/New_York:20250316T193000
DTEND;TZID=America/New_York:20250316T220000
DTSTAMP:20260425T115602
CREATED:20241216T235014Z
LAST-MODIFIED:20250316T233558Z
UID:10002743-1742153400-1742162400@www.flemingtondiy.org
SUMMARY:Live Jazz: Sasha Berliner Quintet
DESCRIPTION:Doors open at 7:30 PM   Music begins at 8:00 PM \nw/Alonzo Demetrius\, Taylor Eigsti\, Ben Williams\, and Jongkuk Kim \nSasha Berliner is a musician\, composer\, producer\, and band leader from San Francisco\, CA. A rock drummer turned vibraphonist\, Sasha was first introduced to the instrument through her high school Oakland School for the Arts as part of the jazz program. While she had multi-faceted interests throughout her adolescence that spanned academia and the arts\, the vibraphone swept the lead in becoming her life passion. \nIn addition to performing with her own band\, her recent notable performances and recordings have been with musicians such as Tyshawn Sorey\, Nicholas Payton\, Christian McBride\, and Cecile Mclorin Salvant. She is an endorsing artist for Marimba One and Vater Drumsticks. She has been a guest lecturer at esteemed universities and programs like University of Champaign-Illinois\, UC San Diego\, Stanford Jazz Workshop\, and Berklee College of Music\, and is currently a Professor of Jazz and Jazz Composition at UC Irvine. \nDoors 7:30pm\, Music 8pm. Tickets: $18 advance // $22 door // 15% off for Members!
URL:https://www.flemingtondiy.org/event/live-jazz-sasha-berliner-quintet/
END:VEVENT
BEGIN:VEVENT
DTSTART;TZID=America/New_York:20250317T180000
DTEND;TZID=America/New_York:20250317T210000
DTSTAMP:20260425T115602
CREATED:20231107T010609Z
LAST-MODIFIED:20250317T233557Z
UID:10001862-1742234400-1742245200@www.flemingtondiy.org
SUMMARY:Print Club
DESCRIPTION:Flemington DIY Print Club is a weekly open studio held from 6-9PM every Monday\, $15-30 per printer. It provides an opportunity for local artists and community members new to arts processes to utilize shared printmaking facilities. Print Club provides a platform for artists to network\, build community\, and work collaboratively. \nNo experience? No problem! Our vounteers will guide you through the process from start to finish! \nLearn more: https://www.flemingtondiy.org/printclub/
URL:https://www.flemingtondiy.org/event/print-club-224/
END:VEVENT
BEGIN:VEVENT
DTSTART;TZID=America/New_York:20250318T113000
DTEND;TZID=America/New_York:20250318T180000
DTSTAMP:20260425T115602
CREATED:20241221T233528Z
LAST-MODIFIED:20250317T233557Z
UID:10002832-1742297400-1742320800@www.flemingtondiy.org
SUMMARY:Open Hours
DESCRIPTION:Visit the space\, see our current art shows\, hang out\, and learn how to get involved!
URL:https://www.flemingtondiy.org/event/open-hours-167/
END:VEVENT
BEGIN:VEVENT
DTSTART;TZID=America/New_York:20250318T183000
DTEND;TZID=America/New_York:20250318T203000
DTSTAMP:20260425T115602
CREATED:20240928T233654Z
LAST-MODIFIED:20250318T235112Z
UID:10002589-1742322600-1742329800@www.flemingtondiy.org
SUMMARY:Flemington Acoustic Players
DESCRIPTION:Calling all Hunterdon County pop/rock/folk stars!  Are you looking for a place to practice your acoustic guitar skills\, and maybe do some singing too?   \nOur merry band of music makers is open to players of all abilities! This gathering however is for Acoustic players ONLY; i.e guitars\, ukuleles\, mandolins & banjos. A drummer and/or an acoustic/electric bassist would be welcomed though to help us all stay in time. \nChords and lyrics to the songs will be projected on a screen so there’s no need for you to bring a music stand or tablet. We will be selecting tunes from a song book that includes a wide variety of rock/pop/folk classics. \nCome and have fun with us as we play and sing along to some of everyone’s favorite tunes! \nSuggested donation of $3-5www.flemingtondiy.org/acoustic/
URL:https://www.flemingtondiy.org/event/flemington-acoustic-players-63/
END:VEVENT
BEGIN:VEVENT
DTSTART;TZID=America/New_York:20250319T180000
DTEND;TZID=America/New_York:20250319T203000
DTSTAMP:20260425T115602
CREATED:20250224T233535Z
LAST-MODIFIED:20250318T235112Z
UID:10003079-1742407200-1742416200@www.flemingtondiy.org
SUMMARY:United We Create
DESCRIPTION:Youth are facing demonstrable challenges these days and mental health is a focus of many parents and caregivers. Join us for an evening of learning about youth mental health and give your children the tools they can use in their daily lives to express themselves\, find grounding\, and more. We will explore the topic of youth mental health and kids will have an opportunity to participate in hands-on art activities as well as virtual reality programs. \nRegister here: https://www.eventbrite.com/e/united-we-create-tickets-1256784408999?aff=oddtdtcreator  \nPresented by: United Way Hunterdon County\, Ellie Mental Health & Flemington DIY.
URL:https://www.flemingtondiy.org/event/united-we-create/
END:VEVENT
BEGIN:VEVENT
DTSTART;TZID=America/New_York:20250320T113000
DTEND;TZID=America/New_York:20250320T180000
DTSTAMP:20260425T115602
CREATED:20241221T233528Z
LAST-MODIFIED:20250318T235112Z
UID:10002833-1742470200-1742493600@www.flemingtondiy.org
SUMMARY:Open Hours
DESCRIPTION:Visit the space\, see our current art shows\, hang out\, and learn how to get involved!
URL:https://www.flemingtondiy.org/event/open-hours-168/
END:VEVENT
BEGIN:VEVENT
DTSTART;TZID=America/New_York:20250320T190000
DTEND;TZID=America/New_York:20250320T210000
DTSTAMP:20260425T115602
CREATED:20241023T233522Z
LAST-MODIFIED:20250320T233554Z
UID:10002654-1742497200-1742504400@www.flemingtondiy.org
SUMMARY:Monthly Open Bluegrass Jam
DESCRIPTION:Bring your instrument\, a couple of tunes\, some friends and your own refreshments. All players welcome – Beginner to pro!  \nFreewill basket to support DIY $5 suggested Open to all ages –strictly no alcohol  \nQuestions? Contact Ed: rvrecband@gmail.com / ejjank@gmail.com
URL:https://www.flemingtondiy.org/event/monthly-open-bluegrass-jam-3/
END:VEVENT
BEGIN:VEVENT
DTSTART;TZID=America/New_York:20250321T180000
DTEND;TZID=America/New_York:20250321T220000
DTSTAMP:20260425T115602
CREATED:20250120T235048Z
LAST-MODIFIED:20250321T233628Z
UID:10002991-1742580000-1742594400@www.flemingtondiy.org
SUMMARY:Live Music
DESCRIPTION:ABANDONED FEST \nEndless midnight (post hardcore)Stential (post hardcore)J3THEGREATEST (hardcore rap)Pern (metal)Killkxnny (alternative rap)Dragsholm (death metal)Killaether (death rap) \nDoors @ 5:00\, Music @ 6:00All Ages No Drugs/No Alcohol
URL:https://www.flemingtondiy.org/event/live-music-92/
END:VEVENT
BEGIN:VEVENT
DTSTART;TZID=America/New_York:20250323T100000
DTEND;TZID=America/New_York:20250323T130000
DTSTAMP:20260425T115602
CREATED:20241205T235111Z
LAST-MODIFIED:20250322T233508Z
UID:10002737-1742724000-1742734800@www.flemingtondiy.org
SUMMARY:Fiber Series: Natural Dyeing
DESCRIPTION:In this immersive workshop\, explore how to transform flowers\, food waste\, and other organic materials into stunning\, eco-friendly dyes. Discover a variety of dyeing techniques\, and create your own one-of-a-kind\, naturally dyed piece to take home and cherish. Whether you’re a beginner or a seasoned artist\, this workshop will inspire you to connect with nature and textile art in a whole new way. $95 per person – Limit to 15 people. REGISTER
URL:https://www.flemingtondiy.org/event/fiber-series-natural-dyeing/
END:VEVENT
BEGIN:VEVENT
DTSTART;TZID=America/New_York:20250323T140000
DTEND;TZID=America/New_York:20250323T170000
DTSTAMP:20260425T115602
CREATED:20250130T233527Z
LAST-MODIFIED:20250322T233508Z
UID:10003003-1742738400-1742749200@www.flemingtondiy.org
SUMMARY:Queer Skillshare Workshop
DESCRIPTION:VentureOutNJ will be partnering with the FlemingtonQTs for a skillshare workshop on March 23rd at 2pm at FlemingtonDIY! If you’re interested in sharing a skill\, RSVP via the applicable chat which can be found through VentureOutNJ.com and tell us about it in the chat.  \nWe expect most people to just come and enjoy the activities and conversation. Light refreshments will be provided
URL:https://www.flemingtondiy.org/event/queer-skillshare-workshop/
END:VEVENT
BEGIN:VEVENT
DTSTART;TZID=America/New_York:20250324T180000
DTEND;TZID=America/New_York:20250324T200000
DTSTAMP:20260425T115602
CREATED:20241220T233616Z
LAST-MODIFIED:20250324T235031Z
UID:10002791-1742839200-1742846400@www.flemingtondiy.org
SUMMARY:Hunterdon Fiber Artist Meeting
DESCRIPTION:Looking to meet other fiber artists in the Hunterdon county area?  Think about coming to Hunterdon Fiber Artists meet up to socialize and connect with others doing the fiber art craft that they love. \nAll are welcome.  Just bring your craft be it knitting\, crocheting\, spinning\, etc.\, and be prepared to meet lots of fun and interesting people!  We even have mini educational talks on requested topics! \nOur FB group is Hunterdon Fiber Artists https://www.facebook.com/groups/1101970274078722 \nOur Ravelry group is https://www.ravelry.com/groups/hunterdon-fiber-artists?s=tab \nEvery other Monday at DIY; $3-5 suggested donation.
URL:https://www.flemingtondiy.org/event/hunterdon-fiber-artist-meeting-57/
END:VEVENT
BEGIN:VEVENT
DTSTART;TZID=America/New_York:20250324T180000
DTEND;TZID=America/New_York:20250324T210000
DTSTAMP:20260425T115602
CREATED:20231107T010610Z
LAST-MODIFIED:20250324T235029Z
UID:10001863-1742839200-1742850000@www.flemingtondiy.org
SUMMARY:Print Club
DESCRIPTION:Flemington DIY Print Club is a weekly open studio held from 6-9PM every Monday\, $15-30 per printer. It provides an opportunity for local artists and community members new to arts processes to utilize shared printmaking facilities. Print Club provides a platform for artists to network\, build community\, and work collaboratively. \nNo experience? No problem! Our vounteers will guide you through the process from start to finish! \nLearn more: https://www.flemingtondiy.org/printclub/
URL:https://www.flemingtondiy.org/event/print-club-225/
END:VEVENT
BEGIN:VEVENT
DTSTART;TZID=America/New_York:20250325T113000
DTEND;TZID=America/New_York:20250325T180000
DTSTAMP:20260425T115602
CREATED:20241221T233529Z
LAST-MODIFIED:20250324T235031Z
UID:10002834-1742902200-1742925600@www.flemingtondiy.org
SUMMARY:Open Hours
DESCRIPTION:Visit the space\, see our current art shows\, hang out\, and learn how to get involved!
URL:https://www.flemingtondiy.org/event/open-hours-169/
END:VEVENT
BEGIN:VEVENT
DTSTART;TZID=America/New_York:20250326T193000
DTEND;TZID=America/New_York:20250326T213000
DTSTAMP:20260425T115602
CREATED:20250224T233536Z
LAST-MODIFIED:20250326T233525Z
UID:10003080-1743017400-1743024600@www.flemingtondiy.org
SUMMARY:Poetry Open Mic
DESCRIPTION:Community members of all levels are invited to read their poetry and listen to the work of others. If you’re looking for a welcoming group of emerging and established poets and beatniks\, this is for you! \nShow up and sign up. No pre-registration to participate. Donations for the space encouraged at the door. All ages but please be aware that mature and sometimes sensitive topics are explored and mentioned at this event.
URL:https://www.flemingtondiy.org/event/poetry-open-mic-42/
END:VEVENT
END:VCALENDAR