BEGIN:VCALENDAR
VERSION:2.0
PRODID:-//Flemington DIY - ECPv6.15.20//NONSGML v1.0//EN
CALSCALE:GREGORIAN
METHOD:PUBLISH
X-WR-CALNAME:Flemington DIY
X-ORIGINAL-URL:https://www.flemingtondiy.org
X-WR-CALDESC:Events for Flemington DIY
REFRESH-INTERVAL;VALUE=DURATION:PT1H
X-Robots-Tag:noindex
X-PUBLISHED-TTL:PT1H
BEGIN:VTIMEZONE
TZID:America/New_York
BEGIN:DAYLIGHT
TZOFFSETFROM:-0500
TZOFFSETTO:-0400
TZNAME:EDT
DTSTART:20230312T070000
END:DAYLIGHT
BEGIN:STANDARD
TZOFFSETFROM:-0400
TZOFFSETTO:-0500
TZNAME:EST
DTSTART:20231105T060000
END:STANDARD
BEGIN:DAYLIGHT
TZOFFSETFROM:-0500
TZOFFSETTO:-0400
TZNAME:EDT
DTSTART:20240310T070000
END:DAYLIGHT
BEGIN:STANDARD
TZOFFSETFROM:-0400
TZOFFSETTO:-0500
TZNAME:EST
DTSTART:20241103T060000
END:STANDARD
BEGIN:DAYLIGHT
TZOFFSETFROM:-0500
TZOFFSETTO:-0400
TZNAME:EDT
DTSTART:20250309T070000
END:DAYLIGHT
BEGIN:STANDARD
TZOFFSETFROM:-0400
TZOFFSETTO:-0500
TZNAME:EST
DTSTART:20251102T060000
END:STANDARD
BEGIN:DAYLIGHT
TZOFFSETFROM:-0500
TZOFFSETTO:-0400
TZNAME:EDT
DTSTART:20260308T070000
END:DAYLIGHT
BEGIN:STANDARD
TZOFFSETFROM:-0400
TZOFFSETTO:-0500
TZNAME:EST
DTSTART:20261101T060000
END:STANDARD
END:VTIMEZONE
BEGIN:VEVENT
DTSTART;TZID=America/New_York:20241223T180000
DTEND;TZID=America/New_York:20241223T210000
DTSTAMP:20260425T075132
CREATED:20231107T010604Z
LAST-MODIFIED:20241223T233553Z
UID:10001850-1734976800-1734987600@www.flemingtondiy.org
SUMMARY:Print Club
DESCRIPTION:Flemington DIY Print Club is a weekly open studio held from 6-9PM every Monday\, $15-30 per printer. It provides an opportunity for local artists and community members new to arts processes to utilize shared printmaking facilities. Print Club provides a platform for artists to network\, build community\, and work collaboratively. \nNo experience? No problem! Our vounteers will guide you through the process from start to finish! \nLearn more: https://www.flemingtondiy.org/printclub/
URL:https://www.flemingtondiy.org/event/print-club-212/
END:VEVENT
BEGIN:VEVENT
DTSTART;TZID=America/New_York:20241224T113000
DTEND;TZID=America/New_York:20241224T160000
DTSTAMP:20260425T075132
CREATED:20241223T233508Z
LAST-MODIFIED:20241223T233553Z
UID:10002914-1735039800-1735056000@www.flemingtondiy.org
SUMMARY:Open hours
DESCRIPTION:
URL:https://www.flemingtondiy.org/event/open-hours-248/
END:VEVENT
BEGIN:VEVENT
DTSTART;TZID=America/New_York:20241228T190000
DTEND;TZID=America/New_York:20241228T220000
DTSTAMP:20260425T075132
CREATED:20241126T233535Z
LAST-MODIFIED:20241228T235101Z
UID:10002731-1735412400-1735423200@www.flemingtondiy.org
SUMMARY:Live Music
DESCRIPTION:New line up is\nProboscis\n(Shoegaze/metal)\nWaffle House of 1000 Corpses\n(Metal/Noise)\nStep Forward\n(NJ post-hardcore)\nThe Lushpockets\n(MD rock & roll)\nFree show\nDoors at 6:30\nAll Ages\, No drugs/alcohol
URL:https://www.flemingtondiy.org/event/live-music-90/
END:VEVENT
BEGIN:VEVENT
DTSTART;TZID=America/New_York:20241230T180000
DTEND;TZID=America/New_York:20241230T200000
DTSTAMP:20260425T075132
CREATED:20241209T233634Z
LAST-MODIFIED:20241230T235155Z
UID:10002741-1735581600-1735588800@www.flemingtondiy.org
SUMMARY:Hunterdon Fiber Artist Meeting
DESCRIPTION:Looking to meet other fiber artists in the Hunterdon county area?  Think about coming to Hunterdon Fiber Artists meet up to socialize and connect with others doing the fiber art craft that they love. \nAll are welcome.  Just bring your craft be it knitting\, crocheting\, spinning\, etc.\, and be prepared to meet lots of fun and interesting people!  We even have mini educational talks on requested topics! \nOur FB group is Hunterdon Fiber Artists https://www.facebook.com/groups/1101970274078722 \nOur Ravelry group is https://www.ravelry.com/groups/hunterdon-fiber-artists?s=tab \nEvery other Monday at DIY; $3-5 suggested donation.
URL:https://www.flemingtondiy.org/event/hunterdon-fiber-artist-meeting-52/
END:VEVENT
BEGIN:VEVENT
DTSTART;TZID=America/New_York:20241231T113000
DTEND;TZID=America/New_York:20241231T180000
DTSTAMP:20260425T075132
CREATED:20241226T233541Z
LAST-MODIFIED:20241230T235156Z
UID:10002915-1735644600-1735668000@www.flemingtondiy.org
SUMMARY:Open hours
DESCRIPTION:
URL:https://www.flemingtondiy.org/event/open-hours-249/
END:VEVENT
BEGIN:VEVENT
DTSTART;TZID=America/New_York:20250102T113000
DTEND;TZID=America/New_York:20250102T180000
DTSTAMP:20260425T075132
CREATED:20250101T233553Z
LAST-MODIFIED:20250101T233632Z
UID:10002921-1735817400-1735840800@www.flemingtondiy.org
SUMMARY:Open Hours
DESCRIPTION:
URL:https://www.flemingtondiy.org/event/open-hours-250/
END:VEVENT
BEGIN:VEVENT
DTSTART;TZID=America/New_York:20250104T090000
DTEND;TZID=America/New_York:20250104T120000
DTSTAMP:20260425T075132
CREATED:20241220T233605Z
LAST-MODIFIED:20250103T235115Z
UID:10002745-1735981200-1735992000@www.flemingtondiy.org
SUMMARY:Music Together Winter Classes
DESCRIPTION:
URL:https://www.flemingtondiy.org/event/music-together-winter-classes/
END:VEVENT
BEGIN:VEVENT
DTSTART;TZID=America/New_York:20250105T130000
DTEND;TZID=America/New_York:20250105T170000
DTSTAMP:20260425T075132
CREATED:20240928T233643Z
LAST-MODIFIED:20250104T235054Z
UID:10002582-1736082000-1736096400@www.flemingtondiy.org
SUMMARY:Open Jazz Jams
DESCRIPTION:Open Jazz Jams are held he first Sunday of every month. \nThe sessions will provide an opportunity for musicians to play with an experienced band. From 1-2 PM the hosting musicians for the week will play. Other musicians will be invited to sit in and play between 2-5 PM (typically a minimum of 2 songs each\, circumstances permitting). With the exception of drum kit and piano\, all musicians should bring their own equipment (instruments\, amps\, drum sticks\, microphones\, etc.). The sessions will focus primarily on jazz standards and other jazz tunes contained in Hal Leonard Real Books volumes 1 through 3. Newcomers will be coached through the process.  \nA $3 to $5 donation to Flemington DIY will be required from each musician that plays at the session. Visitors that just want to listen to the music are also welcome to attend for all or any part of the 1-5 PM sessions free of charge.  \nFor questions about the sessions\, or to be added to the monthly text notification list for last minute cancellations or reschedules\, please email njjazzjam@gmail.com
URL:https://www.flemingtondiy.org/event/open-jazz-jams-9/
END:VEVENT
BEGIN:VEVENT
DTSTART;TZID=America/New_York:20250106T093000
DTEND;TZID=America/New_York:20250106T113000
DTSTAMP:20260425T075132
CREATED:20241220T233605Z
LAST-MODIFIED:20250105T235104Z
UID:10002746-1736155800-1736163000@www.flemingtondiy.org
SUMMARY:Music Together Winter Classes
DESCRIPTION:
URL:https://www.flemingtondiy.org/event/music-together-winter-classes-2/
END:VEVENT
BEGIN:VEVENT
DTSTART;TZID=America/New_York:20250106T180000
DTEND;TZID=America/New_York:20250106T210000
DTSTAMP:20260425T075132
CREATED:20231107T010605Z
LAST-MODIFIED:20250106T235104Z
UID:10001852-1736186400-1736197200@www.flemingtondiy.org
SUMMARY:Print Club
DESCRIPTION:Flemington DIY Print Club is a weekly open studio held from 6-9PM every Monday\, $15-30 per printer. It provides an opportunity for local artists and community members new to arts processes to utilize shared printmaking facilities. Print Club provides a platform for artists to network\, build community\, and work collaboratively. \nNo experience? No problem! Our vounteers will guide you through the process from start to finish! \nLearn more: https://www.flemingtondiy.org/printclub/
URL:https://www.flemingtondiy.org/event/print-club-214/
END:VEVENT
BEGIN:VEVENT
DTSTART;TZID=America/New_York:20250107T093000
DTEND;TZID=America/New_York:20250107T113000
DTSTAMP:20260425T075132
CREATED:20241220T233606Z
LAST-MODIFIED:20250106T235104Z
UID:10002747-1736242200-1736249400@www.flemingtondiy.org
SUMMARY:Music Together Winter Classes
DESCRIPTION:
URL:https://www.flemingtondiy.org/event/music-together-winter-classes-3/
END:VEVENT
BEGIN:VEVENT
DTSTART;TZID=America/New_York:20250107T093000
DTEND;TZID=America/New_York:20250107T123000
DTSTAMP:20260425T075132
CREATED:20250107T235036Z
LAST-MODIFIED:20250107T235128Z
UID:10002934-1736242200-1736253000@www.flemingtondiy.org
SUMMARY:Music Together Winter Classes
DESCRIPTION:
URL:https://www.flemingtondiy.org/event/music-together-winter-classes-42/
END:VEVENT
BEGIN:VEVENT
DTSTART;TZID=America/New_York:20250107T093000
DTEND;TZID=America/New_York:20250108T003000
DTSTAMP:20260425T075132
CREATED:20250107T235036Z
LAST-MODIFIED:20250107T235128Z
UID:10002935-1736242200-1736296200@www.flemingtondiy.org
SUMMARY:Music Together Winter Classes
DESCRIPTION:
URL:https://www.flemingtondiy.org/event/music-together-winter-classes-43/
END:VEVENT
BEGIN:VEVENT
DTSTART;TZID=America/New_York:20250107T113000
DTEND;TZID=America/New_York:20250107T180000
DTSTAMP:20260425T075132
CREATED:20241221T233518Z
LAST-MODIFIED:20250106T235104Z
UID:10002812-1736249400-1736272800@www.flemingtondiy.org
SUMMARY:Open Hours
DESCRIPTION:Visit the space\, see our current art shows\, hang out\, and learn how to get involved!
URL:https://www.flemingtondiy.org/event/open-hours-105/
END:VEVENT
BEGIN:VEVENT
DTSTART;TZID=America/New_York:20250108T160000
DTEND;TZID=America/New_York:20250108T180000
DTSTAMP:20260425T075132
CREATED:20250101T233553Z
LAST-MODIFIED:20250107T235128Z
UID:10002922-1736352000-1736359200@www.flemingtondiy.org
SUMMARY:Vision Boarding Workshop
DESCRIPTION:Gather\, create\, and have fun while getting serious about what truly matters! Visualize your goals and create a one-of-a-kind collage that sparks inspiration and action. This is your moment to play\, reflect\, and design a future full of meaning and intention. \nAnother lovely class hosted by Jenny Santa Maria. \nLearn more & register at flemingtondiy.org/vision \n$35pp + $10 material fee due at class
URL:https://www.flemingtondiy.org/event/vision-boarding-workshop/
END:VEVENT
BEGIN:VEVENT
DTSTART;TZID=America/New_York:20250109T113000
DTEND;TZID=America/New_York:20250109T180000
DTSTAMP:20260425T075132
CREATED:20241221T233518Z
LAST-MODIFIED:20250108T235148Z
UID:10002813-1736422200-1736445600@www.flemingtondiy.org
SUMMARY:Open Hours
DESCRIPTION:Visit the space\, see our current art shows\, hang out\, and learn how to get involved!
URL:https://www.flemingtondiy.org/event/open-hours-111/
END:VEVENT
BEGIN:VEVENT
DTSTART;TZID=America/New_York:20250110T093000
DTEND;TZID=America/New_York:20250110T113000
DTSTAMP:20260425T075132
CREATED:20250107T235037Z
LAST-MODIFIED:20250110T233613Z
UID:10002937-1736501400-1736508600@www.flemingtondiy.org
SUMMARY:Music Together Winter Classes
DESCRIPTION:
URL:https://www.flemingtondiy.org/event/music-together-winter-classes-45/
END:VEVENT
BEGIN:VEVENT
DTSTART;TZID=America/New_York:20250111T090000
DTEND;TZID=America/New_York:20250111T103000
DTSTAMP:20260425T075132
CREATED:20241122T235036Z
LAST-MODIFIED:20250110T233613Z
UID:10002722-1736586000-1736591400@www.flemingtondiy.org
SUMMARY:Therapeutic Journaling with Prologue Therapy
DESCRIPTION:Join Prologue Therapy for a morning and/or evening of writing to heal! Nicole Locorriere\, LMFT will be teaching the art and science of journaling for mental and physiological well-being\, followed by guided journaling exercises. Dress in your cozy clothes\, and enjoy warm drinks and snacks with friends as you learn and write. Sharing your work is not required\, though you are welcome to swap ideas with fellow writers.
URL:https://www.flemingtondiy.org/event/therapeutic-journaling-with-prologue-therapy/
END:VEVENT
BEGIN:VEVENT
DTSTART;TZID=America/New_York:20250111T190000
DTEND;TZID=America/New_York:20250111T220000
DTSTAMP:20260425T075132
CREATED:20240626T233526Z
LAST-MODIFIED:20250111T233559Z
UID:10002385-1736622000-1736632800@www.flemingtondiy.org
SUMMARY:Live Music
DESCRIPTION:Marianne Toilet and The Runs\n(Comedy Rock)\nYour Best Nightmare\n(Bubblegum Punk)\nTerror Tunes\n(Industrial Punk)\nJaclyn’s Tearducts\n(Comedy Punk)\nDoors @ 6:30pm\n$10 Donation\nAll Ages\nNo Drugs/Alcohol
URL:https://www.flemingtondiy.org/event/live-music-79/
END:VEVENT
BEGIN:VEVENT
DTSTART;TZID=America/New_York:20250112T143000
DTEND;TZID=America/New_York:20250112T170000
DTSTAMP:20260425T075132
CREATED:20241102T235121Z
LAST-MODIFIED:20250111T233559Z
UID:10002672-1736692200-1736701200@www.flemingtondiy.org
SUMMARY:Women's Comedy Open Mic
DESCRIPTION:Ever wanted to share a joke with your friends? Have a friend who you think is hilarious but don’t know how to let other ladies know about her talent? Here’s an opportunity to give it a try. Enjoy a safe space to share laughs – and if you fail – it’s ok to get up and try again!Sign up in advance: https://www.jotform.com/assign/233097504623152/232664975561063
URL:https://www.flemingtondiy.org/event/womens-comedy-open-mic-16/
END:VEVENT
BEGIN:VEVENT
DTSTART;TZID=America/New_York:20250113T093000
DTEND;TZID=America/New_York:20250113T113000
DTSTAMP:20260425T075132
CREATED:20250107T235038Z
LAST-MODIFIED:20250112T235007Z
UID:10002938-1736760600-1736767800@www.flemingtondiy.org
SUMMARY:Music Together Winter Classes
DESCRIPTION:
URL:https://www.flemingtondiy.org/event/music-together-winter-classes-46/
END:VEVENT
BEGIN:VEVENT
DTSTART;TZID=America/New_York:20250113T180000
DTEND;TZID=America/New_York:20250113T200000
DTSTAMP:20260425T075132
CREATED:20241113T233529Z
LAST-MODIFIED:20250112T235007Z
UID:10002690-1736791200-1736798400@www.flemingtondiy.org
SUMMARY:Hunterdon Fiber Artist Meeting
DESCRIPTION:Looking to meet other fiber artists in the Hunterdon county area?  Think about coming to Hunterdon Fiber Artists meet up to socialize and connect with others doing the fiber art craft that they love. \nAll are welcome.  Just bring your craft be it knitting\, crocheting\, spinning\, etc.\, and be prepared to meet lots of fun and interesting people!  We even have mini educational talks on requested topics! \nOur FB group is Hunterdon Fiber Artists https://www.facebook.com/groups/1101970274078722 \nOur Ravelry group is https://www.ravelry.com/groups/hunterdon-fiber-artists?s=tab \nEvery other Monday at DIY; $3-5 suggested donation.
URL:https://www.flemingtondiy.org/event/hunterdon-fiber-artist-meeting-26/
END:VEVENT
BEGIN:VEVENT
DTSTART;TZID=America/New_York:20250113T180000
DTEND;TZID=America/New_York:20250113T210000
DTSTAMP:20260425T075132
CREATED:20231107T010606Z
LAST-MODIFIED:20250112T235007Z
UID:10001853-1736791200-1736802000@www.flemingtondiy.org
SUMMARY:Print Club
DESCRIPTION:Flemington DIY Print Club is a weekly open studio held from 6-9PM every Monday\, $15-30 per printer. It provides an opportunity for local artists and community members new to arts processes to utilize shared printmaking facilities. Print Club provides a platform for artists to network\, build community\, and work collaboratively. \nNo experience? No problem! Our vounteers will guide you through the process from start to finish! \nLearn more: https://www.flemingtondiy.org/printclub/
URL:https://www.flemingtondiy.org/event/print-club-215/
END:VEVENT
BEGIN:VEVENT
DTSTART;TZID=America/New_York:20250114T093000
DTEND;TZID=America/New_York:20250114T123000
DTSTAMP:20260425T075132
CREATED:20250107T235038Z
LAST-MODIFIED:20250112T235008Z
UID:10002939-1736847000-1736857800@www.flemingtondiy.org
SUMMARY:Music Together Winter Classes
DESCRIPTION:
URL:https://www.flemingtondiy.org/event/music-together-winter-classes-47/
END:VEVENT
BEGIN:VEVENT
DTSTART;TZID=America/New_York:20250114T123000
DTEND;TZID=America/New_York:20250114T180000
DTSTAMP:20260425T075132
CREATED:20241221T233519Z
LAST-MODIFIED:20250112T235008Z
UID:10002814-1736857800-1736877600@www.flemingtondiy.org
SUMMARY:Open Hours
DESCRIPTION:Visit the space\, see our current art shows\, hang out\, and learn how to get involved!
URL:https://www.flemingtondiy.org/event/open-hours-112/
END:VEVENT
BEGIN:VEVENT
DTSTART;TZID=America/New_York:20250114T190000
DTEND;TZID=America/New_York:20250114T210000
DTSTAMP:20260425T075132
CREATED:20240929T233637Z
LAST-MODIFIED:20250114T233602Z
UID:10002624-1736881200-1736888400@www.flemingtondiy.org
SUMMARY:Songwriter Circle
DESCRIPTION:Hey\, songwriters: Do you have songs that are half finished? Lyrics you’re not entirely happy with? A songwriting circle is not a performance. It’s an opportunity to connect with other songwriters\, play your song idea for us – whether it’s fully formed or not – and receive gentle\, respectful\, and constructive feedback. All genres welcome! Please bring a few hard copies of your lyrics to share (they’ll be returned to you). We have a piano available. Donations at the door
URL:https://www.flemingtondiy.org/event/songwriter-circle-23/
END:VEVENT
BEGIN:VEVENT
DTSTART;TZID=America/New_York:20250115T190000
DTEND;TZID=America/New_York:20250115T203000
DTSTAMP:20260425T075132
CREATED:20241122T235037Z
LAST-MODIFIED:20250115T233641Z
UID:10002723-1736967600-1736973000@www.flemingtondiy.org
SUMMARY:Therapeutic Journaling with Prologue Therapy
DESCRIPTION:Join Prologue Therapy for a morning and/or evening of writing to heal! Nicole Locorriere\, LMFT will be teaching the art and science of journaling for mental and physiological well-being\, followed by guided journaling exercises. Dress in your cozy clothes\, and enjoy warm drinks and snacks with friends as you learn and write. Sharing your work is not required\, though you are welcome to swap ideas with fellow writers.
URL:https://www.flemingtondiy.org/event/therapeutic-journaling-with-prologue-therapy-2/
END:VEVENT
BEGIN:VEVENT
DTSTART;TZID=America/New_York:20250116T113000
DTEND;TZID=America/New_York:20250116T180000
DTSTAMP:20260425T075132
CREATED:20241221T233519Z
LAST-MODIFIED:20250115T233641Z
UID:10002815-1737027000-1737050400@www.flemingtondiy.org
SUMMARY:Open Hours
DESCRIPTION:Visit the space\, see our current art shows\, hang out\, and learn how to get involved!
URL:https://www.flemingtondiy.org/event/open-hours-113/
END:VEVENT
BEGIN:VEVENT
DTSTART;TZID=America/New_York:20250116T190000
DTEND;TZID=America/New_York:20250116T210000
DTSTAMP:20260425T075132
CREATED:20241023T233520Z
LAST-MODIFIED:20250116T233728Z
UID:10002652-1737054000-1737061200@www.flemingtondiy.org
SUMMARY:Monthly Open Bluegrass Jam
DESCRIPTION:Bring your instrument\, a couple of tunes\, some friends and your own refreshments. All players welcome – Beginner to pro!  \nFreewill basket to support DIY $5 suggested Open to all ages –strictly no alcohol  \nQuestions? Contact Ed: rvrecband@gmail.com / ejjank@gmail.com
URL:https://www.flemingtondiy.org/event/monthly-open-bluegrass-jam/
END:VEVENT
BEGIN:VEVENT
DTSTART;TZID=America/New_York:20250117T093000
DTEND;TZID=America/New_York:20250117T113000
DTSTAMP:20260425T075132
CREATED:20250107T235040Z
LAST-MODIFIED:20250116T233728Z
UID:10002940-1737106200-1737113400@www.flemingtondiy.org
SUMMARY:Music Together Winter Classes
DESCRIPTION:
URL:https://www.flemingtondiy.org/event/music-together-winter-classes-48/
END:VEVENT
END:VCALENDAR