BEGIN:VCALENDAR
VERSION:2.0
PRODID:-//Flemington DIY - ECPv6.15.20//NONSGML v1.0//EN
CALSCALE:GREGORIAN
METHOD:PUBLISH
X-ORIGINAL-URL:https://www.flemingtondiy.org
X-WR-CALDESC:Events for Flemington DIY
REFRESH-INTERVAL;VALUE=DURATION:PT1H
X-Robots-Tag:noindex
X-PUBLISHED-TTL:PT1H
BEGIN:VTIMEZONE
TZID:America/New_York
BEGIN:DAYLIGHT
TZOFFSETFROM:-0500
TZOFFSETTO:-0400
TZNAME:EDT
DTSTART:20230312T070000
END:DAYLIGHT
BEGIN:STANDARD
TZOFFSETFROM:-0400
TZOFFSETTO:-0500
TZNAME:EST
DTSTART:20231105T060000
END:STANDARD
BEGIN:DAYLIGHT
TZOFFSETFROM:-0500
TZOFFSETTO:-0400
TZNAME:EDT
DTSTART:20240310T070000
END:DAYLIGHT
BEGIN:STANDARD
TZOFFSETFROM:-0400
TZOFFSETTO:-0500
TZNAME:EST
DTSTART:20241103T060000
END:STANDARD
BEGIN:DAYLIGHT
TZOFFSETFROM:-0500
TZOFFSETTO:-0400
TZNAME:EDT
DTSTART:20250309T070000
END:DAYLIGHT
BEGIN:STANDARD
TZOFFSETFROM:-0400
TZOFFSETTO:-0500
TZNAME:EST
DTSTART:20251102T060000
END:STANDARD
END:VTIMEZONE
BEGIN:VEVENT
DTSTART;TZID=America/New_York:20241009T094500
DTEND;TZID=America/New_York:20241009T113000
DTSTAMP:20260425T075553
CREATED:20240905T233705Z
LAST-MODIFIED:20241008T235049Z
UID:10002500-1728467100-1728473400@www.flemingtondiy.org
SUMMARY:Music Together
DESCRIPTION:Every week in our music classes at Music Together Flemington\, babies\, toddlers\, preschoolers\, and the grownups who love them come together for a time of musical play. Little ones love playing along in class\, and caregivers love being a part of their children’s growth into confident music-makers. And everyone loves our songs that’ll have you tapping along in no time \nLearn more and enroll today: https://www.musictogetherflemington.com/
URL:https://www.flemingtondiy.org/event/music-together-271/
END:VEVENT
BEGIN:VEVENT
DTSTART;TZID=America/New_York:20241010T113000
DTEND;TZID=America/New_York:20241010T180000
DTSTAMP:20260425T075553
CREATED:20240723T235108Z
LAST-MODIFIED:20241008T235050Z
UID:10002433-1728559800-1728583200@www.flemingtondiy.org
SUMMARY:Open Hours
DESCRIPTION:Visit the space\, see our current art shows\, hang out\, and learn how to get involved!
URL:https://www.flemingtondiy.org/event/open-hours-98/
END:VEVENT
BEGIN:VEVENT
DTSTART;TZID=America/New_York:20241010T180000
DTEND;TZID=America/New_York:20241010T200000
DTSTAMP:20260425T075553
CREATED:20240913T235030Z
LAST-MODIFIED:20241010T233632Z
UID:10002546-1728583200-1728590400@www.flemingtondiy.org
SUMMARY:American Sign Language (ASL) Chat
DESCRIPTION:Come sign with us! Join us for an ASL Chat at Flemington DIY at 6pm. Deaf\, hard of hearing\, and hearing people who know or are learning American Sign Language (ASL) are welcome. Please note that this is a voice-off event so all are expected to use ASL to communicate.
URL:https://www.flemingtondiy.org/event/american-sign-language-asl-chat-14/
END:VEVENT
BEGIN:VEVENT
DTSTART;TZID=America/New_York:20241011T160000
DTEND;TZID=America/New_York:20241011T200000
DTSTAMP:20260425T075553
CREATED:20240906T235256Z
LAST-MODIFIED:20241011T233715Z
UID:10002538-1728662400-1728676800@www.flemingtondiy.org
SUMMARY:Outta the Closet: Clothing Drive & Giveaway
DESCRIPTION:Clothing Donations can be dropped off at Flemington between 4 and 8PM! Volunteers will be there to greet you! Donation day falls on #NationalComingOutDay\, so let’s collectively take this opportunity to rid our closets of what no longer serves us! 
URL:https://www.flemingtondiy.org/event/outta-the-closet-clothing-drive-giveaway/
END:VEVENT
BEGIN:VEVENT
DTSTART;TZID=America/New_York:20241012T100000
DTEND;TZID=America/New_York:20241012T140000
DTSTAMP:20260425T075553
CREATED:20240926T235042Z
LAST-MODIFIED:20241011T233715Z
UID:10002572-1728727200-1728741600@www.flemingtondiy.org
SUMMARY:Design a Quilt Piece for Domestic Violence Awareness Month w/SAFE in Hunterdon
DESCRIPTION:In honor of Domestic Violence Awareness Month\, Please join SAFE in Hunterdon and help design a piece of our quilt honoring victims and survivors of domestic violence. The quilt will be displayed throughout the community for the remainder of October.
URL:https://www.flemingtondiy.org/event/design-a-quilt-piece-for-domestic-violence-awareness-month-w-safe-in-hunterdon/
END:VEVENT
BEGIN:VEVENT
DTSTART;TZID=America/New_York:20241012T163000
DTEND;TZID=America/New_York:20241012T193000
DTSTAMP:20260425T075553
CREATED:20240906T235256Z
LAST-MODIFIED:20241011T233715Z
UID:10002539-1728750600-1728761400@www.flemingtondiy.org
SUMMARY:Outta the Closet: Clothing Drive & Giveaway
DESCRIPTION:Come by Flemington DIY between 4:30-7:30PM to rummage through what we’ve got and take some items home! The giveaway is open to anyone from our community\, not only those with a specific need. But of course\, if you could truly use some new clothing\, please – come by to pick items out or message VentureOutNJ or Flemington QTs with any specific requests which we might be able to help you out with. ANY REMAINING ITEMS will be donated to local organizations/communities in need!
URL:https://www.flemingtondiy.org/event/outta-the-closet-clothing-drive-giveaway-2/
END:VEVENT
BEGIN:VEVENT
DTSTART;TZID=America/New_York:20241013T143000
DTEND;TZID=America/New_York:20241013T170000
DTSTAMP:20260425T075553
CREATED:20231104T010524Z
LAST-MODIFIED:20241012T235042Z
UID:10001796-1728829800-1728838800@www.flemingtondiy.org
SUMMARY:Women's Comedy Open Mic
DESCRIPTION:Ever wanted to share a joke with your friends? Have a friend who you think is hilarious but don’t know how to let other ladies know about her talent? Here’s an opportunity to give it a try. Enjoy a safe space to share laughs – and if you fail – it’s ok to get up and try again!Sign up in advance: https://www.jotform.com/assign/233097504623152/232664975561063
URL:https://www.flemingtondiy.org/event/womens-comedy-open-mic-12/
END:VEVENT
BEGIN:VEVENT
DTSTART;TZID=America/New_York:20241013T190000
DTEND;TZID=America/New_York:20241013T220000
DTSTAMP:20260425T075553
CREATED:20240819T235051Z
LAST-MODIFIED:20241012T235042Z
UID:10002475-1728846000-1728856800@www.flemingtondiy.org
SUMMARY:Live Music
DESCRIPTION:Love is All Unique\nWith Alex Westlien & Star Enjoybeing\n(Experimental expression)\n Jack Faracchio\n(indie ethereal rock)\n$10 Donation \nDoors @ 6:30pm\nAll Ages\nNo Drugs/Alcohol
URL:https://www.flemingtondiy.org/event/live-music-56/
END:VEVENT
BEGIN:VEVENT
DTSTART;TZID=America/New_York:20241014T091500
DTEND;TZID=America/New_York:20241014T113000
DTSTAMP:20260425T075553
CREATED:20240905T233706Z
LAST-MODIFIED:20241012T235042Z
UID:10002502-1728897300-1728905400@www.flemingtondiy.org
SUMMARY:Music Together
DESCRIPTION:Every week in our music classes at Music Together Flemington\, babies\, toddlers\, preschoolers\, and the grownups who love them come together for a time of musical play. Little ones love playing along in class\, and caregivers love being a part of their children’s growth into confident music-makers. And everyone loves our songs that’ll have you tapping along in no time \nLearn more and enroll today: https://www.musictogetherflemington.com/
URL:https://www.flemingtondiy.org/event/music-together-273/
END:VEVENT
BEGIN:VEVENT
DTSTART;TZID=America/New_York:20241014T180000
DTEND;TZID=America/New_York:20241014T210000
DTSTAMP:20260425T075553
CREATED:20231107T010556Z
LAST-MODIFIED:20241014T233601Z
UID:10001840-1728928800-1728939600@www.flemingtondiy.org
SUMMARY:Print Club
DESCRIPTION:Flemington DIY Print Club is a weekly open studio held from 6-9PM every Monday\, $15-30 per printer. It provides an opportunity for local artists and community members new to arts processes to utilize shared printmaking facilities. Print Club provides a platform for artists to network\, build community\, and work collaboratively. \nNo experience? No problem! Our vounteers will guide you through the process from start to finish! \nLearn more: https://www.flemingtondiy.org/printclub/
URL:https://www.flemingtondiy.org/event/print-club-202/
END:VEVENT
BEGIN:VEVENT
DTSTART;TZID=America/New_York:20241015T091500
DTEND;TZID=America/New_York:20241015T113000
DTSTAMP:20260425T075553
CREATED:20240905T233707Z
LAST-MODIFIED:20241014T233601Z
UID:10002503-1728983700-1728991800@www.flemingtondiy.org
SUMMARY:Music Together
DESCRIPTION:Every week in our music classes at Music Together Flemington\, babies\, toddlers\, preschoolers\, and the grownups who love them come together for a time of musical play. Little ones love playing along in class\, and caregivers love being a part of their children’s growth into confident music-makers. And everyone loves our songs that’ll have you tapping along in no time \nLearn more and enroll today: https://www.musictogetherflemington.com/
URL:https://www.flemingtondiy.org/event/music-together-274/
END:VEVENT
BEGIN:VEVENT
DTSTART;TZID=America/New_York:20241015T113000
DTEND;TZID=America/New_York:20241015T180000
DTSTAMP:20260425T075553
CREATED:20240916T233514Z
LAST-MODIFIED:20241014T233601Z
UID:10002552-1728991800-1729015200@www.flemingtondiy.org
SUMMARY:Open Hours
DESCRIPTION:Visit the space\, see our current art shows\, hang out\, and learn how to get involved!
URL:https://www.flemingtondiy.org/event/open-hours-151/
END:VEVENT
BEGIN:VEVENT
DTSTART;TZID=America/New_York:20241015T183000
DTEND;TZID=America/New_York:20241015T203000
DTSTAMP:20260425T075553
CREATED:20231103T010517Z
LAST-MODIFIED:20241015T233546Z
UID:10001716-1729017000-1729024200@www.flemingtondiy.org
SUMMARY:Flemington Acoustic Players
DESCRIPTION:Calling all Hunterdon County pop/rock/folk stars!  Are you looking for a place to practice your acoustic guitar skills\, and maybe do some singing too?   \nOur merry band of music makers is open to players of all abilities! This gathering however is for Acoustic players ONLY; i.e guitars\, ukuleles\, mandolins & banjos. A drummer and/or an acoustic/electric bassist would be welcomed though to help us all stay in time. \nChords and lyrics to the songs will be projected on a screen so there’s no need for you to bring a music stand or tablet. We will be selecting tunes from a song book that includes a wide variety of rock/pop/folk classics. \nCome and have fun with us as we play and sing along to some of everyone’s favorite tunes! \nSuggested donation of $3-5www.flemingtondiy.org/acoustic/
URL:https://www.flemingtondiy.org/event/flemington-acoustic-players-82/
END:VEVENT
BEGIN:VEVENT
DTSTART;TZID=America/New_York:20241016T094500
DTEND;TZID=America/New_York:20241016T120000
DTSTAMP:20260425T075553
CREATED:20241010T233528Z
LAST-MODIFIED:20241015T233547Z
UID:10002639-1729071900-1729080000@www.flemingtondiy.org
SUMMARY:Music Together
DESCRIPTION:Every week in our music classes at Music Together Flemington\, babies\, toddlers\, preschoolers\, and the grownups who love them come together for a time of musical play. Little ones love playing along in class\, and caregivers love being a part of their children’s growth into confident music-makers. And everyone loves our songs that’ll have you tapping along in no time \nLearn more and enroll today: https://www.musictogetherflemington.com/
URL:https://www.flemingtondiy.org/event/music-together-291/
END:VEVENT
BEGIN:VEVENT
DTSTART;TZID=America/New_York:20241017T113000
DTEND;TZID=America/New_York:20241017T180000
DTSTAMP:20260425T075553
CREATED:20240723T235109Z
LAST-MODIFIED:20241016T233557Z
UID:10002434-1729164600-1729188000@www.flemingtondiy.org
SUMMARY:Open Hours
DESCRIPTION:Visit the space\, see our current art shows\, hang out\, and learn how to get involved!
URL:https://www.flemingtondiy.org/event/open-hours-99/
END:VEVENT
BEGIN:VEVENT
DTSTART;TZID=America/New_York:20241017T180000
DTEND;TZID=America/New_York:20241017T200000
DTSTAMP:20260425T075553
CREATED:20240708T233551Z
LAST-MODIFIED:20241017T233609Z
UID:10002409-1729188000-1729195200@www.flemingtondiy.org
SUMMARY:Mural Battle: Battle of the Walls
DESCRIPTION:Mural Battle: Battle of the Walls This neighborly competition invites two artists to duke it out with pens and markers\, for a two hour art-making extravaganza. Our host\, OurNaturalState\, will choose a theme\, and YOU (the artist)\, will create something\, anything\, you think portrays that theme in your OWN style.  \nWinners get their art placed in a highly trafficked area in Flemington\, as well as a “bio post”\, and other social shout outs to bathe them in their winner’s glory. \nJoin us every 3rd Thursday during Sip and Stroll on Stangl Rd in Flemington from July to December for some art\, community and fun. \nThe first battle begins July 18th 2024 from 6-8 just outside of Flemington DIY. \nFor more info or to get involved please contact:@OurNaturalState on IGORournaturalstateofbeing@gmail.com
URL:https://www.flemingtondiy.org/event/mural-battle-battle-of-the-walls-4/
END:VEVENT
BEGIN:VEVENT
DTSTART;TZID=America/New_York:20241017T190000
DTEND;TZID=America/New_York:20241017T210000
DTSTAMP:20260425T075553
CREATED:20231103T010517Z
LAST-MODIFIED:20241017T233609Z
UID:10001717-1729191600-1729198800@www.flemingtondiy.org
SUMMARY:Monthly Open Bluegrass Jam Session
DESCRIPTION:All players welcome! beginner to pro\nBring your instrument\, a couple of tunes\,\nsome friends and your own refreshments\nFreewill basket to support DIY $5 suggested\nDIY Is open to all ages –strictly no alcohol
URL:https://www.flemingtondiy.org/event/monthly-open-bluegrass-jam-session-19/
END:VEVENT
BEGIN:VEVENT
DTSTART;TZID=America/New_York:20241018T091500
DTEND;TZID=America/New_York:20241018T113000
DTSTAMP:20260425T075553
CREATED:20240905T233708Z
LAST-MODIFIED:20241017T233609Z
UID:10002506-1729242900-1729251000@www.flemingtondiy.org
SUMMARY:Music Together
DESCRIPTION:Every week in our music classes at Music Together Flemington\, babies\, toddlers\, preschoolers\, and the grownups who love them come together for a time of musical play. Little ones love playing along in class\, and caregivers love being a part of their children’s growth into confident music-makers. And everyone loves our songs that’ll have you tapping along in no time \nLearn more and enroll today: https://www.musictogetherflemington.com/
URL:https://www.flemingtondiy.org/event/music-together_rental-4/
END:VEVENT
BEGIN:VEVENT
DTSTART;TZID=America/New_York:20241018T190000
DTEND;TZID=America/New_York:20241018T203000
DTSTAMP:20260425T075553
CREATED:20240801T233522Z
LAST-MODIFIED:20241018T235041Z
UID:10002464-1729278000-1729283400@www.flemingtondiy.org
SUMMARY:Let's Draw! Livestream S.A.W Friday Night Comics Workshop
DESCRIPTION:Let’s draw comics together! Join us in-person at DIY on the third Friday of the month this fall to livestream the popular “Free Friday Night Workshop” hosted by Sequential Artists Workshop (SAW). While you can participate in these workshops from your own home\, we hope you’ll join us to build an artist community in Flemington. We’ll have the virtual workshop projected on our big screen and be led through a series of comic drawing exercises. This event is all ages.  \n“These are family friendly\, welcoming\, inclusive of all experiences and identities.This is a community-building exercise\, in the midst of vast forces trying to squash us and pull us apart.” (SAW) \n7-8pm \n\nBring a notebook and a pencil/pen. \nThis is a free event\, but donations are suggested to SAW!\nLearn more about SAW and all their offerings here: https://learn.sawcomics.org/pages/free-friday-night-workshops
URL:https://www.flemingtondiy.org/event/lets-draw-livestream-s-a-w-friday-night-comics-workshop-2/
END:VEVENT
BEGIN:VEVENT
DTSTART;TZID=America/New_York:20241019T090000
DTEND;TZID=America/New_York:20241019T110000
DTSTAMP:20260425T075553
CREATED:20240905T233709Z
LAST-MODIFIED:20241018T235041Z
UID:10002507-1729328400-1729335600@www.flemingtondiy.org
SUMMARY:Music Together
DESCRIPTION:Every week in our music classes at Music Together Flemington\, babies\, toddlers\, preschoolers\, and the grownups who love them come together for a time of musical play. Little ones love playing along in class\, and caregivers love being a part of their children’s growth into confident music-makers. And everyone loves our songs that’ll have you tapping along in no time \nLearn more and enroll today: https://www.musictogetherflemington.com/
URL:https://www.flemingtondiy.org/event/music-together-277/
END:VEVENT
BEGIN:VEVENT
DTSTART;TZID=America/New_York:20241020T100000
DTEND;TZID=America/New_York:20241020T120000
DTSTAMP:20260425T075553
CREATED:20240923T235041Z
LAST-MODIFIED:20241019T235106Z
UID:10002570-1729418400-1729425600@www.flemingtondiy.org
SUMMARY:HC Mama’s Clothing and Toy Swap
DESCRIPTION:Swaps are good for your wallet AND the environment. Let’s do our part in taking care of the planet for our kids and the future generations 🌏♻️\nBring gently loved clothes and toys (no rips\, stains\, obvious signs of wear) and trade them in for something *new to you* 🛍️\n*If you are unable to make the swap but would like to donate\, please reach out for drop off availability.\nAll are welcome!\n*Suggested $20 donation that will go towards future programming and use of the space
URL:https://www.flemingtondiy.org/event/hc-mamas-clothing-and-toy-swap/
END:VEVENT
BEGIN:VEVENT
DTSTART;TZID=America/New_York:20241020T183000
DTEND;TZID=America/New_York:20241020T220000
DTSTAMP:20260425T075553
CREATED:20240707T233532Z
LAST-MODIFIED:20241019T235106Z
UID:10002395-1729449000-1729461600@www.flemingtondiy.org
SUMMARY:Experimental Live Music
DESCRIPTION:VERNAL SCUZZ\n(Alabama wild improvisations\, song deconstrucions and tape experiments.  Sweet Wreath Recs)\nEXHIBIT: A\n(No wave / Art Punk)\nMIKE BRUNO\n(Neo Folk Baladry)\nRUNK SPASM EYE\n(Low Spoons Noise)\nDoors @ 6:30pm\n$10-15 Donation\nAll Ages\nNo Drugs/Alcohol
URL:https://www.flemingtondiy.org/event/experimental-live-music/
END:VEVENT
BEGIN:VEVENT
DTSTART;TZID=America/New_York:20241021T091500
DTEND;TZID=America/New_York:20241021T113000
DTSTAMP:20260425T075553
CREATED:20240905T233709Z
LAST-MODIFIED:20241019T235106Z
UID:10002508-1729502100-1729510200@www.flemingtondiy.org
SUMMARY:Music Together
DESCRIPTION:Every week in our music classes at Music Together Flemington\, babies\, toddlers\, preschoolers\, and the grownups who love them come together for a time of musical play. Little ones love playing along in class\, and caregivers love being a part of their children’s growth into confident music-makers. And everyone loves our songs that’ll have you tapping along in no time \nLearn more and enroll today: https://www.musictogetherflemington.com/
URL:https://www.flemingtondiy.org/event/music-together-278/
END:VEVENT
BEGIN:VEVENT
DTSTART;TZID=America/New_York:20241021T180000
DTEND;TZID=America/New_York:20241021T200000
DTSTAMP:20260425T075553
CREATED:20240528T235106Z
LAST-MODIFIED:20241021T233704Z
UID:10002350-1729533600-1729540800@www.flemingtondiy.org
SUMMARY:Hunterdon Fiber Artist Meeting
DESCRIPTION:Looking to meet other fiber artists in the Hunterdon county area?  Think about coming to Hunterdon Fiber Artists meet up to socialize and connect with others doing the fiber art craft that they love. \nAll are welcome.  Just bring your craft be it knitting\, crocheting\, spinning\, etc.\, and be prepared to meet lots of fun and interesting people!  We even have mini educational talks on requested topics! \nOur FB group is Hunterdon Fiber Artists https://www.facebook.com/groups/1101970274078722 \nOur Ravelry group is https://www.ravelry.com/groups/hunterdon-fiber-artists?s=tab \nEvery other Monday at DIY; $3-5 suggested donation.
URL:https://www.flemingtondiy.org/event/hunterdon-fiber-artist-meeting-20/
END:VEVENT
BEGIN:VEVENT
DTSTART;TZID=America/New_York:20241021T180000
DTEND;TZID=America/New_York:20241021T210000
DTSTAMP:20260425T075553
CREATED:20231107T010557Z
LAST-MODIFIED:20241021T233704Z
UID:10001841-1729533600-1729544400@www.flemingtondiy.org
SUMMARY:Print Club
DESCRIPTION:Flemington DIY Print Club is a weekly open studio held from 6-9PM every Monday\, $15-30 per printer. It provides an opportunity for local artists and community members new to arts processes to utilize shared printmaking facilities. Print Club provides a platform for artists to network\, build community\, and work collaboratively. \nNo experience? No problem! Our vounteers will guide you through the process from start to finish! \nLearn more: https://www.flemingtondiy.org/printclub/
URL:https://www.flemingtondiy.org/event/print-club-203/
END:VEVENT
BEGIN:VEVENT
DTSTART;TZID=America/New_York:20241022T091500
DTEND;TZID=America/New_York:20241022T113000
DTSTAMP:20260425T075553
CREATED:20240905T233710Z
LAST-MODIFIED:20241021T233704Z
UID:10002509-1729588500-1729596600@www.flemingtondiy.org
SUMMARY:Music Together
DESCRIPTION:Every week in our music classes at Music Together Flemington\, babies\, toddlers\, preschoolers\, and the grownups who love them come together for a time of musical play. Little ones love playing along in class\, and caregivers love being a part of their children’s growth into confident music-makers. And everyone loves our songs that’ll have you tapping along in no time \nLearn more and enroll today: https://www.musictogetherflemington.com/
URL:https://www.flemingtondiy.org/event/music-together-279/
END:VEVENT
BEGIN:VEVENT
DTSTART;TZID=America/New_York:20241022T113000
DTEND;TZID=America/New_York:20241022T180000
DTSTAMP:20260425T075553
CREATED:20240916T233517Z
LAST-MODIFIED:20241021T233704Z
UID:10002553-1729596600-1729620000@www.flemingtondiy.org
SUMMARY:Open Hours
DESCRIPTION:Visit the space\, see our current art shows\, hang out\, and learn how to get involved!
URL:https://www.flemingtondiy.org/event/open-hours-152/
END:VEVENT
BEGIN:VEVENT
DTSTART;TZID=America/New_York:20241023T094500
DTEND;TZID=America/New_York:20241023T120000
DTSTAMP:20260425T075553
CREATED:20241010T233530Z
LAST-MODIFIED:20241022T233613Z
UID:10002640-1729676700-1729684800@www.flemingtondiy.org
SUMMARY:Music Together
DESCRIPTION:Every week in our music classes at Music Together Flemington\, babies\, toddlers\, preschoolers\, and the grownups who love them come together for a time of musical play. Little ones love playing along in class\, and caregivers love being a part of their children’s growth into confident music-makers. And everyone loves our songs that’ll have you tapping along in no time \nLearn more and enroll today: https://www.musictogetherflemington.com/
URL:https://www.flemingtondiy.org/event/music-together-296/
END:VEVENT
BEGIN:VEVENT
DTSTART;TZID=America/New_York:20241023T190000
DTEND;TZID=America/New_York:20241023T200000
DTSTAMP:20260425T075553
CREATED:20240928T233547Z
LAST-MODIFIED:20241023T233537Z
UID:10002574-1729710000-1729713600@www.flemingtondiy.org
SUMMARY:Volunteer Information Session
DESCRIPTION:Did you know Flemington DIY is 100% volunteer-run and operated? \nJoin us for an informational session & orientation to learn more about our volunteer program. \nPlease pre-register: https://forms.gle/g1uWeb9oSkn6ym4R8Walk ins are also always welcome!
URL:https://www.flemingtondiy.org/event/volunteer-information-session/
END:VEVENT
BEGIN:VEVENT
DTSTART;TZID=America/New_York:20241024T113000
DTEND;TZID=America/New_York:20241024T180000
DTSTAMP:20260425T075553
CREATED:20240723T235110Z
LAST-MODIFIED:20241023T233537Z
UID:10002435-1729769400-1729792800@www.flemingtondiy.org
SUMMARY:Open Hours
DESCRIPTION:Visit the space\, see our current art shows\, hang out\, and learn how to get involved!
URL:https://www.flemingtondiy.org/event/open-hours-100/
END:VEVENT
END:VCALENDAR