BEGIN:VCALENDAR
VERSION:2.0
PRODID:-//Flemington DIY - ECPv6.15.20//NONSGML v1.0//EN
CALSCALE:GREGORIAN
METHOD:PUBLISH
X-ORIGINAL-URL:https://www.flemingtondiy.org
X-WR-CALDESC:Events for Flemington DIY
REFRESH-INTERVAL;VALUE=DURATION:PT1H
X-Robots-Tag:noindex
X-PUBLISHED-TTL:PT1H
BEGIN:VTIMEZONE
TZID:America/New_York
BEGIN:DAYLIGHT
TZOFFSETFROM:-0500
TZOFFSETTO:-0400
TZNAME:EDT
DTSTART:20230312T070000
END:DAYLIGHT
BEGIN:STANDARD
TZOFFSETFROM:-0400
TZOFFSETTO:-0500
TZNAME:EST
DTSTART:20231105T060000
END:STANDARD
BEGIN:DAYLIGHT
TZOFFSETFROM:-0500
TZOFFSETTO:-0400
TZNAME:EDT
DTSTART:20240310T070000
END:DAYLIGHT
BEGIN:STANDARD
TZOFFSETFROM:-0400
TZOFFSETTO:-0500
TZNAME:EST
DTSTART:20241103T060000
END:STANDARD
BEGIN:DAYLIGHT
TZOFFSETFROM:-0500
TZOFFSETTO:-0400
TZNAME:EDT
DTSTART:20250309T070000
END:DAYLIGHT
BEGIN:STANDARD
TZOFFSETFROM:-0400
TZOFFSETTO:-0500
TZNAME:EST
DTSTART:20251102T060000
END:STANDARD
END:VTIMEZONE
BEGIN:VEVENT
DTSTART;TZID=America/New_York:20240906T130000
DTEND;TZID=America/New_York:20240906T160000
DTSTAMP:20260425T081607
CREATED:20240701T235055Z
LAST-MODIFIED:20240905T233745Z
UID:10002388-1725627600-1725638400@www.flemingtondiy.org
SUMMARY:Open Hours Art Show
DESCRIPTION:
URL:https://www.flemingtondiy.org/event/open-hours-art-show/
END:VEVENT
BEGIN:VEVENT
DTSTART;TZID=America/New_York:20240906T190000
DTEND;TZID=America/New_York:20240906T220000
DTSTAMP:20260425T081607
CREATED:20240812T235833Z
LAST-MODIFIED:20240906T235328Z
UID:10002469-1725649200-1725660000@www.flemingtondiy.org
SUMMARY:Live Music
DESCRIPTION:Awesome Mixed Bill!\nAFK\n(Hip Hop)\nFOXTAILS\n(Post Hardcore\, Emo)\nLASTIMA\n(Black Metal\, Blackgaze)\nGRE/AY\n(Math rock\, noise rock)\nDoors @ 6:00pm\n$10 Donation\nAll Ages\nNo Drugs/Alcohol
URL:https://www.flemingtondiy.org/event/live-music-84/
END:VEVENT
BEGIN:VEVENT
DTSTART;TZID=America/New_York:20240907T190000
DTEND;TZID=America/New_York:20240907T220000
DTSTAMP:20260425T081607
CREATED:20240715T235018Z
LAST-MODIFIED:20240906T235328Z
UID:10002422-1725735600-1725746400@www.flemingtondiy.org
SUMMARY:Live Music
DESCRIPTION:Frog Myst\n(Dark Ambient\, drone\, noise)\nStriga\n(Noise\, Dark Ambient)\nGluck Gluck\n(Harsh Noise\, Power Electronics)\nEarth-Rim Walker\n(Flemington Dungeon Noise)\n20 Grit\n(Noise)\nDoors @ 6:00pm\n$10 Donation\nAll Ages \nNo Drugs/Alcohol
URL:https://www.flemingtondiy.org/event/live-music-75/
END:VEVENT
BEGIN:VEVENT
DTSTART;TZID=America/New_York:20240908T143000
DTEND;TZID=America/New_York:20240908T170000
DTSTAMP:20260425T081607
CREATED:20231104T010524Z
LAST-MODIFIED:20240906T235328Z
UID:10001795-1725805800-1725814800@www.flemingtondiy.org
SUMMARY:Women's Comedy Open Mic
DESCRIPTION:Ever wanted to share a joke with your friends? Have a friend who you think is hilarious but don’t know how to let other ladies know about her talent? Here’s an opportunity to give it a try. Enjoy a safe space to share laughs – and if you fail – it’s ok to get up and try again!Sign up in advance: https://www.jotform.com/assign/233097504623152/232664975561063
URL:https://www.flemingtondiy.org/event/womens-comedy-open-mic-11/
END:VEVENT
BEGIN:VEVENT
DTSTART;TZID=America/New_York:20240909T180000
DTEND;TZID=America/New_York:20240909T200000
DTSTAMP:20260425T081607
CREATED:20240528T235102Z
LAST-MODIFIED:20240909T233611Z
UID:10002347-1725904800-1725912000@www.flemingtondiy.org
SUMMARY:Hunterdon Fiber Artist Meeting
DESCRIPTION:Looking to meet other fiber artists in the Hunterdon county area?  Think about coming to Hunterdon Fiber Artists meet up to socialize and connect with others doing the fiber art craft that they love. \nAll are welcome.  Just bring your craft be it knitting\, crocheting\, spinning\, etc.\, and be prepared to meet lots of fun and interesting people!  We even have mini educational talks on requested topics! \nOur FB group is Hunterdon Fiber Artists https://www.facebook.com/groups/1101970274078722 \nOur Ravelry group is https://www.ravelry.com/groups/hunterdon-fiber-artists?s=tab \nEvery other Monday at DIY; $3-5 suggested donation.
URL:https://www.flemingtondiy.org/event/hunterdon-fiber-artist-meeting-17/
END:VEVENT
BEGIN:VEVENT
DTSTART;TZID=America/New_York:20240909T180000
DTEND;TZID=America/New_York:20240909T210000
DTSTAMP:20260425T081607
CREATED:20231107T010554Z
LAST-MODIFIED:20240909T233611Z
UID:10001835-1725904800-1725915600@www.flemingtondiy.org
SUMMARY:Print Club
DESCRIPTION:Flemington DIY Print Club is a weekly open studio held from 6-9PM every Monday\, $15-30 per printer. It provides an opportunity for local artists and community members new to arts processes to utilize shared printmaking facilities. Print Club provides a platform for artists to network\, build community\, and work collaboratively. \nNo experience? No problem! Our vounteers will guide you through the process from start to finish! \nLearn more: https://www.flemingtondiy.org/printclub/
URL:https://www.flemingtondiy.org/event/print-club-197/
END:VEVENT
BEGIN:VEVENT
DTSTART;TZID=America/New_York:20240910T100000
DTEND;TZID=America/New_York:20240910T170000
DTSTAMP:20260425T081607
CREATED:20240730T235052Z
LAST-MODIFIED:20240909T233611Z
UID:10002448-1725962400-1725987600@www.flemingtondiy.org
SUMMARY:Open Hours
DESCRIPTION:Visit the space\, see our current art shows\, hang out\, and learn how to get involved!
URL:https://www.flemingtondiy.org/event/open-hours-109/
END:VEVENT
BEGIN:VEVENT
DTSTART;TZID=America/New_York:20240910T173000
DTEND;TZID=America/New_York:20240910T190000
DTSTAMP:20260425T081607
CREATED:20240816T235020Z
LAST-MODIFIED:20240909T233611Z
UID:10002470-1725989400-1725994800@www.flemingtondiy.org
SUMMARY:Monthly Food Drive
DESCRIPTION:Did you know that Flemington has six Little Food Pantries (LFPs)? LFPs are small food pantries that allow community members in need to have open access to food\, water\, and hygiene items. These pantries depend on the support of donations from people like you! Come together with your community for a monthly food drive to stock four of the pantries. This drive will support the LFPs located at 10 New Jersey Avenue\, Flemington DIY (26 Stangl Road)\, Flemington Presbyterian (10 East Main Street)\, and Echelon Studio’s Personal Hygiene Pantry (27 Fulper Road). \nRecommended donations:Water bottlesDry goods like box mixes\, rice\, oatmeal\, etc.Granola and protein bars (without chocolate)Coffee and teaCrackersRamen and pot noodlesInstant soup packetsHygiene products (esp. menstrual hygiene products)Individual drink mix packetsShelf-stable milkPackaged or canned tuna and chickenCanned goods and can openersPeanut butter and jelly \nPlease no expired items\, open packages\, or frozen/refrigerated items. \nWant to get involved? Sign up here to volunteer! https://forms.gle/GY3tUPUXRWeBSLAz8Questions? Contact Jae at flemingtonqts@gmail.com.
URL:https://www.flemingtondiy.org/event/monthly-food-drive/
END:VEVENT
BEGIN:VEVENT
DTSTART;TZID=America/New_York:20240910T190000
DTEND;TZID=America/New_York:20240910T210000
DTSTAMP:20260425T081607
CREATED:20240103T045031Z
LAST-MODIFIED:20240910T233629Z
UID:10002010-1725994800-1726002000@www.flemingtondiy.org
SUMMARY:Songwriter Circle
DESCRIPTION:Hey\, songwriters: Do you have songs that are half finished? Lyrics you’re not entirely happy with? A songwriting circle is not a performance. It’s an opportunity to connect with other songwriters\, play your song idea for us – whether it’s fully formed or not – and receive gentle\, respectful\, and constructive feedback. All genres welcome! Please bring a few hard copies of your lyrics to share (they’ll be returned to you). We have a piano available. Donations at the door
URL:https://www.flemingtondiy.org/event/songwriter-circle-19/
END:VEVENT
BEGIN:VEVENT
DTSTART;TZID=America/New_York:20240912T113000
DTEND;TZID=America/New_York:20240912T180000
DTSTAMP:20260425T081607
CREATED:20240723T235105Z
LAST-MODIFIED:20240911T233651Z
UID:10002429-1726140600-1726164000@www.flemingtondiy.org
SUMMARY:Open Hours
DESCRIPTION:Visit the space\, see our current art shows\, hang out\, and learn how to get involved!
URL:https://www.flemingtondiy.org/event/open-hours-94/
END:VEVENT
BEGIN:VEVENT
DTSTART;TZID=America/New_York:20240912T193000
DTEND;TZID=America/New_York:20240912T203000
DTSTAMP:20260425T081607
CREATED:20240724T235048Z
LAST-MODIFIED:20240912T234008Z
UID:10002445-1726169400-1726173000@www.flemingtondiy.org
SUMMARY:Art Circle Meeting In Person
DESCRIPTION:
URL:https://www.flemingtondiy.org/event/art-circle-meeting-in-person-2/
END:VEVENT
BEGIN:VEVENT
DTSTART;TZID=America/New_York:20240913T190000
DTEND;TZID=America/New_York:20240913T210000
DTSTAMP:20260425T081607
CREATED:20240908T233519Z
LAST-MODIFIED:20240913T235054Z
UID:10002540-1726254000-1726261200@www.flemingtondiy.org
SUMMARY:HC Mama Craft Night
DESCRIPTION:Crafts and a DIY nail polish table (BYO) plus lite bites
URL:https://www.flemingtondiy.org/event/hc-mama-craft-night/
END:VEVENT
BEGIN:VEVENT
DTSTART;TZID=America/New_York:20240914T140000
DTEND;TZID=America/New_York:20240914T170000
DTSTAMP:20260425T081607
CREATED:20240509T195503Z
LAST-MODIFIED:20240913T235054Z
UID:10002273-1726322400-1726333200@www.flemingtondiy.org
SUMMARY:Art Opening 2-5pm Meet the Artists
DESCRIPTION:Opening reception: Saturday\, September 14\, 2-5pm and on display Sept. 1-30. \nCurated by Revolutionary Sweetheart showcasing a variety of mediums including painting\, photography\, and mixed media from Regina East\, Marina Dominguez\, Sabrina Maketa\, Alexis Weiner\, and Zulay.\nThe collection reflects the vibrant and dynamic nature of art-making during turbulent times. Join us on September 14 from 2pm to 5pm for a special Artist Reception\, providing an exclusive opportunity to meet the artists\, discuss their works\, and gain deeper insights into their creative processes. Light refreshments will be served\, and all attendees will have the chance to participate in a community art project and outdoor games. 
URL:https://www.flemingtondiy.org/event/art-opening-4-7pm-meet-the-artists/
END:VEVENT
BEGIN:VEVENT
DTSTART;TZID=America/New_York:20240915T150000
DTEND;TZID=America/New_York:20240915T180000
DTSTAMP:20260425T081607
CREATED:20240701T235056Z
LAST-MODIFIED:20240914T235113Z
UID:10002389-1726412400-1726423200@www.flemingtondiy.org
SUMMARY:Open Hours Art Show
DESCRIPTION:
URL:https://www.flemingtondiy.org/event/open-hours-art-show-2/
END:VEVENT
BEGIN:VEVENT
DTSTART;TZID=America/New_York:20240916T091500
DTEND;TZID=America/New_York:20240916T113000
DTSTAMP:20260425T081607
CREATED:20240905T233654Z
LAST-MODIFIED:20240914T235113Z
UID:10002483-1726478100-1726486200@www.flemingtondiy.org
SUMMARY:Music Together
DESCRIPTION:Every week in our music classes at Music Together Flemington\, babies\, toddlers\, preschoolers\, and the grownups who love them come together for a time of musical play. Little ones love playing along in class\, and caregivers love being a part of their children’s growth into confident music-makers. And everyone loves our songs that’ll have you tapping along in no time \nLearn more and enroll today: https://www.musictogetherflemington.com/
URL:https://www.flemingtondiy.org/event/music-together-257/
END:VEVENT
BEGIN:VEVENT
DTSTART;TZID=America/New_York:20240916T180000
DTEND;TZID=America/New_York:20240916T210000
DTSTAMP:20260425T081607
CREATED:20231107T010554Z
LAST-MODIFIED:20240916T233541Z
UID:10001836-1726509600-1726520400@www.flemingtondiy.org
SUMMARY:Print Club
DESCRIPTION:Flemington DIY Print Club is a weekly open studio held from 6-9PM every Monday\, $15-30 per printer. It provides an opportunity for local artists and community members new to arts processes to utilize shared printmaking facilities. Print Club provides a platform for artists to network\, build community\, and work collaboratively. \nNo experience? No problem! Our vounteers will guide you through the process from start to finish! \nLearn more: https://www.flemingtondiy.org/printclub/
URL:https://www.flemingtondiy.org/event/print-club-198/
END:VEVENT
BEGIN:VEVENT
DTSTART;TZID=America/New_York:20240917T091500
DTEND;TZID=America/New_York:20240917T113000
DTSTAMP:20260425T081607
CREATED:20240905T233655Z
LAST-MODIFIED:20240916T233541Z
UID:10002484-1726564500-1726572600@www.flemingtondiy.org
SUMMARY:Music Together
DESCRIPTION:Every week in our music classes at Music Together Flemington\, babies\, toddlers\, preschoolers\, and the grownups who love them come together for a time of musical play. Little ones love playing along in class\, and caregivers love being a part of their children’s growth into confident music-makers. And everyone loves our songs that’ll have you tapping along in no time \nLearn more and enroll today: https://www.musictogetherflemington.com/
URL:https://www.flemingtondiy.org/event/music-together-258/
END:VEVENT
BEGIN:VEVENT
DTSTART;TZID=America/New_York:20240917T113000
DTEND;TZID=America/New_York:20240917T180000
DTSTAMP:20260425T081607
CREATED:20240730T235052Z
LAST-MODIFIED:20240916T233542Z
UID:10002449-1726572600-1726596000@www.flemingtondiy.org
SUMMARY:Open Hours
DESCRIPTION:Visit the space\, see our current art shows\, hang out\, and learn how to get involved!
URL:https://www.flemingtondiy.org/event/open-hours-110/
END:VEVENT
BEGIN:VEVENT
DTSTART;TZID=America/New_York:20240917T183000
DTEND;TZID=America/New_York:20240917T203000
DTSTAMP:20260425T081607
CREATED:20231103T010516Z
LAST-MODIFIED:20240917T233625Z
UID:10001713-1726597800-1726605000@www.flemingtondiy.org
SUMMARY:Flemington Acoustic Players
DESCRIPTION:Calling all Hunterdon County pop/rock/folk stars!  Are you looking for a place to practice your acoustic guitar skills\, and maybe do some singing too?   \nOur merry band of music makers is open to players of all abilities! This gathering however is for Acoustic players ONLY; i.e guitars\, ukuleles\, mandolins & banjos. A drummer and/or an acoustic/electric bassist would be welcomed though to help us all stay in time. \nChords and lyrics to the songs will be projected on a screen so there’s no need for you to bring a music stand or tablet. We will be selecting tunes from a song book that includes a wide variety of rock/pop/folk classics. \nCome and have fun with us as we play and sing along to some of everyone’s favorite tunes! \nSuggested donation of $3-5www.flemingtondiy.org/acoustic/
URL:https://www.flemingtondiy.org/event/flemington-acoustic-players-81/
END:VEVENT
BEGIN:VEVENT
DTSTART;TZID=America/New_York:20240918T094500
DTEND;TZID=America/New_York:20240918T113000
DTSTAMP:20260425T081607
CREATED:20240905T233655Z
LAST-MODIFIED:20240917T233625Z
UID:10002485-1726652700-1726659000@www.flemingtondiy.org
SUMMARY:Music Together
DESCRIPTION:Every week in our music classes at Music Together Flemington\, babies\, toddlers\, preschoolers\, and the grownups who love them come together for a time of musical play. Little ones love playing along in class\, and caregivers love being a part of their children’s growth into confident music-makers. And everyone loves our songs that’ll have you tapping along in no time \nLearn more and enroll today: https://www.musictogetherflemington.com/
URL:https://www.flemingtondiy.org/event/music-together-259/
END:VEVENT
BEGIN:VEVENT
DTSTART;TZID=America/New_York:20240918T161500
DTEND;TZID=America/New_York:20240918T181500
DTSTAMP:20260425T081607
CREATED:20240905T233656Z
LAST-MODIFIED:20240917T233625Z
UID:10002486-1726676100-1726683300@www.flemingtondiy.org
SUMMARY:Music Together
DESCRIPTION:Every week in our music classes at Music Together Flemington\, babies\, toddlers\, preschoolers\, and the grownups who love them come together for a time of musical play. Little ones love playing along in class\, and caregivers love being a part of their children’s growth into confident music-makers. And everyone loves our songs that’ll have you tapping along in no time \nLearn more and enroll today: https://www.musictogetherflemington.com/
URL:https://www.flemingtondiy.org/event/music-together-260/
END:VEVENT
BEGIN:VEVENT
DTSTART;TZID=America/New_York:20240919T113000
DTEND;TZID=America/New_York:20240919T180000
DTSTAMP:20260425T081607
CREATED:20240723T235106Z
LAST-MODIFIED:20240918T233610Z
UID:10002430-1726745400-1726768800@www.flemingtondiy.org
SUMMARY:Open Hours
DESCRIPTION:Visit the space\, see our current art shows\, hang out\, and learn how to get involved!
URL:https://www.flemingtondiy.org/event/open-hours-95/
END:VEVENT
BEGIN:VEVENT
DTSTART;TZID=America/New_York:20240919T180000
DTEND;TZID=America/New_York:20240919T200000
DTSTAMP:20260425T081607
CREATED:20240708T233550Z
LAST-MODIFIED:20240919T235138Z
UID:10002408-1726768800-1726776000@www.flemingtondiy.org
SUMMARY:Mural Battle: Battle of the Walls
DESCRIPTION:Mural Battle: Battle of the Walls This neighborly competition invites two artists to duke it out with pens and markers\, for a two hour art-making extravaganza. Our host\, OurNaturalState\, will choose a theme\, and YOU (the artist)\, will create something\, anything\, you think portrays that theme in your OWN style.  \nWinners get their art placed in a highly trafficked area in Flemington\, as well as a “bio post”\, and other social shout outs to bathe them in their winner’s glory. \nJoin us every 3rd Thursday during Sip and Stroll on Stangl Rd in Flemington from July to December for some art\, community and fun. \nThe first battle begins July 18th 2024 from 6-8 just outside of Flemington DIY. \nFor more info or to get involved please contact:@OurNaturalState on IGORournaturalstateofbeing@gmail.com
URL:https://www.flemingtondiy.org/event/mural-battle-battle-of-the-walls-3/
END:VEVENT
BEGIN:VEVENT
DTSTART;TZID=America/New_York:20240919T190000
DTEND;TZID=America/New_York:20240919T210000
DTSTAMP:20260425T081607
CREATED:20231103T010517Z
LAST-MODIFIED:20240919T235138Z
UID:10001714-1726772400-1726779600@www.flemingtondiy.org
SUMMARY:Monthly Open Bluegrass Jam Session
DESCRIPTION:All players welcome! beginner to pro\nBring your instrument\, a couple of tunes\,\nsome friends and your own refreshments\nFreewill basket to support DIY $5 suggested\nDIY Is open to all ages –strictly no alcohol
URL:https://www.flemingtondiy.org/event/monthly-open-bluegrass-jam-session-18/
END:VEVENT
BEGIN:VEVENT
DTSTART;TZID=America/New_York:20240920T091500
DTEND;TZID=America/New_York:20240920T113000
DTSTAMP:20260425T081607
CREATED:20240905T233657Z
LAST-MODIFIED:20240919T235138Z
UID:10002487-1726823700-1726831800@www.flemingtondiy.org
SUMMARY:Music Together_Rental
DESCRIPTION:Every week in our music classes at Music Together Flemington\, babies\, toddlers\, preschoolers\, and the grownups who love them come together for a time of musical play. Little ones love playing along in class\, and caregivers love being a part of their children’s growth into confident music-makers. And everyone loves our songs that’ll have you tapping along in no time \nLearn more and enroll today: https://www.musictogetherflemington.com/
URL:https://www.flemingtondiy.org/event/music-together_rental/
END:VEVENT
BEGIN:VEVENT
DTSTART;TZID=America/New_York:20240920T190000
DTEND;TZID=America/New_York:20240920T203000
DTSTAMP:20260425T081607
CREATED:20240801T233520Z
LAST-MODIFIED:20240920T235027Z
UID:10002463-1726858800-1726864200@www.flemingtondiy.org
SUMMARY:Let's Draw! Livestream S.A.W Friday Night Comics Workshop
DESCRIPTION:Let’s draw comics together! Join us in-person at DIY on the third Friday of the month this fall to livestream the popular “Free Friday Night Workshop” hosted by Sequential Artists Workshop (SAW). While you can participate in these workshops from your own home\, we hope you’ll join us to build an artist community in Flemington. We’ll have the virtual workshop projected on our big screen and be led through a series of comic drawing exercises.  \n“These are family friendly\, welcoming\, inclusive of all experiences and identities.This is a community-building exercise\, in the midst of vast forces trying to squash us and pull us apart.” (SAW) \n7-8pm \n\nBring a notebook and a pencil/pen. \nThis is a free event\, but donations are suggested to SAW!\nLearn more about SAW and all their offerings here: https://learn.sawcomics.org/pages/free-friday-night-workshops
URL:https://www.flemingtondiy.org/event/lets-draw-livestream-s-a-w-friday-night-comics-workshop/
END:VEVENT
BEGIN:VEVENT
DTSTART;TZID=America/New_York:20240921T090000
DTEND;TZID=America/New_York:20240921T110000
DTSTAMP:20260425T081607
CREATED:20240905T233657Z
LAST-MODIFIED:20240920T235028Z
UID:10002488-1726909200-1726916400@www.flemingtondiy.org
SUMMARY:Music Together
DESCRIPTION:Every week in our music classes at Music Together Flemington\, babies\, toddlers\, preschoolers\, and the grownups who love them come together for a time of musical play. Little ones love playing along in class\, and caregivers love being a part of their children’s growth into confident music-makers. And everyone loves our songs that’ll have you tapping along in no time \nLearn more and enroll today: https://www.musictogetherflemington.com/
URL:https://www.flemingtondiy.org/event/music-together-261/
END:VEVENT
BEGIN:VEVENT
DTSTART;TZID=America/New_York:20240921T130000
DTEND;TZID=America/New_York:20240921T160000
DTSTAMP:20260425T081607
CREATED:20240701T235056Z
LAST-MODIFIED:20240920T235028Z
UID:10002390-1726923600-1726934400@www.flemingtondiy.org
SUMMARY:Open Hours Art Show
DESCRIPTION:
URL:https://www.flemingtondiy.org/event/open-hours-art-show-3/
END:VEVENT
BEGIN:VEVENT
DTSTART;TZID=America/New_York:20240921T190000
DTEND;TZID=America/New_York:20240921T220000
DTSTAMP:20260425T081607
CREATED:20240722T235053Z
LAST-MODIFIED:20240920T235029Z
UID:10002425-1726945200-1726956000@www.flemingtondiy.org
SUMMARY:Live Music
DESCRIPTION:Lost in a Trance\n(Metalcore)\nRejoinder\n(Punk rock)\nSpoon of Ukobach\n(Prog metal)\nCabin Fever\n(NYC indie rock)\n$10 Donation \nDoors @ 6:30pm\nAll Ages\nNo Drugs/Alcohol
URL:https://www.flemingtondiy.org/event/live-music-80/
END:VEVENT
BEGIN:VEVENT
DTSTART;TZID=America/New_York:20240923T091500
DTEND;TZID=America/New_York:20240923T113000
DTSTAMP:20260425T081607
CREATED:20240905T233658Z
LAST-MODIFIED:20240922T233608Z
UID:10002489-1727082900-1727091000@www.flemingtondiy.org
SUMMARY:Music Together
DESCRIPTION:Every week in our music classes at Music Together Flemington\, babies\, toddlers\, preschoolers\, and the grownups who love them come together for a time of musical play. Little ones love playing along in class\, and caregivers love being a part of their children’s growth into confident music-makers. And everyone loves our songs that’ll have you tapping along in no time \nLearn more and enroll today: https://www.musictogetherflemington.com/
URL:https://www.flemingtondiy.org/event/music-together-262/
END:VEVENT
END:VCALENDAR