BEGIN:VCALENDAR
VERSION:2.0
PRODID:-//Flemington DIY - ECPv6.15.20//NONSGML v1.0//EN
CALSCALE:GREGORIAN
METHOD:PUBLISH
X-WR-CALNAME:Flemington DIY
X-ORIGINAL-URL:https://www.flemingtondiy.org
X-WR-CALDESC:Events for Flemington DIY
REFRESH-INTERVAL;VALUE=DURATION:PT1H
X-Robots-Tag:noindex
X-PUBLISHED-TTL:PT1H
BEGIN:VTIMEZONE
TZID:America/New_York
BEGIN:DAYLIGHT
TZOFFSETFROM:-0500
TZOFFSETTO:-0400
TZNAME:EDT
DTSTART:20250309T070000
END:DAYLIGHT
BEGIN:STANDARD
TZOFFSETFROM:-0400
TZOFFSETTO:-0500
TZNAME:EST
DTSTART:20251102T060000
END:STANDARD
BEGIN:DAYLIGHT
TZOFFSETFROM:-0500
TZOFFSETTO:-0400
TZNAME:EDT
DTSTART:20260308T070000
END:DAYLIGHT
BEGIN:STANDARD
TZOFFSETFROM:-0400
TZOFFSETTO:-0500
TZNAME:EST
DTSTART:20261101T060000
END:STANDARD
BEGIN:DAYLIGHT
TZOFFSETFROM:-0500
TZOFFSETTO:-0400
TZNAME:EDT
DTSTART:20270314T070000
END:DAYLIGHT
BEGIN:STANDARD
TZOFFSETFROM:-0400
TZOFFSETTO:-0500
TZNAME:EST
DTSTART:20271107T060000
END:STANDARD
BEGIN:DAYLIGHT
TZOFFSETFROM:-0500
TZOFFSETTO:-0400
TZNAME:EDT
DTSTART:20280312T070000
END:DAYLIGHT
BEGIN:STANDARD
TZOFFSETFROM:-0400
TZOFFSETTO:-0500
TZNAME:EST
DTSTART:20281105T060000
END:STANDARD
END:VTIMEZONE
BEGIN:VEVENT
DTSTART;TZID=America/New_York:20261207T180000
DTEND;TZID=America/New_York:20261207T200000
DTSTAMP:20260424T113202
CREATED:20260406T130935Z
LAST-MODIFIED:20260423T234924Z
UID:10003978-1796666400-1796673600@www.flemingtondiy.org
SUMMARY:Hunterdon Fiber Artist Meeting
DESCRIPTION:Looking to meet other fiber artists in the Hunterdon county area?  Think about coming to Hunterdon Fiber Artists meet up to socialize and connect with others doing the fiber art craft that they love. \nAll are welcome.  Just bring your craft be it knitting\, crocheting\, spinning\, etc.\, and be prepared to meet lots of fun and interesting people!  We even have mini educational talks on requested topics! \nOur FB group is Hunterdon Fiber Artists https://www.facebook.com/groups/1101970274078722 \nOur Ravelry group is https://www.ravelry.com/groups/hunterdon-fiber-artists?s=tab \nEvery other Monday at DIY; $3-5 suggested donation.
URL:https://www.flemingtondiy.org/event/hunterdon-fiber-artist-meeting-101/
END:VEVENT
BEGIN:VEVENT
DTSTART;TZID=America/New_York:20261207T180000
DTEND;TZID=America/New_York:20261207T210000
DTSTAMP:20260424T113202
CREATED:20260412T235749Z
LAST-MODIFIED:20260423T234924Z
UID:10004098-1796666400-1796677200@www.flemingtondiy.org
SUMMARY:Print Club
DESCRIPTION:Flemington DIY Print Club is a weekly open studio held from 6-9PM every Monday\, $15-30 per printer. It provides an opportunity for local artists and community members new to arts processes to utilize shared printmaking facilities. Print Club provides a platform for artists to network\, build community\, and work collaboratively. \nNo experience? No problem! Our vounteers will guide you through the process from start to finish! \nLearn more: https://www.flemingtondiy.org/printclub/
URL:https://www.flemingtondiy.org/event/print-club-400/
END:VEVENT
BEGIN:VEVENT
DTSTART;TZID=America/New_York:20261208T113000
DTEND;TZID=America/New_York:20261208T180000
DTSTAMP:20260424T113202
CREATED:20250602T233609Z
LAST-MODIFIED:20260423T234924Z
UID:10003290-1796729400-1796752800@www.flemingtondiy.org
SUMMARY:Open Hours
DESCRIPTION:Visit the space\, see our current art shows\, hang out\, and learn how to get involved!
URL:https://www.flemingtondiy.org/event/open-hours-301/
END:VEVENT
BEGIN:VEVENT
DTSTART;TZID=America/New_York:20261208T190000
DTEND;TZID=America/New_York:20261208T210000
DTSTAMP:20260424T113202
CREATED:20251107T233729Z
LAST-MODIFIED:20260423T234924Z
UID:10003590-1796756400-1796763600@www.flemingtondiy.org
SUMMARY:Songwriter Circle
DESCRIPTION:Hey\, songwriters: Do you have songs that are half finished? Lyrics you’re not entirely happy with? A songwriting circle is not a performance. It’s an opportunity to connect with other songwriters\, play your song idea for us – whether it’s fully formed or not – and receive gentle\, respectful\, and constructive feedback. All genres welcome! Please bring a few hard copies of your lyrics to share (they’ll be returned to you). We have a piano available. Donations at the door
URL:https://www.flemingtondiy.org/event/songwriter-circle-46/
END:VEVENT
BEGIN:VEVENT
DTSTART;TZID=America/New_York:20261210T113000
DTEND;TZID=America/New_York:20261210T180000
DTSTAMP:20260424T113202
CREATED:20251107T233729Z
LAST-MODIFIED:20260423T234924Z
UID:10003591-1796902200-1796925600@www.flemingtondiy.org
SUMMARY:Open Hours
DESCRIPTION:
URL:https://www.flemingtondiy.org/event/open-hours-396/
END:VEVENT
BEGIN:VEVENT
DTSTART;TZID=America/New_York:20261213T143000
DTEND;TZID=America/New_York:20261213T170000
DTSTAMP:20260424T113202
CREATED:20251023T235226Z
LAST-MODIFIED:20260423T234924Z
UID:10003511-1797172200-1797181200@www.flemingtondiy.org
SUMMARY:Women's Comedy Open Mic
DESCRIPTION:Ever wanted to share a joke with your friends? Have a friend who you think is hilarious but don’t know how to let other ladies know about her talent? Here’s an opportunity to give it a try. Enjoy a safe space to share laughs – and if you fail – it’s ok to get up and try again!
URL:https://www.flemingtondiy.org/event/womens-comedy-open-mic-38/
END:VEVENT
BEGIN:VEVENT
DTSTART;TZID=America/New_York:20261214T180000
DTEND;TZID=America/New_York:20261214T200000
DTSTAMP:20260424T113202
CREATED:20251202T235223Z
LAST-MODIFIED:20260423T234924Z
UID:10003744-1797271200-1797278400@www.flemingtondiy.org
SUMMARY:Hunterdon Fiber Artist Meeting
DESCRIPTION:Looking to meet other fiber artists in the Hunterdon county area?  Think about coming to Hunterdon Fiber Artists meet up to socialize and connect with others doing the fiber art craft that they love. \nAll are welcome.  Just bring your craft be it knitting\, crocheting\, spinning\, etc.\, and be prepared to meet lots of fun and interesting people!  We even have mini educational talks on requested topics! \nOur FB group is Hunterdon Fiber Artists https://www.facebook.com/groups/1101970274078722 \nOur Ravelry group is https://www.ravelry.com/groups/hunterdon-fiber-artists?s=tab \nEvery other Monday at DIY; $3-5 suggested donation.
URL:https://www.flemingtondiy.org/event/hunterdon-fiber-artist-meeting-79/
END:VEVENT
BEGIN:VEVENT
DTSTART;TZID=America/New_York:20261214T180000
DTEND;TZID=America/New_York:20261214T210000
DTSTAMP:20260424T113202
CREATED:20260412T235749Z
LAST-MODIFIED:20260423T234924Z
UID:10004099-1797271200-1797282000@www.flemingtondiy.org
SUMMARY:Print Club
DESCRIPTION:Flemington DIY Print Club is a weekly open studio held from 6-9PM every Monday\, $15-30 per printer. It provides an opportunity for local artists and community members new to arts processes to utilize shared printmaking facilities. Print Club provides a platform for artists to network\, build community\, and work collaboratively. \nNo experience? No problem! Our vounteers will guide you through the process from start to finish! \nLearn more: https://www.flemingtondiy.org/printclub/
URL:https://www.flemingtondiy.org/event/print-club-401/
END:VEVENT
BEGIN:VEVENT
DTSTART;TZID=America/New_York:20261215T113000
DTEND;TZID=America/New_York:20261215T180000
DTSTAMP:20260424T113202
CREATED:20250602T233610Z
LAST-MODIFIED:20260423T234925Z
UID:10003291-1797334200-1797357600@www.flemingtondiy.org
SUMMARY:Open Hours
DESCRIPTION:Visit the space\, see our current art shows\, hang out\, and learn how to get involved!
URL:https://www.flemingtondiy.org/event/open-hours-302/
END:VEVENT
BEGIN:VEVENT
DTSTART;TZID=America/New_York:20261215T183000
DTEND;TZID=America/New_York:20261215T203000
DTSTAMP:20260424T113202
CREATED:20251010T233513Z
LAST-MODIFIED:20260423T234925Z
UID:10003488-1797359400-1797366600@www.flemingtondiy.org
SUMMARY:Flemington Acoustic Players
DESCRIPTION:Calling all Hunterdon County pop/rock/folk stars!  Are you looking for a place to practice your acoustic guitar skills\, and maybe do some singing too?   \nOur merry band of music makers is open to players of all abilities! This gathering however is for Acoustic players ONLY; i.e guitars\, ukuleles\, mandolins & banjos. A drummer and/or an acoustic/electric bassist would be welcomed though to help us all stay in time. \nChords and lyrics to the songs will be projected on a screen so there’s no need for you to bring a music stand or tablet. We will be selecting tunes from a song book that includes a wide variety of rock/pop/folk classics. \nCome and have fun with us as we play and sing along to some of everyone’s favorite tunes! \nSuggested donation of $3-5www.flemingtondiy.org/acoustic/
URL:https://www.flemingtondiy.org/event/flemington-acoustic-players-98/
END:VEVENT
BEGIN:VEVENT
DTSTART;TZID=America/New_York:20261216T190000
DTEND;TZID=America/New_York:20261216T210000
DTSTAMP:20260424T113202
CREATED:20260201T234238Z
LAST-MODIFIED:20260423T234925Z
UID:10003880-1797447600-1797454800@www.flemingtondiy.org
SUMMARY:Keeping Our Community Safe: Monthly Information & Action Meeting
DESCRIPTION:Third Wednesdays | 7–9PM | Flemington DIY \nA monthly gathering of local residents committed to protecting and supporting our immigrant community members. \nTogether\, we will: \n\n\nShare accurate\, up-to-date Know Your Rights information related to ICE presence and immigration enforcement \n\n\nReview protocols for spotting\, documenting\, and responding to ICE activity \n\n\nCoordinate community-based mutual aid efforts \n\n\nCreate and distribute educational materials for neighbors and local businesses \n\n\nStrengthen communication networks that prioritize safety\, dignity\, and collective care \n\n\nThis is a space for informed conversation\, practical preparedness\, coordinated action\, sharing resources\, and strengthening local support networks. All community members who value safety\, solidarity\, and constitutional rights are welcome. \nHosted by concerned community members.
URL:https://www.flemingtondiy.org/event/keeping-our-community-safe-monthly-information-action-meeting-11/
END:VEVENT
BEGIN:VEVENT
DTSTART;TZID=America/New_York:20261217T113000
DTEND;TZID=America/New_York:20261217T180000
DTSTAMP:20260424T113202
CREATED:20251107T233729Z
LAST-MODIFIED:20260423T234925Z
UID:10003592-1797507000-1797530400@www.flemingtondiy.org
SUMMARY:Open Hours
DESCRIPTION:
URL:https://www.flemingtondiy.org/event/open-hours-397/
END:VEVENT
BEGIN:VEVENT
DTSTART;TZID=America/New_York:20261217T180000
DTEND;TZID=America/New_York:20261217T210000
DTSTAMP:20260424T113202
CREATED:20260414T234301Z
LAST-MODIFIED:20260423T234925Z
UID:10004178-1797530400-1797541200@www.flemingtondiy.org
SUMMARY:Monthly Open Bluegrass Jam (Slow Jam/Teaching Session 6 PM to 7 PM)
DESCRIPTION:Bring your instrument\, a couple of tunes\, some friends and your own refreshments. All players welcome – Beginner to pro!  \n~~~~~~~~~~~~~~~~~6 PM to 7 PM will be a slow jam with old time and bluegrass songs and tunes in a teaching environment and at a slower pace for those wishing to learn or brush up on skills. Questions about the Slow Jam? Contact Jon: jandhtownend@comcast.net~~~~~~~~~~~~~~~~~ \nFreewill basket to support DIY $5 suggested Open to all ages –strictly no alcohol  \nQuestions about the Open Bluegrass Jam? Contact Ed: rvrecband@gmail.com / ejjank@gmail.com
URL:https://www.flemingtondiy.org/event/monthly-open-bluegrass-jam-slow-jam-teaching-session-6-pm-to-7-pm-9/
END:VEVENT
BEGIN:VEVENT
DTSTART;TZID=America/New_York:20261218T190000
DTEND;TZID=America/New_York:20261218T220000
DTSTAMP:20260424T113202
CREATED:20251111T235227Z
LAST-MODIFIED:20260423T234925Z
UID:10003664-1797620400-1797631200@www.flemingtondiy.org
SUMMARY:Third Friday Board Games
DESCRIPTION:Third Friday Board Game Night All ages | Bring your own game or play with one of ours | Meet new people\, have fun\, casual! No RSVP required\, just show up. Free to attend\, donations to Flemington DIY welcomed.
URL:https://www.flemingtondiy.org/event/third-friday-board-games-11/
END:VEVENT
BEGIN:VEVENT
DTSTART;TZID=America/New_York:20261221T180000
DTEND;TZID=America/New_York:20261221T200000
DTSTAMP:20260424T113202
CREATED:20260406T130936Z
LAST-MODIFIED:20260423T234925Z
UID:10003979-1797876000-1797883200@www.flemingtondiy.org
SUMMARY:Hunterdon Fiber Artist Meeting
DESCRIPTION:Looking to meet other fiber artists in the Hunterdon county area?  Think about coming to Hunterdon Fiber Artists meet up to socialize and connect with others doing the fiber art craft that they love. \nAll are welcome.  Just bring your craft be it knitting\, crocheting\, spinning\, etc.\, and be prepared to meet lots of fun and interesting people!  We even have mini educational talks on requested topics! \nOur FB group is Hunterdon Fiber Artists https://www.facebook.com/groups/1101970274078722 \nOur Ravelry group is https://www.ravelry.com/groups/hunterdon-fiber-artists?s=tab \nEvery other Monday at DIY; $3-5 suggested donation.
URL:https://www.flemingtondiy.org/event/hunterdon-fiber-artist-meeting-102/
END:VEVENT
BEGIN:VEVENT
DTSTART;TZID=America/New_York:20261221T180000
DTEND;TZID=America/New_York:20261221T210000
DTSTAMP:20260424T113202
CREATED:20260412T235749Z
LAST-MODIFIED:20260423T234925Z
UID:10004100-1797876000-1797886800@www.flemingtondiy.org
SUMMARY:Print Club
DESCRIPTION:Flemington DIY Print Club is a weekly open studio held from 6-9PM every Monday\, $15-30 per printer. It provides an opportunity for local artists and community members new to arts processes to utilize shared printmaking facilities. Print Club provides a platform for artists to network\, build community\, and work collaboratively. \nNo experience? No problem! Our vounteers will guide you through the process from start to finish! \nLearn more: https://www.flemingtondiy.org/printclub/
URL:https://www.flemingtondiy.org/event/print-club-402/
END:VEVENT
BEGIN:VEVENT
DTSTART;TZID=America/New_York:20261222T113000
DTEND;TZID=America/New_York:20261222T180000
DTSTAMP:20260424T113202
CREATED:20250602T233610Z
LAST-MODIFIED:20260423T234925Z
UID:10003292-1797939000-1797962400@www.flemingtondiy.org
SUMMARY:Open Hours
DESCRIPTION:Visit the space\, see our current art shows\, hang out\, and learn how to get involved!
URL:https://www.flemingtondiy.org/event/open-hours-303/
END:VEVENT
BEGIN:VEVENT
DTSTART;TZID=America/New_York:20261222T190000
DTEND;TZID=America/New_York:20261222T210000
DTSTAMP:20260424T113202
CREATED:20250731T233553Z
LAST-MODIFIED:20260423T234925Z
UID:10003380-1797966000-1797973200@www.flemingtondiy.org
SUMMARY:Classical Music Jam
DESCRIPTION:Jazz bands jam\, rock bands jam\, bluegrass players jams… why not a classical jam?? \nStrings\, brass\, woodwinds… Come join a classical music jam!!   \nBring a piece or two of music to share\, and sit in on the jam!   \nBring your instrument\, music (duo\, trio\, quartet\, etc. or even a full orchestra arrangement) and a stand\, be ready to share\, and let’s play some classical music in an informal setting.   \nWe jam once a month on the 4th Tuesday from 7 PM – 9 PM.   $5 suggested donation to Flemington DIY.  \nDon’t have music\, Don’t have a stand?…. Don’t worry!  Just bring your instrument\, and jam with us! \nCome share your talent and play! Take a break\, relax\, and listen to others.   \nUpcoming Tuesdays:   \n9/30 \n10/28 \n11/25 \n12/23 \nClassical is cool too!  See you at the jam!  
URL:https://www.flemingtondiy.org/event/classical-music-jam-16/
END:VEVENT
BEGIN:VEVENT
DTSTART;TZID=America/New_York:20261223T193000
DTEND;TZID=America/New_York:20261223T220000
DTSTAMP:20260424T113202
CREATED:20251120T233726Z
LAST-MODIFIED:20260423T234925Z
UID:10003697-1798054200-1798063200@www.flemingtondiy.org
SUMMARY:Poetry Open Mic
DESCRIPTION:Community members of all levels are invited to read their poetry and listen to the work of others. If you’re looking for a welcoming group of emerging and established poets and beatniks\, this is for you!Show up and sign up. No pre-registration to participate. Donations for the space encouraged at the door. All ages but please be aware that mature and sometimes sensitive topics are explored and mentioned at this event.
URL:https://www.flemingtondiy.org/event/poetry-open-mic-52/
END:VEVENT
BEGIN:VEVENT
DTSTART;TZID=America/New_York:20261224T113000
DTEND;TZID=America/New_York:20261224T180000
DTSTAMP:20260424T113202
CREATED:20251107T233729Z
LAST-MODIFIED:20260423T234925Z
UID:10003593-1798111800-1798135200@www.flemingtondiy.org
SUMMARY:Open Hours
DESCRIPTION:
URL:https://www.flemingtondiy.org/event/open-hours-398/
END:VEVENT
BEGIN:VEVENT
DTSTART;TZID=America/New_York:20261228T180000
DTEND;TZID=America/New_York:20261228T200000
DTSTAMP:20260424T113202
CREATED:20251202T235224Z
LAST-MODIFIED:20260423T234925Z
UID:10003745-1798480800-1798488000@www.flemingtondiy.org
SUMMARY:Hunterdon Fiber Artist Meeting
DESCRIPTION:Looking to meet other fiber artists in the Hunterdon county area?  Think about coming to Hunterdon Fiber Artists meet up to socialize and connect with others doing the fiber art craft that they love. \nAll are welcome.  Just bring your craft be it knitting\, crocheting\, spinning\, etc.\, and be prepared to meet lots of fun and interesting people!  We even have mini educational talks on requested topics! \nOur FB group is Hunterdon Fiber Artists https://www.facebook.com/groups/1101970274078722 \nOur Ravelry group is https://www.ravelry.com/groups/hunterdon-fiber-artists?s=tab \nEvery other Monday at DIY; $3-5 suggested donation.
URL:https://www.flemingtondiy.org/event/hunterdon-fiber-artist-meeting-80/
END:VEVENT
BEGIN:VEVENT
DTSTART;TZID=America/New_York:20261228T180000
DTEND;TZID=America/New_York:20261228T210000
DTSTAMP:20260424T113202
CREATED:20260412T235750Z
LAST-MODIFIED:20260423T234925Z
UID:10004101-1798480800-1798491600@www.flemingtondiy.org
SUMMARY:Print Club
DESCRIPTION:Flemington DIY Print Club is a weekly open studio held from 6-9PM every Monday\, $15-30 per printer. It provides an opportunity for local artists and community members new to arts processes to utilize shared printmaking facilities. Print Club provides a platform for artists to network\, build community\, and work collaboratively. \nNo experience? No problem! Our vounteers will guide you through the process from start to finish! \nLearn more: https://www.flemingtondiy.org/printclub/
URL:https://www.flemingtondiy.org/event/print-club-403/
END:VEVENT
BEGIN:VEVENT
DTSTART;TZID=America/New_York:20261229T113000
DTEND;TZID=America/New_York:20261229T180000
DTSTAMP:20260424T113202
CREATED:20250602T233610Z
LAST-MODIFIED:20260423T234925Z
UID:10003293-1798543800-1798567200@www.flemingtondiy.org
SUMMARY:Open Hours
DESCRIPTION:Visit the space\, see our current art shows\, hang out\, and learn how to get involved!
URL:https://www.flemingtondiy.org/event/open-hours-304/
END:VEVENT
BEGIN:VEVENT
DTSTART;TZID=America/New_York:20261231T113000
DTEND;TZID=America/New_York:20261231T180000
DTSTAMP:20260424T113202
CREATED:20251107T233729Z
LAST-MODIFIED:20260423T234925Z
UID:10003594-1798716600-1798740000@www.flemingtondiy.org
SUMMARY:Open Hours
DESCRIPTION:
URL:https://www.flemingtondiy.org/event/open-hours-399/
END:VEVENT
BEGIN:VEVENT
DTSTART;TZID=America/New_York:20270104T180000
DTEND;TZID=America/New_York:20270104T200000
DTSTAMP:20260424T113202
CREATED:20260406T130936Z
LAST-MODIFIED:20260423T234925Z
UID:10003980-1799085600-1799092800@www.flemingtondiy.org
SUMMARY:Hunterdon Fiber Artist Meeting
DESCRIPTION:Looking to meet other fiber artists in the Hunterdon county area?  Think about coming to Hunterdon Fiber Artists meet up to socialize and connect with others doing the fiber art craft that they love. \nAll are welcome.  Just bring your craft be it knitting\, crocheting\, spinning\, etc.\, and be prepared to meet lots of fun and interesting people!  We even have mini educational talks on requested topics! \nOur FB group is Hunterdon Fiber Artists https://www.facebook.com/groups/1101970274078722 \nOur Ravelry group is https://www.ravelry.com/groups/hunterdon-fiber-artists?s=tab \nEvery other Monday at DIY; $3-5 suggested donation.
URL:https://www.flemingtondiy.org/event/hunterdon-fiber-artist-meeting-103/
END:VEVENT
BEGIN:VEVENT
DTSTART;TZID=America/New_York:20270104T180000
DTEND;TZID=America/New_York:20270104T210000
DTSTAMP:20260424T113202
CREATED:20260412T235750Z
LAST-MODIFIED:20260423T234925Z
UID:10004102-1799085600-1799096400@www.flemingtondiy.org
SUMMARY:Print Club
DESCRIPTION:Flemington DIY Print Club is a weekly open studio held from 6-9PM every Monday\, $15-30 per printer. It provides an opportunity for local artists and community members new to arts processes to utilize shared printmaking facilities. Print Club provides a platform for artists to network\, build community\, and work collaboratively. \nNo experience? No problem! Our vounteers will guide you through the process from start to finish! \nLearn more: https://www.flemingtondiy.org/printclub/
URL:https://www.flemingtondiy.org/event/print-club-404/
END:VEVENT
BEGIN:VEVENT
DTSTART;TZID=America/New_York:20270105T113000
DTEND;TZID=America/New_York:20270105T180000
DTSTAMP:20260424T113202
CREATED:20250602T233612Z
LAST-MODIFIED:20260423T234925Z
UID:10003294-1799148600-1799172000@www.flemingtondiy.org
SUMMARY:Open Hours
DESCRIPTION:Visit the space\, see our current art shows\, hang out\, and learn how to get involved!
URL:https://www.flemingtondiy.org/event/open-hours-305/
END:VEVENT
BEGIN:VEVENT
DTSTART;TZID=America/New_York:20270107T113000
DTEND;TZID=America/New_York:20270107T180000
DTSTAMP:20260424T113202
CREATED:20251107T233730Z
LAST-MODIFIED:20260423T234925Z
UID:10003595-1799321400-1799344800@www.flemingtondiy.org
SUMMARY:Open Hours
DESCRIPTION:
URL:https://www.flemingtondiy.org/event/open-hours-400/
END:VEVENT
BEGIN:VEVENT
DTSTART;TZID=America/New_York:20270111T180000
DTEND;TZID=America/New_York:20270111T200000
DTSTAMP:20260424T113202
CREATED:20260406T130936Z
LAST-MODIFIED:20260423T234926Z
UID:10003981-1799690400-1799697600@www.flemingtondiy.org
SUMMARY:Hunterdon Fiber Artist Meeting
DESCRIPTION:Looking to meet other fiber artists in the Hunterdon county area?  Think about coming to Hunterdon Fiber Artists meet up to socialize and connect with others doing the fiber art craft that they love. \nAll are welcome.  Just bring your craft be it knitting\, crocheting\, spinning\, etc.\, and be prepared to meet lots of fun and interesting people!  We even have mini educational talks on requested topics! \nOur FB group is Hunterdon Fiber Artists https://www.facebook.com/groups/1101970274078722 \nOur Ravelry group is https://www.ravelry.com/groups/hunterdon-fiber-artists?s=tab \nEvery other Monday at DIY; $3-5 suggested donation.
URL:https://www.flemingtondiy.org/event/hunterdon-fiber-artist-meeting-105/
END:VEVENT
BEGIN:VEVENT
DTSTART;TZID=America/New_York:20270111T180000
DTEND;TZID=America/New_York:20270111T210000
DTSTAMP:20260424T113202
CREATED:20260412T235750Z
LAST-MODIFIED:20260423T234925Z
UID:10004103-1799690400-1799701200@www.flemingtondiy.org
SUMMARY:Print Club
DESCRIPTION:Flemington DIY Print Club is a weekly open studio held from 6-9PM every Monday\, $15-30 per printer. It provides an opportunity for local artists and community members new to arts processes to utilize shared printmaking facilities. Print Club provides a platform for artists to network\, build community\, and work collaboratively. \nNo experience? No problem! Our vounteers will guide you through the process from start to finish! \nLearn more: https://www.flemingtondiy.org/printclub/
URL:https://www.flemingtondiy.org/event/print-club-405/
END:VEVENT
END:VCALENDAR