BEGIN:VCALENDAR
VERSION:2.0
PRODID:-//Flemington DIY - ECPv6.15.20//NONSGML v1.0//EN
CALSCALE:GREGORIAN
METHOD:PUBLISH
X-WR-CALNAME:Flemington DIY
X-ORIGINAL-URL:https://www.flemingtondiy.org
X-WR-CALDESC:Events for Flemington DIY
REFRESH-INTERVAL;VALUE=DURATION:PT1H
X-Robots-Tag:noindex
X-PUBLISHED-TTL:PT1H
BEGIN:VTIMEZONE
TZID:America/New_York
BEGIN:DAYLIGHT
TZOFFSETFROM:-0500
TZOFFSETTO:-0400
TZNAME:EDT
DTSTART:20230312T070000
END:DAYLIGHT
BEGIN:STANDARD
TZOFFSETFROM:-0400
TZOFFSETTO:-0500
TZNAME:EST
DTSTART:20231105T060000
END:STANDARD
BEGIN:DAYLIGHT
TZOFFSETFROM:-0500
TZOFFSETTO:-0400
TZNAME:EDT
DTSTART:20240310T070000
END:DAYLIGHT
BEGIN:STANDARD
TZOFFSETFROM:-0400
TZOFFSETTO:-0500
TZNAME:EST
DTSTART:20241103T060000
END:STANDARD
BEGIN:DAYLIGHT
TZOFFSETFROM:-0500
TZOFFSETTO:-0400
TZNAME:EDT
DTSTART:20250309T070000
END:DAYLIGHT
BEGIN:STANDARD
TZOFFSETFROM:-0400
TZOFFSETTO:-0500
TZNAME:EST
DTSTART:20251102T060000
END:STANDARD
END:VTIMEZONE
BEGIN:VEVENT
DTSTART;TZID=America/New_York:20241020T183000
DTEND;TZID=America/New_York:20241020T220000
DTSTAMP:20260425T062310
CREATED:20240707T233532Z
LAST-MODIFIED:20241019T235106Z
UID:10002395-1729449000-1729461600@www.flemingtondiy.org
SUMMARY:Experimental Live Music
DESCRIPTION:VERNAL SCUZZ\n(Alabama wild improvisations\, song deconstrucions and tape experiments.  Sweet Wreath Recs)\nEXHIBIT: A\n(No wave / Art Punk)\nMIKE BRUNO\n(Neo Folk Baladry)\nRUNK SPASM EYE\n(Low Spoons Noise)\nDoors @ 6:30pm\n$10-15 Donation\nAll Ages\nNo Drugs/Alcohol
URL:https://www.flemingtondiy.org/event/experimental-live-music/
END:VEVENT
BEGIN:VEVENT
DTSTART;TZID=America/New_York:20241021T091500
DTEND;TZID=America/New_York:20241021T113000
DTSTAMP:20260425T062310
CREATED:20240905T233709Z
LAST-MODIFIED:20241019T235106Z
UID:10002508-1729502100-1729510200@www.flemingtondiy.org
SUMMARY:Music Together
DESCRIPTION:Every week in our music classes at Music Together Flemington\, babies\, toddlers\, preschoolers\, and the grownups who love them come together for a time of musical play. Little ones love playing along in class\, and caregivers love being a part of their children’s growth into confident music-makers. And everyone loves our songs that’ll have you tapping along in no time \nLearn more and enroll today: https://www.musictogetherflemington.com/
URL:https://www.flemingtondiy.org/event/music-together-278/
END:VEVENT
BEGIN:VEVENT
DTSTART;TZID=America/New_York:20241021T180000
DTEND;TZID=America/New_York:20241021T200000
DTSTAMP:20260425T062310
CREATED:20240528T235106Z
LAST-MODIFIED:20241021T233704Z
UID:10002350-1729533600-1729540800@www.flemingtondiy.org
SUMMARY:Hunterdon Fiber Artist Meeting
DESCRIPTION:Looking to meet other fiber artists in the Hunterdon county area?  Think about coming to Hunterdon Fiber Artists meet up to socialize and connect with others doing the fiber art craft that they love. \nAll are welcome.  Just bring your craft be it knitting\, crocheting\, spinning\, etc.\, and be prepared to meet lots of fun and interesting people!  We even have mini educational talks on requested topics! \nOur FB group is Hunterdon Fiber Artists https://www.facebook.com/groups/1101970274078722 \nOur Ravelry group is https://www.ravelry.com/groups/hunterdon-fiber-artists?s=tab \nEvery other Monday at DIY; $3-5 suggested donation.
URL:https://www.flemingtondiy.org/event/hunterdon-fiber-artist-meeting-20/
END:VEVENT
BEGIN:VEVENT
DTSTART;TZID=America/New_York:20241021T180000
DTEND;TZID=America/New_York:20241021T210000
DTSTAMP:20260425T062310
CREATED:20231107T010557Z
LAST-MODIFIED:20241021T233704Z
UID:10001841-1729533600-1729544400@www.flemingtondiy.org
SUMMARY:Print Club
DESCRIPTION:Flemington DIY Print Club is a weekly open studio held from 6-9PM every Monday\, $15-30 per printer. It provides an opportunity for local artists and community members new to arts processes to utilize shared printmaking facilities. Print Club provides a platform for artists to network\, build community\, and work collaboratively. \nNo experience? No problem! Our vounteers will guide you through the process from start to finish! \nLearn more: https://www.flemingtondiy.org/printclub/
URL:https://www.flemingtondiy.org/event/print-club-203/
END:VEVENT
BEGIN:VEVENT
DTSTART;TZID=America/New_York:20241022T091500
DTEND;TZID=America/New_York:20241022T113000
DTSTAMP:20260425T062310
CREATED:20240905T233710Z
LAST-MODIFIED:20241021T233704Z
UID:10002509-1729588500-1729596600@www.flemingtondiy.org
SUMMARY:Music Together
DESCRIPTION:Every week in our music classes at Music Together Flemington\, babies\, toddlers\, preschoolers\, and the grownups who love them come together for a time of musical play. Little ones love playing along in class\, and caregivers love being a part of their children’s growth into confident music-makers. And everyone loves our songs that’ll have you tapping along in no time \nLearn more and enroll today: https://www.musictogetherflemington.com/
URL:https://www.flemingtondiy.org/event/music-together-279/
END:VEVENT
BEGIN:VEVENT
DTSTART;TZID=America/New_York:20241022T113000
DTEND;TZID=America/New_York:20241022T180000
DTSTAMP:20260425T062310
CREATED:20240916T233517Z
LAST-MODIFIED:20241021T233704Z
UID:10002553-1729596600-1729620000@www.flemingtondiy.org
SUMMARY:Open Hours
DESCRIPTION:Visit the space\, see our current art shows\, hang out\, and learn how to get involved!
URL:https://www.flemingtondiy.org/event/open-hours-152/
END:VEVENT
BEGIN:VEVENT
DTSTART;TZID=America/New_York:20241023T094500
DTEND;TZID=America/New_York:20241023T120000
DTSTAMP:20260425T062310
CREATED:20241010T233530Z
LAST-MODIFIED:20241022T233613Z
UID:10002640-1729676700-1729684800@www.flemingtondiy.org
SUMMARY:Music Together
DESCRIPTION:Every week in our music classes at Music Together Flemington\, babies\, toddlers\, preschoolers\, and the grownups who love them come together for a time of musical play. Little ones love playing along in class\, and caregivers love being a part of their children’s growth into confident music-makers. And everyone loves our songs that’ll have you tapping along in no time \nLearn more and enroll today: https://www.musictogetherflemington.com/
URL:https://www.flemingtondiy.org/event/music-together-296/
END:VEVENT
BEGIN:VEVENT
DTSTART;TZID=America/New_York:20241023T190000
DTEND;TZID=America/New_York:20241023T200000
DTSTAMP:20260425T062310
CREATED:20240928T233547Z
LAST-MODIFIED:20241023T233537Z
UID:10002574-1729710000-1729713600@www.flemingtondiy.org
SUMMARY:Volunteer Information Session
DESCRIPTION:Did you know Flemington DIY is 100% volunteer-run and operated? \nJoin us for an informational session & orientation to learn more about our volunteer program. \nPlease pre-register: https://forms.gle/g1uWeb9oSkn6ym4R8Walk ins are also always welcome!
URL:https://www.flemingtondiy.org/event/volunteer-information-session/
END:VEVENT
BEGIN:VEVENT
DTSTART;TZID=America/New_York:20241024T113000
DTEND;TZID=America/New_York:20241024T180000
DTSTAMP:20260425T062310
CREATED:20240723T235110Z
LAST-MODIFIED:20241023T233537Z
UID:10002435-1729769400-1729792800@www.flemingtondiy.org
SUMMARY:Open Hours
DESCRIPTION:Visit the space\, see our current art shows\, hang out\, and learn how to get involved!
URL:https://www.flemingtondiy.org/event/open-hours-100/
END:VEVENT
BEGIN:VEVENT
DTSTART;TZID=America/New_York:20241024T160000
DTEND;TZID=America/New_York:20241024T180000
DTSTAMP:20260425T062310
CREATED:20241018T235013Z
LAST-MODIFIED:20241023T233537Z
UID:10002647-1729785600-1729792800@www.flemingtondiy.org
SUMMARY:Aunt Mary’s Expungement Table
DESCRIPTION:Introducing Aunt Mary’s Expungement Table – your one-stop solution for clearing past mistakes and starting fresh. Whether it’s an old conviction or an outdated record holding you back\, Aunt Mary’s expert team is here to guide you through the legal process of expungement with care and efficiency. With personalized support\, easy-to-follow steps\, and a deep understanding of state laws\, Aunt Mary’s Expungement Table helps you reclaim your future. Don’t let your past define you – take the first step towards a clean slate today! Clear your record\, reclaim your life.
URL:https://www.flemingtondiy.org/event/aunt-marys-expungement-table/
END:VEVENT
BEGIN:VEVENT
DTSTART;TZID=America/New_York:20241025T091500
DTEND;TZID=America/New_York:20241025T113000
DTSTAMP:20260425T062310
CREATED:20240929T233625Z
LAST-MODIFIED:20241024T233507Z
UID:10002619-1729847700-1729855800@www.flemingtondiy.org
SUMMARY:Music Together
DESCRIPTION:Every week in our music classes at Music Together Flemington\, babies\, toddlers\, preschoolers\, and the grownups who love them come together for a time of musical play. Little ones love playing along in class\, and caregivers love being a part of their children’s growth into confident music-makers. And everyone loves our songs that’ll have you tapping along in no time \nLearn more and enroll today: https://www.musictogetherflemington.com/
URL:https://www.flemingtondiy.org/event/music-together-265/
END:VEVENT
BEGIN:VEVENT
DTSTART;TZID=America/New_York:20241025T190000
DTEND;TZID=America/New_York:20241025T220000
DTSTAMP:20260425T062310
CREATED:20240917T233544Z
LAST-MODIFIED:20241025T233542Z
UID:10002562-1729882800-1729893600@www.flemingtondiy.org
SUMMARY:Live Music: New Orleans Trad Night
DESCRIPTION:Mardis Gras in October? Why not?  If you like “trad” New Orleans style jazz\, don’t miss this cool evening of hot jazz. Started by a Rutgers professor\, Marshalls Band has been entertaining New Jersey audiences for over 40 years. Its current roster includes four members who have played recently in New Orleans.  Marshall’s uses little or no amplification\, and plays on original instruments used 100 years ago. Written music is optional if used at all\, so every tune is a unique creation formed around the other musicians\, the audience and the mood.\n$12 adv / $15 door\nTickets @ flemingtondiy.org/trad
URL:https://www.flemingtondiy.org/event/live-music-new-orleans-trad-night/
END:VEVENT
BEGIN:VEVENT
DTSTART;TZID=America/New_York:20241026T090000
DTEND;TZID=America/New_York:20241026T110000
DTSTAMP:20260425T062310
CREATED:20240905T233711Z
LAST-MODIFIED:20241025T233542Z
UID:10002513-1729933200-1729940400@www.flemingtondiy.org
SUMMARY:Music Together
DESCRIPTION:Every week in our music classes at Music Together Flemington\, babies\, toddlers\, preschoolers\, and the grownups who love them come together for a time of musical play. Little ones love playing along in class\, and caregivers love being a part of their children’s growth into confident music-makers. And everyone loves our songs that’ll have you tapping along in no time \nLearn more and enroll today: https://www.musictogetherflemington.com/
URL:https://www.flemingtondiy.org/event/music-together-282/
END:VEVENT
BEGIN:VEVENT
DTSTART;TZID=America/New_York:20241026T193000
DTEND;TZID=America/New_York:20241026T220000
DTSTAMP:20260425T062310
CREATED:20240910T233609Z
LAST-MODIFIED:20241026T235013Z
UID:10002543-1729971000-1729980000@www.flemingtondiy.org
SUMMARY:Live Jazz: Yvonnick Prene & Dave Kikoski Duo
DESCRIPTION:Experience the vibrant rhythms and timeless melodies of Brazilian jazz with Jobim’s World\, a mesmerizing duo project by chromatic harmonica virtuoso Yvonnick Prené. Inspired by Antônio Carlos Jobim’s iconic compositions\, this recording reinterprets classics like “The Girl from Ipanema” and “Desafinado” with fresh\, modern arrangements that showcase Prené’s post-bop flair. Join us for an unforgettable night of innovative jazz that pays homage to the spirit of Jobim while pushing musical boundaries. Don’t miss the chance to witness these exceptional talents live!\nDoors 7:30pm\, Music 8pm. Tickets: $16 advance // $20 door // 15% off for Members!\nTickets and info at www.flemingtondiy.org/jazz
URL:https://www.flemingtondiy.org/event/live-jazz-yvonnick-prene-dave-kikoski-duo/
END:VEVENT
BEGIN:VEVENT
DTSTART;TZID=America/New_York:20241028T091500
DTEND;TZID=America/New_York:20241028T113000
DTSTAMP:20260425T062310
CREATED:20240905T233712Z
LAST-MODIFIED:20241027T235038Z
UID:10002514-1730106900-1730115000@www.flemingtondiy.org
SUMMARY:Music Together
DESCRIPTION:Every week in our music classes at Music Together Flemington\, babies\, toddlers\, preschoolers\, and the grownups who love them come together for a time of musical play. Little ones love playing along in class\, and caregivers love being a part of their children’s growth into confident music-makers. And everyone loves our songs that’ll have you tapping along in no time \nLearn more and enroll today: https://www.musictogetherflemington.com/
URL:https://www.flemingtondiy.org/event/music-together-283/
END:VEVENT
BEGIN:VEVENT
DTSTART;TZID=America/New_York:20241028T180000
DTEND;TZID=America/New_York:20241028T200000
DTSTAMP:20260425T062310
CREATED:20240928T233552Z
LAST-MODIFIED:20241028T235051Z
UID:10002575-1730138400-1730145600@www.flemingtondiy.org
SUMMARY:Hunterdon Fiber Artist Meeting
DESCRIPTION:Looking to meet other fiber artists in the Hunterdon county area?  Think about coming to Hunterdon Fiber Artists meet up to socialize and connect with others doing the fiber art craft that they love. \nAll are welcome.  Just bring your craft be it knitting\, crocheting\, spinning\, etc.\, and be prepared to meet lots of fun and interesting people!  We even have mini educational talks on requested topics! \nOur FB group is Hunterdon Fiber Artists https://www.facebook.com/groups/1101970274078722 \nOur Ravelry group is https://www.ravelry.com/groups/hunterdon-fiber-artists?s=tab \nEvery other Monday at DIY; $3-5 suggested donation.
URL:https://www.flemingtondiy.org/event/hunterdon-fiber-artist-meeting-25/
END:VEVENT
BEGIN:VEVENT
DTSTART;TZID=America/New_York:20241028T180000
DTEND;TZID=America/New_York:20241028T210000
DTSTAMP:20260425T062310
CREATED:20230105T014113Z
LAST-MODIFIED:20230110T015031Z
UID:10000932-1730138400-1730149200@www.flemingtondiy.org
SUMMARY:Print Club
DESCRIPTION:Flemington DIY Print Club is a weekly open studio held from 6-9PM every Monday\, $15-30 per printer. It provides an opportunity for local artists and community members new to arts processes to utilize shared printmaking facilities. Print Club provides a platform for artists to network\, build community\, and work collaboratively. \n \nMore info: www.flemingtondiy.org/printclub \nAre you joining us?– arrive at 6pm– sliding scale payment of $15-30 per screen (you decide what you want to pay on this scale)– bring your image printed out as a B&W image the size you want it to be– bring things to print on (paper\, tshirts\, bags\, ect)– we will show you the rest \nThere is limited space so: First come\, First served
URL:https://www.flemingtondiy.org/event/print-club-110/
LOCATION:Flemington DIY\, 26 Stangl Rd\, Flemington\, NJ 08822\, USA
END:VEVENT
BEGIN:VEVENT
DTSTART;TZID=America/New_York:20241028T180000
DTEND;TZID=America/New_York:20241028T210000
DTSTAMP:20260425T062310
CREATED:20231107T010557Z
LAST-MODIFIED:20241028T235051Z
UID:10001842-1730138400-1730149200@www.flemingtondiy.org
SUMMARY:Print Club
DESCRIPTION:Flemington DIY Print Club is a weekly open studio held from 6-9PM every Monday\, $15-30 per printer. It provides an opportunity for local artists and community members new to arts processes to utilize shared printmaking facilities. Print Club provides a platform for artists to network\, build community\, and work collaboratively. \nNo experience? No problem! Our vounteers will guide you through the process from start to finish! \nLearn more: https://www.flemingtondiy.org/printclub/
URL:https://www.flemingtondiy.org/event/print-club-204/
END:VEVENT
BEGIN:VEVENT
DTSTART;TZID=America/New_York:20241029T091500
DTEND;TZID=America/New_York:20241029T113000
DTSTAMP:20260425T062310
CREATED:20240905T233713Z
LAST-MODIFIED:20241028T235053Z
UID:10002515-1730193300-1730201400@www.flemingtondiy.org
SUMMARY:Music Together
DESCRIPTION:Every week in our music classes at Music Together Flemington\, babies\, toddlers\, preschoolers\, and the grownups who love them come together for a time of musical play. Little ones love playing along in class\, and caregivers love being a part of their children’s growth into confident music-makers. And everyone loves our songs that’ll have you tapping along in no time \nLearn more and enroll today: https://www.musictogetherflemington.com/
URL:https://www.flemingtondiy.org/event/music-together-284/
END:VEVENT
BEGIN:VEVENT
DTSTART;TZID=America/New_York:20241029T113000
DTEND;TZID=America/New_York:20241029T180000
DTSTAMP:20260425T062310
CREATED:20240916T233518Z
LAST-MODIFIED:20241028T235052Z
UID:10002554-1730201400-1730224800@www.flemingtondiy.org
SUMMARY:Open Hours
DESCRIPTION:Visit the space\, see our current art shows\, hang out\, and learn how to get involved!
URL:https://www.flemingtondiy.org/event/open-hours-153/
END:VEVENT
BEGIN:VEVENT
DTSTART;TZID=America/New_York:20241030T094500
DTEND;TZID=America/New_York:20241030T120000
DTSTAMP:20260425T062310
CREATED:20241010T233532Z
LAST-MODIFIED:20241029T235013Z
UID:10002641-1730281500-1730289600@www.flemingtondiy.org
SUMMARY:Music Together
DESCRIPTION:Every week in our music classes at Music Together Flemington\, babies\, toddlers\, preschoolers\, and the grownups who love them come together for a time of musical play. Little ones love playing along in class\, and caregivers love being a part of their children’s growth into confident music-makers. And everyone loves our songs that’ll have you tapping along in no time \nLearn more and enroll today: https://www.musictogetherflemington.com/
URL:https://www.flemingtondiy.org/event/music-together-301/
END:VEVENT
BEGIN:VEVENT
DTSTART;TZID=America/New_York:20241030T193000
DTEND;TZID=America/New_York:20241030T213000
DTSTAMP:20260425T062310
CREATED:20231101T010514Z
LAST-MODIFIED:20241030T235010Z
UID:10001672-1730316600-1730323800@www.flemingtondiy.org
SUMMARY:Poetry Open Mic
DESCRIPTION:show up & sign up\ndonations at the door\nall ages
URL:https://www.flemingtondiy.org/event/poetry-open-mic-27/
END:VEVENT
BEGIN:VEVENT
DTSTART;TZID=America/New_York:20241031T113000
DTEND;TZID=America/New_York:20241031T180000
DTSTAMP:20260425T062310
CREATED:20240723T235110Z
LAST-MODIFIED:20241030T235010Z
UID:10002436-1730374200-1730397600@www.flemingtondiy.org
SUMMARY:Open Hours
DESCRIPTION:Visit the space\, see our current art shows\, hang out\, and learn how to get involved!
URL:https://www.flemingtondiy.org/event/open-hours-101/
END:VEVENT
BEGIN:VEVENT
DTSTART;TZID=America/New_York:20241101T091500
DTEND;TZID=America/New_York:20241101T113000
DTSTAMP:20260425T062310
CREATED:20240929T233627Z
LAST-MODIFIED:20241031T235047Z
UID:10002620-1730452500-1730460600@www.flemingtondiy.org
SUMMARY:Music Together
DESCRIPTION:Every week in our music classes at Music Together Flemington\, babies\, toddlers\, preschoolers\, and the grownups who love them come together for a time of musical play. Little ones love playing along in class\, and caregivers love being a part of their children’s growth into confident music-makers. And everyone loves our songs that’ll have you tapping along in no time \nLearn more and enroll today: https://www.musictogetherflemington.com/
URL:https://www.flemingtondiy.org/event/music-together-272/
END:VEVENT
BEGIN:VEVENT
DTSTART;TZID=America/New_York:20241101T120000
DTEND;TZID=America/New_York:20241101T140000
DTSTAMP:20260425T062310
CREATED:20240922T233634Z
LAST-MODIFIED:20241031T235047Z
UID:10002564-1730462400-1730469600@www.flemingtondiy.org
SUMMARY:DIYxRLC: First Fridays Screenprinting for Homeschoolers
DESCRIPTION:Calling all homeschoolers!Flemington DIY and Raritan Learning Cooperative are collaborating to offer a monthly print club for kids ages 12-18\, on select first Friday of every month \nBring a design and a t-shirt or anything you want to print on. You’ll get to learn the process of screenprinting\, create your own screen\, and print posters and shirts!  \nIn collaboration with Raritan Learning Cooperative (RLC)MORE INFO: https://www.flemingtondiy.org/first-fridays
URL:https://www.flemingtondiy.org/event/diyxrlc-first-fridays-screenprinting-for-homeschoolers-2/
END:VEVENT
BEGIN:VEVENT
DTSTART;TZID=America/New_York:20241101T190000
DTEND;TZID=America/New_York:20241101T220000
DTSTAMP:20260425T062310
CREATED:20240826T235123Z
LAST-MODIFIED:20241101T235045Z
UID:10002478-1730487600-1730498400@www.flemingtondiy.org
SUMMARY:Live Music
DESCRIPTION:Two Moons Away\n(Alternative Rock)\nMyrecene\n(NJ Hardcore)\nShutter \n(Alternative Indie Rock)\n$10 Donation\nDoors @ 6:30pm\nAll Ages\nNo Drugs/Alcohol
URL:https://www.flemingtondiy.org/event/live-music-85/
END:VEVENT
BEGIN:VEVENT
DTSTART;TZID=America/New_York:20241102T090000
DTEND;TZID=America/New_York:20241102T110000
DTSTAMP:20260425T062310
CREATED:20240905T233715Z
LAST-MODIFIED:20241101T235045Z
UID:10002519-1730538000-1730545200@www.flemingtondiy.org
SUMMARY:Music Together
DESCRIPTION:Every week in our music classes at Music Together Flemington\, babies\, toddlers\, preschoolers\, and the grownups who love them come together for a time of musical play. Little ones love playing along in class\, and caregivers love being a part of their children’s growth into confident music-makers. And everyone loves our songs that’ll have you tapping along in no time \nLearn more and enroll today: https://www.musictogetherflemington.com/
URL:https://www.flemingtondiy.org/event/music-together-287/
END:VEVENT
BEGIN:VEVENT
DTSTART;TZID=America/New_York:20241102T100000
DTEND;TZID=America/New_York:20241102T120000
DTSTAMP:20260425T062310
CREATED:20241026T235015Z
LAST-MODIFIED:20241101T235045Z
UID:10002665-1730541600-1730548800@www.flemingtondiy.org
SUMMARY:Analog Photo Walk @ Minebrook Park
DESCRIPTION:For all the analog lovers – bring your film camera (35mm\, medium format\, polaroid\, disposable) for a guided photo walk through Mine Brook Park and surrounding areas. Connect with other analog enthusiasts\, share tips & tricks\, and explore new subjects. Meeting Point: Large parking lot\, 116 Capner St\, Flemington\, NJ 08822 \nLEARN MORE & REGISTER: FLEMINGTONDIY.ORG/PHOTO
URL:https://www.flemingtondiy.org/event/analog-photo-walk-minebrook-park/
END:VEVENT
BEGIN:VEVENT
DTSTART;TZID=America/New_York:20241103T110000
DTEND;TZID=America/New_York:20241103T120000
DTSTAMP:20260425T062310
CREATED:20241008T235017Z
LAST-MODIFIED:20241102T235142Z
UID:10002637-1730631600-1730635200@www.flemingtondiy.org
SUMMARY:ArtYard Campus Tour: Volunteer & Member Field Trip
DESCRIPTION:Exclusive event for DIY volunteers + members! Join us for a campus tour at ArtYard in Frenchtown\, NJ.  \nPlease note: transportation not provided. Attendees should plan to meet at ArtYard at 10:45am. RSVP required –> bit.ly/diyfieldtrip
URL:https://www.flemingtondiy.org/event/artyard-campus-tour-volunteer-member-field-trip/
END:VEVENT
BEGIN:VEVENT
DTSTART;TZID=America/New_York:20241103T120000
DTEND;TZID=America/New_York:20241103T150000
DTSTAMP:20260425T062310
CREATED:20240829T235032Z
LAST-MODIFIED:20241102T235142Z
UID:10002479-1730635200-1730646000@www.flemingtondiy.org
SUMMARY:Pedals for Progress Bike & Sewing Machine Collection Drive
DESCRIPTION:Pedals for Progress will be collecting adult & kids’ bikes and sewing machines to send to Togo\,\nRwanda\, Tanzania\, Belize and Guatemala. Help us put unused bikes and sewing machines to good use in the developing world.\nAll material and monetary donations are tax deductible and a receipt will be provided on site.\nBikes should be rust free. No children’s trikes\, but bikes with flat tires in need of some repair\nare accepted. Portable sewing machines should be in working condition.\nRAIN OR SHINE! \nFor more info contact Alan: alan@p4p.org\nTo read more about our cause visit: P4P.org
URL:https://www.flemingtondiy.org/event/pedals-for-progress-bike-sewing-machine-collection-drive/
END:VEVENT
END:VCALENDAR