BEGIN:VCALENDAR
VERSION:2.0
PRODID:-//Flemington DIY - ECPv6.15.20//NONSGML v1.0//EN
CALSCALE:GREGORIAN
METHOD:PUBLISH
X-WR-CALNAME:Flemington DIY
X-ORIGINAL-URL:https://www.flemingtondiy.org
X-WR-CALDESC:Events for Flemington DIY
REFRESH-INTERVAL;VALUE=DURATION:PT1H
X-Robots-Tag:noindex
X-PUBLISHED-TTL:PT1H
BEGIN:VTIMEZONE
TZID:America/New_York
BEGIN:DAYLIGHT
TZOFFSETFROM:-0500
TZOFFSETTO:-0400
TZNAME:EDT
DTSTART:20240310T070000
END:DAYLIGHT
BEGIN:STANDARD
TZOFFSETFROM:-0400
TZOFFSETTO:-0500
TZNAME:EST
DTSTART:20241103T060000
END:STANDARD
BEGIN:DAYLIGHT
TZOFFSETFROM:-0500
TZOFFSETTO:-0400
TZNAME:EDT
DTSTART:20250309T070000
END:DAYLIGHT
BEGIN:STANDARD
TZOFFSETFROM:-0400
TZOFFSETTO:-0500
TZNAME:EST
DTSTART:20251102T060000
END:STANDARD
BEGIN:DAYLIGHT
TZOFFSETFROM:-0500
TZOFFSETTO:-0400
TZNAME:EDT
DTSTART:20260308T070000
END:DAYLIGHT
BEGIN:STANDARD
TZOFFSETFROM:-0400
TZOFFSETTO:-0500
TZNAME:EST
DTSTART:20261101T060000
END:STANDARD
END:VTIMEZONE
BEGIN:VEVENT
DTSTART;TZID=America/New_York:20250821T190000
DTEND;TZID=America/New_York:20250821T210000
DTSTAMP:20260424T084629
CREATED:20241023T233527Z
LAST-MODIFIED:20250821T235030Z
UID:10002659-1755802800-1755810000@www.flemingtondiy.org
SUMMARY:Monthly Open Bluegrass Jam
DESCRIPTION:Bring your instrument\, a couple of tunes\, some friends and your own refreshments. All players welcome – Beginner to pro!  \nFreewill basket to support DIY $5 suggested Open to all ages –strictly no alcohol  \nQuestions? Contact Ed: rvrecband@gmail.com / ejjank@gmail.com
URL:https://www.flemingtondiy.org/event/monthly-open-bluegrass-jam-8/
END:VEVENT
BEGIN:VEVENT
DTSTART;TZID=America/New_York:20250821T180000
DTEND;TZID=America/New_York:20250821T200000
DTSTAMP:20260424T084629
CREATED:20250728T233512Z
LAST-MODIFIED:20250821T235029Z
UID:10003362-1755799200-1755806400@www.flemingtondiy.org
SUMMARY:Mural Battle: Battle of the Walls
DESCRIPTION:Mural Battle: Battle of the Walls This neighborly competition invites two artists to duke it out with pens and markers\, for a two hour art-making extravaganza. Our host\, OurNaturalState\, will choose a theme\, and YOU (the artist)\, will create something\, anything\, you think portrays that theme in your OWN style.  \nWinners get their art placed in a highly trafficked area in Flemington\, as well as a “bio post”\, and other social shout outs to bathe them in their winner’s glory. \nJoin us every 3rd Thursday during Sip and Stroll on Stangl Rd in Flemington from June to December for some art\, community and fun. \nThe first battle begins June 19th 2025 from 6-8 just outside of Flemington DIY. \nFor more info or to get involved please contact:@OurNaturalState on IGORournaturalstateofbeing@gmail.com
URL:https://www.flemingtondiy.org/event/mural-battle-battle-of-the-walls-9/
END:VEVENT
BEGIN:VEVENT
DTSTART;TZID=America/New_York:20250821T113000
DTEND;TZID=America/New_York:20250821T180000
DTSTAMP:20260424T084629
CREATED:20241221T233543Z
LAST-MODIFIED:20250820T235057Z
UID:10002877-1755775800-1755799200@www.flemingtondiy.org
SUMMARY:Open Hours
DESCRIPTION:Visit the space\, see our current art shows\, hang out\, and learn how to get involved!
URL:https://www.flemingtondiy.org/event/open-hours-212/
END:VEVENT
BEGIN:VEVENT
DTSTART;TZID=America/New_York:20250819T183000
DTEND;TZID=America/New_York:20250819T203000
DTSTAMP:20260424T084629
CREATED:20240928T233718Z
LAST-MODIFIED:20250819T233557Z
UID:10002604-1755628200-1755635400@www.flemingtondiy.org
SUMMARY:Flemington Acoustic Players
DESCRIPTION:Calling all Hunterdon County pop/rock/folk stars!  Are you looking for a place to practice your acoustic guitar skills\, and maybe do some singing too?   \nOur merry band of music makers is open to players of all abilities! This gathering however is for Acoustic players ONLY; i.e guitars\, ukuleles\, mandolins & banjos. A drummer and/or an acoustic/electric bassist would be welcomed though to help us all stay in time. \nChords and lyrics to the songs will be projected on a screen so there’s no need for you to bring a music stand or tablet. We will be selecting tunes from a song book that includes a wide variety of rock/pop/folk classics. \nCome and have fun with us as we play and sing along to some of everyone’s favorite tunes! \nSuggested donation of $3-5www.flemingtondiy.org/acoustic/
URL:https://www.flemingtondiy.org/event/flemington-acoustic-players-68/
END:VEVENT
BEGIN:VEVENT
DTSTART;TZID=America/New_York:20250819T113000
DTEND;TZID=America/New_York:20250819T180000
DTSTAMP:20260424T084629
CREATED:20250602T233524Z
LAST-MODIFIED:20250818T233550Z
UID:10003222-1755603000-1755626400@www.flemingtondiy.org
SUMMARY:Open Hours
DESCRIPTION:Visit the space\, see our current art shows\, hang out\, and learn how to get involved!
URL:https://www.flemingtondiy.org/event/open-hours-193/
END:VEVENT
BEGIN:VEVENT
DTSTART;TZID=America/New_York:20250816T200000
DTEND;TZID=America/New_York:20250816T220000
DTSTAMP:20260424T084629
CREATED:20250708T233528Z
LAST-MODIFIED:20250816T233611Z
UID:10003344-1755374400-1755381600@www.flemingtondiy.org
SUMMARY:Live Show - Long Hill String Band (Old Time Music)
DESCRIPTION:The Long Hill String Band performs Old Time Music with fiddle\, banjo\, mandolin\, upright bass\, guitar\, and voice\, and sometimes their dancing lumberjack\, Woody. They play reels\, jigs\, square dance tunes\, waltzes\, rags\, and tunes you can sing along to.  \nThe band is: Ron Stevenson (fiddle/vocals)\, Bob Bell (banjo/vocals)\, Jonathan Townend (banjo/vocals)\, Karl Varnai (fiddle)\, George Skic (bass)\, Charlie Pearlman (guitar/vocals)\, and Bob Safranek (mandolin).  \nhttps://longhillstringband.com  \nTickets are $10 advance/$15 doorDoors open at 7:30 PMMusic starts at 8:00 PM \nAdvance tickets available here: https://form.jotform.com/251884431699168(Membership Discount available)Become a member here: https://www.flemingtondiy.org/member/
URL:https://www.flemingtondiy.org/event/live-show-old-time-music/
END:VEVENT
BEGIN:VEVENT
DTSTART;TZID=America/New_York:20250815T190000
DTEND;TZID=America/New_York:20250815T220000
DTSTAMP:20260424T084629
CREATED:20250521T235031Z
LAST-MODIFIED:20250815T233557Z
UID:10003201-1755284400-1755295200@www.flemingtondiy.org
SUMMARY:Third Friday Board Game Night!
DESCRIPTION:Third Friday Board Game Night running July-November 2025 \nAll ages | Bring your own game or play with one of ours | Meet new people\, have fun\, casual! No RSVP required\, just show up. Free to attend\, donations to Flemington DIY welcomed.
URL:https://www.flemingtondiy.org/event/third-friday-board-game-night-2/
END:VEVENT
BEGIN:VEVENT
DTSTART;TZID=America/New_York:20250814T183000
DTEND;TZID=America/New_York:20250814T203000
DTSTAMP:20260424T084629
CREATED:20250729T233509Z
LAST-MODIFIED:20250813T235050Z
UID:10003363-1755196200-1755203400@www.flemingtondiy.org
SUMMARY:HC Mama's Craft Night
DESCRIPTION:Hang with your fav mamas\, get creative with an easy craft (DIY doormats) and get to know each other a little bit better  \nThis is the perfect opportunity to introduce yourself to local mamas on an intimate level at a small scale event – lots of people come solo and leave with friends at the end of the night \nRegister at tinyurl.com/hcmamascraft
URL:https://www.flemingtondiy.org/event/hc-mamas-craft-night/
END:VEVENT
BEGIN:VEVENT
DTSTART;TZID=America/New_York:20250814T113000
DTEND;TZID=America/New_York:20250814T180000
DTSTAMP:20260424T084629
CREATED:20241221T233542Z
LAST-MODIFIED:20250813T235050Z
UID:10002875-1755171000-1755194400@www.flemingtondiy.org
SUMMARY:Open Hours
DESCRIPTION:Visit the space\, see our current art shows\, hang out\, and learn how to get involved!
URL:https://www.flemingtondiy.org/event/open-hours-210/
END:VEVENT
BEGIN:VEVENT
DTSTART;TZID=America/New_York:20250812T190000
DTEND;TZID=America/New_York:20250812T210000
DTSTAMP:20260424T084629
CREATED:20240929T233645Z
LAST-MODIFIED:20250812T235146Z
UID:10002631-1755025200-1755032400@www.flemingtondiy.org
SUMMARY:Songwriter Circle
DESCRIPTION:Hey\, songwriters: Do you have songs that are half finished? Lyrics you’re not entirely happy with? A songwriting circle is not a performance. It’s an opportunity to connect with other songwriters\, play your song idea for us – whether it’s fully formed or not – and receive gentle\, respectful\, and constructive feedback. All genres welcome! Please bring a few hard copies of your lyrics to share (they’ll be returned to you). We have a piano available. Donations at the door
URL:https://www.flemingtondiy.org/event/songwriter-circle-30/
END:VEVENT
BEGIN:VEVENT
DTSTART;TZID=America/New_York:20250812T113000
DTEND;TZID=America/New_York:20250812T180000
DTSTAMP:20260424T084629
CREATED:20250602T233523Z
LAST-MODIFIED:20250811T235010Z
UID:10003221-1754998200-1755021600@www.flemingtondiy.org
SUMMARY:Open Hours
DESCRIPTION:Visit the space\, see our current art shows\, hang out\, and learn how to get involved!
URL:https://www.flemingtondiy.org/event/open-hours-191/
END:VEVENT
BEGIN:VEVENT
DTSTART;TZID=America/New_York:20250811T180000
DTEND;TZID=America/New_York:20250811T200000
DTSTAMP:20260424T084629
CREATED:20241220T233622Z
LAST-MODIFIED:20250811T235010Z
UID:10002801-1754935200-1754942400@www.flemingtondiy.org
SUMMARY:Hunterdon Fiber Artist Meeting
DESCRIPTION:Looking to meet other fiber artists in the Hunterdon county area?  Think about coming to Hunterdon Fiber Artists meet up to socialize and connect with others doing the fiber art craft that they love. \nAll are welcome.  Just bring your craft be it knitting\, crocheting\, spinning\, etc.\, and be prepared to meet lots of fun and interesting people!  We even have mini educational talks on requested topics! \nOur FB group is Hunterdon Fiber Artists https://www.facebook.com/groups/1101970274078722 \nOur Ravelry group is https://www.ravelry.com/groups/hunterdon-fiber-artists?s=tab \nEvery other Monday at DIY; $3-5 suggested donation.
URL:https://www.flemingtondiy.org/event/hunterdon-fiber-artist-meeting-67/
END:VEVENT
BEGIN:VEVENT
DTSTART;TZID=America/New_York:20250810T190000
DTEND;TZID=America/New_York:20250810T220000
DTSTAMP:20260424T084629
CREATED:20250702T233514Z
LAST-MODIFIED:20250810T233552Z
UID:10003340-1754852400-1754863200@www.flemingtondiy.org
SUMMARY:Live Music - Metal
DESCRIPTION:Spoon of Ukobach (Progressive Metal)Caiatus (Death/Thrash/Doom Metal)Jellyfish Jam (Death/Metalcore/Nu Metal)DedEx(Math Rock) \n$10Doors @ 6:30 / Music @ 7:00All agesNo drugs / no alcohol
URL:https://www.flemingtondiy.org/event/live-music-metal-3/
END:VEVENT
BEGIN:VEVENT
DTSTART;TZID=America/New_York:20250810T143000
DTEND;TZID=America/New_York:20250810T170000
DTSTAMP:20260424T084629
CREATED:20250304T233536Z
LAST-MODIFIED:20250808T235335Z
UID:10003098-1754836200-1754845200@www.flemingtondiy.org
SUMMARY:Women's Comedy Open Mic
DESCRIPTION:Ever wanted to share a joke with your friends? Have a friend who you think is hilarious but don’t know how to let other ladies know about her talent? Here’s an opportunity to give it a try. Enjoy a safe space to share laughs – and if you fail – it’s ok to get up and try again!
URL:https://www.flemingtondiy.org/event/womens-comedy-open-mic-32/
END:VEVENT
BEGIN:VEVENT
DTSTART;TZID=America/New_York:20250810T080000
DTEND;TZID=America/New_York:20250810T100000
DTSTAMP:20260424T084629
CREATED:20250519T235024Z
LAST-MODIFIED:20250808T235333Z
UID:10003191-1754812800-1754820000@www.flemingtondiy.org
SUMMARY:Community Bird Walk
DESCRIPTION:It’s spring migration! Join us on a community bird walk to meet some friends and see some birds!  \nPlease bring binoculars if you’ve got ’em.Registration required: https://forms.gle/FKueAyN256whVP297Meeting location to be sent ahead of event. \nSuggested donation will benefit Flemington DIY and the Raptor Trust.
URL:https://www.flemingtondiy.org/event/community-bird-walk-4/
END:VEVENT
BEGIN:VEVENT
DTSTART;TZID=America/New_York:20250809T190000
DTEND;TZID=America/New_York:20250809T220000
DTSTAMP:20260424T084629
CREATED:20250708T233526Z
LAST-MODIFIED:20250808T235332Z
UID:10003343-1754766000-1754776800@www.flemingtondiy.org
SUMMARY:Live Music - Punk!
DESCRIPTION:Weird Goo (hardcore/punk)Neuroviolent(death thrash punk rock n roll from Brooklyn)Civic Mimic(garage rock/punk)Toads (sludge punk/noise rock) \n$10 at the doorDoors @ 7 / Music @ 8All agesNo drugs / no alcohol
URL:https://www.flemingtondiy.org/event/live-music-punk/
END:VEVENT
BEGIN:VEVENT
DTSTART;TZID=America/New_York:20250809T150000
DTEND;TZID=America/New_York:20250809T170000
DTSTAMP:20260424T084629
CREATED:20250110T233556Z
LAST-MODIFIED:20250808T235331Z
UID:10002968-1754751600-1754758800@www.flemingtondiy.org
SUMMARY:Community Quilt Project
DESCRIPTION:
URL:https://www.flemingtondiy.org/event/community-quilt-project-4/
END:VEVENT
BEGIN:VEVENT
DTSTART;TZID=America/New_York:20250808T190000
DTEND;TZID=America/New_York:20250808T210000
DTSTAMP:20260424T084629
CREATED:20250714T235020Z
LAST-MODIFIED:20250808T235330Z
UID:10003354-1754679600-1754686800@www.flemingtondiy.org
SUMMARY:POSTPONED: “The People’s Joker” Screening
DESCRIPTION:We are so excited to be doing our first event NEXT MONTH in Hunterdon County with @flemingtonqts and @flemingtondiy! \n@thepeoplesjoker is a queer coming-of-age parody about breaking free from the binary and finding your voice in a world that wants to shut you up. 🃏💥 \nTickets are $5 and we’ll have free snacks\, water\, and resources! \nhttps://www.eventeny.com/events/thepeoplesjokerscreening-22047?fbclid=PAQ0xDSwLiTUNleHRuA2FlbQIxMQABp82ygN0Ix7lV7Z04s7fSY_GVI-3d3N20TACSLFlH99oYAssI0qNNrQ-Qe695_aem_WLGPNciHyf1_DL2u19HZmg \nSee you August 8th! \n(THE PEOPLE’S JOKER is not rated. Content warnings include suicide\, blood\, drug use\, homophobic slurs\, abuse\, child abuse\, and transphobia.) \n#thepeoplesjoker #njevents #queerevents #filmscreening #flemingtondiy #flemingtonnj
URL:https://www.flemingtondiy.org/event/the-peoples-joker-screening/
END:VEVENT
BEGIN:VEVENT
DTSTART;TZID=America/New_York:20250807T113000
DTEND;TZID=America/New_York:20250807T180000
DTSTAMP:20260424T084629
CREATED:20241221T233542Z
LAST-MODIFIED:20250806T233517Z
UID:10002873-1754566200-1754589600@www.flemingtondiy.org
SUMMARY:Open Hours
DESCRIPTION:Visit the space\, see our current art shows\, hang out\, and learn how to get involved!
URL:https://www.flemingtondiy.org/event/open-hours-208/
END:VEVENT
BEGIN:VEVENT
DTSTART;TZID=America/New_York:20250805T173000
DTEND;TZID=America/New_York:20250805T190000
DTSTAMP:20260424T084629
CREATED:20250507T233533Z
LAST-MODIFIED:20250803T235519Z
UID:10003171-1754415000-1754420400@www.flemingtondiy.org
SUMMARY:Monthly Food Drive and Skill Share
DESCRIPTION:Drop-off a donation to help stock the Little Free Pantries (LFPs) around Flemington Borough and stay to meet your neighbors! Let’s learn from one another and share our knowledge with a monthly Skill Share. \nLittle Free Pantries are located at:Flemington Area Food Pantry LFP\, 154 Rt 31Salvation Army\, Corner of Hopewell Ave & East Main StreetCommunity LFP\, 10 New Jersey AvenueHunterdon County Community Wellness Center\, 44 Emery AveFlemington DIY LFP\, 26 Stangl RoadFlemington Presbyterian Church LFP\, 10 East Main StreetEchelon Studio Self-Care Pantry\, 27 Fulper Road \nRecommended donations:– Water bottles and gatorade– Shelf stable and canned goods (with pop tops)– Personal and menstrual hygiene items– Cup noodles and ramen– Shelf stable juice and milk– Individually packaged snacks and other ready-to-eat foods– Individually wrapped plastic utensils \nWHAT IS A SKILL SHARE?Skill Shares are meet-ups where folks interested in learning from their community members can come together to share their knowledge and/or learn something new. Everyone has a skill that they can share\, from sewing and mending to gardening to holistic health.  Contact flemingtonqts@gmail.com if you are interested in sharing a topic at our monthly sessions on 1st Tuesdays from 5:30-7PM. No previous experience necessary! Email Jae at flemingtonqts@gmail.com if you have a skill to share.
URL:https://www.flemingtondiy.org/event/monthly-food-drive-and-skill-share-3/
END:VEVENT
BEGIN:VEVENT
DTSTART;TZID=America/New_York:20250805T113000
DTEND;TZID=America/New_York:20250805T180000
DTSTAMP:20260424T084629
CREATED:20250602T233522Z
LAST-MODIFIED:20250803T235516Z
UID:10003220-1754393400-1754416800@www.flemingtondiy.org
SUMMARY:Open Hours
DESCRIPTION:Visit the space\, see our current art shows\, hang out\, and learn how to get involved!
URL:https://www.flemingtondiy.org/event/open-hours-189/
END:VEVENT
BEGIN:VEVENT
DTSTART;TZID=America/New_York:20250803T130000
DTEND;TZID=America/New_York:20250803T170000
DTSTAMP:20260424T084629
CREATED:20240928T233716Z
LAST-MODIFIED:20250802T235116Z
UID:10002603-1754226000-1754240400@www.flemingtondiy.org
SUMMARY:Open Jazz Jams
DESCRIPTION:Open Jazz Jams are held he first Sunday of every month. \nThe sessions will provide an opportunity for musicians to play with an experienced band. From 1-2 PM the hosting musicians for the week will play. Other musicians will be invited to sit in and play between 2-5 PM (typically a minimum of 2 songs each\, circumstances permitting). With the exception of drum kit and piano\, all musicians should bring their own equipment (instruments\, amps\, drum sticks\, microphones\, etc.). The sessions will focus primarily on jazz standards and other jazz tunes contained in Hal Leonard Real Books volumes 1 through 3. Newcomers will be coached through the process.  \nA $3 to $5 donation to Flemington DIY will be required from each musician that plays at the session. Visitors that just want to listen to the music are also welcome to attend for all or any part of the 1-5 PM sessions free of charge.  \nFor questions about the sessions\, or to be added to the monthly text notification list for last minute cancellations or reschedules\, please email njjazzjam@gmail.com
URL:https://www.flemingtondiy.org/event/open-jazz-jams-29/
END:VEVENT
BEGIN:VEVENT
DTSTART;TZID=America/New_York:20250802T183000
DTEND;TZID=America/New_York:20250802T213000
DTSTAMP:20260424T084629
CREATED:20250714T235020Z
LAST-MODIFIED:20250802T235115Z
UID:10003353-1754159400-1754170200@www.flemingtondiy.org
SUMMARY:Rising Stars Teen Showcase
DESCRIPTION:Take a break from Netflix! C’mon out to DIY in Flemington for a great night of family entertainment. Our ‘Teen Summer Showcase’ will feature vocalists\, musicians\, dancers and circus performers. Invite your family\, friends and neighbors to grab an ice cream and join you for a fun summer evening of local entertainment! \nOnline tickets available until 3PM on the day of the show. After that\, tickets will be available at the door. \nDoors open at 6:30. Show starts at 7:00. See you there! \nTICKETSAdults – $10Students (elementary through high school) – $5.00Under 5 – FreeNo charge\, of course\, for our performers
URL:https://www.flemingtondiy.org/event/rising-stars-teen-showcase-2/
END:VEVENT
BEGIN:VEVENT
DTSTART;TZID=America/New_York:20250801T190000
DTEND;TZID=America/New_York:20250801T220000
DTSTAMP:20260424T084629
CREATED:20250711T235033Z
LAST-MODIFIED:20250801T233615Z
UID:10003349-1754074800-1754085600@www.flemingtondiy.org
SUMMARY:Live Music - Punk
DESCRIPTION:Grunter – garage punk \nThe Pleebs – punk rock \nBorn Tired – punk/hardcore \nIridescent Pools – post-punk \n$10Doors @ 6:30\, music @ 7:00All agesNo drugs/no alcohol
URL:https://www.flemingtondiy.org/event/live-music-punk-3/
END:VEVENT
BEGIN:VEVENT
DTSTART;TZID=America/New_York:20250731T190000
DTEND;TZID=America/New_York:20250731T210000
DTSTAMP:20260424T084629
CREATED:20250502T235054Z
LAST-MODIFIED:20250731T233603Z
UID:10003166-1753988400-1753995600@www.flemingtondiy.org
SUMMARY:Cancelled: Summer Story Slam
DESCRIPTION:Prepare a five-minute story based on the monthly themes\, put your name on the list and you will be one of the lucky selected to tell your story! \nTheme: Underdogs: Stories about overcoming obstacles and rising to the top when facing adversity or doubt. \n$10 suggested donation. More info @ flemingtondiy.org/storyslam
URL:https://www.flemingtondiy.org/event/summer-story-slam-3/
END:VEVENT
BEGIN:VEVENT
DTSTART;TZID=America/New_York:20250731T113000
DTEND;TZID=America/New_York:20250731T180000
DTSTAMP:20260424T084629
CREATED:20241221T233541Z
LAST-MODIFIED:20250730T233555Z
UID:10002871-1753961400-1753984800@www.flemingtondiy.org
SUMMARY:Open Hours
DESCRIPTION:Visit the space\, see our current art shows\, hang out\, and learn how to get involved!
URL:https://www.flemingtondiy.org/event/open-hours-206/
END:VEVENT
BEGIN:VEVENT
DTSTART;TZID=America/New_York:20250730T193000
DTEND;TZID=America/New_York:20250730T213000
DTSTAMP:20260424T084629
CREATED:20250224T233557Z
LAST-MODIFIED:20250730T233555Z
UID:10003084-1753903800-1753911000@www.flemingtondiy.org
SUMMARY:Poetry Open Mic
DESCRIPTION:Community members of all levels are invited to read their poetry and listen to the work of others. If you’re looking for a welcoming group of emerging and established poets and beatniks\, this is for you! \nShow up and sign up. No pre-registration to participate. Donations for the space encouraged at the door. All ages but please be aware that mature and sometimes sensitive topics are explored and mentioned at this event.
URL:https://www.flemingtondiy.org/event/poetry-open-mic-46/
END:VEVENT
BEGIN:VEVENT
DTSTART;TZID=America/New_York:20250729T113000
DTEND;TZID=America/New_York:20250729T180000
DTSTAMP:20260424T084629
CREATED:20250602T233521Z
LAST-MODIFIED:20250728T233555Z
UID:10003219-1753788600-1753812000@www.flemingtondiy.org
SUMMARY:Open Hours
DESCRIPTION:Visit the space\, see our current art shows\, hang out\, and learn how to get involved!
URL:https://www.flemingtondiy.org/event/open-hours-187/
END:VEVENT
BEGIN:VEVENT
DTSTART;TZID=America/New_York:20250728T180000
DTEND;TZID=America/New_York:20250728T210000
DTSTAMP:20260424T084629
CREATED:20231107T010616Z
LAST-MODIFIED:20250728T233555Z
UID:10001881-1753725600-1753736400@www.flemingtondiy.org
SUMMARY:Print Club
DESCRIPTION:Flemington DIY Print Club is a weekly open studio held from 6-9PM every Monday\, $15-30 per printer. It provides an opportunity for local artists and community members new to arts processes to utilize shared printmaking facilities. Print Club provides a platform for artists to network\, build community\, and work collaboratively. \nNo experience? No problem! Our vounteers will guide you through the process from start to finish! \nLearn more: https://www.flemingtondiy.org/printclub/
URL:https://www.flemingtondiy.org/event/print-club-243/
END:VEVENT
BEGIN:VEVENT
DTSTART;TZID=America/New_York:20250728T180000
DTEND;TZID=America/New_York:20250728T200000
DTSTAMP:20260424T084629
CREATED:20241220T233622Z
LAST-MODIFIED:20250728T233555Z
UID:10002800-1753725600-1753732800@www.flemingtondiy.org
SUMMARY:Hunterdon Fiber Artist Meeting
DESCRIPTION:Looking to meet other fiber artists in the Hunterdon county area?  Think about coming to Hunterdon Fiber Artists meet up to socialize and connect with others doing the fiber art craft that they love. \nAll are welcome.  Just bring your craft be it knitting\, crocheting\, spinning\, etc.\, and be prepared to meet lots of fun and interesting people!  We even have mini educational talks on requested topics! \nOur FB group is Hunterdon Fiber Artists https://www.facebook.com/groups/1101970274078722 \nOur Ravelry group is https://www.ravelry.com/groups/hunterdon-fiber-artists?s=tab \nEvery other Monday at DIY; $3-5 suggested donation.
URL:https://www.flemingtondiy.org/event/hunterdon-fiber-artist-meeting-66/
END:VEVENT
END:VCALENDAR