BEGIN:VCALENDAR
VERSION:2.0
PRODID:-//Flemington DIY - ECPv6.15.20//NONSGML v1.0//EN
CALSCALE:GREGORIAN
METHOD:PUBLISH
X-WR-CALNAME:Flemington DIY
X-ORIGINAL-URL:https://www.flemingtondiy.org
X-WR-CALDESC:Events for Flemington DIY
REFRESH-INTERVAL;VALUE=DURATION:PT1H
X-Robots-Tag:noindex
X-PUBLISHED-TTL:PT1H
BEGIN:VTIMEZONE
TZID:America/New_York
BEGIN:DAYLIGHT
TZOFFSETFROM:-0500
TZOFFSETTO:-0400
TZNAME:EDT
DTSTART:20260308T070000
END:DAYLIGHT
BEGIN:STANDARD
TZOFFSETFROM:-0400
TZOFFSETTO:-0500
TZNAME:EST
DTSTART:20261101T060000
END:STANDARD
BEGIN:DAYLIGHT
TZOFFSETFROM:-0500
TZOFFSETTO:-0400
TZNAME:EDT
DTSTART:20270314T070000
END:DAYLIGHT
BEGIN:STANDARD
TZOFFSETFROM:-0400
TZOFFSETTO:-0500
TZNAME:EST
DTSTART:20271107T060000
END:STANDARD
BEGIN:DAYLIGHT
TZOFFSETFROM:-0500
TZOFFSETTO:-0400
TZNAME:EDT
DTSTART:20280312T070000
END:DAYLIGHT
BEGIN:STANDARD
TZOFFSETFROM:-0400
TZOFFSETTO:-0500
TZNAME:EST
DTSTART:20281105T060000
END:STANDARD
END:VTIMEZONE
BEGIN:VEVENT
DTSTART;TZID=America/New_York:20270825T193000
DTEND;TZID=America/New_York:20270825T220000
DTSTAMP:20260425T113731
CREATED:20251120T233732Z
LAST-MODIFIED:20260423T234932Z
UID:10003705-1819222200-1819231200@www.flemingtondiy.org
SUMMARY:Poetry Open Mic
DESCRIPTION:Community members of all levels are invited to read their poetry and listen to the work of others. If you’re looking for a welcoming group of emerging and established poets and beatniks\, this is for you!Show up and sign up. No pre-registration to participate. Donations for the space encouraged at the door. All ages but please be aware that mature and sometimes sensitive topics are explored and mentioned at this event.
URL:https://www.flemingtondiy.org/event/poetry-open-mic-60/
END:VEVENT
BEGIN:VEVENT
DTSTART;TZID=America/New_York:20270826T113000
DTEND;TZID=America/New_York:20270826T180000
DTSTAMP:20260425T113731
CREATED:20251107T233737Z
LAST-MODIFIED:20260423T234932Z
UID:10003636-1819279800-1819303200@www.flemingtondiy.org
SUMMARY:Open Hours
DESCRIPTION:
URL:https://www.flemingtondiy.org/event/open-hours-433/
END:VEVENT
BEGIN:VEVENT
DTSTART;TZID=America/New_York:20270830T180000
DTEND;TZID=America/New_York:20270830T200000
DTSTAMP:20260425T113731
CREATED:20260406T130945Z
LAST-MODIFIED:20260423T234932Z
UID:10004014-1819648800-1819656000@www.flemingtondiy.org
SUMMARY:Hunterdon Fiber Artist Meeting
DESCRIPTION:Looking to meet other fiber artists in the Hunterdon county area?  Think about coming to Hunterdon Fiber Artists meet up to socialize and connect with others doing the fiber art craft that they love. \nAll are welcome.  Just bring your craft be it knitting\, crocheting\, spinning\, etc.\, and be prepared to meet lots of fun and interesting people!  We even have mini educational talks on requested topics! \nOur FB group is Hunterdon Fiber Artists https://www.facebook.com/groups/1101970274078722 \nOur Ravelry group is https://www.ravelry.com/groups/hunterdon-fiber-artists?s=tab \nEvery other Monday at DIY; $3-5 suggested donation.
URL:https://www.flemingtondiy.org/event/hunterdon-fiber-artist-meeting-138/
END:VEVENT
BEGIN:VEVENT
DTSTART;TZID=America/New_York:20270830T180000
DTEND;TZID=America/New_York:20270830T210000
DTSTAMP:20260425T113731
CREATED:20260412T235758Z
LAST-MODIFIED:20260423T234932Z
UID:10004136-1819648800-1819659600@www.flemingtondiy.org
SUMMARY:Print Club
DESCRIPTION:Flemington DIY Print Club is a weekly open studio held from 6-9PM every Monday\, $15-30 per printer. It provides an opportunity for local artists and community members new to arts processes to utilize shared printmaking facilities. Print Club provides a platform for artists to network\, build community\, and work collaboratively. \nNo experience? No problem! Our vounteers will guide you through the process from start to finish! \nLearn more: https://www.flemingtondiy.org/printclub/
URL:https://www.flemingtondiy.org/event/print-club-438/
END:VEVENT
BEGIN:VEVENT
DTSTART;TZID=America/New_York:20270831T113000
DTEND;TZID=America/New_York:20270831T180000
DTSTAMP:20260425T113731
CREATED:20250831T235249Z
LAST-MODIFIED:20260423T234932Z
UID:10003409-1819711800-1819735200@www.flemingtondiy.org
SUMMARY:Open Hours
DESCRIPTION:Visit the space\, see our current art shows\, hang out\, and learn how to get involved!
URL:https://www.flemingtondiy.org/event/open-hours-339/
END:VEVENT
BEGIN:VEVENT
DTSTART;TZID=America/New_York:20270902T113000
DTEND;TZID=America/New_York:20270902T180000
DTSTAMP:20260425T113731
CREATED:20251107T233738Z
LAST-MODIFIED:20260423T234932Z
UID:10003637-1819884600-1819908000@www.flemingtondiy.org
SUMMARY:Open Hours
DESCRIPTION:
URL:https://www.flemingtondiy.org/event/open-hours-434/
END:VEVENT
BEGIN:VEVENT
DTSTART;TZID=America/New_York:20270906T180000
DTEND;TZID=America/New_York:20270906T200000
DTSTAMP:20260425T113731
CREATED:20260406T130945Z
LAST-MODIFIED:20260423T234932Z
UID:10004015-1820253600-1820260800@www.flemingtondiy.org
SUMMARY:Hunterdon Fiber Artist Meeting
DESCRIPTION:Looking to meet other fiber artists in the Hunterdon county area?  Think about coming to Hunterdon Fiber Artists meet up to socialize and connect with others doing the fiber art craft that they love. \nAll are welcome.  Just bring your craft be it knitting\, crocheting\, spinning\, etc.\, and be prepared to meet lots of fun and interesting people!  We even have mini educational talks on requested topics! \nOur FB group is Hunterdon Fiber Artists https://www.facebook.com/groups/1101970274078722 \nOur Ravelry group is https://www.ravelry.com/groups/hunterdon-fiber-artists?s=tab \nEvery other Monday at DIY; $3-5 suggested donation.
URL:https://www.flemingtondiy.org/event/hunterdon-fiber-artist-meeting-139/
END:VEVENT
BEGIN:VEVENT
DTSTART;TZID=America/New_York:20270906T180000
DTEND;TZID=America/New_York:20270906T210000
DTSTAMP:20260425T113731
CREATED:20260412T235758Z
LAST-MODIFIED:20260423T234932Z
UID:10004137-1820253600-1820264400@www.flemingtondiy.org
SUMMARY:Print Club
DESCRIPTION:Flemington DIY Print Club is a weekly open studio held from 6-9PM every Monday\, $15-30 per printer. It provides an opportunity for local artists and community members new to arts processes to utilize shared printmaking facilities. Print Club provides a platform for artists to network\, build community\, and work collaboratively. \nNo experience? No problem! Our vounteers will guide you through the process from start to finish! \nLearn more: https://www.flemingtondiy.org/printclub/
URL:https://www.flemingtondiy.org/event/print-club-439/
END:VEVENT
BEGIN:VEVENT
DTSTART;TZID=America/New_York:20270907T113000
DTEND;TZID=America/New_York:20270907T180000
DTSTAMP:20260425T113731
CREATED:20250907T233638Z
LAST-MODIFIED:20260423T234932Z
UID:10003413-1820316600-1820340000@www.flemingtondiy.org
SUMMARY:Open Hours
DESCRIPTION:Visit the space\, see our current art shows\, hang out\, and learn how to get involved!
URL:https://www.flemingtondiy.org/event/open-hours-340/
END:VEVENT
BEGIN:VEVENT
DTSTART;TZID=America/New_York:20270909T113000
DTEND;TZID=America/New_York:20270909T180000
DTSTAMP:20260425T113731
CREATED:20251107T233738Z
LAST-MODIFIED:20260423T234932Z
UID:10003638-1820489400-1820512800@www.flemingtondiy.org
SUMMARY:Open Hours
DESCRIPTION:
URL:https://www.flemingtondiy.org/event/open-hours-435/
END:VEVENT
BEGIN:VEVENT
DTSTART;TZID=America/New_York:20270913T180000
DTEND;TZID=America/New_York:20270913T200000
DTSTAMP:20260425T113731
CREATED:20260406T130946Z
LAST-MODIFIED:20260423T234932Z
UID:10004016-1820858400-1820865600@www.flemingtondiy.org
SUMMARY:Hunterdon Fiber Artist Meeting
DESCRIPTION:Looking to meet other fiber artists in the Hunterdon county area?  Think about coming to Hunterdon Fiber Artists meet up to socialize and connect with others doing the fiber art craft that they love. \nAll are welcome.  Just bring your craft be it knitting\, crocheting\, spinning\, etc.\, and be prepared to meet lots of fun and interesting people!  We even have mini educational talks on requested topics! \nOur FB group is Hunterdon Fiber Artists https://www.facebook.com/groups/1101970274078722 \nOur Ravelry group is https://www.ravelry.com/groups/hunterdon-fiber-artists?s=tab \nEvery other Monday at DIY; $3-5 suggested donation.
URL:https://www.flemingtondiy.org/event/hunterdon-fiber-artist-meeting-140/
END:VEVENT
BEGIN:VEVENT
DTSTART;TZID=America/New_York:20270913T180000
DTEND;TZID=America/New_York:20270913T210000
DTSTAMP:20260425T113731
CREATED:20260412T235758Z
LAST-MODIFIED:20260423T234932Z
UID:10004138-1820858400-1820869200@www.flemingtondiy.org
SUMMARY:Print Club
DESCRIPTION:Flemington DIY Print Club is a weekly open studio held from 6-9PM every Monday\, $15-30 per printer. It provides an opportunity for local artists and community members new to arts processes to utilize shared printmaking facilities. Print Club provides a platform for artists to network\, build community\, and work collaboratively. \nNo experience? No problem! Our vounteers will guide you through the process from start to finish! \nLearn more: https://www.flemingtondiy.org/printclub/
URL:https://www.flemingtondiy.org/event/print-club-440/
END:VEVENT
BEGIN:VEVENT
DTSTART;TZID=America/New_York:20270914T113000
DTEND;TZID=America/New_York:20270914T180000
DTSTAMP:20260425T113731
CREATED:20250914T233645Z
LAST-MODIFIED:20260423T234933Z
UID:10003419-1820921400-1820944800@www.flemingtondiy.org
SUMMARY:Open Hours
DESCRIPTION:Visit the space\, see our current art shows\, hang out\, and learn how to get involved!
URL:https://www.flemingtondiy.org/event/open-hours-341/
END:VEVENT
BEGIN:VEVENT
DTSTART;TZID=America/New_York:20270914T190000
DTEND;TZID=America/New_York:20270914T210000
DTSTAMP:20260425T113731
CREATED:20251107T233738Z
LAST-MODIFIED:20260423T234933Z
UID:10003639-1820948400-1820955600@www.flemingtondiy.org
SUMMARY:Songwriter Circle
DESCRIPTION:Hey\, songwriters: Do you have songs that are half finished? Lyrics you’re not entirely happy with? A songwriting circle is not a performance. It’s an opportunity to connect with other songwriters\, play your song idea for us – whether it’s fully formed or not – and receive gentle\, respectful\, and constructive feedback. All genres welcome! Please bring a few hard copies of your lyrics to share (they’ll be returned to you). We have a piano available. Donations at the door
URL:https://www.flemingtondiy.org/event/songwriter-circle-55/
END:VEVENT
BEGIN:VEVENT
DTSTART;TZID=America/New_York:20270916T113000
DTEND;TZID=America/New_York:20270916T180000
DTSTAMP:20260425T113731
CREATED:20251107T233738Z
LAST-MODIFIED:20260423T234933Z
UID:10003640-1821094200-1821117600@www.flemingtondiy.org
SUMMARY:Open Hours
DESCRIPTION:
URL:https://www.flemingtondiy.org/event/open-hours-436/
END:VEVENT
BEGIN:VEVENT
DTSTART;TZID=America/New_York:20270917T190000
DTEND;TZID=America/New_York:20270917T220000
DTSTAMP:20260425T113731
CREATED:20251111T235233Z
LAST-MODIFIED:20260423T234933Z
UID:10003673-1821207600-1821218400@www.flemingtondiy.org
SUMMARY:Third Friday Board Games
DESCRIPTION:Third Friday Board Game Night All ages | Bring your own game or play with one of ours | Meet new people\, have fun\, casual! No RSVP required\, just show up. Free to attend\, donations to Flemington DIY welcomed.
URL:https://www.flemingtondiy.org/event/third-friday-board-games-20/
END:VEVENT
BEGIN:VEVENT
DTSTART;TZID=America/New_York:20270920T180000
DTEND;TZID=America/New_York:20270920T200000
DTSTAMP:20260425T113731
CREATED:20260406T130946Z
LAST-MODIFIED:20260423T234933Z
UID:10004017-1821463200-1821470400@www.flemingtondiy.org
SUMMARY:Hunterdon Fiber Artist Meeting
DESCRIPTION:Looking to meet other fiber artists in the Hunterdon county area?  Think about coming to Hunterdon Fiber Artists meet up to socialize and connect with others doing the fiber art craft that they love. \nAll are welcome.  Just bring your craft be it knitting\, crocheting\, spinning\, etc.\, and be prepared to meet lots of fun and interesting people!  We even have mini educational talks on requested topics! \nOur FB group is Hunterdon Fiber Artists https://www.facebook.com/groups/1101970274078722 \nOur Ravelry group is https://www.ravelry.com/groups/hunterdon-fiber-artists?s=tab \nEvery other Monday at DIY; $3-5 suggested donation.
URL:https://www.flemingtondiy.org/event/hunterdon-fiber-artist-meeting-141/
END:VEVENT
BEGIN:VEVENT
DTSTART;TZID=America/New_York:20270920T180000
DTEND;TZID=America/New_York:20270920T210000
DTSTAMP:20260425T113731
CREATED:20260412T235758Z
LAST-MODIFIED:20260423T234933Z
UID:10004139-1821463200-1821474000@www.flemingtondiy.org
SUMMARY:Print Club
DESCRIPTION:Flemington DIY Print Club is a weekly open studio held from 6-9PM every Monday\, $15-30 per printer. It provides an opportunity for local artists and community members new to arts processes to utilize shared printmaking facilities. Print Club provides a platform for artists to network\, build community\, and work collaboratively. \nNo experience? No problem! Our vounteers will guide you through the process from start to finish! \nLearn more: https://www.flemingtondiy.org/printclub/
URL:https://www.flemingtondiy.org/event/print-club-441/
END:VEVENT
BEGIN:VEVENT
DTSTART;TZID=America/New_York:20270921T113000
DTEND;TZID=America/New_York:20270921T180000
DTSTAMP:20260425T113731
CREATED:20250921T233624Z
LAST-MODIFIED:20260423T234933Z
UID:10003439-1821526200-1821549600@www.flemingtondiy.org
SUMMARY:Open Hours
DESCRIPTION:Visit the space\, see our current art shows\, hang out\, and learn how to get involved!
URL:https://www.flemingtondiy.org/event/open-hours-232/
END:VEVENT
BEGIN:VEVENT
DTSTART;TZID=America/New_York:20270922T193000
DTEND;TZID=America/New_York:20270922T220000
DTSTAMP:20260425T113731
CREATED:20251120T233733Z
LAST-MODIFIED:20260423T234933Z
UID:10003706-1821641400-1821650400@www.flemingtondiy.org
SUMMARY:Poetry Open Mic
DESCRIPTION:Community members of all levels are invited to read their poetry and listen to the work of others. If you’re looking for a welcoming group of emerging and established poets and beatniks\, this is for you!Show up and sign up. No pre-registration to participate. Donations for the space encouraged at the door. All ages but please be aware that mature and sometimes sensitive topics are explored and mentioned at this event.
URL:https://www.flemingtondiy.org/event/poetry-open-mic-61/
END:VEVENT
BEGIN:VEVENT
DTSTART;TZID=America/New_York:20270923T113000
DTEND;TZID=America/New_York:20270923T180000
DTSTAMP:20260425T113731
CREATED:20251107T233738Z
LAST-MODIFIED:20260423T234933Z
UID:10003641-1821699000-1821722400@www.flemingtondiy.org
SUMMARY:Open Hours
DESCRIPTION:
URL:https://www.flemingtondiy.org/event/open-hours-437/
END:VEVENT
BEGIN:VEVENT
DTSTART;TZID=America/New_York:20270927T180000
DTEND;TZID=America/New_York:20270927T200000
DTSTAMP:20260425T113731
CREATED:20260406T130946Z
LAST-MODIFIED:20260423T234933Z
UID:10004018-1822068000-1822075200@www.flemingtondiy.org
SUMMARY:Hunterdon Fiber Artist Meeting
DESCRIPTION:Looking to meet other fiber artists in the Hunterdon county area?  Think about coming to Hunterdon Fiber Artists meet up to socialize and connect with others doing the fiber art craft that they love. \nAll are welcome.  Just bring your craft be it knitting\, crocheting\, spinning\, etc.\, and be prepared to meet lots of fun and interesting people!  We even have mini educational talks on requested topics! \nOur FB group is Hunterdon Fiber Artists https://www.facebook.com/groups/1101970274078722 \nOur Ravelry group is https://www.ravelry.com/groups/hunterdon-fiber-artists?s=tab \nEvery other Monday at DIY; $3-5 suggested donation.
URL:https://www.flemingtondiy.org/event/hunterdon-fiber-artist-meeting-142/
END:VEVENT
BEGIN:VEVENT
DTSTART;TZID=America/New_York:20270927T180000
DTEND;TZID=America/New_York:20270927T210000
DTSTAMP:20260425T113731
CREATED:20260412T235759Z
LAST-MODIFIED:20260423T234933Z
UID:10004140-1822068000-1822078800@www.flemingtondiy.org
SUMMARY:Print Club
DESCRIPTION:Flemington DIY Print Club is a weekly open studio held from 6-9PM every Monday\, $15-30 per printer. It provides an opportunity for local artists and community members new to arts processes to utilize shared printmaking facilities. Print Club provides a platform for artists to network\, build community\, and work collaboratively. \nNo experience? No problem! Our vounteers will guide you through the process from start to finish! \nLearn more: https://www.flemingtondiy.org/printclub/
URL:https://www.flemingtondiy.org/event/print-club-442/
END:VEVENT
BEGIN:VEVENT
DTSTART;TZID=America/New_York:20270928T113000
DTEND;TZID=America/New_York:20270928T180000
DTSTAMP:20260425T113731
CREATED:20250928T233556Z
LAST-MODIFIED:20260423T234933Z
UID:10003442-1822131000-1822154400@www.flemingtondiy.org
SUMMARY:Open Hours
DESCRIPTION:Visit the space\, see our current art shows\, hang out\, and learn how to get involved!
URL:https://www.flemingtondiy.org/event/open-hours-342/
END:VEVENT
BEGIN:VEVENT
DTSTART;TZID=America/New_York:20270928T190000
DTEND;TZID=America/New_York:20270928T210000
DTSTAMP:20260425T113731
CREATED:20250928T233556Z
LAST-MODIFIED:20260423T234933Z
UID:10003443-1822158000-1822165200@www.flemingtondiy.org
SUMMARY:Classical Music Jam
DESCRIPTION:Jazz bands jam\, rock bands jam\, bluegrass players jams… why not a classical jam?? \nStrings\, brass\, woodwinds… Come join a classical music jam!!   \nBring a piece or two of music to share\, and sit in on the jam!   \nBring your instrument\, music (duo\, trio\, quartet\, etc. or even a full orchestra arrangement) and a stand\, be ready to share\, and let’s play some classical music in an informal setting.   \nWe jam once a month on the 4th Tuesday from 7 PM – 9 PM.   $5 suggested donation to Flemington DIY.  \nDon’t have music\, Don’t have a stand?…. Don’t worry!  Just bring your instrument\, and jam with us! \nCome share your talent and play! Take a break\, relax\, and listen to others.   \nUpcoming Tuesdays:   \n9/30 \n10/28 \n11/25 \n12/23 \nClassical is cool too!  See you at the jam!  
URL:https://www.flemingtondiy.org/event/classical-music-jam-25/
END:VEVENT
BEGIN:VEVENT
DTSTART;TZID=America/New_York:20270930T113000
DTEND;TZID=America/New_York:20270930T180000
DTSTAMP:20260425T113731
CREATED:20251107T233738Z
LAST-MODIFIED:20260423T234933Z
UID:10003642-1822303800-1822327200@www.flemingtondiy.org
SUMMARY:Open Hours
DESCRIPTION:
URL:https://www.flemingtondiy.org/event/open-hours-438/
END:VEVENT
BEGIN:VEVENT
DTSTART;TZID=America/New_York:20271004T180000
DTEND;TZID=America/New_York:20271004T200000
DTSTAMP:20260425T113731
CREATED:20260406T130946Z
LAST-MODIFIED:20260423T234933Z
UID:10004019-1822672800-1822680000@www.flemingtondiy.org
SUMMARY:Hunterdon Fiber Artist Meeting
DESCRIPTION:Looking to meet other fiber artists in the Hunterdon county area?  Think about coming to Hunterdon Fiber Artists meet up to socialize and connect with others doing the fiber art craft that they love. \nAll are welcome.  Just bring your craft be it knitting\, crocheting\, spinning\, etc.\, and be prepared to meet lots of fun and interesting people!  We even have mini educational talks on requested topics! \nOur FB group is Hunterdon Fiber Artists https://www.facebook.com/groups/1101970274078722 \nOur Ravelry group is https://www.ravelry.com/groups/hunterdon-fiber-artists?s=tab \nEvery other Monday at DIY; $3-5 suggested donation.
URL:https://www.flemingtondiy.org/event/hunterdon-fiber-artist-meeting-143/
END:VEVENT
BEGIN:VEVENT
DTSTART;TZID=America/New_York:20271004T180000
DTEND;TZID=America/New_York:20271004T210000
DTSTAMP:20260425T113731
CREATED:20260412T235759Z
LAST-MODIFIED:20260423T234933Z
UID:10004141-1822672800-1822683600@www.flemingtondiy.org
SUMMARY:Print Club
DESCRIPTION:Flemington DIY Print Club is a weekly open studio held from 6-9PM every Monday\, $15-30 per printer. It provides an opportunity for local artists and community members new to arts processes to utilize shared printmaking facilities. Print Club provides a platform for artists to network\, build community\, and work collaboratively. \nNo experience? No problem! Our vounteers will guide you through the process from start to finish! \nLearn more: https://www.flemingtondiy.org/printclub/
URL:https://www.flemingtondiy.org/event/print-club-443/
END:VEVENT
BEGIN:VEVENT
DTSTART;TZID=America/New_York:20271005T113000
DTEND;TZID=America/New_York:20271005T180000
DTSTAMP:20260425T113731
CREATED:20251005T235132Z
LAST-MODIFIED:20260423T234933Z
UID:10003449-1822735800-1822759200@www.flemingtondiy.org
SUMMARY:Open Hours
DESCRIPTION:Visit the space\, see our current art shows\, hang out\, and learn how to get involved!
URL:https://www.flemingtondiy.org/event/open-hours-343/
END:VEVENT
BEGIN:VEVENT
DTSTART;TZID=America/New_York:20271007T113000
DTEND;TZID=America/New_York:20271007T180000
DTSTAMP:20260425T113731
CREATED:20251107T233739Z
LAST-MODIFIED:20260423T234933Z
UID:10003643-1822908600-1822932000@www.flemingtondiy.org
SUMMARY:Open Hours
DESCRIPTION:
URL:https://www.flemingtondiy.org/event/open-hours-439/
END:VEVENT
END:VCALENDAR