BEGIN:VCALENDAR
VERSION:2.0
PRODID:-//Flemington DIY - ECPv6.15.20//NONSGML v1.0//EN
CALSCALE:GREGORIAN
METHOD:PUBLISH
X-WR-CALNAME:Flemington DIY
X-ORIGINAL-URL:https://www.flemingtondiy.org
X-WR-CALDESC:Events for Flemington DIY
REFRESH-INTERVAL;VALUE=DURATION:PT1H
X-Robots-Tag:noindex
X-PUBLISHED-TTL:PT1H
BEGIN:VTIMEZONE
TZID:America/New_York
BEGIN:DAYLIGHT
TZOFFSETFROM:-0500
TZOFFSETTO:-0400
TZNAME:EDT
DTSTART:20240310T070000
END:DAYLIGHT
BEGIN:STANDARD
TZOFFSETFROM:-0400
TZOFFSETTO:-0500
TZNAME:EST
DTSTART:20241103T060000
END:STANDARD
BEGIN:DAYLIGHT
TZOFFSETFROM:-0500
TZOFFSETTO:-0400
TZNAME:EDT
DTSTART:20250309T070000
END:DAYLIGHT
BEGIN:STANDARD
TZOFFSETFROM:-0400
TZOFFSETTO:-0500
TZNAME:EST
DTSTART:20251102T060000
END:STANDARD
BEGIN:DAYLIGHT
TZOFFSETFROM:-0500
TZOFFSETTO:-0400
TZNAME:EDT
DTSTART:20260308T070000
END:DAYLIGHT
BEGIN:STANDARD
TZOFFSETFROM:-0400
TZOFFSETTO:-0500
TZNAME:EST
DTSTART:20261101T060000
END:STANDARD
END:VTIMEZONE
BEGIN:VEVENT
DTSTART;TZID=America/New_York:20251010T193000
DTEND;TZID=America/New_York:20251010T213000
DTSTAMP:20260425T125730
CREATED:20250921T233517Z
LAST-MODIFIED:20251010T233516Z
UID:10003438-1760124600-1760131800@www.flemingtondiy.org
SUMMARY:Laramie Project Staged Reading
DESCRIPTION:Join Members & Friends of the Flemington community for a staged reading of The Laramie Project\, detailing the all too relevant story of the death of Matthew Shepard and its impact on a community through the voices of those who were there to witness it. In October of 1998\, college student Matthew Shepard was brutally tortured and murdered in the small town of Laramie\, Wyoming. He was a young gay man. The incident became a national – and international – story and the Laramie community became fiercely divided in their opinions of the crime. \nJust a month later\, playwright Moises Kaufman and other company members of the Tectonic Theater Project traveled from New York to Laramie\, and for the next year\, they conducted some 200 interviews with the people there. The play The Laramie Project was created from these interviews and tells Matthew’s story as well as the story of a community in crisis and how it began to heal. This play brings to light both the humanity of those left in the wake of violence as well as the brutality of homophobic rhetoricand hatred. \nThis performance will feature local actors and community members: \nDelfina Ines PicchioJim BlossArielle RabanoTodd GregoireRosi EfthimThom BoyerMichael KrahelAllie RussellJanet Quartarone \nA suggested donation of $5 will be collected at the door. No one will be turned away for lack offunds!
URL:https://www.flemingtondiy.org/event/laramie-project-staged-reading/
END:VEVENT
BEGIN:VEVENT
DTSTART;TZID=America/New_York:20251009T130000
DTEND;TZID=America/New_York:20251009T180000
DTSTAMP:20260425T125730
CREATED:20250917T233526Z
LAST-MODIFIED:20251008T233520Z
UID:10003426-1760014800-1760032800@www.flemingtondiy.org
SUMMARY:Crow Puppet Making
DESCRIPTION:Nicole Roia
URL:https://www.flemingtondiy.org/event/crow-making-movie-viewing/
END:VEVENT
BEGIN:VEVENT
DTSTART;TZID=America/New_York:20251009T113000
DTEND;TZID=America/New_York:20251009T180000
DTSTAMP:20260425T125730
CREATED:20241221T233547Z
LAST-MODIFIED:20251008T233520Z
UID:10002891-1760009400-1760032800@www.flemingtondiy.org
SUMMARY:Open Hours
DESCRIPTION:Visit the space\, see our current art shows\, hang out\, and learn how to get involved!
URL:https://www.flemingtondiy.org/event/open-hours-226/
END:VEVENT
BEGIN:VEVENT
DTSTART;TZID=America/New_York:20251007T173000
DTEND;TZID=America/New_York:20251007T190000
DTSTAMP:20260425T125730
CREATED:20250507T233541Z
LAST-MODIFIED:20251005T235134Z
UID:10003173-1759858200-1759863600@www.flemingtondiy.org
SUMMARY:Monthly Food Drive and Skill Share
DESCRIPTION:Drop-off a donation to help stock the Little Free Pantries (LFPs) around Flemington Borough and stay to meet your neighbors! Let’s learn from one another and share our knowledge with a monthly Skill Share. \nLittle Free Pantries are located at:Flemington Area Food Pantry LFP\, 154 Rt 31Salvation Army\, Corner of Hopewell Ave & East Main StreetCommunity LFP\, 10 New Jersey AvenueHunterdon County Community Wellness Center\, 44 Emery AveFlemington DIY LFP\, 26 Stangl RoadFlemington Presbyterian Church LFP\, 10 East Main StreetEchelon Studio Self-Care Pantry\, 27 Fulper Road \nRecommended donations:– Water bottles and gatorade– Shelf stable and canned goods (with pop tops)– Personal and menstrual hygiene items– Cup noodles and ramen– Shelf stable juice and milk– Individually packaged snacks and other ready-to-eat foods– Individually wrapped plastic utensils \nWHAT IS A SKILL SHARE?Skill Shares are meet-ups where folks interested in learning from their community members can come together to share their knowledge and/or learn something new. Everyone has a skill that they can share\, from sewing and mending to gardening to holistic health.  Contact flemingtonqts@gmail.com if you are interested in sharing a topic at our monthly sessions on 1st Tuesdays from 5:30-7PM. No previous experience necessary! Email Jae at flemingtonqts@gmail.com if you have a skill to share.
URL:https://www.flemingtondiy.org/event/monthly-food-drive-and-skill-share-5/
END:VEVENT
BEGIN:VEVENT
DTSTART;TZID=America/New_York:20251007T113000
DTEND;TZID=America/New_York:20251007T180000
DTSTAMP:20260425T125730
CREATED:20250602T233533Z
LAST-MODIFIED:20251005T235134Z
UID:10003229-1759836600-1759860000@www.flemingtondiy.org
SUMMARY:Open Hours
DESCRIPTION:Visit the space\, see our current art shows\, hang out\, and learn how to get involved!
URL:https://www.flemingtondiy.org/event/open-hours-207/
END:VEVENT
BEGIN:VEVENT
DTSTART;TZID=America/New_York:20251006T180000
DTEND;TZID=America/New_York:20251006T210000
DTSTAMP:20260425T125730
CREATED:20231107T010619Z
LAST-MODIFIED:20251005T235133Z
UID:10001891-1759773600-1759784400@www.flemingtondiy.org
SUMMARY:Print Club
DESCRIPTION:Flemington DIY Print Club is a weekly open studio held from 6-9PM every Monday\, $15-30 per printer. It provides an opportunity for local artists and community members new to arts processes to utilize shared printmaking facilities. Print Club provides a platform for artists to network\, build community\, and work collaboratively. \nNo experience? No problem! Our vounteers will guide you through the process from start to finish! \nLearn more: https://www.flemingtondiy.org/printclub/
URL:https://www.flemingtondiy.org/event/print-club-253/
END:VEVENT
BEGIN:VEVENT
DTSTART;TZID=America/New_York:20251006T180000
DTEND;TZID=America/New_York:20251006T200000
DTSTAMP:20260425T125730
CREATED:20241220T233625Z
LAST-MODIFIED:20251005T235133Z
UID:10002805-1759773600-1759780800@www.flemingtondiy.org
SUMMARY:Hunterdon Fiber Artist Meeting
DESCRIPTION:Looking to meet other fiber artists in the Hunterdon county area?  Think about coming to Hunterdon Fiber Artists meet up to socialize and connect with others doing the fiber art craft that they love. \nAll are welcome.  Just bring your craft be it knitting\, crocheting\, spinning\, etc.\, and be prepared to meet lots of fun and interesting people!  We even have mini educational talks on requested topics! \nOur FB group is Hunterdon Fiber Artists https://www.facebook.com/groups/1101970274078722 \nOur Ravelry group is https://www.ravelry.com/groups/hunterdon-fiber-artists?s=tab \nEvery other Monday at DIY; $3-5 suggested donation.
URL:https://www.flemingtondiy.org/event/hunterdon-fiber-artist-meeting-71/
END:VEVENT
BEGIN:VEVENT
DTSTART;TZID=America/New_York:20251005T130000
DTEND;TZID=America/New_York:20251005T170000
DTSTAMP:20260425T125730
CREATED:20240928T233724Z
LAST-MODIFIED:20251004T233546Z
UID:10002609-1759669200-1759683600@www.flemingtondiy.org
SUMMARY:Open Jazz Jams
DESCRIPTION:Open Jazz Jams are held he first Sunday of every month. \nThe sessions will provide an opportunity for musicians to play with an experienced band. From 1-2 PM the hosting musicians for the week will play. Other musicians will be invited to sit in and play between 2-5 PM (typically a minimum of 2 songs each\, circumstances permitting). With the exception of drum kit and piano\, all musicians should bring their own equipment (instruments\, amps\, drum sticks\, microphones\, etc.). The sessions will focus primarily on jazz standards and other jazz tunes contained in Hal Leonard Real Books volumes 1 through 3. Newcomers will be coached through the process.  \nA $3 to $5 donation to Flemington DIY will be required from each musician that plays at the session. Visitors that just want to listen to the music are also welcome to attend for all or any part of the 1-5 PM sessions free of charge.  \nFor questions about the sessions\, or to be added to the monthly text notification list for last minute cancellations or reschedules\, please email njjazzjam@gmail.com
URL:https://www.flemingtondiy.org/event/open-jazz-jams-31/
END:VEVENT
BEGIN:VEVENT
DTSTART;TZID=America/New_York:20251005T093000
DTEND;TZID=America/New_York:20251005T120000
DTSTAMP:20260425T125730
CREATED:20250917T233520Z
LAST-MODIFIED:20251004T233546Z
UID:10003425-1759656600-1759665600@www.flemingtondiy.org
SUMMARY:Crow Making with Art Circle
DESCRIPTION:Make a crow puppet & join our puppet brigade during the Stangl Witch Walk \n– Oct 5th from 9:30am to 12noon at FDIY. Crow Puppets: Join us for a hands-on community arts hang where we make a murder of crows out of simple materials like cardboard and paint. We will take this puppet brigade out into the wild during the Witches Walk on Stangl at the end of October. Bring cardboard\, tape and paint.  \n– Oct 9th from 1-6pm at FDIY. Crow Puppets: Join us during open hours to make MORE PUPPETS!  \nREGISTER Today at FlemingtonDIY.org/art-circle
URL:https://www.flemingtondiy.org/event/crow-making-with-art-circle/
END:VEVENT
BEGIN:VEVENT
DTSTART;TZID=America/New_York:20251005T080000
DTEND;TZID=America/New_York:20251005T100000
DTSTAMP:20260425T125730
CREATED:20250519T235032Z
LAST-MODIFIED:20251004T233546Z
UID:10003195-1759651200-1759658400@www.flemingtondiy.org
SUMMARY:Community Bird Walk
DESCRIPTION:It’s spring migration! Join us on a community bird walk to meet some friends and see some birds!  \nPlease bring binoculars if you’ve got ’em.Registration required: https://forms.gle/FKueAyN256whVP297Meeting location to be sent ahead of event. \nSuggested donation will benefit Flemington DIY and the Raptor Trust.
URL:https://www.flemingtondiy.org/event/community-bird-walk-6/
END:VEVENT
BEGIN:VEVENT
DTSTART;TZID=America/New_York:20251004T160000
DTEND;TZID=America/New_York:20251004T180000
DTSTAMP:20260425T125730
CREATED:20241112T233627Z
LAST-MODIFIED:20251003T233559Z
UID:10002689-1759593600-1759600800@www.flemingtondiy.org
SUMMARY:What is American? Opening Reception
DESCRIPTION:https://www.flemingtondiy.org/whatisamerican/
URL:https://www.flemingtondiy.org/event/indigenous-arts-show-opening/
END:VEVENT
BEGIN:VEVENT
DTSTART;TZID=America/New_York:20251002T113000
DTEND;TZID=America/New_York:20251002T180000
DTSTAMP:20260425T125730
CREATED:20241221T233546Z
LAST-MODIFIED:20250930T235122Z
UID:10002889-1759404600-1759428000@www.flemingtondiy.org
SUMMARY:Open Hours
DESCRIPTION:Visit the space\, see our current art shows\, hang out\, and learn how to get involved!
URL:https://www.flemingtondiy.org/event/open-hours-224/
END:VEVENT
BEGIN:VEVENT
DTSTART;VALUE=DATE:20251001
DTEND;VALUE=DATE:20251101
DTSTAMP:20260425T125730
CREATED:20250918T233511Z
LAST-MODIFIED:20251031T235227Z
UID:10003429-1759276800-1761955199@www.flemingtondiy.org
SUMMARY:What is  American? Art Show
DESCRIPTION:
URL:https://www.flemingtondiy.org/event/bipoc-american-revolution-art-show/
END:VEVENT
BEGIN:VEVENT
DTSTART;TZID=America/New_York:20250930T190000
DTEND;TZID=America/New_York:20250930T210000
DTSTAMP:20260425T125730
CREATED:20250731T233524Z
LAST-MODIFIED:20250930T235121Z
UID:10003365-1759258800-1759266000@www.flemingtondiy.org
SUMMARY:Classical Music Jam
DESCRIPTION:Jazz bands jam\, rock bands jam\, bluegrass players jams… why not a classical jam?? \nStrings\, brass\, woodwinds… Come join a classical music jam!!   \nBring a piece or two of music to share\, and sit in on the jam!   \nBring your instrument\, music (duo\, trio\, quartet\, etc. or even a full orchestra arrangement) and a stand\, be ready to share\, and let’s play some classical music in an informal setting.   \nWe jam once a month on the 4th Tuesday from 7 PM – 9 PM.  $5 suggested donation to Flemington DIY.  \nDon’t have music\, Don’t have a stand?…. Don’t worry!  Just bring your instrument\, and jam with us! \nCome share your talent and play! Take a break\, relax\, and listen to others.   \nUpcoming Tuesdays:   \n9/30 \n10/28 \n11/25 \n12/23 \nClassical is cool too!  See you at the jam!  
URL:https://www.flemingtondiy.org/event/classical-music-jam/
END:VEVENT
BEGIN:VEVENT
DTSTART;TZID=America/New_York:20250930T113000
DTEND;TZID=America/New_York:20250930T180000
DTSTAMP:20260425T125730
CREATED:20250602T233531Z
LAST-MODIFIED:20250929T233546Z
UID:10003228-1759231800-1759255200@www.flemingtondiy.org
SUMMARY:Open Hours
DESCRIPTION:Visit the space\, see our current art shows\, hang out\, and learn how to get involved!
URL:https://www.flemingtondiy.org/event/open-hours-205/
END:VEVENT
BEGIN:VEVENT
DTSTART;TZID=America/New_York:20250929T180000
DTEND;TZID=America/New_York:20250929T210000
DTSTAMP:20260425T125730
CREATED:20231107T010619Z
LAST-MODIFIED:20250929T233546Z
UID:10001890-1759168800-1759179600@www.flemingtondiy.org
SUMMARY:Print Club
DESCRIPTION:Flemington DIY Print Club is a weekly open studio held from 6-9PM every Monday\, $15-30 per printer. It provides an opportunity for local artists and community members new to arts processes to utilize shared printmaking facilities. Print Club provides a platform for artists to network\, build community\, and work collaboratively. \nNo experience? No problem! Our vounteers will guide you through the process from start to finish! \nLearn more: https://www.flemingtondiy.org/printclub/
URL:https://www.flemingtondiy.org/event/print-club-252/
END:VEVENT
BEGIN:VEVENT
DTSTART;TZID=America/New_York:20250929T180000
DTEND;TZID=America/New_York:20250929T200000
DTSTAMP:20260425T125730
CREATED:20250810T233517Z
LAST-MODIFIED:20250929T233546Z
UID:10003395-1759168800-1759176000@www.flemingtondiy.org
SUMMARY:Hunterdon Fiber Artists
DESCRIPTION:Looking to meet other fiber artists in the Hunterdon county area?  Think about coming to Hunterdon Fiber Artists meet up to socialize and connect with others doing the fiber art craft that they love. \nAll are welcome.  Just bring your craft be it knitting\, crocheting\, spinning\, etc.\, and be prepared to meet lots of fun and interesting people!  We even have mini educational talks on requested topics! \nOur FB group is Hunterdon Fiber Artists https://www.facebook.com/groups/1101970274078722 \nOur Ravelry group is https://www.ravelry.com/groups/hunterdon-fiber-artists?s=tab \nEvery other Monday at DIY; $3-5 suggested donation.
URL:https://www.flemingtondiy.org/event/hunterdon-fiber-artists-2/
END:VEVENT
BEGIN:VEVENT
DTSTART;TZID=America/New_York:20250928T080000
DTEND;TZID=America/New_York:20250928T100000
DTSTAMP:20260425T125730
CREATED:20250519T235031Z
LAST-MODIFIED:20250926T235016Z
UID:10003194-1759046400-1759053600@www.flemingtondiy.org
SUMMARY:Community Bird Sit
DESCRIPTION:Last Sunday of the month. 8am-10am. Location will change monthly and be sent to registrants \nJoin us on recurring community bird sits to meet some friends and see some birds! Witness migration from the comfort of a chair or blanket! Come have your morning coffee with us and watch some birds!  \nPlease bring binoculars if you’ve got ’em. \nRegistration required: https://www.flemingtondiy.org/bird/Suggested donation will benefit Flemington DIY and the Raptor Trust.
URL:https://www.flemingtondiy.org/event/community-bird-sit-5/
END:VEVENT
BEGIN:VEVENT
DTSTART;TZID=America/New_York:20250925T113000
DTEND;TZID=America/New_York:20250925T180000
DTSTAMP:20260425T125730
CREATED:20241221T233546Z
LAST-MODIFIED:20250924T233658Z
UID:10002887-1758799800-1758823200@www.flemingtondiy.org
SUMMARY:Open Hours
DESCRIPTION:Visit the space\, see our current art shows\, hang out\, and learn how to get involved!
URL:https://www.flemingtondiy.org/event/open-hours-222/
END:VEVENT
BEGIN:VEVENT
DTSTART;TZID=America/New_York:20250924T193000
DTEND;TZID=America/New_York:20250924T213000
DTSTAMP:20260425T125730
CREATED:20250224T233605Z
LAST-MODIFIED:20250924T233657Z
UID:10003086-1758742200-1758749400@www.flemingtondiy.org
SUMMARY:Poetry Open Mic
DESCRIPTION:Community members of all levels are invited to read their poetry and listen to the work of others. If you’re looking for a welcoming group of emerging and established poets and beatniks\, this is for you! \nShow up and sign up. No pre-registration to participate. Donations for the space encouraged at the door. All ages but please be aware that mature and sometimes sensitive topics are explored and mentioned at this event.
URL:https://www.flemingtondiy.org/event/poetry-open-mic-48/
END:VEVENT
BEGIN:VEVENT
DTSTART;TZID=America/New_York:20250923T190000
DTEND;TZID=America/New_York:20250923T203000
DTSTAMP:20260425T125730
CREATED:20250105T235051Z
LAST-MODIFIED:20250922T235114Z
UID:10002927-1758654000-1758659400@www.flemingtondiy.org
SUMMARY:Volunteer Information Session
DESCRIPTION:Did you know Flemington DIY is 100% volunteer-run and operated? \nJoin us for an informational session & orientation to learn more about our volunteer program. \nPlease pre-register: https://forms.gle/g1uWeb9oSkn6ym4R8Walk ins are also always welcome!
URL:https://www.flemingtondiy.org/event/volunteer-information-session-4/
END:VEVENT
BEGIN:VEVENT
DTSTART;TZID=America/New_York:20250923T113000
DTEND;TZID=America/New_York:20250923T180000
DTSTAMP:20260425T125730
CREATED:20250602T233529Z
LAST-MODIFIED:20250922T235114Z
UID:10003227-1758627000-1758650400@www.flemingtondiy.org
SUMMARY:Open Hours
DESCRIPTION:Visit the space\, see our current art shows\, hang out\, and learn how to get involved!
URL:https://www.flemingtondiy.org/event/open-hours-203/
END:VEVENT
BEGIN:VEVENT
DTSTART;TZID=America/New_York:20250922T180000
DTEND;TZID=America/New_York:20250922T210000
DTSTAMP:20260425T125730
CREATED:20231107T010618Z
LAST-MODIFIED:20250922T235113Z
UID:10001889-1758564000-1758574800@www.flemingtondiy.org
SUMMARY:Print Club
DESCRIPTION:Flemington DIY Print Club is a weekly open studio held from 6-9PM every Monday\, $15-30 per printer. It provides an opportunity for local artists and community members new to arts processes to utilize shared printmaking facilities. Print Club provides a platform for artists to network\, build community\, and work collaboratively. \nNo experience? No problem! Our vounteers will guide you through the process from start to finish! \nLearn more: https://www.flemingtondiy.org/printclub/
URL:https://www.flemingtondiy.org/event/print-club-251/
END:VEVENT
BEGIN:VEVENT
DTSTART;TZID=America/New_York:20250922T180000
DTEND;TZID=America/New_York:20250922T200000
DTSTAMP:20260425T125730
CREATED:20241220T233624Z
LAST-MODIFIED:20250922T235113Z
UID:10002804-1758564000-1758571200@www.flemingtondiy.org
SUMMARY:Hunterdon Fiber Artist Meeting
DESCRIPTION:Looking to meet other fiber artists in the Hunterdon county area?  Think about coming to Hunterdon Fiber Artists meet up to socialize and connect with others doing the fiber art craft that they love. \nAll are welcome.  Just bring your craft be it knitting\, crocheting\, spinning\, etc.\, and be prepared to meet lots of fun and interesting people!  We even have mini educational talks on requested topics! \nOur FB group is Hunterdon Fiber Artists https://www.facebook.com/groups/1101970274078722 \nOur Ravelry group is https://www.ravelry.com/groups/hunterdon-fiber-artists?s=tab \nEvery other Monday at DIY; $3-5 suggested donation.
URL:https://www.flemingtondiy.org/event/hunterdon-fiber-artist-meeting-70/
END:VEVENT
BEGIN:VEVENT
DTSTART;TZID=America/New_York:20250920T193000
DTEND;TZID=America/New_York:20250920T223000
DTSTAMP:20260425T125730
CREATED:20250708T233535Z
LAST-MODIFIED:20250920T233546Z
UID:10003345-1758396600-1758407400@www.flemingtondiy.org
SUMMARY:Live Music - Jazz - Joe Rizzolo Quartet
DESCRIPTION:Joe Rizzolo Quartet   \nTim Hegarty-Tenor sax \nNat Janoff Guitar \nJohn Lenis Bass \nJoe Rizzolo Drums \nMore information and advance tickets link coming soon!  \nBecome a Cool Cat Jazz Card holder and get a deep discount on jazz show tickets!  Purchase one here:  https://form.jotform.com/243404827150148 \nMembers save even more! Become a member now: https://www.flemingtondiy.org/member/
URL:https://www.flemingtondiy.org/event/live-music-jazz-joe-rizzolo-quartet/
END:VEVENT
BEGIN:VEVENT
DTSTART;TZID=America/New_York:20250919T190000
DTEND;TZID=America/New_York:20250919T220000
DTSTAMP:20260425T125730
CREATED:20250521T235034Z
LAST-MODIFIED:20250919T233618Z
UID:10003202-1758308400-1758319200@www.flemingtondiy.org
SUMMARY:Third Friday Board Game Night!
DESCRIPTION:Third Friday Board Game Night running July-November 2025 \nAll ages | Bring your own game or play with one of ours | Meet new people\, have fun\, casual! No RSVP required\, just show up. Free to attend\, donations to Flemington DIY welcomed.
URL:https://www.flemingtondiy.org/event/third-friday-board-game-night-3/
END:VEVENT
BEGIN:VEVENT
DTSTART;TZID=America/New_York:20250918T190000
DTEND;TZID=America/New_York:20250918T210000
DTSTAMP:20260425T125730
CREATED:20241023T233528Z
LAST-MODIFIED:20250918T233551Z
UID:10002660-1758222000-1758229200@www.flemingtondiy.org
SUMMARY:Monthly Open Bluegrass Jam
DESCRIPTION:Bring your instrument\, a couple of tunes\, some friends and your own refreshments. All players welcome – Beginner to pro!  \nFreewill basket to support DIY $5 suggested Open to all ages –strictly no alcohol  \nQuestions? Contact Ed: rvrecband@gmail.com / ejjank@gmail.com
URL:https://www.flemingtondiy.org/event/monthly-open-bluegrass-jam-9/
END:VEVENT
BEGIN:VEVENT
DTSTART;TZID=America/New_York:20250918T113000
DTEND;TZID=America/New_York:20250918T180000
DTSTAMP:20260425T125730
CREATED:20241221T233545Z
LAST-MODIFIED:20250917T233508Z
UID:10002885-1758195000-1758218400@www.flemingtondiy.org
SUMMARY:Open Hours
DESCRIPTION:Visit the space\, see our current art shows\, hang out\, and learn how to get involved!
URL:https://www.flemingtondiy.org/event/open-hours-220/
END:VEVENT
BEGIN:VEVENT
DTSTART;TZID=America/New_York:20250916T183000
DTEND;TZID=America/New_York:20250916T203000
DTSTAMP:20260425T125730
CREATED:20240928T233722Z
LAST-MODIFIED:20250916T233553Z
UID:10002607-1758047400-1758054600@www.flemingtondiy.org
SUMMARY:Flemington Acoustic Players
DESCRIPTION:Calling all Hunterdon County pop/rock/folk stars!  Are you looking for a place to practice your acoustic guitar skills\, and maybe do some singing too?   \nOur merry band of music makers is open to players of all abilities! This gathering however is for Acoustic players ONLY; i.e guitars\, ukuleles\, mandolins & banjos. A drummer and/or an acoustic/electric bassist would be welcomed though to help us all stay in time. \nChords and lyrics to the songs will be projected on a screen so there’s no need for you to bring a music stand or tablet. We will be selecting tunes from a song book that includes a wide variety of rock/pop/folk classics. \nCome and have fun with us as we play and sing along to some of everyone’s favorite tunes! \nSuggested donation of $3-5www.flemingtondiy.org/acoustic/
URL:https://www.flemingtondiy.org/event/flemington-acoustic-players-69/
END:VEVENT
BEGIN:VEVENT
DTSTART;TZID=America/New_York:20250916T113000
DTEND;TZID=America/New_York:20250916T180000
DTSTAMP:20260425T125730
CREATED:20250602T233528Z
LAST-MODIFIED:20250915T233556Z
UID:10003226-1758022200-1758045600@www.flemingtondiy.org
SUMMARY:Open Hours
DESCRIPTION:Visit the space\, see our current art shows\, hang out\, and learn how to get involved!
URL:https://www.flemingtondiy.org/event/open-hours-201/
END:VEVENT
END:VCALENDAR