BEGIN:VCALENDAR
VERSION:2.0
PRODID:-//Flemington DIY - ECPv6.15.20//NONSGML v1.0//EN
CALSCALE:GREGORIAN
METHOD:PUBLISH
X-ORIGINAL-URL:https://www.flemingtondiy.org
X-WR-CALDESC:Events for Flemington DIY
REFRESH-INTERVAL;VALUE=DURATION:PT1H
X-Robots-Tag:noindex
X-PUBLISHED-TTL:PT1H
BEGIN:VTIMEZONE
TZID:America/New_York
BEGIN:DAYLIGHT
TZOFFSETFROM:-0500
TZOFFSETTO:-0400
TZNAME:EDT
DTSTART:20250309T070000
END:DAYLIGHT
BEGIN:STANDARD
TZOFFSETFROM:-0400
TZOFFSETTO:-0500
TZNAME:EST
DTSTART:20251102T060000
END:STANDARD
BEGIN:DAYLIGHT
TZOFFSETFROM:-0500
TZOFFSETTO:-0400
TZNAME:EDT
DTSTART:20260308T070000
END:DAYLIGHT
BEGIN:STANDARD
TZOFFSETFROM:-0400
TZOFFSETTO:-0500
TZNAME:EST
DTSTART:20261101T060000
END:STANDARD
BEGIN:DAYLIGHT
TZOFFSETFROM:-0500
TZOFFSETTO:-0400
TZNAME:EDT
DTSTART:20270314T070000
END:DAYLIGHT
BEGIN:STANDARD
TZOFFSETFROM:-0400
TZOFFSETTO:-0500
TZNAME:EST
DTSTART:20271107T060000
END:STANDARD
END:VTIMEZONE
BEGIN:VEVENT
DTSTART;TZID=America/New_York:20260512T190000
DTEND;TZID=America/New_York:20260512T210000
DTSTAMP:20260423T204140
CREATED:20251107T233722Z
LAST-MODIFIED:20260423T234916Z
UID:10003553-1778612400-1778619600@www.flemingtondiy.org
SUMMARY:Songwriter Circle
DESCRIPTION:Hey\, songwriters: Do you have songs that are half finished? Lyrics you’re not entirely happy with? A songwriting circle is not a performance. It’s an opportunity to connect with other songwriters\, play your song idea for us – whether it’s fully formed or not – and receive gentle\, respectful\, and constructive feedback. All genres welcome! Please bring a few hard copies of your lyrics to share (they’ll be returned to you). We have a piano available. Donations at the door
URL:https://www.flemingtondiy.org/event/songwriter-circle-39/
END:VEVENT
BEGIN:VEVENT
DTSTART;TZID=America/New_York:20260513T193000
DTEND;TZID=America/New_York:20260513T213000
DTSTAMP:20260423T204140
CREATED:20260201T234231Z
LAST-MODIFIED:20260423T234916Z
UID:10003872-1778700600-1778707800@www.flemingtondiy.org
SUMMARY:Ekphrastic Poetry Workshop
DESCRIPTION:Ekphrastic poetry\, simply put\, is writing poetry about the visual arts.   \nTogether\, we will discuss the current exhibiting artworks at Flemington DIY\, using questions and prompts\, both prepared and improvised\, to help us creatively write in response to the local art.   \nAfter a mix of group discussion and individual writing exercises\, we will share our poetry and hear what we all came up with. \nIn this process\, we hope to create understanding of both ourselves and each other\, through writing and thinking creatively in new ways stimulated by local arts.
URL:https://www.flemingtondiy.org/event/ekphrastic-poetry-workshop-4/
END:VEVENT
BEGIN:VEVENT
DTSTART;TZID=America/New_York:20260514T113000
DTEND;TZID=America/New_York:20260514T180000
DTSTAMP:20260423T204140
CREATED:20251107T233722Z
LAST-MODIFIED:20260423T234916Z
UID:10003554-1778758200-1778781600@www.flemingtondiy.org
SUMMARY:Open Hours
DESCRIPTION:
URL:https://www.flemingtondiy.org/event/open-hours-366/
END:VEVENT
BEGIN:VEVENT
DTSTART;TZID=America/New_York:20260514T180000
DTEND;TZID=America/New_York:20260514T200000
DTSTAMP:20260423T204140
CREATED:20260101T233723Z
LAST-MODIFIED:20260423T234916Z
UID:10003786-1778781600-1778788800@www.flemingtondiy.org
SUMMARY:ASL Chat
DESCRIPTION:American Sign Language (ASL) is the predominant sign language of deaf and hard of hearing people in the United States. If you know or are learning ASL\, come sign with us in a casual and supportive space. Deaf\, hard of hearing\, and hearing people are welcome. Come socialize and make new friends in a voice-off environment!  \nFlemington DIY ASL Chats are in person and free to attend. There is no registration required. Please note that everyone is expected to use ASL to communicate during the events.
URL:https://www.flemingtondiy.org/event/asl-chat-9/
END:VEVENT
BEGIN:VEVENT
DTSTART;TZID=America/New_York:20260515T190000
DTEND;TZID=America/New_York:20260515T220000
DTSTAMP:20260423T204140
CREATED:20251111T235221Z
LAST-MODIFIED:20260423T234916Z
UID:10003657-1778871600-1778882400@www.flemingtondiy.org
SUMMARY:Third Friday Board Games
DESCRIPTION:Third Friday Board Game Night All ages | Bring your own game or play with one of ours | Meet new people\, have fun\, casual! No RSVP required\, just show up. Free to attend\, donations to Flemington DIY welcomed.
URL:https://www.flemingtondiy.org/event/third-friday-board-games-4/
END:VEVENT
BEGIN:VEVENT
DTSTART;TZID=America/New_York:20260516T133000
DTEND;TZID=America/New_York:20260516T163000
DTSTAMP:20260423T204140
CREATED:20260119T235756Z
LAST-MODIFIED:20260423T234916Z
UID:10003837-1778938200-1778949000@www.flemingtondiy.org
SUMMARY:PRIVATE EVENT
DESCRIPTION:Flemington DIY offers private rentals for your events\, meetings\, birthday parties\, photo shoots\, and workshops\, all while supporting this community arts space.  Learn more at flemingtondiy.org/rentals
URL:https://www.flemingtondiy.org/event/private-event-8/
END:VEVENT
BEGIN:VEVENT
DTSTART;TZID=America/New_York:20260516T180000
DTEND;TZID=America/New_York:20260516T220000
DTSTAMP:20260423T204140
CREATED:20260406T130925Z
LAST-MODIFIED:20260423T234916Z
UID:10003962-1778954400-1778968800@www.flemingtondiy.org
SUMMARY:TCB and the Jerome Jennings Quintet Plus Reception @ Acme Screening Room
DESCRIPTION:Join us for a special evening at the Acme Screening Room in Lambertville\, NJ! \nFirst a screening of the documentary “TCB: The Toni Cade Bambara School of Organizing”. The film is a biography of the influential writer\, filmmaker and cultural worker\, who with humor and deep insight\, inspired a generation of artists to dedicate themselves to community empowerment. The film is structured as a series of lessons on cultural organizing\, gleaned from Bambara’s life and shared by her friends\, colleagues and students. \nFilm producer/director Louis Massiah commissioned accomplished Jazz drummer\, Jerome Jennings to score the soundtrack. His music complements the visuals\, transporting the audience back to the time and places in which Cade Bambara lived. Following the film Jerome will perform live at the ACME with the Jerome Jennings Quintet. \nA food and wine reception will be held during a half hour intermission after the film. \nAll funds benefit the programming of Flemington DIY and ACME Screening Room. \nDoors: 6pmTickets: Film+Music+Reception $60 / $50 for students$10 off for members!www.flemingtondiy.org/jazz
URL:https://www.flemingtondiy.org/event/tcb-and-the-jerome-jennings-quintet-plus-reception-acme-screening-room/
END:VEVENT
BEGIN:VEVENT
DTSTART;TZID=America/New_York:20260517T120000
DTEND;TZID=America/New_York:20260517T140000
DTSTAMP:20260423T204140
CREATED:20260208T234228Z
LAST-MODIFIED:20260423T234916Z
UID:10003891-1779019200-1779026400@www.flemingtondiy.org
SUMMARY:Gallery Open Hours
DESCRIPTION:
URL:https://www.flemingtondiy.org/event/gallery-open-hours-26/
END:VEVENT
BEGIN:VEVENT
DTSTART;TZID=America/New_York:20260518T180000
DTEND;TZID=America/New_York:20260518T200000
DTSTAMP:20260423T204140
CREATED:20251202T235217Z
LAST-MODIFIED:20260423T234916Z
UID:10003729-1779127200-1779134400@www.flemingtondiy.org
SUMMARY:Hunterdon Fiber Artist Meeting
DESCRIPTION:Looking to meet other fiber artists in the Hunterdon county area?  Think about coming to Hunterdon Fiber Artists meet up to socialize and connect with others doing the fiber art craft that they love. \nAll are welcome.  Just bring your craft be it knitting\, crocheting\, spinning\, etc.\, and be prepared to meet lots of fun and interesting people!  We even have mini educational talks on requested topics! \nOur FB group is Hunterdon Fiber Artists https://www.facebook.com/groups/1101970274078722 \nOur Ravelry group is https://www.ravelry.com/groups/hunterdon-fiber-artists?s=tab \nEvery other Monday at DIY; $3-5 suggested donation.
URL:https://www.flemingtondiy.org/event/hunterdon-fiber-artist-meeting-38/
END:VEVENT
BEGIN:VEVENT
DTSTART;TZID=America/New_York:20260518T180000
DTEND;TZID=America/New_York:20260518T210000
DTSTAMP:20260423T204140
CREATED:20260412T235740Z
LAST-MODIFIED:20260423T234916Z
UID:10004069-1779127200-1779138000@www.flemingtondiy.org
SUMMARY:Print Club
DESCRIPTION:Flemington DIY Print Club is a weekly open studio held from 6-9PM every Monday\, $15-30 per printer. It provides an opportunity for local artists and community members new to arts processes to utilize shared printmaking facilities. Print Club provides a platform for artists to network\, build community\, and work collaboratively. \nNo experience? No problem! Our vounteers will guide you through the process from start to finish! \nLearn more: https://www.flemingtondiy.org/printclub/
URL:https://www.flemingtondiy.org/event/print-club-371/
END:VEVENT
BEGIN:VEVENT
DTSTART;TZID=America/New_York:20260519T113000
DTEND;TZID=America/New_York:20260519T180000
DTSTAMP:20260423T204140
CREATED:20250602T233552Z
LAST-MODIFIED:20260423T234916Z
UID:10003261-1779190200-1779213600@www.flemingtondiy.org
SUMMARY:Open Hours
DESCRIPTION:Visit the space\, see our current art shows\, hang out\, and learn how to get involved!
URL:https://www.flemingtondiy.org/event/open-hours-272/
END:VEVENT
BEGIN:VEVENT
DTSTART;TZID=America/New_York:20260519T183000
DTEND;TZID=America/New_York:20260519T203000
DTSTAMP:20260423T204140
CREATED:20251010T233511Z
LAST-MODIFIED:20260423T234916Z
UID:10003468-1779215400-1779222600@www.flemingtondiy.org
SUMMARY:Flemington Acoustic Players
DESCRIPTION:Calling all Hunterdon County pop/rock/folk stars!  Are you looking for a place to practice your acoustic guitar skills\, and maybe do some singing too?   \nOur merry band of music makers is open to players of all abilities! This gathering however is for Acoustic players ONLY; i.e guitars\, ukuleles\, mandolins & banjos. A drummer and/or an acoustic/electric bassist would be welcomed though to help us all stay in time. \nChords and lyrics to the songs will be projected on a screen so there’s no need for you to bring a music stand or tablet. We will be selecting tunes from a song book that includes a wide variety of rock/pop/folk classics. \nCome and have fun with us as we play and sing along to some of everyone’s favorite tunes! \nSuggested donation of $3-5www.flemingtondiy.org/acoustic/
URL:https://www.flemingtondiy.org/event/flemington-acoustic-players-91/
END:VEVENT
BEGIN:VEVENT
DTSTART;TZID=America/New_York:20260520T190000
DTEND;TZID=America/New_York:20260520T210000
DTSTAMP:20260423T204140
CREATED:20260201T234231Z
LAST-MODIFIED:20260423T234916Z
UID:10003873-1779303600-1779310800@www.flemingtondiy.org
SUMMARY:Keeping Our Community Safe: Monthly Information & Action Meeting
DESCRIPTION:Third Wednesdays | 7–9PM | Flemington DIY \nA monthly gathering of local residents committed to protecting and supporting our immigrant community members. \nTogether\, we will: \n\n\nShare accurate\, up-to-date Know Your Rights information related to ICE presence and immigration enforcement \n\n\nReview protocols for spotting\, documenting\, and responding to ICE activity \n\n\nCoordinate community-based mutual aid efforts \n\n\nCreate and distribute educational materials for neighbors and local businesses \n\n\nStrengthen communication networks that prioritize safety\, dignity\, and collective care \n\n\nThis is a space for informed conversation\, practical preparedness\, coordinated action\, sharing resources\, and strengthening local support networks. All community members who value safety\, solidarity\, and constitutional rights are welcome. \nHosted by concerned community members.
URL:https://www.flemingtondiy.org/event/keeping-our-community-safe-monthly-information-action-meeting-4/
END:VEVENT
BEGIN:VEVENT
DTSTART;TZID=America/New_York:20260521T113000
DTEND;TZID=America/New_York:20260521T180000
DTSTAMP:20260423T204140
CREATED:20251107T233722Z
LAST-MODIFIED:20260423T234916Z
UID:10003555-1779363000-1779386400@www.flemingtondiy.org
SUMMARY:Open Hours
DESCRIPTION:
URL:https://www.flemingtondiy.org/event/open-hours-367/
END:VEVENT
BEGIN:VEVENT
DTSTART;TZID=America/New_York:20260521T180000
DTEND;TZID=America/New_York:20260521T200000
DTSTAMP:20260423T204140
CREATED:20260208T234228Z
LAST-MODIFIED:20260423T234916Z
UID:10003892-1779386400-1779393600@www.flemingtondiy.org
SUMMARY:Gallery Open Hours During BlueGrass Jam
DESCRIPTION:
URL:https://www.flemingtondiy.org/event/gallery-open-hours-during-bluegrass-jam/
END:VEVENT
BEGIN:VEVENT
DTSTART;TZID=America/New_York:20260521T180000
DTEND;TZID=America/New_York:20260521T210000
DTSTAMP:20260423T204140
CREATED:20260414T234254Z
LAST-MODIFIED:20260423T234916Z
UID:10004170-1779386400-1779397200@www.flemingtondiy.org
SUMMARY:Monthly Open Bluegrass Jam (Slow Jam/Teaching Session 6 PM to 7 PM)
DESCRIPTION:Bring your instrument\, a couple of tunes\, some friends and your own refreshments. All players welcome – Beginner to pro!  \n~~~~~~~~~~~~~~~~~6 PM to 7 PM will be a slow jam with old time and bluegrass songs and tunes in a teaching environment and at a slower pace for those wishing to learn or brush up on skills. Questions about the Slow Jam? Contact Jon: jandhtownend@comcast.net~~~~~~~~~~~~~~~~~ \nFreewill basket to support DIY $5 suggested Open to all ages –strictly no alcohol  \nQuestions about the Open Bluegrass Jam? Contact Ed: rvrecband@gmail.com / ejjank@gmail.com
URL:https://www.flemingtondiy.org/event/monthly-open-bluegrass-jam-slow-jam-teaching-session-6-pm-to-7-pm-2/
END:VEVENT
BEGIN:VEVENT
DTSTART;TZID=America/New_York:20260523T120000
DTEND;TZID=America/New_York:20260523T140000
DTSTAMP:20260423T204140
CREATED:20260208T234229Z
LAST-MODIFIED:20260423T234916Z
UID:10003893-1779537600-1779544800@www.flemingtondiy.org
SUMMARY:Gallery Open Hours
DESCRIPTION:
URL:https://www.flemingtondiy.org/event/gallery-open-hours-27/
END:VEVENT
BEGIN:VEVENT
DTSTART;TZID=America/New_York:20260523T150000
DTEND;TZID=America/New_York:20260523T173000
DTSTAMP:20260423T204140
CREATED:20260109T235744Z
LAST-MODIFIED:20260423T234916Z
UID:10003810-1779548400-1779557400@www.flemingtondiy.org
SUMMARY:A Creative Exploration: The Arts + Civic Engagement
DESCRIPTION:A Creative Exploration: The Arts + Civic Engagement  \nJoin us for one or all events. This programming is open to the public while also supporting a cohort of creatives collaborating on a year long arts project.  \n\nMay 23: Collective Care + Mutual Aid 
URL:https://www.flemingtondiy.org/event/a-creative-exploration-the-arts-civic-engagement-2/
END:VEVENT
BEGIN:VEVENT
DTSTART;TZID=America/New_York:20260524T120000
DTEND;TZID=America/New_York:20260524T140000
DTSTAMP:20260423T204140
CREATED:20260208T234229Z
LAST-MODIFIED:20260423T234917Z
UID:10003894-1779624000-1779631200@www.flemingtondiy.org
SUMMARY:Gallery Open Hours
DESCRIPTION:
URL:https://www.flemingtondiy.org/event/gallery-open-hours-28/
END:VEVENT
BEGIN:VEVENT
DTSTART;TZID=America/New_York:20260525T180000
DTEND;TZID=America/New_York:20260525T200000
DTSTAMP:20260423T204140
CREATED:20260406T130926Z
LAST-MODIFIED:20260423T234917Z
UID:10003963-1779732000-1779739200@www.flemingtondiy.org
SUMMARY:Hunterdon Fiber Artist Meeting
DESCRIPTION:Looking to meet other fiber artists in the Hunterdon county area?  Think about coming to Hunterdon Fiber Artists meet up to socialize and connect with others doing the fiber art craft that they love. \nAll are welcome.  Just bring your craft be it knitting\, crocheting\, spinning\, etc.\, and be prepared to meet lots of fun and interesting people!  We even have mini educational talks on requested topics! \nOur FB group is Hunterdon Fiber Artists https://www.facebook.com/groups/1101970274078722 \nOur Ravelry group is https://www.ravelry.com/groups/hunterdon-fiber-artists?s=tab \nEvery other Monday at DIY; $3-5 suggested donation.
URL:https://www.flemingtondiy.org/event/hunterdon-fiber-artist-meeting-87/
END:VEVENT
BEGIN:VEVENT
DTSTART;TZID=America/New_York:20260525T180000
DTEND;TZID=America/New_York:20260525T210000
DTSTAMP:20260423T204140
CREATED:20260412T235740Z
LAST-MODIFIED:20260423T234917Z
UID:10004070-1779732000-1779742800@www.flemingtondiy.org
SUMMARY:Print Club
DESCRIPTION:Flemington DIY Print Club is a weekly open studio held from 6-9PM every Monday\, $15-30 per printer. It provides an opportunity for local artists and community members new to arts processes to utilize shared printmaking facilities. Print Club provides a platform for artists to network\, build community\, and work collaboratively. \nNo experience? No problem! Our vounteers will guide you through the process from start to finish! \nLearn more: https://www.flemingtondiy.org/printclub/
URL:https://www.flemingtondiy.org/event/print-club-372/
END:VEVENT
BEGIN:VEVENT
DTSTART;TZID=America/New_York:20260526T113000
DTEND;TZID=America/New_York:20260526T180000
DTSTAMP:20260423T204140
CREATED:20250602T233552Z
LAST-MODIFIED:20260423T234917Z
UID:10003262-1779795000-1779818400@www.flemingtondiy.org
SUMMARY:Open Hours
DESCRIPTION:Visit the space\, see our current art shows\, hang out\, and learn how to get involved!
URL:https://www.flemingtondiy.org/event/open-hours-273/
END:VEVENT
BEGIN:VEVENT
DTSTART;TZID=America/New_York:20260526T190000
DTEND;TZID=America/New_York:20260526T210000
DTSTAMP:20260423T204140
CREATED:20250731T233541Z
LAST-MODIFIED:20260423T234917Z
UID:10003373-1779822000-1779829200@www.flemingtondiy.org
SUMMARY:Classical Music Jam
DESCRIPTION:Jazz bands jam\, rock bands jam\, bluegrass players jams… why not a classical jam?? \nStrings\, brass\, woodwinds… Come join a classical music jam!!   \nBring a piece or two of music to share\, and sit in on the jam!   \nBring your instrument\, music (duo\, trio\, quartet\, etc. or even a full orchestra arrangement) and a stand\, be ready to share\, and let’s play some classical music in an informal setting.   \nWe jam once a month on the 4th Tuesday from 7 PM – 9 PM.   $5 suggested donation to Flemington DIY.  \nDon’t have music\, Don’t have a stand?…. Don’t worry!  Just bring your instrument\, and jam with us! \nCome share your talent and play! Take a break\, relax\, and listen to others.   \nUpcoming Tuesdays:   \n9/30 \n10/28 \n11/25 \n12/23 \nClassical is cool too!  See you at the jam!  
URL:https://www.flemingtondiy.org/event/classical-music-jam-9/
END:VEVENT
BEGIN:VEVENT
DTSTART;TZID=America/New_York:20260527T193000
DTEND;TZID=America/New_York:20260527T220000
DTSTAMP:20260423T204140
CREATED:20251120T233718Z
LAST-MODIFIED:20260423T234917Z
UID:10003690-1779910200-1779919200@www.flemingtondiy.org
SUMMARY:Poetry Open Mic
DESCRIPTION:Community members of all levels are invited to read their poetry and listen to the work of others. If you’re looking for a welcoming group of emerging and established poets and beatniks\, this is for you!Show up and sign up. No pre-registration to participate. Donations for the space encouraged at the door. All ages but please be aware that mature and sometimes sensitive topics are explored and mentioned at this event.
URL:https://www.flemingtondiy.org/event/poetry-open-mic-35/
END:VEVENT
BEGIN:VEVENT
DTSTART;TZID=America/New_York:20260528T113000
DTEND;TZID=America/New_York:20260528T180000
DTSTAMP:20260423T204140
CREATED:20251107T233722Z
LAST-MODIFIED:20260423T234917Z
UID:10003556-1779967800-1779991200@www.flemingtondiy.org
SUMMARY:Open Hours
DESCRIPTION:
URL:https://www.flemingtondiy.org/event/open-hours-368/
END:VEVENT
BEGIN:VEVENT
DTSTART;TZID=America/New_York:20260529T183000
DTEND;TZID=America/New_York:20260529T220000
DTSTAMP:20260423T204140
CREATED:20260318T234228Z
LAST-MODIFIED:20260423T234917Z
UID:10003950-1780079400-1780092000@www.flemingtondiy.org
SUMMARY:Live Music - Pop Punk
DESCRIPTION:Retrograde BrunsyGet the Net Oliver Stone  \n$10Doors @ 6:30All ages No drugs / no alcohol
URL:https://www.flemingtondiy.org/event/live-music-pop-punk/
END:VEVENT
BEGIN:VEVENT
DTSTART;TZID=America/New_York:20260530T130000
DTEND;TZID=America/New_York:20260530T150000
DTSTAMP:20260423T204140
CREATED:20260208T234229Z
LAST-MODIFIED:20260423T234917Z
UID:10003895-1780146000-1780153200@www.flemingtondiy.org
SUMMARY:Gallery Open Hours
DESCRIPTION:
URL:https://www.flemingtondiy.org/event/gallery-open-hours-29/
END:VEVENT
BEGIN:VEVENT
DTSTART;TZID=America/New_York:20260530T173000
DTEND;TZID=America/New_York:20260530T220000
DTSTAMP:20260423T204140
CREATED:20260318T234228Z
LAST-MODIFIED:20260423T234917Z
UID:10003951-1780162200-1780178400@www.flemingtondiy.org
SUMMARY:Live Music - Metal
DESCRIPTION:Blackest DawnPile of KnivesFadeScorched MindForced \n$5Doors @ 5:30\, Music @ 6:00All agesNo drugs / no alcohol
URL:https://www.flemingtondiy.org/event/live-music-metal-9/
END:VEVENT
BEGIN:VEVENT
DTSTART;VALUE=DATE:20260601
DTEND;VALUE=DATE:20260701
DTSTAMP:20260423T204140
CREATED:20250417T233547Z
LAST-MODIFIED:20260423T234919Z
UID:10003148-1780272000-1782863999@www.flemingtondiy.org
SUMMARY:Art Show - Bethany Altschwager
DESCRIPTION:
URL:https://www.flemingtondiy.org/event/art-show-bethany-altschwager/
END:VEVENT
BEGIN:VEVENT
DTSTART;TZID=America/New_York:20260601T113000
DTEND;TZID=America/New_York:20260601T160000
DTSTAMP:20260423T204140
CREATED:20250417T233547Z
LAST-MODIFIED:20260423T234917Z
UID:10003145-1780313400-1780329600@www.flemingtondiy.org
SUMMARY:Art Gallery Open Hours
DESCRIPTION:
URL:https://www.flemingtondiy.org/event/art-gallery-open-hours/
END:VEVENT
END:VCALENDAR