BEGIN:VCALENDAR
VERSION:2.0
PRODID:-//Flemington DIY - ECPv6.15.20//NONSGML v1.0//EN
CALSCALE:GREGORIAN
METHOD:PUBLISH
X-ORIGINAL-URL:https://www.flemingtondiy.org
X-WR-CALDESC:Events for Flemington DIY
REFRESH-INTERVAL;VALUE=DURATION:PT1H
X-Robots-Tag:noindex
X-PUBLISHED-TTL:PT1H
BEGIN:VTIMEZONE
TZID:America/New_York
BEGIN:DAYLIGHT
TZOFFSETFROM:-0500
TZOFFSETTO:-0400
TZNAME:EDT
DTSTART:20230312T070000
END:DAYLIGHT
BEGIN:STANDARD
TZOFFSETFROM:-0400
TZOFFSETTO:-0500
TZNAME:EST
DTSTART:20231105T060000
END:STANDARD
BEGIN:DAYLIGHT
TZOFFSETFROM:-0500
TZOFFSETTO:-0400
TZNAME:EDT
DTSTART:20240310T070000
END:DAYLIGHT
BEGIN:STANDARD
TZOFFSETFROM:-0400
TZOFFSETTO:-0500
TZNAME:EST
DTSTART:20241103T060000
END:STANDARD
BEGIN:DAYLIGHT
TZOFFSETFROM:-0500
TZOFFSETTO:-0400
TZNAME:EDT
DTSTART:20250309T070000
END:DAYLIGHT
BEGIN:STANDARD
TZOFFSETFROM:-0400
TZOFFSETTO:-0500
TZNAME:EST
DTSTART:20251102T060000
END:STANDARD
END:VTIMEZONE
BEGIN:VEVENT
DTSTART;TZID=America/New_York:20240805T180000
DTEND;TZID=America/New_York:20240805T200000
DTSTAMP:20260425T082708
CREATED:20240711T235024Z
LAST-MODIFIED:20240805T235050Z
UID:10002419-1722880800-1722888000@www.flemingtondiy.org
SUMMARY:Print Club: Volunteer & Member Party
DESCRIPTION:Hey 👋 hey>>>All of our Amazing Volunteers & MembersThis one is for you!DIY Print Club will be hosting a party for all of us to print a light colored sweatshirt or tshirt or fabric whatever!Print Club Volunteers are each making a small graphic that we will then print collage style all over our garment.DIY will be supplying refreshments.Just bring yourself and a light colored item to print on.Please note: Print Club open hours are cancelled on this date\, and this event is exclusive for volunteers & members. PC will be back in September for regular hours!  \nRSVP to Delfina at volunteer@flemingtondiy.org Volunteer socials are a great way to meet other volunteers/members & build community with each other. We hope to see you there!\nJoin with Google Meet: https://meet.google.com/zmw-qwmh-hgj\nOr dial: (US) +1 607-638-7189 PIN: 825850715#\nMore phone numbers: https://tel.meet/zmw-qwmh-hgj?pin=5769129842970&hs=7\nLearn more about Meet at: https://support.google.com/a/users/answer/9282720
URL:https://www.flemingtondiy.org/event/print-club-volunteer-member-party/
END:VEVENT
BEGIN:VEVENT
DTSTART;TZID=America/New_York:20240806T110000
DTEND;TZID=America/New_York:20240806T130000
DTSTAMP:20260425T082708
CREATED:20240422T223540Z
LAST-MODIFIED:20240805T235050Z
UID:10002250-1722942000-1722949200@www.flemingtondiy.org
SUMMARY:Embroidery 101 (early class)
DESCRIPTION:Learn the art of embroidery in this step-by-step workshop. Adult participants will learn all the basics\, from how to transfer a design to a diversity of stitches\, as well as how to split the thread and thread a needle with ease. This workshop is both a great way to start your journey into the world of embroidery in addition to reviewing some basics of the craft form. All skill levels are welcome. $25 to register (online) + a materials fee of $10.00 is due the day of the workshop and paid to the instructor. \nhttps://www.flemingtondiy.org/embroidery/
URL:https://www.flemingtondiy.org/event/embroidery-101-early-class/
END:VEVENT
BEGIN:VEVENT
DTSTART;TZID=America/New_York:20240806T130000
DTEND;TZID=America/New_York:20240806T180000
DTSTAMP:20260425T082708
CREATED:20240617T235020Z
LAST-MODIFIED:20240805T235050Z
UID:10002362-1722949200-1722967200@www.flemingtondiy.org
SUMMARY:Open Hours
DESCRIPTION:
URL:https://www.flemingtondiy.org/event/open-hours-92/
END:VEVENT
BEGIN:VEVENT
DTSTART;TZID=America/New_York:20240806T180000
DTEND;TZID=America/New_York:20240806T200000
DTSTAMP:20260425T082708
CREATED:20240422T223540Z
LAST-MODIFIED:20240806T235013Z
UID:10002251-1722967200-1722974400@www.flemingtondiy.org
SUMMARY:Embroidery 101 (late class)
DESCRIPTION:Learn the art of embroidery in this step-by-step workshop. Adult participants will learn all the basics\, from how to transfer a design to a diversity of stitches\, as well as how to split the thread and thread a needle with ease. This workshop is both a great way to start your journey into the world of embroidery in addition to reviewing some basics of the craft form. All skill levels are welcome. $25 to register (online) + a materials fee of $10.00 is due the day of the workshop and paid to the instructor. \nhttps://www.flemingtondiy.org/embroidery/
URL:https://www.flemingtondiy.org/event/embroidery-101-late-class/
END:VEVENT
BEGIN:VEVENT
DTSTART;TZID=America/New_York:20240807T110000
DTEND;TZID=America/New_York:20240807T133000
DTSTAMP:20260425T082708
CREATED:20240422T223540Z
LAST-MODIFIED:20240806T235014Z
UID:10002252-1723028400-1723037400@www.flemingtondiy.org
SUMMARY:Scratch Art Class (early class)
DESCRIPTION:Scratch art is an exciting graphic technique to create value drawings. You will be so impressed with your work of art in this no-fail lesson.  You will learn how to transfer a design to scratchboard\, Learn how to use different tools and techniques under the guidance of art coach\, Jenny Santa Maria. You can create value drawings by scratching off the black ink and revealing the white board beneath. Many animal references will be provided you can choose from to gain experience bringing out the texture of the fur on scratchboard.\n$25 per person + $10 material fee due day of event
URL:https://www.flemingtondiy.org/event/scratch-art-class-early-class/
END:VEVENT
BEGIN:VEVENT
DTSTART;TZID=America/New_York:20240807T173000
DTEND;TZID=America/New_York:20240807T200000
DTSTAMP:20260425T082708
CREATED:20240422T223541Z
LAST-MODIFIED:20240807T235020Z
UID:10002253-1723051800-1723060800@www.flemingtondiy.org
SUMMARY:Scratch Art Class (late class) CANCELED
DESCRIPTION:Scratch art is an exciting graphic technique to create value drawings. You will be so impressed with your work of art in this no-fail lesson.  You will learn how to transfer a design to scratchboard\, Learn how to use different tools and techniques under the guidance of art coach\, Jenny Santa Maria. You can create value drawings by scratching off the black ink and revealing the white board beneath. Many animal references will be provided you can choose from to gain experience bringing out the texture of the fur on scratchboard.\n$25 per person + $10 material fee due day of event
URL:https://www.flemingtondiy.org/event/scratch-art-class-late-class/
END:VEVENT
BEGIN:VEVENT
DTSTART;TZID=America/New_York:20240808T083000
DTEND;TZID=America/New_York:20240808T153000
DTSTAMP:20260425T082708
CREATED:20240514T233523Z
LAST-MODIFIED:20240807T235020Z
UID:10002302-1723105800-1723131000@www.flemingtondiy.org
SUMMARY:Summer Art Club with Creative Whimsies
DESCRIPTION:Summer Art Clubs with Creative Whimsies \n \n\nLed by a certified teacher\nAll supplies included\nHelps support a nonprofit\nGet the kids out of the house!\nUnique and fun projects\n\nStarting at $25 per session. \n45-60 minute classes \nAt Flemington DIY\, 26 Stangl Road \n  \nLearn More \nhttps://www.cwhimsies.com/summer
URL:https://www.flemingtondiy.org/event/summer-art-club-with-creative-whimsies-13/
END:VEVENT
BEGIN:VEVENT
DTSTART;TZID=America/New_York:20240808T153000
DTEND;TZID=America/New_York:20240808T180000
DTSTAMP:20260425T082708
CREATED:20240520T235057Z
LAST-MODIFIED:20240807T235020Z
UID:10002330-1723131000-1723140000@www.flemingtondiy.org
SUMMARY:Open Hours
DESCRIPTION:Visit the space\, see our current art shows\, hang out\, and learn how to get involved!
URL:https://www.flemingtondiy.org/event/open-hours-136/
END:VEVENT
BEGIN:VEVENT
DTSTART;TZID=America/New_York:20240809T193000
DTEND;TZID=America/New_York:20240809T213000
DTSTAMP:20260425T082708
CREATED:20240622T233513Z
LAST-MODIFIED:20240808T235052Z
UID:10002366-1723231800-1723239000@www.flemingtondiy.org
SUMMARY:Dance Party!
DESCRIPTION:Bring your friends\, your family; all are welcome in this alcohol-free dance party.  Our DJ will be playing a variety of dance music from motown to break beat to have a carefree fun night.   All donations go to support the wonderful non profit space of Flemington DIY\nevent
URL:https://www.flemingtondiy.org/event/dance-party-2/
END:VEVENT
BEGIN:VEVENT
DTSTART;TZID=America/New_York:20240810T090000
DTEND;TZID=America/New_York:20240810T120000
DTSTAMP:20260425T082708
CREATED:20240804T233655Z
LAST-MODIFIED:20240808T235052Z
UID:10002467-1723280400-1723291200@www.flemingtondiy.org
SUMMARY:Music together
DESCRIPTION:
URL:https://www.flemingtondiy.org/event/music-together-256/
END:VEVENT
BEGIN:VEVENT
DTSTART;TZID=America/New_York:20240810T130000
DTEND;TZID=America/New_York:20240810T190000
DTSTAMP:20260425T082708
CREATED:20240708T233546Z
LAST-MODIFIED:20240808T235052Z
UID:10002401-1723294800-1723316400@www.flemingtondiy.org
SUMMARY:Hope Vandegrift Art Show Gallery Hours
DESCRIPTION:
URL:https://www.flemingtondiy.org/event/hope-vandegrift-art-show-gallery-hours/
END:VEVENT
BEGIN:VEVENT
DTSTART;TZID=America/New_York:20240811T143000
DTEND;TZID=America/New_York:20240811T170000
DTSTAMP:20260425T082708
CREATED:20231104T010523Z
LAST-MODIFIED:20240810T233531Z
UID:10001794-1723386600-1723395600@www.flemingtondiy.org
SUMMARY:Women's Comedy Open Mic
DESCRIPTION:Ever wanted to share a joke with your friends? Have a friend who you think is hilarious but don’t know how to let other ladies know about her talent? Here’s an opportunity to give it a try. Enjoy a safe space to share laughs – and if you fail – it’s ok to get up and try again!Sign up in advance: https://www.jotform.com/assign/233097504623152/232664975561063
URL:https://www.flemingtondiy.org/event/womens-comedy-open-mic-10/
END:VEVENT
BEGIN:VEVENT
DTSTART;TZID=America/New_York:20240811T190000
DTEND;TZID=America/New_York:20240811T220000
DTSTAMP:20260425T082708
CREATED:20240724T235044Z
LAST-MODIFIED:20240811T233549Z
UID:10002444-1723402800-1723413600@www.flemingtondiy.org
SUMMARY:Live Music
DESCRIPTION:Autumnal\n(fuzz folk)\nHannah Rose\n(Alternative folk)\nMadhavi Devi\n(singer songwriter)\n$10 Donation\nDoors @ 6:30pm\nAll Ages \nNo Drugs/Alcohol
URL:https://www.flemingtondiy.org/event/live-music-83/
END:VEVENT
BEGIN:VEVENT
DTSTART;TZID=America/New_York:20240812T090000
DTEND;TZID=America/New_York:20240812T120000
DTSTAMP:20260425T082708
CREATED:20240624T233517Z
LAST-MODIFIED:20240811T233549Z
UID:10002381-1723453200-1723464000@www.flemingtondiy.org
SUMMARY:Music Together
DESCRIPTION:Every week in our music classes at Music Together Flemington\, babies\, toddlers\, preschoolers\, and the grownups who love them come together for a time of musical play. Little ones love playing along in class\, and caregivers love being a part of their children’s growth into confident music-makers. And everyone loves our songs that’ll have you tapping along in no time \nLearn more and enroll today: https://www.musictogetherflemington.com/
URL:https://www.flemingtondiy.org/event/music-together-252/
END:VEVENT
BEGIN:VEVENT
DTSTART;TZID=America/New_York:20240812T180000
DTEND;TZID=America/New_York:20240812T200000
DTSTAMP:20260425T082708
CREATED:20240528T235059Z
LAST-MODIFIED:20240812T235852Z
UID:10002345-1723485600-1723492800@www.flemingtondiy.org
SUMMARY:Hunterdon Fiber Artist Meeting
DESCRIPTION:Looking to meet other fiber artists in the Hunterdon county area?  Think about coming to Hunterdon Fiber Artists meet up to socialize and connect with others doing the fiber art craft that they love. \nAll are welcome.  Just bring your craft be it knitting\, crocheting\, spinning\, etc.\, and be prepared to meet lots of fun and interesting people!  We even have mini educational talks on requested topics! \nOur FB group is Hunterdon Fiber Artists https://www.facebook.com/groups/1101970274078722 \nOur Ravelry group is https://www.ravelry.com/groups/hunterdon-fiber-artists?s=tab \nEvery other Monday at DIY; $3-5 suggested donation.
URL:https://www.flemingtondiy.org/event/hunterdon-fiber-artist-meeting-15/
END:VEVENT
BEGIN:VEVENT
DTSTART;TZID=America/New_York:20240813T100000
DTEND;TZID=America/New_York:20240813T180000
DTSTAMP:20260425T082708
CREATED:20240520T235058Z
LAST-MODIFIED:20240812T235852Z
UID:10002331-1723543200-1723572000@www.flemingtondiy.org
SUMMARY:Open Hours
DESCRIPTION:Visit the space\, see our current art shows\, hang out\, and learn how to get involved!
URL:https://www.flemingtondiy.org/event/open-hours-137/
END:VEVENT
BEGIN:VEVENT
DTSTART;TZID=America/New_York:20240813T190000
DTEND;TZID=America/New_York:20240813T210000
DTSTAMP:20260425T082708
CREATED:20240103T045029Z
LAST-MODIFIED:20240812T235852Z
UID:10002005-1723575600-1723582800@www.flemingtondiy.org
SUMMARY:Songwriter Circle - CANCELED
DESCRIPTION:Hey\, songwriters: Do you have songs that are half finished? Lyrics you’re not entirely happy with? A songwriting circle is not a performance. It’s an opportunity to connect with other songwriters\, play your song idea for us – whether it’s fully formed or not – and receive gentle\, respectful\, and constructive feedback. All genres welcome! Please bring a few hard copies of your lyrics to share (they’ll be returned to you). We have a piano available. Donations at the door
URL:https://www.flemingtondiy.org/event/songwriter-circle-18/
END:VEVENT
BEGIN:VEVENT
DTSTART;TZID=America/New_York:20240814T090000
DTEND;TZID=America/New_York:20240814T120000
DTSTAMP:20260425T082708
CREATED:20240624T233518Z
LAST-MODIFIED:20240812T235852Z
UID:10002382-1723626000-1723636800@www.flemingtondiy.org
SUMMARY:Music Together
DESCRIPTION:Every week in our music classes at Music Together Flemington\, babies\, toddlers\, preschoolers\, and the grownups who love them come together for a time of musical play. Little ones love playing along in class\, and caregivers love being a part of their children’s growth into confident music-makers. And everyone loves our songs that’ll have you tapping along in no time \nLearn more and enroll today: https://www.musictogetherflemington.com/
URL:https://www.flemingtondiy.org/event/music-together-253/
END:VEVENT
BEGIN:VEVENT
DTSTART;TZID=America/New_York:20240814T183000
DTEND;TZID=America/New_York:20240814T210000
DTSTAMP:20260425T082708
CREATED:20240710T235019Z
LAST-MODIFIED:20240814T233508Z
UID:10002413-1723660200-1723669200@www.flemingtondiy.org
SUMMARY:Hunterdon County NAACP Family Game Night
DESCRIPTION:The Hunterdon County NAACP\, in conjunction with Flemington DIY is hosting a Family Game Night. Enjoy playing your favorite games\, meeting neighbors and making new friends. \n \nFree Admission  \nWe will have pizza! \nPlease RSVP to hcnaacpcoc@gmail.com\, so we can get a headcount for the pizza.
URL:https://www.flemingtondiy.org/event/hunterdon-county-naacp-family-game-night/
END:VEVENT
BEGIN:VEVENT
DTSTART;TZID=America/New_York:20240815T083000
DTEND;TZID=America/New_York:20240815T153000
DTSTAMP:20260425T082708
CREATED:20240514T233524Z
LAST-MODIFIED:20240814T233509Z
UID:10002305-1723710600-1723735800@www.flemingtondiy.org
SUMMARY:Summer Art Club with Creative Whimsies
DESCRIPTION:Summer Art Clubs with Creative Whimsies \n \n\nLed by a certified teacher\nAll supplies included\nHelps support a nonprofit\nGet the kids out of the house!\nUnique and fun projects\n\nStarting at $25 per session. \n45-60 minute classes \nAt Flemington DIY\, 26 Stangl Road \n  \nLearn More \nhttps://www.cwhimsies.com/summer
URL:https://www.flemingtondiy.org/event/summer-art-club-with-creative-whimsies-16/
END:VEVENT
BEGIN:VEVENT
DTSTART;TZID=America/New_York:20240815T153000
DTEND;TZID=America/New_York:20240815T180000
DTSTAMP:20260425T082708
CREATED:20240520T235058Z
LAST-MODIFIED:20240814T233509Z
UID:10002332-1723735800-1723744800@www.flemingtondiy.org
SUMMARY:Open Hours
DESCRIPTION:Visit the space\, see our current art shows\, hang out\, and learn how to get involved!
URL:https://www.flemingtondiy.org/event/open-hours-138/
END:VEVENT
BEGIN:VEVENT
DTSTART;TZID=America/New_York:20240815T180000
DTEND;TZID=America/New_York:20240815T200000
DTSTAMP:20260425T082708
CREATED:20240708T233547Z
LAST-MODIFIED:20240815T235014Z
UID:10002402-1723744800-1723752000@www.flemingtondiy.org
SUMMARY:Mural Battle: Battle of the Walls
DESCRIPTION:Mural Battle: Battle of the Walls This neighborly competition invites two artists to duke it out with pens and markers\, for a two hour art-making extravaganza. Our host\, OurNaturalState\, will choose a theme\, and YOU (the artist)\, will create something\, anything\, you think portrays that theme in your OWN style.  \nWinners get their art placed in a highly trafficked area in Flemington\, as well as a “bio post”\, and other social shout outs to bathe them in their winner’s glory. \nJoin us every 3rd Thursday during Sip and Stroll on Stangl Rd in Flemington from July to December for some art\, community and fun. \nThe first battle begins July 18th 2024 from 6-8 just outside of Flemington DIY. \nFor more info or to get involved please contact:@OurNaturalState on IGORournaturalstateofbeing@gmail.com
URL:https://www.flemingtondiy.org/event/mural-battle-battle-of-the-walls-2/
END:VEVENT
BEGIN:VEVENT
DTSTART;TZID=America/New_York:20240815T190000
DTEND;TZID=America/New_York:20240815T210000
DTSTAMP:20260425T082708
CREATED:20231103T010516Z
LAST-MODIFIED:20240815T235015Z
UID:10001710-1723748400-1723755600@www.flemingtondiy.org
SUMMARY:Monthly Open Bluegrass Jam Session
DESCRIPTION:All players welcome! beginner to pro\nBring your instrument\, a couple of tunes\,\nsome friends and your own refreshments\nFreewill basket to support DIY $5 suggested\nDIY Is open to all ages –strictly no alcohol
URL:https://www.flemingtondiy.org/event/monthly-open-bluegrass-jam-session-17/
END:VEVENT
BEGIN:VEVENT
DTSTART;TZID=America/New_York:20240816T180000
DTEND;TZID=America/New_York:20240816T200000
DTSTAMP:20260425T082708
CREATED:20240708T233547Z
LAST-MODIFIED:20240816T235041Z
UID:10002403-1723831200-1723838400@www.flemingtondiy.org
SUMMARY:Hope Vandegrift Art Show Gallery Hours
DESCRIPTION:
URL:https://www.flemingtondiy.org/event/hope-vandegrift-art-show-gallery-hours-2/
END:VEVENT
BEGIN:VEVENT
DTSTART;TZID=America/New_York:20240817T090000
DTEND;TZID=America/New_York:20240817T120000
DTSTAMP:20260425T082708
CREATED:20240624T233519Z
LAST-MODIFIED:20240816T235042Z
UID:10002383-1723885200-1723896000@www.flemingtondiy.org
SUMMARY:Music Together
DESCRIPTION:Every week in our music classes at Music Together Flemington\, babies\, toddlers\, preschoolers\, and the grownups who love them come together for a time of musical play. Little ones love playing along in class\, and caregivers love being a part of their children’s growth into confident music-makers. And everyone loves our songs that’ll have you tapping along in no time \nLearn more and enroll today: https://www.musictogetherflemington.com/
URL:https://www.flemingtondiy.org/event/music-together-254/
END:VEVENT
BEGIN:VEVENT
DTSTART;TZID=America/New_York:20240817T150000
DTEND;TZID=America/New_York:20240817T230000
DTSTAMP:20260425T082708
CREATED:20240223T161844Z
LAST-MODIFIED:20240817T235055Z
UID:10002127-1723906800-1723935600@www.flemingtondiy.org
SUMMARY:Njoise & Adjacent Fest
DESCRIPTION:Njoise Gunk Fest 2024\nCurated by Tape Pencil\n20+ noise\, noise adjacent and video artists. Short sets\, back to back. Afternoon & night.\n10:20 – Runk Spasm Eye\n10:00 – Toads\n9:40 – Icky Bits\n9:20 – S.K.U.M. 41\n9:00 – Cognitive Distortion\n8:40 – Trigal\n8: 20 – Haniver\n8:00 – Exhibit: A\n7:40 – Ranseur\n7:20 – Comfort Link\n7:00 – Alice Fawn\n6: 40 – (time adjust)\n6:20 – RSMA\n6:00 – Relief\n5:40 – Earth Rim Walker\n5:20 – Sweet Pith\n5:00 – Big Claw Cancer Cult\n4:40 – Half A House\n4:20 – Invisible Circle\n4:00 – Despacialized\n3:40 – emmy’s black box\n3:20 – Bugger\n3:00 – Gluck Gluck\nFREE SHOW\nDoors @ 2:30pm\nAll Ages\nNo Drugs/Alcohol\nSponsors: Phantasm Comics\, Unchanged Mind Records\, Woodrock Studio & Siren Records.
URL:https://www.flemingtondiy.org/event/hot-gunk-in-the-sun-2024/
END:VEVENT
BEGIN:VEVENT
DTSTART;TZID=America/New_York:20240818T100000
DTEND;TZID=America/New_York:20240818T140000
DTSTAMP:20260425T082708
CREATED:20240708T233547Z
LAST-MODIFIED:20240817T235055Z
UID:10002404-1723975200-1723989600@www.flemingtondiy.org
SUMMARY:Hope Vandegrift Art Show Gallery Hours
DESCRIPTION:
URL:https://www.flemingtondiy.org/event/hope-vandegrift-art-show-gallery-hours-3/
END:VEVENT
BEGIN:VEVENT
DTSTART;TZID=America/New_York:20240820T100000
DTEND;TZID=America/New_York:20240820T180000
DTSTAMP:20260425T082708
CREATED:20240520T235059Z
LAST-MODIFIED:20240819T235110Z
UID:10002333-1724148000-1724176800@www.flemingtondiy.org
SUMMARY:Open Hours
DESCRIPTION:Visit the space\, see our current art shows\, hang out\, and learn how to get involved!
URL:https://www.flemingtondiy.org/event/open-hours-139/
END:VEVENT
BEGIN:VEVENT
DTSTART;TZID=America/New_York:20240820T183000
DTEND;TZID=America/New_York:20240820T203000
DTSTAMP:20260425T082708
CREATED:20231103T010516Z
LAST-MODIFIED:20240819T235110Z
UID:10001711-1724178600-1724185800@www.flemingtondiy.org
SUMMARY:Flemington Acoustic Players
DESCRIPTION:Calling all Hunterdon County pop/rock/folk stars!  Are you looking for a place to practice your acoustic guitar skills\, and maybe do some singing too?   \nOur merry band of music makers is open to players of all abilities! This gathering however is for Acoustic players ONLY; i.e guitars\, ukuleles\, mandolins & banjos. A drummer and/or an acoustic/electric bassist would be welcomed though to help us all stay in time. \nChords and lyrics to the songs will be projected on a screen so there’s no need for you to bring a music stand or tablet. We will be selecting tunes from a song book that includes a wide variety of rock/pop/folk classics. \nCome and have fun with us as we play and sing along to some of everyone’s favorite tunes! \nSuggested donation of $3-5www.flemingtondiy.org/acoustic/
URL:https://www.flemingtondiy.org/event/flemington-acoustic-players-80/
END:VEVENT
BEGIN:VEVENT
DTSTART;TZID=America/New_York:20240822T083000
DTEND;TZID=America/New_York:20240822T153000
DTSTAMP:20260425T082708
CREATED:20240514T233524Z
LAST-MODIFIED:20240821T233542Z
UID:10002307-1724315400-1724340600@www.flemingtondiy.org
SUMMARY:Summer Art Club with Creative Whimsies
DESCRIPTION:Summer Art Clubs with Creative Whimsies \n \n\nLed by a certified teacher\nAll supplies included\nHelps support a nonprofit\nGet the kids out of the house!\nUnique and fun projects\n\nStarting at $25 per session. \n45-60 minute classes \nAt Flemington DIY\, 26 Stangl Road \n  \nLearn More \nhttps://www.cwhimsies.com/summer
URL:https://www.flemingtondiy.org/event/summer-art-club-with-creative-whimsies-18/
END:VEVENT
END:VCALENDAR