BEGIN:VCALENDAR
VERSION:2.0
PRODID:-//Flemington DIY - ECPv6.15.20//NONSGML v1.0//EN
CALSCALE:GREGORIAN
METHOD:PUBLISH
X-ORIGINAL-URL:https://www.flemingtondiy.org
X-WR-CALDESC:Events for Flemington DIY
REFRESH-INTERVAL;VALUE=DURATION:PT1H
X-Robots-Tag:noindex
X-PUBLISHED-TTL:PT1H
BEGIN:VTIMEZONE
TZID:America/New_York
BEGIN:DAYLIGHT
TZOFFSETFROM:-0500
TZOFFSETTO:-0400
TZNAME:EDT
DTSTART:20230312T070000
END:DAYLIGHT
BEGIN:STANDARD
TZOFFSETFROM:-0400
TZOFFSETTO:-0500
TZNAME:EST
DTSTART:20231105T060000
END:STANDARD
BEGIN:DAYLIGHT
TZOFFSETFROM:-0500
TZOFFSETTO:-0400
TZNAME:EDT
DTSTART:20240310T070000
END:DAYLIGHT
BEGIN:STANDARD
TZOFFSETFROM:-0400
TZOFFSETTO:-0500
TZNAME:EST
DTSTART:20241103T060000
END:STANDARD
BEGIN:DAYLIGHT
TZOFFSETFROM:-0500
TZOFFSETTO:-0400
TZNAME:EDT
DTSTART:20250309T070000
END:DAYLIGHT
BEGIN:STANDARD
TZOFFSETFROM:-0400
TZOFFSETTO:-0500
TZNAME:EST
DTSTART:20251102T060000
END:STANDARD
END:VTIMEZONE
BEGIN:VEVENT
DTSTART;TZID=America/New_York:20240520T180000
DTEND;TZID=America/New_York:20240520T200000
DTSTAMP:20260425T121750
CREATED:20240311T192019Z
LAST-MODIFIED:20240520T235124Z
UID:10002145-1716228000-1716235200@www.flemingtondiy.org
SUMMARY:Hunterdon Fiber Artist Meeting
DESCRIPTION:Looking to meet other fiber artists in the Hunterdon county area?  Think about coming to Hunterdon Fiber Artists meet up to socialize and connect with others doing the fiber art craft that they love. \nAll are welcome.  Just bring your craft be it knitting\, crocheting\, spinning\, etc.\, and be prepared to meet lots of fun and interesting people!  We even have mini educational talks on requested topics! \nOur FB group is Hunterdon Fiber Artists https://www.facebook.com/groups/1101970274078722 \nOur Ravelry group is https://www.ravelry.com/groups/hunterdon-fiber-artists?s=tab \nEvery other Monday at DIY; $3-5 suggested donation.
URL:https://www.flemingtondiy.org/event/hunterdon-fiber-artist-meeting-9/
END:VEVENT
BEGIN:VEVENT
DTSTART;TZID=America/New_York:20240520T180000
DTEND;TZID=America/New_York:20240520T210000
DTSTAMP:20260425T121750
CREATED:20231107T010548Z
LAST-MODIFIED:20240520T235124Z
UID:10001819-1716228000-1716238800@www.flemingtondiy.org
SUMMARY:Print Club
DESCRIPTION:Flemington DIY Print Club is a weekly open studio held from 6-9PM every Monday\, $15-30 per printer. It provides an opportunity for local artists and community members new to arts processes to utilize shared printmaking facilities. Print Club provides a platform for artists to network\, build community\, and work collaboratively. \nNo experience? No problem! Our vounteers will guide you through the process from start to finish! \nLearn more: https://www.flemingtondiy.org/printclub/
URL:https://www.flemingtondiy.org/event/print-club-181/
END:VEVENT
BEGIN:VEVENT
DTSTART;TZID=America/New_York:20240521T100000
DTEND;TZID=America/New_York:20240521T153000
DTSTAMP:20260425T121750
CREATED:20240512T233632Z
LAST-MODIFIED:20240520T235124Z
UID:10002279-1716285600-1716305400@www.flemingtondiy.org
SUMMARY:Open Hours
DESCRIPTION:Visit the space\, see our current art show\, hang out\, and learn how to get involved!
URL:https://www.flemingtondiy.org/event/open-hours-118/
END:VEVENT
BEGIN:VEVENT
DTSTART;TZID=America/New_York:20240521T161500
DTEND;TZID=America/New_York:20240521T170000
DTSTAMP:20260425T121750
CREATED:20240223T161839Z
LAST-MODIFIED:20240520T235124Z
UID:10002120-1716308100-1716310800@www.flemingtondiy.org
SUMMARY:Youth Art Club
DESCRIPTION:Creative Whimsies is looking for kids grades 3-8 to join us for After School Art Enrichment classes taught by local artist & certified teacher\, Christine Brandt. \nKids will create unique projects\, and develop their creative thinking skills in a fun\, relaxed atmosphere outside of the school environment. \nLimited spots available! \nSign Up + More info: https://www.flemingtondiy.org/art-club/
URL:https://www.flemingtondiy.org/event/youth-art-club-23/
END:VEVENT
BEGIN:VEVENT
DTSTART;TZID=America/New_York:20240521T183000
DTEND;TZID=America/New_York:20240521T203000
DTSTAMP:20260425T121750
CREATED:20231103T010515Z
LAST-MODIFIED:20240520T235124Z
UID:10001702-1716316200-1716323400@www.flemingtondiy.org
SUMMARY:Flemington Acoustic Players
DESCRIPTION:Calling all Hunterdon County pop/rock/folk stars!  Are you looking for a place to practice your acoustic guitar skills\, and maybe do some singing too?   \nOur merry band of music makers is open to players of all abilities! This gathering however is for Acoustic players ONLY; i.e guitars\, ukuleles\, mandolins & banjos. A drummer and/or an acoustic/electric bassist would be welcomed though to help us all stay in time. \nChords and lyrics to the songs will be projected on a screen so there’s no need for you to bring a music stand or tablet. We will be selecting tunes from a song book that includes a wide variety of rock/pop/folk classics. \nCome and have fun with us as we play and sing along to some of everyone’s favorite tunes! \nSuggested donation of $3-5www.flemingtondiy.org/acoustic/
URL:https://www.flemingtondiy.org/event/flemington-acoustic-players-77/
END:VEVENT
BEGIN:VEVENT
DTSTART;TZID=America/New_York:20240522T094500
DTEND;TZID=America/New_York:20240522T120000
DTSTAMP:20260425T121750
CREATED:20240325T202118Z
LAST-MODIFIED:20240520T235124Z
UID:10002194-1716371100-1716379200@www.flemingtondiy.org
SUMMARY:Music Together
DESCRIPTION:Every week in our music classes at Music Together Flemington\, babies\, toddlers\, preschoolers\, and the grownups who love them come together for a time of musical play. Little ones love playing along in class\, and caregivers love being a part of their children’s growth into confident music-makers. And everyone loves our songs that’ll have you tapping along in no time \nLearn more and enroll today: https://www.musictogetherflemington.com/
URL:https://www.flemingtondiy.org/event/music-together-219/
END:VEVENT
BEGIN:VEVENT
DTSTART;TZID=America/New_York:20240522T161500
DTEND;TZID=America/New_York:20240522T171500
DTSTAMP:20260425T121750
CREATED:20240325T202118Z
LAST-MODIFIED:20240520T235124Z
UID:10002195-1716394500-1716398100@www.flemingtondiy.org
SUMMARY:Music Together
DESCRIPTION:Every week in our music classes at Music Together Flemington\, babies\, toddlers\, preschoolers\, and the grownups who love them come together for a time of musical play. Little ones love playing along in class\, and caregivers love being a part of their children’s growth into confident music-makers. And everyone loves our songs that’ll have you tapping along in no time \nLearn more and enroll today: https://www.musictogetherflemington.com/
URL:https://www.flemingtondiy.org/event/music-together-220/
END:VEVENT
BEGIN:VEVENT
DTSTART;TZID=America/New_York:20240523T113000
DTEND;TZID=America/New_York:20240523T180000
DTSTAMP:20260425T121750
CREATED:20240103T045026Z
LAST-MODIFIED:20240522T233604Z
UID:10001991-1716463800-1716487200@www.flemingtondiy.org
SUMMARY:Open Hours
DESCRIPTION:Visit the space\, see our current art show\, hang out\, and learn how to get involved!
URL:https://www.flemingtondiy.org/event/open-hours-85/
END:VEVENT
BEGIN:VEVENT
DTSTART;TZID=America/New_York:20240524T091500
DTEND;TZID=America/New_York:20240524T113000
DTSTAMP:20260425T121750
CREATED:20240325T202118Z
LAST-MODIFIED:20240523T233600Z
UID:10002196-1716542100-1716550200@www.flemingtondiy.org
SUMMARY:Music Together
DESCRIPTION:Every week in our music classes at Music Together Flemington\, babies\, toddlers\, preschoolers\, and the grownups who love them come together for a time of musical play. Little ones love playing along in class\, and caregivers love being a part of their children’s growth into confident music-makers. And everyone loves our songs that’ll have you tapping along in no time \nLearn more and enroll today: https://www.musictogetherflemington.com/
URL:https://www.flemingtondiy.org/event/music-together-221/
END:VEVENT
BEGIN:VEVENT
DTSTART;TZID=America/New_York:20240524T190000
DTEND;TZID=America/New_York:20240524T220000
DTSTAMP:20260425T121750
CREATED:20231216T032021Z
LAST-MODIFIED:20240524T235042Z
UID:10001944-1716577200-1716588000@www.flemingtondiy.org
SUMMARY:Live Music
DESCRIPTION:Your Best Nightmare\n(bubblegum punk) \nPoison I.V. \n(punk) \nIndeyevid\n(hc punk) \nThe Deflators\n(punk)\nAugust Killed October\n(hc punk)\n$10-15 Donation\nDoors @ 7pm\nAll ages\nNo Drugs/Alcohol
URL:https://www.flemingtondiy.org/event/live-music-44/
END:VEVENT
BEGIN:VEVENT
DTSTART;TZID=America/New_York:20240525T090000
DTEND;TZID=America/New_York:20240525T120000
DTSTAMP:20260425T121750
CREATED:20240325T202118Z
LAST-MODIFIED:20240524T235042Z
UID:10002197-1716627600-1716638400@www.flemingtondiy.org
SUMMARY:Music Together
DESCRIPTION:Every week in our music classes at Music Together Flemington\, babies\, toddlers\, preschoolers\, and the grownups who love them come together for a time of musical play. Little ones love playing along in class\, and caregivers love being a part of their children’s growth into confident music-makers. And everyone loves our songs that’ll have you tapping along in no time \nLearn more and enroll today: https://www.musictogetherflemington.com/
URL:https://www.flemingtondiy.org/event/music-together-222/
END:VEVENT
BEGIN:VEVENT
DTSTART;TZID=America/New_York:20240525T190000
DTEND;TZID=America/New_York:20240525T220000
DTSTAMP:20260425T121750
CREATED:20240411T212141Z
LAST-MODIFIED:20240525T235134Z
UID:10002244-1716663600-1716674400@www.flemingtondiy.org
SUMMARY:Live Music
DESCRIPTION:SHOW CANCELED!!\nXHOURGLASSX\n(Hardcore)\nCIRCLE DRIVE\n(Alt Rock/Emo)\nMYRCENE\n(Hardcore)\nENDLESS MIDNIGHT\n(Industrial Post Hardcore)\n$10 Donation\nDoors @ 6:30pm\nNo Drugs/Alcohol
URL:https://www.flemingtondiy.org/event/live-music-68/
END:VEVENT
BEGIN:VEVENT
DTSTART;TZID=America/New_York:20240528T100000
DTEND;TZID=America/New_York:20240528T153000
DTSTAMP:20260425T121750
CREATED:20240512T233633Z
LAST-MODIFIED:20240527T233648Z
UID:10002280-1716890400-1716910200@www.flemingtondiy.org
SUMMARY:Open Hours
DESCRIPTION:Visit the space\, see our current art show\, hang out\, and learn how to get involved!
URL:https://www.flemingtondiy.org/event/open-hours-119/
END:VEVENT
BEGIN:VEVENT
DTSTART;TZID=America/New_York:20240528T161500
DTEND;TZID=America/New_York:20240528T170000
DTSTAMP:20260425T121750
CREATED:20240223T161839Z
LAST-MODIFIED:20240527T233648Z
UID:10002121-1716912900-1716915600@www.flemingtondiy.org
SUMMARY:Youth Art Club
DESCRIPTION:Creative Whimsies is looking for kids grades 3-8 to join us for After School Art Enrichment classes taught by local artist & certified teacher\, Christine Brandt. \nKids will create unique projects\, and develop their creative thinking skills in a fun\, relaxed atmosphere outside of the school environment. \nLimited spots available! \nSign Up + More info: https://www.flemingtondiy.org/art-club/
URL:https://www.flemingtondiy.org/event/youth-art-club-24/
END:VEVENT
BEGIN:VEVENT
DTSTART;TZID=America/New_York:20240528T180000
DTEND;TZID=America/New_York:20240528T200000
DTSTAMP:20260425T121750
CREATED:20240424T225018Z
LAST-MODIFIED:20240528T235119Z
UID:10002256-1716919200-1716926400@www.flemingtondiy.org
SUMMARY:Post the Vote!
DESCRIPTION:Be part of the Sticky-Note Squad! Join us to prepare encouraging post-its to exercise your rights and get out the vote. \nMeet us at Flemington DIY\, 26 Stangl Road and bring a snack to share!\nPlease RSVP to Amy B at hcrise2024@gmail.com.\nDonations accepted at the door for the use of the DIY’s space.
URL:https://www.flemingtondiy.org/event/post-the-vote/
END:VEVENT
BEGIN:VEVENT
DTSTART;TZID=America/New_York:20240529T094500
DTEND;TZID=America/New_York:20240529T120000
DTSTAMP:20260425T121750
CREATED:20240325T202119Z
LAST-MODIFIED:20240528T235119Z
UID:10002198-1716975900-1716984000@www.flemingtondiy.org
SUMMARY:Music Together
DESCRIPTION:Every week in our music classes at Music Together Flemington\, babies\, toddlers\, preschoolers\, and the grownups who love them come together for a time of musical play. Little ones love playing along in class\, and caregivers love being a part of their children’s growth into confident music-makers. And everyone loves our songs that’ll have you tapping along in no time \nLearn more and enroll today: https://www.musictogetherflemington.com/
URL:https://www.flemingtondiy.org/event/music-together-223/
END:VEVENT
BEGIN:VEVENT
DTSTART;TZID=America/New_York:20240529T161500
DTEND;TZID=America/New_York:20240529T171500
DTSTAMP:20260425T121750
CREATED:20240325T202119Z
LAST-MODIFIED:20240528T235119Z
UID:10002199-1716999300-1717002900@www.flemingtondiy.org
SUMMARY:Music Together
DESCRIPTION:Every week in our music classes at Music Together Flemington\, babies\, toddlers\, preschoolers\, and the grownups who love them come together for a time of musical play. Little ones love playing along in class\, and caregivers love being a part of their children’s growth into confident music-makers. And everyone loves our songs that’ll have you tapping along in no time \nLearn more and enroll today: https://www.musictogetherflemington.com/
URL:https://www.flemingtondiy.org/event/music-together-224/
END:VEVENT
BEGIN:VEVENT
DTSTART;TZID=America/New_York:20240529T193000
DTEND;TZID=America/New_York:20240529T213000
DTSTAMP:20260425T121750
CREATED:20231101T010513Z
LAST-MODIFIED:20240529T235040Z
UID:10001667-1717011000-1717018200@www.flemingtondiy.org
SUMMARY:Poetry Open Mic
DESCRIPTION:show up & sign up\ndonations at the door\nall ages
URL:https://www.flemingtondiy.org/event/poetry-open-mic-22/
END:VEVENT
BEGIN:VEVENT
DTSTART;TZID=America/New_York:20240530T113000
DTEND;TZID=America/New_York:20240530T180000
DTSTAMP:20260425T121750
CREATED:20240103T045026Z
LAST-MODIFIED:20240529T235040Z
UID:10001992-1717068600-1717092000@www.flemingtondiy.org
SUMMARY:Open Hours
DESCRIPTION:Visit the space\, see our current art show\, hang out\, and learn how to get involved!
URL:https://www.flemingtondiy.org/event/open-hours-86/
END:VEVENT
BEGIN:VEVENT
DTSTART;TZID=America/New_York:20240530T173000
DTEND;TZID=America/New_York:20240530T213000
DTSTAMP:20260425T121750
CREATED:20240326T202017Z
LAST-MODIFIED:20240530T235125Z
UID:10002214-1717090200-1717104600@www.flemingtondiy.org
SUMMARY:Live Music
DESCRIPTION:Ollie Johnson – @ollie.leaf.music(singer-songwriter) \nMatt Hand – @handicusmusic (singer-songwriter) \nScott Pine – @scottpinemusic (singer-songwriter) \nAlex Wojcik – @alex_wojcik__ (electronic) \nJonah Kleitsch – @jonah_kleitsch27(rockabilly) \nJoshua Zalot – @joshuazalotmusic (organizer) \n$10 @ DoorDoors @ 5pmAll AgesNo Drugs/Alcohol
URL:https://www.flemingtondiy.org/event/live-music-62/
END:VEVENT
BEGIN:VEVENT
DTSTART;TZID=America/New_York:20240531T091500
DTEND;TZID=America/New_York:20240531T113000
DTSTAMP:20260425T121750
CREATED:20240325T202119Z
LAST-MODIFIED:20240530T235125Z
UID:10002200-1717146900-1717155000@www.flemingtondiy.org
SUMMARY:Music Together
DESCRIPTION:Every week in our music classes at Music Together Flemington\, babies\, toddlers\, preschoolers\, and the grownups who love them come together for a time of musical play. Little ones love playing along in class\, and caregivers love being a part of their children’s growth into confident music-makers. And everyone loves our songs that’ll have you tapping along in no time \nLearn more and enroll today: https://www.musictogetherflemington.com/
URL:https://www.flemingtondiy.org/event/music-together-225/
END:VEVENT
BEGIN:VEVENT
DTSTART;TZID=America/New_York:20240531T190000
DTEND;TZID=America/New_York:20240531T220000
DTSTAMP:20260425T121750
CREATED:20240223T161840Z
LAST-MODIFIED:20240530T235125Z
UID:10002122-1717182000-1717192800@www.flemingtondiy.org
SUMMARY:Live Music
DESCRIPTION:Joy On Fire! \n(punk jazz progressive)\nThieves In Paris\n(Progressive jazz)\nHeathmonger\n(Progressive psych)\n$10-15 at door\nDoors @ 7pm\nAll Ages\nNo Drugs/Alcohol
URL:https://www.flemingtondiy.org/event/live-music-53/
END:VEVENT
BEGIN:VEVENT
DTSTART;TZID=America/New_York:20240601T090000
DTEND;TZID=America/New_York:20240601T120000
DTSTAMP:20260425T121750
CREATED:20240325T202119Z
LAST-MODIFIED:20240530T235125Z
UID:10002201-1717232400-1717243200@www.flemingtondiy.org
SUMMARY:Music Together
DESCRIPTION:Every week in our music classes at Music Together Flemington\, babies\, toddlers\, preschoolers\, and the grownups who love them come together for a time of musical play. Little ones love playing along in class\, and caregivers love being a part of their children’s growth into confident music-makers. And everyone loves our songs that’ll have you tapping along in no time \nLearn more and enroll today: https://www.musictogetherflemington.com/
URL:https://www.flemingtondiy.org/event/music-together-226/
END:VEVENT
BEGIN:VEVENT
DTSTART;TZID=America/New_York:20240601T130000
DTEND;TZID=America/New_York:20240601T160000
DTSTAMP:20260425T121750
CREATED:20240513T233512Z
LAST-MODIFIED:20240530T235126Z
UID:10002284-1717246800-1717257600@www.flemingtondiy.org
SUMMARY:QT Art Show Open Hours
DESCRIPTION:
URL:https://www.flemingtondiy.org/event/qt-art-show-open-hours/
END:VEVENT
BEGIN:VEVENT
DTSTART;TZID=America/New_York:20240601T190000
DTEND;TZID=America/New_York:20240601T220000
DTSTAMP:20260425T121750
CREATED:20240223T161840Z
LAST-MODIFIED:20240601T233549Z
UID:10002123-1717268400-1717279200@www.flemingtondiy.org
SUMMARY:Live Music
DESCRIPTION:Bugger\n(Noise)\nPainted Faces \n(Psych/Noise/Experimental)\nCop Funeral\n(Noise/Already Dead Tapes)\nWest Jersey Airport\n(Psych Rock/Proto-grunge)\nDoors @ 7pm\n$10-15 Donation\nNo Drugs/Alcohol
URL:https://www.flemingtondiy.org/event/live-music-54/
END:VEVENT
BEGIN:VEVENT
DTSTART;TZID=America/New_York:20240602T110000
DTEND;TZID=America/New_York:20240602T120000
DTSTAMP:20260425T121750
CREATED:20240509T195453Z
LAST-MODIFIED:20240601T233549Z
UID:10002267-1717326000-1717329600@www.flemingtondiy.org
SUMMARY:Tap Project
DESCRIPTION:Come one\, come all\, no tap shoes required!\nJoin us Sunday mornings and learn the language of tap dance (what’s a flap? shuffle? buffalo?) plus tap dance history (did you ever wonder who was Fred Astaire’s teacher?).\nWe'll learn simple warm ups\, then take those steps and do a simple combination\, add a few together\, and hey\, you have a whole dance!\nGreat music\, great fun\, new friends!\nPlease check calendar for upcoming classes!
URL:https://www.flemingtondiy.org/event/tap-project-50/
END:VEVENT
BEGIN:VEVENT
DTSTART;TZID=America/New_York:20240602T130000
DTEND;TZID=America/New_York:20240602T170000
DTSTAMP:20260425T121750
CREATED:20231103T010515Z
LAST-MODIFIED:20240601T233549Z
UID:10001703-1717333200-1717347600@www.flemingtondiy.org
SUMMARY:Open Jazz Jams
DESCRIPTION:Open Jazz Jams are held he first Sunday of every month. \nThe sessions will provide an opportunity for musicians to play with an experienced band. From 1-2 PM the hosting musicians for the week will play. Other musicians will be invited to sit in and play between 2-5 PM (typically a minimum of 2 songs each\, circumstances permitting). With the exception of drum kit and piano\, all musicians should bring their own equipment (instruments\, amps\, drum sticks\, microphones\, etc.). The sessions will focus primarily on jazz standards and other jazz tunes contained in Hal Leonard Real Books volumes 1 through 3. Newcomers will be coached through the process.  \nA $3 to $5 donation to Flemington DIY will be required from each musician that plays at the session. Visitors that just want to listen to the music are also welcome to attend for all or any part of the 1-5 PM sessions free of charge.  \nFor questions about the sessions\, or to be added to the monthly text notification list for last minute cancellations or reschedules\, please email njjazzjam@gmail.com
URL:https://www.flemingtondiy.org/event/open-jazz-jams-18/
END:VEVENT
BEGIN:VEVENT
DTSTART;TZID=America/New_York:20240602T180000
DTEND;TZID=America/New_York:20240602T200000
DTSTAMP:20260425T121750
CREATED:20240429T230532Z
LAST-MODIFIED:20240602T235123Z
UID:10002262-1717351200-1717358400@www.flemingtondiy.org
SUMMARY:Queer is Here! Art Opening
DESCRIPTION:The Flemington QTs invite all to the Opening Reception of our art gallery show at Flemington DIY. This collaborative exhibit will feature artwork from LGBTQIA+ people living in Hunterdon County and nearby Central New Jersey and will address our experiences as queer and transgender people living in the rural part of the Garden State.
URL:https://www.flemingtondiy.org/event/art-opening-qts/
END:VEVENT
BEGIN:VEVENT
DTSTART;TZID=America/New_York:20240603T091500
DTEND;TZID=America/New_York:20240603T113000
DTSTAMP:20260425T121750
CREATED:20240325T202120Z
LAST-MODIFIED:20240602T235123Z
UID:10002202-1717406100-1717414200@www.flemingtondiy.org
SUMMARY:Music Together
DESCRIPTION:Every week in our music classes at Music Together Flemington\, babies\, toddlers\, preschoolers\, and the grownups who love them come together for a time of musical play. Little ones love playing along in class\, and caregivers love being a part of their children’s growth into confident music-makers. And everyone loves our songs that’ll have you tapping along in no time \nLearn more and enroll today: https://www.musictogetherflemington.com/
URL:https://www.flemingtondiy.org/event/music-together-227/
END:VEVENT
BEGIN:VEVENT
DTSTART;TZID=America/New_York:20240603T180000
DTEND;TZID=America/New_York:20240603T210000
DTSTAMP:20260425T121750
CREATED:20231107T010549Z
LAST-MODIFIED:20240602T235123Z
UID:10001821-1717437600-1717448400@www.flemingtondiy.org
SUMMARY:Print Club
DESCRIPTION:Flemington DIY Print Club is a weekly open studio held from 6-9PM every Monday\, $15-30 per printer. It provides an opportunity for local artists and community members new to arts processes to utilize shared printmaking facilities. Print Club provides a platform for artists to network\, build community\, and work collaboratively. \nNo experience? No problem! Our vounteers will guide you through the process from start to finish! \nLearn more: https://www.flemingtondiy.org/printclub/
URL:https://www.flemingtondiy.org/event/print-club-183/
END:VEVENT
END:VCALENDAR