BEGIN:VCALENDAR
VERSION:2.0
PRODID:-//Flemington DIY - ECPv6.15.20//NONSGML v1.0//EN
CALSCALE:GREGORIAN
METHOD:PUBLISH
X-WR-CALNAME:Flemington DIY
X-ORIGINAL-URL:https://www.flemingtondiy.org
X-WR-CALDESC:Events for Flemington DIY
REFRESH-INTERVAL;VALUE=DURATION:PT1H
X-Robots-Tag:noindex
X-PUBLISHED-TTL:PT1H
BEGIN:VTIMEZONE
TZID:America/New_York
BEGIN:DAYLIGHT
TZOFFSETFROM:-0500
TZOFFSETTO:-0400
TZNAME:EDT
DTSTART:20240310T070000
END:DAYLIGHT
BEGIN:STANDARD
TZOFFSETFROM:-0400
TZOFFSETTO:-0500
TZNAME:EST
DTSTART:20241103T060000
END:STANDARD
BEGIN:DAYLIGHT
TZOFFSETFROM:-0500
TZOFFSETTO:-0400
TZNAME:EDT
DTSTART:20250309T070000
END:DAYLIGHT
BEGIN:STANDARD
TZOFFSETFROM:-0400
TZOFFSETTO:-0500
TZNAME:EST
DTSTART:20251102T060000
END:STANDARD
BEGIN:DAYLIGHT
TZOFFSETFROM:-0500
TZOFFSETTO:-0400
TZNAME:EDT
DTSTART:20260308T070000
END:DAYLIGHT
BEGIN:STANDARD
TZOFFSETFROM:-0400
TZOFFSETTO:-0500
TZNAME:EST
DTSTART:20261101T060000
END:STANDARD
END:VTIMEZONE
BEGIN:VEVENT
DTSTART;TZID=America/New_York:20250212T090000
DTEND;TZID=America/New_York:20250212T143000
DTSTAMP:20260425T121908
CREATED:20250115T233539Z
LAST-MODIFIED:20250211T235153Z
UID:10002982-1739350800-1739370600@www.flemingtondiy.org
SUMMARY:Gallery Open Hours
DESCRIPTION:
URL:https://www.flemingtondiy.org/event/gallery-open-hours-10/
END:VEVENT
BEGIN:VEVENT
DTSTART;TZID=America/New_York:20250211T190000
DTEND;TZID=America/New_York:20250211T210000
DTSTAMP:20260425T121908
CREATED:20240929T233638Z
LAST-MODIFIED:20250211T235153Z
UID:10002625-1739300400-1739307600@www.flemingtondiy.org
SUMMARY:Songwriter Circle
DESCRIPTION:Hey\, songwriters: Do you have songs that are half finished? Lyrics you’re not entirely happy with? A songwriting circle is not a performance. It’s an opportunity to connect with other songwriters\, play your song idea for us – whether it’s fully formed or not – and receive gentle\, respectful\, and constructive feedback. All genres welcome! Please bring a few hard copies of your lyrics to share (they’ll be returned to you). We have a piano available. Donations at the door
URL:https://www.flemingtondiy.org/event/songwriter-circle-24/
END:VEVENT
BEGIN:VEVENT
DTSTART;TZID=America/New_York:20250211T123000
DTEND;TZID=America/New_York:20250211T180000
DTSTAMP:20260425T121908
CREATED:20241221T233523Z
LAST-MODIFIED:20250210T235203Z
UID:10002822-1739277000-1739296800@www.flemingtondiy.org
SUMMARY:Open Hours
DESCRIPTION:Visit the space\, see our current art shows\, hang out\, and learn how to get involved!
URL:https://www.flemingtondiy.org/event/open-hours-145/
END:VEVENT
BEGIN:VEVENT
DTSTART;TZID=America/New_York:20250211T093000
DTEND;TZID=America/New_York:20250211T123000
DTSTAMP:20260425T121908
CREATED:20250107T235045Z
LAST-MODIFIED:20250210T235204Z
UID:10002951-1739266200-1739277000@www.flemingtondiy.org
SUMMARY:Music Together Winter Classes
DESCRIPTION:
URL:https://www.flemingtondiy.org/event/music-together-winter-classes-59/
END:VEVENT
BEGIN:VEVENT
DTSTART;TZID=America/New_York:20250210T180000
DTEND;TZID=America/New_York:20250210T210000
DTSTAMP:20260425T121908
CREATED:20231107T010607Z
LAST-MODIFIED:20250210T235202Z
UID:10001857-1739210400-1739221200@www.flemingtondiy.org
SUMMARY:Print Club
DESCRIPTION:Flemington DIY Print Club is a weekly open studio held from 6-9PM every Monday\, $15-30 per printer. It provides an opportunity for local artists and community members new to arts processes to utilize shared printmaking facilities. Print Club provides a platform for artists to network\, build community\, and work collaboratively. \nNo experience? No problem! Our vounteers will guide you through the process from start to finish! \nLearn more: https://www.flemingtondiy.org/printclub/
URL:https://www.flemingtondiy.org/event/print-club-219/
END:VEVENT
BEGIN:VEVENT
DTSTART;TZID=America/New_York:20250210T180000
DTEND;TZID=America/New_York:20250210T200000
DTSTAMP:20260425T121908
CREATED:20241220T233611Z
LAST-MODIFIED:20250210T235203Z
UID:10002767-1739210400-1739217600@www.flemingtondiy.org
SUMMARY:Hunterdon Fiber Artist Meeting
DESCRIPTION:Looking to meet other fiber artists in the Hunterdon county area?  Think about coming to Hunterdon Fiber Artists meet up to socialize and connect with others doing the fiber art craft that they love. \nAll are welcome.  Just bring your craft be it knitting\, crocheting\, spinning\, etc.\, and be prepared to meet lots of fun and interesting people!  We even have mini educational talks on requested topics! \nOur FB group is Hunterdon Fiber Artists https://www.facebook.com/groups/1101970274078722 \nOur Ravelry group is https://www.ravelry.com/groups/hunterdon-fiber-artists?s=tab \nEvery other Monday at DIY; $3-5 suggested donation.
URL:https://www.flemingtondiy.org/event/hunterdon-fiber-artist-meeting-54/
END:VEVENT
BEGIN:VEVENT
DTSTART;TZID=America/New_York:20250210T093000
DTEND;TZID=America/New_York:20250210T113000
DTSTAMP:20260425T121908
CREATED:20250107T235044Z
LAST-MODIFIED:20250209T233510Z
UID:10002950-1739179800-1739187000@www.flemingtondiy.org
SUMMARY:Music Together Winter Classes
DESCRIPTION:
URL:https://www.flemingtondiy.org/event/music-together-winter-classes-58/
END:VEVENT
BEGIN:VEVENT
DTSTART;TZID=America/New_York:20250209T190000
DTEND;TZID=America/New_York:20250209T220000
DTSTAMP:20260425T121908
CREATED:20250103T235042Z
LAST-MODIFIED:20250209T233510Z
UID:10002923-1739127600-1739138400@www.flemingtondiy.org
SUMMARY:Live Music
DESCRIPTION:SURFYBOWL SUNDAY \nBest Dressed Ghost (Surf Punk) \nTrash Island NJ (Trad Surf) \nOff-Knowneous (Asian American Rock) \n$10 DonationDoors @ 6:30pmAll AgesNo Drugs/Alcohol
URL:https://www.flemingtondiy.org/event/live-music-91/
END:VEVENT
BEGIN:VEVENT
DTSTART;TZID=America/New_York:20250209T143000
DTEND;TZID=America/New_York:20250209T170000
DTSTAMP:20260425T121908
CREATED:20241102T235122Z
LAST-MODIFIED:20250208T233613Z
UID:10002673-1739111400-1739120400@www.flemingtondiy.org
SUMMARY:Women's Comedy Open Mic
DESCRIPTION:Ever wanted to share a joke with your friends? Have a friend who you think is hilarious but don’t know how to let other ladies know about her talent? Here’s an opportunity to give it a try. Enjoy a safe space to share laughs – and if you fail – it’s ok to get up and try again!Sign up in advance: https://www.jotform.com/assign/233097504623152/232664975561063
URL:https://www.flemingtondiy.org/event/womens-comedy-open-mic-17/
END:VEVENT
BEGIN:VEVENT
DTSTART;TZID=America/New_York:20250208T120000
DTEND;TZID=America/New_York:20250208T160000
DTSTAMP:20260425T121908
CREATED:20250117T235027Z
LAST-MODIFIED:20250207T233506Z
UID:10002988-1739016000-1739030400@www.flemingtondiy.org
SUMMARY:Mia Art's Heartstravaganza Open House
DESCRIPTION:Go Green this Valentine’s Day with Mia Art’s Heartstravaganza at DIY! \nCreate beautiful and unique gifts and cards using upcycled materials and your own personal touch! Stop by between these hours or stay the whole time! \n$10 per person pre-registration + material fee at time of class paid directly to instructor \nWALK INS WELCOME
URL:https://www.flemingtondiy.org/event/mia-arts-heartstravaganza-for-families-kids/
END:VEVENT
BEGIN:VEVENT
DTSTART;TZID=America/New_York:20250208T090000
DTEND;TZID=America/New_York:20250208T110000
DTSTAMP:20260425T121908
CREATED:20241220T233610Z
LAST-MODIFIED:20250207T233506Z
UID:10002765-1739005200-1739012400@www.flemingtondiy.org
SUMMARY:Music Together Winter Classes
DESCRIPTION:
URL:https://www.flemingtondiy.org/event/music-together-winter-classes-20/
END:VEVENT
BEGIN:VEVENT
DTSTART;TZID=America/New_York:20250207T180000
DTEND;TZID=America/New_York:20250207T200000
DTSTAMP:20260425T121908
CREATED:20250117T235026Z
LAST-MODIFIED:20250207T233506Z
UID:10002987-1738951200-1738958400@www.flemingtondiy.org
SUMMARY:Mia Art's Heartstravaganza for Teens and Adults
DESCRIPTION:Go Green this Valentine’s Day with Mia Art’s Heartstravaganza at DIY! \nCreate beautiful and unique gifts and cards using upcycled materials and your own personal touch! \n$10 per person pre-registration + material fee at time of class paid directly to instructor \nWALK INS WELCOME
URL:https://www.flemingtondiy.org/event/mia-arts-heartstravaganza-for-teens/
END:VEVENT
BEGIN:VEVENT
DTSTART;TZID=America/New_York:20250207T120000
DTEND;TZID=America/New_York:20250207T140000
DTSTAMP:20260425T121908
CREATED:20240922T233659Z
LAST-MODIFIED:20250205T235208Z
UID:10002566-1738929600-1738936800@www.flemingtondiy.org
SUMMARY:DIYxRLC: First Fridays Screenprinting for Homeschoolers
DESCRIPTION:Calling all homeschoolers!Flemington DIY and Raritan Learning Cooperative are collaborating to offer a monthly print club for kids ages 12-18\, on select first Friday of every month \nBring a design and a t-shirt or anything you want to print on. You’ll get to learn the process of screenprinting\, create your own screen\, and print posters and shirts!  \nIn collaboration with Raritan Learning Cooperative (RLC)MORE INFO: https://www.flemingtondiy.org/first-fridays
URL:https://www.flemingtondiy.org/event/diyxrlc-first-fridays-screenprinting-for-homeschoolers-4/
END:VEVENT
BEGIN:VEVENT
DTSTART;TZID=America/New_York:20250207T093000
DTEND;TZID=America/New_York:20250207T113000
DTSTAMP:20260425T121908
CREATED:20250107T235043Z
LAST-MODIFIED:20250205T235208Z
UID:10002949-1738920600-1738927800@www.flemingtondiy.org
SUMMARY:Music Together Winter Classes
DESCRIPTION:
URL:https://www.flemingtondiy.org/event/music-together-winter-classes-57/
END:VEVENT
BEGIN:VEVENT
DTSTART;TZID=America/New_York:20250206T113000
DTEND;TZID=America/New_York:20250206T180000
DTSTAMP:20260425T121908
CREATED:20241221T233522Z
LAST-MODIFIED:20250205T235208Z
UID:10002821-1738841400-1738864800@www.flemingtondiy.org
SUMMARY:Open Hours
DESCRIPTION:Visit the space\, see our current art shows\, hang out\, and learn how to get involved!
URL:https://www.flemingtondiy.org/event/open-hours-144/
END:VEVENT
BEGIN:VEVENT
DTSTART;TZID=America/New_York:20250205T090000
DTEND;TZID=America/New_York:20250205T143000
DTSTAMP:20260425T121908
CREATED:20250115T233537Z
LAST-MODIFIED:20250204T235125Z
UID:10002981-1738746000-1738765800@www.flemingtondiy.org
SUMMARY:Gallery Open Hours
DESCRIPTION:
URL:https://www.flemingtondiy.org/event/gallery-open-hours-9/
END:VEVENT
BEGIN:VEVENT
DTSTART;TZID=America/New_York:20250204T173000
DTEND;TZID=America/New_York:20250204T190000
DTSTAMP:20260425T121908
CREATED:20250203T235012Z
LAST-MODIFIED:20250204T235125Z
UID:10003006-1738690200-1738695600@www.flemingtondiy.org
SUMMARY:Monthly Food Drive
DESCRIPTION:Did you know that Flemington has six Little Food Pantries (LFPs)? LFPs are small food pantries that allow community members in need to have open access to food\, water\, and hygiene items. These pantries depend on the support of donations from people like you! Come together with your community for a monthly food drive to stock four of the pantries. This drive will support the LFPs located at 10 New Jersey Avenue\, Flemington DIY (26 Stangl Road)\, Flemington Presbyterian (10 East Main Street)\, and Echelon Studio’s Personal Hygiene Pantry (27 Fulper Road). \nRecommended donations: \n\nWater bottles\nDry goods like box mixes\, rice\, oatmeal\, etc.\nGranola and protein bars (without chocolate)\nCoffee and tea\nCrackers\nRamen and pot noodles\nInstant soup packets\nHygiene products (esp. menstrual hygiene products)\nIndividual drink mix packets\nShelf-stable milk\nPackaged or canned tuna and chicken\nCanned goods and can openers\nPeanut butter and jelly\n\nPlease no expired items\, open packages\, or frozen/refrigerated items. \nWant to get involved? Sign up here to volunteer! https://forms.gle/GY3tUPUXRWeBSLAz8Questions? Contact Jae at flemingtonqts@gmail.com.
URL:https://www.flemingtondiy.org/event/monthly-food-drive-5/
END:VEVENT
BEGIN:VEVENT
DTSTART;TZID=America/New_York:20250204T123000
DTEND;TZID=America/New_York:20250204T173000
DTSTAMP:20260425T121908
CREATED:20241221T233522Z
LAST-MODIFIED:20250203T235050Z
UID:10002820-1738672200-1738690200@www.flemingtondiy.org
SUMMARY:Open Hours
DESCRIPTION:Visit the space\, see our current art shows\, hang out\, and learn how to get involved!
URL:https://www.flemingtondiy.org/event/open-hours-143/
END:VEVENT
BEGIN:VEVENT
DTSTART;TZID=America/New_York:20250204T093000
DTEND;TZID=America/New_York:20250204T123000
DTSTAMP:20260425T121908
CREATED:20250107T235043Z
LAST-MODIFIED:20250203T235049Z
UID:10002948-1738661400-1738672200@www.flemingtondiy.org
SUMMARY:Music Together Winter Classes
DESCRIPTION:
URL:https://www.flemingtondiy.org/event/music-together-winter-classes-56/
END:VEVENT
BEGIN:VEVENT
DTSTART;TZID=America/New_York:20250203T180000
DTEND;TZID=America/New_York:20250203T210000
DTSTAMP:20260425T121908
CREATED:20231107T010607Z
LAST-MODIFIED:20250203T235049Z
UID:10001856-1738605600-1738616400@www.flemingtondiy.org
SUMMARY:Print Club
DESCRIPTION:Flemington DIY Print Club is a weekly open studio held from 6-9PM every Monday\, $15-30 per printer. It provides an opportunity for local artists and community members new to arts processes to utilize shared printmaking facilities. Print Club provides a platform for artists to network\, build community\, and work collaboratively. \nNo experience? No problem! Our vounteers will guide you through the process from start to finish! \nLearn more: https://www.flemingtondiy.org/printclub/
URL:https://www.flemingtondiy.org/event/print-club-218/
END:VEVENT
BEGIN:VEVENT
DTSTART;TZID=America/New_York:20250203T093000
DTEND;TZID=America/New_York:20250203T113000
DTSTAMP:20260425T121908
CREATED:20250107T235042Z
LAST-MODIFIED:20250202T235051Z
UID:10002947-1738575000-1738582200@www.flemingtondiy.org
SUMMARY:Music Together Winter Classes
DESCRIPTION:
URL:https://www.flemingtondiy.org/event/music-together-winter-classes-55/
END:VEVENT
BEGIN:VEVENT
DTSTART;TZID=America/New_York:20250202T130000
DTEND;TZID=America/New_York:20250202T170000
DTSTAMP:20260425T121908
CREATED:20240928T233646Z
LAST-MODIFIED:20250201T235032Z
UID:10002585-1738501200-1738515600@www.flemingtondiy.org
SUMMARY:Open Jazz Jams
DESCRIPTION:Open Jazz Jams are held he first Sunday of every month. \nThe sessions will provide an opportunity for musicians to play with an experienced band. From 1-2 PM the hosting musicians for the week will play. Other musicians will be invited to sit in and play between 2-5 PM (typically a minimum of 2 songs each\, circumstances permitting). With the exception of drum kit and piano\, all musicians should bring their own equipment (instruments\, amps\, drum sticks\, microphones\, etc.). The sessions will focus primarily on jazz standards and other jazz tunes contained in Hal Leonard Real Books volumes 1 through 3. Newcomers will be coached through the process.  \nA $3 to $5 donation to Flemington DIY will be required from each musician that plays at the session. Visitors that just want to listen to the music are also welcome to attend for all or any part of the 1-5 PM sessions free of charge.  \nFor questions about the sessions\, or to be added to the monthly text notification list for last minute cancellations or reschedules\, please email njjazzjam@gmail.com
URL:https://www.flemingtondiy.org/event/open-jazz-jams-17/
END:VEVENT
BEGIN:VEVENT
DTSTART;TZID=America/New_York:20250201T090000
DTEND;TZID=America/New_York:20250201T110000
DTSTAMP:20260425T121908
CREATED:20241220T233610Z
LAST-MODIFIED:20250131T235100Z
UID:10002761-1738400400-1738407600@www.flemingtondiy.org
SUMMARY:Music Together Winter Classes
DESCRIPTION:
URL:https://www.flemingtondiy.org/event/music-together-winter-classes-16/
END:VEVENT
BEGIN:VEVENT
DTSTART;TZID=America/New_York:20250131T163000
DTEND;TZID=America/New_York:20250131T193000
DTSTAMP:20260425T121908
CREATED:20241119T233523Z
LAST-MODIFIED:20250131T235100Z
UID:10002720-1738341000-1738351800@www.flemingtondiy.org
SUMMARY:Art opening 5-7pm
DESCRIPTION:
URL:https://www.flemingtondiy.org/event/art-opening-5-7pm/
END:VEVENT
BEGIN:VEVENT
DTSTART;TZID=America/New_York:20250131T113000
DTEND;TZID=America/New_York:20250131T143000
DTSTAMP:20260425T121908
CREATED:20250115T233536Z
LAST-MODIFIED:20250130T233557Z
UID:10002980-1738323000-1738333800@www.flemingtondiy.org
SUMMARY:Gallery Open Hours
DESCRIPTION:
URL:https://www.flemingtondiy.org/event/gallery-open-hours-8/
END:VEVENT
BEGIN:VEVENT
DTSTART;TZID=America/New_York:20250131T093000
DTEND;TZID=America/New_York:20250131T113000
DTSTAMP:20260425T121908
CREATED:20250107T235042Z
LAST-MODIFIED:20250130T233557Z
UID:10002946-1738315800-1738323000@www.flemingtondiy.org
SUMMARY:Music Together Winter Classes
DESCRIPTION:
URL:https://www.flemingtondiy.org/event/music-together-winter-classes-54/
END:VEVENT
BEGIN:VEVENT
DTSTART;TZID=America/New_York:20250130T113000
DTEND;TZID=America/New_York:20250130T180000
DTSTAMP:20260425T121908
CREATED:20241221T233521Z
LAST-MODIFIED:20250129T233557Z
UID:10002819-1738236600-1738260000@www.flemingtondiy.org
SUMMARY:Open Hours
DESCRIPTION:Visit the space\, see our current art shows\, hang out\, and learn how to get involved!
URL:https://www.flemingtondiy.org/event/open-hours-135/
END:VEVENT
BEGIN:VEVENT
DTSTART;TZID=America/New_York:20250129T193000
DTEND;TZID=America/New_York:20250129T213000
DTSTAMP:20260425T121908
CREATED:20240928T233645Z
LAST-MODIFIED:20250129T233557Z
UID:10002584-1738179000-1738186200@www.flemingtondiy.org
SUMMARY:Poetry Open Mic
DESCRIPTION:show up & sign updonations at the doorall ages
URL:https://www.flemingtondiy.org/event/poetry-open-mic-30/
END:VEVENT
BEGIN:VEVENT
DTSTART;TZID=America/New_York:20250129T090000
DTEND;TZID=America/New_York:20250129T143000
DTSTAMP:20260425T121908
CREATED:20250115T233536Z
LAST-MODIFIED:20250128T175541Z
UID:10002979-1738141200-1738161000@www.flemingtondiy.org
SUMMARY:Gallery Open Hours
DESCRIPTION:
URL:https://www.flemingtondiy.org/event/gallery-open-hours-7/
END:VEVENT
BEGIN:VEVENT
DTSTART;TZID=America/New_York:20250128T190000
DTEND;TZID=America/New_York:20250128T203000
DTSTAMP:20260425T121908
CREATED:20241122T235038Z
LAST-MODIFIED:20250128T175541Z
UID:10002725-1738090800-1738096200@www.flemingtondiy.org
SUMMARY:Therapeutic Journaling with Prologue Therapy
DESCRIPTION:Join Prologue Therapy for a morning and/or evening of writing to heal! Nicole Locorriere\, LMFT will be teaching the art and science of journaling for mental and physiological well-being\, followed by guided journaling exercises. Dress in your cozy clothes\, and enjoy warm drinks and snacks with friends as you learn and write. Sharing your work is not required\, though you are welcome to swap ideas with fellow writers.
URL:https://www.flemingtondiy.org/event/therapeutic-journaling-with-prologue-therapy-4/
END:VEVENT
END:VCALENDAR