BEGIN:VCALENDAR
VERSION:2.0
PRODID:-//Flemington DIY - ECPv6.15.20//NONSGML v1.0//EN
CALSCALE:GREGORIAN
METHOD:PUBLISH
X-WR-CALNAME:Flemington DIY
X-ORIGINAL-URL:https://www.flemingtondiy.org
X-WR-CALDESC:Events for Flemington DIY
REFRESH-INTERVAL;VALUE=DURATION:PT1H
X-Robots-Tag:noindex
X-PUBLISHED-TTL:PT1H
BEGIN:VTIMEZONE
TZID:America/New_York
BEGIN:DAYLIGHT
TZOFFSETFROM:-0500
TZOFFSETTO:-0400
TZNAME:EDT
DTSTART:20240310T070000
END:DAYLIGHT
BEGIN:STANDARD
TZOFFSETFROM:-0400
TZOFFSETTO:-0500
TZNAME:EST
DTSTART:20241103T060000
END:STANDARD
BEGIN:DAYLIGHT
TZOFFSETFROM:-0500
TZOFFSETTO:-0400
TZNAME:EDT
DTSTART:20250309T070000
END:DAYLIGHT
BEGIN:STANDARD
TZOFFSETFROM:-0400
TZOFFSETTO:-0500
TZNAME:EST
DTSTART:20251102T060000
END:STANDARD
BEGIN:DAYLIGHT
TZOFFSETFROM:-0500
TZOFFSETTO:-0400
TZNAME:EDT
DTSTART:20260308T070000
END:DAYLIGHT
BEGIN:STANDARD
TZOFFSETFROM:-0400
TZOFFSETTO:-0500
TZNAME:EST
DTSTART:20261101T060000
END:STANDARD
END:VTIMEZONE
BEGIN:VEVENT
DTSTART;TZID=America/New_York:20250407T093000
DTEND;TZID=America/New_York:20250407T113000
DTSTAMP:20260425T064800
CREATED:20250208T233536Z
LAST-MODIFIED:20250406T233512Z
UID:10003034-1744018200-1744025400@www.flemingtondiy.org
SUMMARY:Music Together Spring Classes
DESCRIPTION:
URL:https://www.flemingtondiy.org/event/music-together-spring-classes-5/
END:VEVENT
BEGIN:VEVENT
DTSTART;TZID=America/New_York:20250406T130000
DTEND;TZID=America/New_York:20250406T170000
DTSTAMP:20260425T064800
CREATED:20240928T233657Z
LAST-MODIFIED:20250404T235019Z
UID:10002591-1743944400-1743958800@www.flemingtondiy.org
SUMMARY:Open Jazz Jams
DESCRIPTION:Open Jazz Jams are held he first Sunday of every month. \nThe sessions will provide an opportunity for musicians to play with an experienced band. From 1-2 PM the hosting musicians for the week will play. Other musicians will be invited to sit in and play between 2-5 PM (typically a minimum of 2 songs each\, circumstances permitting). With the exception of drum kit and piano\, all musicians should bring their own equipment (instruments\, amps\, drum sticks\, microphones\, etc.). The sessions will focus primarily on jazz standards and other jazz tunes contained in Hal Leonard Real Books volumes 1 through 3. Newcomers will be coached through the process.  \nA $3 to $5 donation to Flemington DIY will be required from each musician that plays at the session. Visitors that just want to listen to the music are also welcome to attend for all or any part of the 1-5 PM sessions free of charge.  \nFor questions about the sessions\, or to be added to the monthly text notification list for last minute cancellations or reschedules\, please email njjazzjam@gmail.com
URL:https://www.flemingtondiy.org/event/open-jazz-jams-25/
END:VEVENT
BEGIN:VEVENT
DTSTART;TZID=America/New_York:20250405T183000
DTEND;TZID=America/New_York:20250405T220000
DTSTAMP:20260425T064800
CREATED:20250120T235050Z
LAST-MODIFIED:20250404T235018Z
UID:10002992-1743877800-1743890400@www.flemingtondiy.org
SUMMARY:Live Music
DESCRIPTION:Homie Fest \nA Killer Ostrich(grind/sludge/hc)Dedex(math rock/emo)Caiatus(death/thrash/doom metal)Spoon of Ukobach(prog/death metal)Combat Evolved(thrash/hc/djent)Ookazi(noise rock) \nDoors @ 6:00\, Music @ 6:30$10All AgesNo Drugs/No Alcohol
URL:https://www.flemingtondiy.org/event/live-music-93/
END:VEVENT
BEGIN:VEVENT
DTSTART;TZID=America/New_York:20250405T150000
DTEND;TZID=America/New_York:20250405T170000
DTSTAMP:20260425T064800
CREATED:20250114T233525Z
LAST-MODIFIED:20250404T235017Z
UID:10002974-1743865200-1743872400@www.flemingtondiy.org
SUMMARY:Fiber Series: Mending
DESCRIPTION:Join us for this hands-on workshop\, exploring mending fabric and the implications this slow and thoughtful process can have on our approach to living. You bring items to mend. We will supply mending tools and share basic stitches and techniques to mend various items. $5-$15 sliding scale per person. REGISTER
URL:https://www.flemingtondiy.org/event/fiber-series-mending/
END:VEVENT
BEGIN:VEVENT
DTSTART;TZID=America/New_York:20250405T090000
DTEND;TZID=America/New_York:20250405T120000
DTSTAMP:20260425T064800
CREATED:20250208T233536Z
LAST-MODIFIED:20250404T235016Z
UID:10003033-1743843600-1743854400@www.flemingtondiy.org
SUMMARY:Music Together Spring Classes
DESCRIPTION:
URL:https://www.flemingtondiy.org/event/music-together-spring-classes-4/
END:VEVENT
BEGIN:VEVENT
DTSTART;TZID=America/New_York:20250404T170000
DTEND;TZID=America/New_York:20250404T190000
DTSTAMP:20260425T064800
CREATED:20250128T175551Z
LAST-MODIFIED:20250403T233618Z
UID:10003001-1743786000-1743793200@www.flemingtondiy.org
SUMMARY:Art for Footprints Of Uganda
DESCRIPTION:Art for Footprints Of Uganda\n\n \nArt show and fundraiser for nonprofit “Footprints Of Uganda” with 50% of proceeds going toward building a well in Uganda \nOpening April 4\, 5-7pm and on display thru April\nLocal artist OurNaturalState will be showcasing his new series about joy and what joy looks like\, commemorating the joy the tribes would feel in Uganda when “Footprints Of Uganda” get their new well water\, installed. \nThe opening reception will feature food\, music\, 1\,000 balloons \, friends\, family\, and more! \n\nOurNaturalState is a mixed medium artist that uses his art to help people become more aware of themselves\, through art. This self taught artist has mixed the bridge of self-discovery and using art to dive deeper into who he really is. Through his wild characters he helps get stuck feelings\,unstuck with abstract art. From radical acceptance as in “whatever lands on the paper is meant to be on the paper”. As well as body mapping techniques\, where he feels the entire body and paints it onto the canvas. His only mission is to help as many people\, become more aware of themselves\, and bring them back to their natural selves. \nFootprints of Uganda is a nonprofit organization dedicated to empowering rural communities in Uganda through sustainable development initiatives. We focus on providing access to clean water\, education\, and community support programs that create lasting change. From building wells to sponsoring children’s education and fostering local sports teams\, we are committed to making a meaningful impact. Every donation and partnership helps us leave a footprint of hope and opportunity in the lives of those who need it most.
URL:https://www.flemingtondiy.org/event/art-opening-2/
END:VEVENT
BEGIN:VEVENT
DTSTART;TZID=America/New_York:20250404T120000
DTEND;TZID=America/New_York:20250404T140000
DTSTAMP:20260425T064800
CREATED:20240922T233703Z
LAST-MODIFIED:20250403T233618Z
UID:10002568-1743768000-1743775200@www.flemingtondiy.org
SUMMARY:CANCELLED DIYxRLC: First Fridays Screenprinting for Homeschoolers
DESCRIPTION:Calling all homeschoolers!Flemington DIY and Raritan Learning Cooperative are collaborating to offer a monthly print club for kids ages 12-18\, on select first Friday of every month \nBring a design and a t-shirt or anything you want to print on. You’ll get to learn the process of screenprinting\, create your own screen\, and print posters and shirts!  \nIn collaboration with Raritan Learning Cooperative (RLC)MORE INFO: https://www.flemingtondiy.org/first-fridays
URL:https://www.flemingtondiy.org/event/diyxrlc-first-fridays-screenprinting-for-homeschoolers-6/
END:VEVENT
BEGIN:VEVENT
DTSTART;TZID=America/New_York:20250404T093000
DTEND;TZID=America/New_York:20250404T113000
DTSTAMP:20260425T064800
CREATED:20250208T233536Z
LAST-MODIFIED:20250403T233618Z
UID:10003032-1743759000-1743766200@www.flemingtondiy.org
SUMMARY:Music Together Spring Classes
DESCRIPTION:
URL:https://www.flemingtondiy.org/event/music-together-spring-classes-3/
END:VEVENT
BEGIN:VEVENT
DTSTART;TZID=America/New_York:20250403T113000
DTEND;TZID=America/New_York:20250403T160000
DTSTAMP:20260425T064800
CREATED:20241221T233529Z
LAST-MODIFIED:20250401T235011Z
UID:10002837-1743679800-1743696000@www.flemingtondiy.org
SUMMARY:Open Hours
DESCRIPTION:Visit the space\, see our current art shows\, hang out\, and learn how to get involved!
URL:https://www.flemingtondiy.org/event/open-hours-172/
END:VEVENT
BEGIN:VEVENT
DTSTART;TZID=America/New_York:20250401T173000
DTEND;TZID=America/New_York:20250401T190000
DTSTAMP:20260425T064800
CREATED:20250203T235021Z
LAST-MODIFIED:20250331T235105Z
UID:10003009-1743528600-1743534000@www.flemingtondiy.org
SUMMARY:Monthly Food Drive
DESCRIPTION:Did you know that Flemington has six Little Food Pantries (LFPs)? LFPs are small food pantries that allow community members in need to have open access to food\, water\, and hygiene items. These pantries depend on the support of donations from people like you! Come together with your community for a monthly food drive to stock four of the pantries. This drive will support the LFPs located at 10 New Jersey Avenue\, Flemington DIY (26 Stangl Road)\, Flemington Presbyterian (10 East Main Street)\, and Echelon Studio’s Personal Hygiene Pantry (27 Fulper Road). \nRecommended donations: \n\nWater bottles\nDry goods like box mixes\, rice\, oatmeal\, etc.\nGranola and protein bars (without chocolate)\nCoffee and tea\nCrackers\nRamen and pot noodles\nInstant soup packets\nHygiene products (esp. menstrual hygiene products)\nIndividual drink mix packets\nShelf-stable milk\nPackaged or canned tuna and chicken\nCanned goods and can openers\nPeanut butter and jelly\n\nPlease no expired items\, open packages\, or frozen/refrigerated items. \nWant to get involved? Sign up here to volunteer! https://forms.gle/GY3tUPUXRWeBSLAz8Questions? Contact Jae at flemingtonqts@gmail.com.
URL:https://www.flemingtondiy.org/event/monthly-food-drive-7/
END:VEVENT
BEGIN:VEVENT
DTSTART;TZID=America/New_York:20250401T123000
DTEND;TZID=America/New_York:20250401T180000
DTSTAMP:20260425T064800
CREATED:20250207T233515Z
LAST-MODIFIED:20250331T235105Z
UID:10003018-1743510600-1743530400@www.flemingtondiy.org
SUMMARY:Open Hours
DESCRIPTION:Visit the space\, see our current art shows\, hang out\, and learn how to get involved!
URL:https://www.flemingtondiy.org/event/open-hours-251/
END:VEVENT
BEGIN:VEVENT
DTSTART;TZID=America/New_York:20250401T093000
DTEND;TZID=America/New_York:20250401T123000
DTSTAMP:20260425T064800
CREATED:20250208T233535Z
LAST-MODIFIED:20250331T235105Z
UID:10003031-1743499800-1743510600@www.flemingtondiy.org
SUMMARY:Music Together Spring Classes
DESCRIPTION:
URL:https://www.flemingtondiy.org/event/music-together-spring-classes-2/
END:VEVENT
BEGIN:VEVENT
DTSTART;TZID=America/New_York:20250331T180000
DTEND;TZID=America/New_York:20250331T210000
DTSTAMP:20260425T064800
CREATED:20231107T010610Z
LAST-MODIFIED:20250331T235105Z
UID:10001864-1743444000-1743454800@www.flemingtondiy.org
SUMMARY:Print Club
DESCRIPTION:Flemington DIY Print Club is a weekly open studio held from 6-9PM every Monday\, $15-30 per printer. It provides an opportunity for local artists and community members new to arts processes to utilize shared printmaking facilities. Print Club provides a platform for artists to network\, build community\, and work collaboratively. \nNo experience? No problem! Our vounteers will guide you through the process from start to finish! \nLearn more: https://www.flemingtondiy.org/printclub/
URL:https://www.flemingtondiy.org/event/print-club-226/
END:VEVENT
BEGIN:VEVENT
DTSTART;TZID=America/New_York:20250331T093000
DTEND;TZID=America/New_York:20250331T113000
DTSTAMP:20260425T064800
CREATED:20250208T233535Z
LAST-MODIFIED:20250330T233552Z
UID:10003030-1743413400-1743420600@www.flemingtondiy.org
SUMMARY:Music Together Spring Classes
DESCRIPTION:
URL:https://www.flemingtondiy.org/event/music-together-spring-classes/
END:VEVENT
BEGIN:VEVENT
DTSTART;TZID=America/New_York:20250330T140000
DTEND;TZID=America/New_York:20250330T170000
DTSTAMP:20260425T064800
CREATED:20250122T235038Z
LAST-MODIFIED:20250329T233603Z
UID:10002993-1743343200-1743354000@www.flemingtondiy.org
SUMMARY:Rising Stars Talent Showcase (and DIY fundraiser!)
DESCRIPTION:Our bi-annual Rising Stars Youth Showcase provides a unique opportunity for youngperformers to shine in our judgment free space! Come light up our stage! \nWe welcome all levels from beginners to seasoned performers!  \nHere’s how to join us:– All performers must register ahead of time. Sorry\, no walk ins.– Send a brief sample video of your talent to talentshowdiy@gmail.comanytime between March 1 st and the submission deadline of Wed.\, March 26th.– Performances can be solo\, in small groups or with an adult family member.– The submission is not an audition\, but rather helps us diversify the program for theevening.– Microphones and a piano are available on site for those who will need it. \nAdmission:$10 – adults/$5 – kidsFree for ages 5 and youngerNo charge\, of course\, for our performers \n*Tickets will be available @ www.flemingtondiy.org/talent/ starting March 15 or at the door.* \nRefreshments will be available for purchase with 100% of the proceeds going towardsfuture programming at DIY. Invite your family\, friends and neighbors to what promises to be another fantastic event!
URL:https://www.flemingtondiy.org/event/rising-stars-talent-showcase-and-diy-fundraiser/
END:VEVENT
BEGIN:VEVENT
DTSTART;TZID=America/New_York:20250329T180000
DTEND;TZID=America/New_York:20250329T210000
DTSTAMP:20260425T064800
CREATED:20250210T235037Z
LAST-MODIFIED:20250329T233603Z
UID:10003072-1743271200-1743282000@www.flemingtondiy.org
SUMMARY:QTs Trans Day of Visibility
DESCRIPTION:Panel of transgender & nonbinary community members sharing their experiences \nCollective art project – contribute to our zine of support for queer and transgender youth \nPrint your own tshirt with DIY’s Print Club \n\nPresented by Flemington QTs. Flemington QTs is a community\, advocacy\, and mutual aid group for the LGBTQIA+ community in Flemington\, Hunterdon County\, and beyond. For more information about events and advocacy\, please follow us on instagram @flemingtonqts or join our private Facebook group\, Flemington Q-Ts.
URL:https://www.flemingtondiy.org/event/qts-trans-day-of-visibility/
END:VEVENT
BEGIN:VEVENT
DTSTART;TZID=America/New_York:20250327T190000
DTEND;TZID=America/New_York:20250327T220000
DTSTAMP:20260425T064800
CREATED:20250305T235018Z
LAST-MODIFIED:20250327T235118Z
UID:10003103-1743102000-1743112800@www.flemingtondiy.org
SUMMARY:Songwriters Mike Berman along with Andrew Dunn & Todd Dennison
DESCRIPTION:An evening of Singers\, Songwriters\, and StorytellersThursday\, March 27thDoors open at 7 PM; Music starts at 7:30 PM$15 at the door (Cool Cat Cardholders are welcome to use your cards) \nCalifornia based Mike Berman (https://mikebermanmusic.com) writes and performs original songs rooted in the folk and California folk rock traditions.  Mike’s album Ghosts\, arriving in April\, 2025\, contains eight original tracks addressing themes such as growing up amidst gun violence\, lost relationships\, the dangers of looking back\, and the redemption and mercy that love and music can bring to your soul. Produced by Ed Tree and with performances by Mike and outstanding Los Angeles musicians\, Ghosts is a sonically and thematically rich addition to Mike’s musical library. Performances in California and in the Northeast (including the Cape May Singer-Songwriter Festival) are coming in 2025. \nMike’s first album Where I’m From\, released in January 2023\, received excellent reviews and was featured on dozens of folk radio programs across the USA and beyond. Mike is a veteran musician\, having performed in the 80’s with the Hudson River Sloop Singers (associated with Pete Seeger) as well as in his duo The Rusty Lock String Band\, including festival gigs at the New Jersey Folk Festival and the Raritan River Festival. After a long layoff to raise a family and build a career as a university administrator and information technology expert\, he has dived head-first in songwriting in the last few years. His songwriting his developed through workshops and master classes with the likes of Richard Thompson\, Tom Paxton\, Patty Griffin\, Shawn Colvin\, Guy Davis\, Ellis Paul\, Laurie McAllister\, Gretchen Peters\, Michael McNevin\, and many other accomplished songwriters and performers.  \nAndrew Dunn (https://andrewdunnsongwriter.weebly.com) is a songwriter from Jersey\, where talent seems to grow in the fertile soil. His poignant wit and infectious melodies are staples of his canon of memorable story songs drawn from everyday theater of life moments.  \nA favorite on the NJ folk scene\, Andrew has been repeatedly featured on the legendary stages of The Folk Project and Godfrey Daniels. He has opened for folk icon\, Judy Collins and shared songwriting nights with veteran songwriters Tice\, Bill Hall\, and former Melanie sideman\, Ron Heacock.  In 2018\, Andrew was a finalist in the prestigious Kerrville Grassy Hill Songwriter’s Competition. He was also a finalist in the Great American Song Contest. The music\, like his point of view\, is full of space and completely irresistible. His songs have been called “rare…with a gravity akin to James Taylor.” Dunn’s latest CD\, House Above the Factory\, reintroduces his momentum as an artist and places an Americana shine on his unique panorama of everyday experiences. \nHe is accompanied this evening by guitarist\, bassist\, accompanist\, and arranger\, Todd Dennison (https://www.toddsguitarsings.com). With influences like James Taylor and Kenny Rankin\, Todd’s approach to playing guitar\, bridges folk and jazz with running bass lines and melodic chordal voicings. When accompanying a vocalist\, Todd creates a musical conversation\, a dialogue\, between singer and guitar.
URL:https://www.flemingtondiy.org/event/songwriters-mike-berman-along-with-andrew-dunn-todd-dennison/
END:VEVENT
BEGIN:VEVENT
DTSTART;TZID=America/New_York:20250327T113000
DTEND;TZID=America/New_York:20250327T180000
DTSTAMP:20260425T064800
CREATED:20241221T233529Z
LAST-MODIFIED:20250326T233527Z
UID:10002835-1743075000-1743098400@www.flemingtondiy.org
SUMMARY:Open Hours
DESCRIPTION:Visit the space\, see our current art shows\, hang out\, and learn how to get involved!
URL:https://www.flemingtondiy.org/event/open-hours-170/
END:VEVENT
BEGIN:VEVENT
DTSTART;TZID=America/New_York:20250326T193000
DTEND;TZID=America/New_York:20250326T213000
DTSTAMP:20260425T064800
CREATED:20250224T233536Z
LAST-MODIFIED:20250326T233525Z
UID:10003080-1743017400-1743024600@www.flemingtondiy.org
SUMMARY:Poetry Open Mic
DESCRIPTION:Community members of all levels are invited to read their poetry and listen to the work of others. If you’re looking for a welcoming group of emerging and established poets and beatniks\, this is for you! \nShow up and sign up. No pre-registration to participate. Donations for the space encouraged at the door. All ages but please be aware that mature and sometimes sensitive topics are explored and mentioned at this event.
URL:https://www.flemingtondiy.org/event/poetry-open-mic-42/
END:VEVENT
BEGIN:VEVENT
DTSTART;TZID=America/New_York:20250325T113000
DTEND;TZID=America/New_York:20250325T180000
DTSTAMP:20260425T064800
CREATED:20241221T233529Z
LAST-MODIFIED:20250324T235031Z
UID:10002834-1742902200-1742925600@www.flemingtondiy.org
SUMMARY:Open Hours
DESCRIPTION:Visit the space\, see our current art shows\, hang out\, and learn how to get involved!
URL:https://www.flemingtondiy.org/event/open-hours-169/
END:VEVENT
BEGIN:VEVENT
DTSTART;TZID=America/New_York:20250324T180000
DTEND;TZID=America/New_York:20250324T210000
DTSTAMP:20260425T064800
CREATED:20231107T010610Z
LAST-MODIFIED:20250324T235029Z
UID:10001863-1742839200-1742850000@www.flemingtondiy.org
SUMMARY:Print Club
DESCRIPTION:Flemington DIY Print Club is a weekly open studio held from 6-9PM every Monday\, $15-30 per printer. It provides an opportunity for local artists and community members new to arts processes to utilize shared printmaking facilities. Print Club provides a platform for artists to network\, build community\, and work collaboratively. \nNo experience? No problem! Our vounteers will guide you through the process from start to finish! \nLearn more: https://www.flemingtondiy.org/printclub/
URL:https://www.flemingtondiy.org/event/print-club-225/
END:VEVENT
BEGIN:VEVENT
DTSTART;TZID=America/New_York:20250324T180000
DTEND;TZID=America/New_York:20250324T200000
DTSTAMP:20260425T064800
CREATED:20241220T233616Z
LAST-MODIFIED:20250324T235031Z
UID:10002791-1742839200-1742846400@www.flemingtondiy.org
SUMMARY:Hunterdon Fiber Artist Meeting
DESCRIPTION:Looking to meet other fiber artists in the Hunterdon county area?  Think about coming to Hunterdon Fiber Artists meet up to socialize and connect with others doing the fiber art craft that they love. \nAll are welcome.  Just bring your craft be it knitting\, crocheting\, spinning\, etc.\, and be prepared to meet lots of fun and interesting people!  We even have mini educational talks on requested topics! \nOur FB group is Hunterdon Fiber Artists https://www.facebook.com/groups/1101970274078722 \nOur Ravelry group is https://www.ravelry.com/groups/hunterdon-fiber-artists?s=tab \nEvery other Monday at DIY; $3-5 suggested donation.
URL:https://www.flemingtondiy.org/event/hunterdon-fiber-artist-meeting-57/
END:VEVENT
BEGIN:VEVENT
DTSTART;TZID=America/New_York:20250323T140000
DTEND;TZID=America/New_York:20250323T170000
DTSTAMP:20260425T064800
CREATED:20250130T233527Z
LAST-MODIFIED:20250322T233508Z
UID:10003003-1742738400-1742749200@www.flemingtondiy.org
SUMMARY:Queer Skillshare Workshop
DESCRIPTION:VentureOutNJ will be partnering with the FlemingtonQTs for a skillshare workshop on March 23rd at 2pm at FlemingtonDIY! If you’re interested in sharing a skill\, RSVP via the applicable chat which can be found through VentureOutNJ.com and tell us about it in the chat.  \nWe expect most people to just come and enjoy the activities and conversation. Light refreshments will be provided
URL:https://www.flemingtondiy.org/event/queer-skillshare-workshop/
END:VEVENT
BEGIN:VEVENT
DTSTART;TZID=America/New_York:20250323T100000
DTEND;TZID=America/New_York:20250323T130000
DTSTAMP:20260425T064800
CREATED:20241205T235111Z
LAST-MODIFIED:20250322T233508Z
UID:10002737-1742724000-1742734800@www.flemingtondiy.org
SUMMARY:Fiber Series: Natural Dyeing
DESCRIPTION:In this immersive workshop\, explore how to transform flowers\, food waste\, and other organic materials into stunning\, eco-friendly dyes. Discover a variety of dyeing techniques\, and create your own one-of-a-kind\, naturally dyed piece to take home and cherish. Whether you’re a beginner or a seasoned artist\, this workshop will inspire you to connect with nature and textile art in a whole new way. $95 per person – Limit to 15 people. REGISTER
URL:https://www.flemingtondiy.org/event/fiber-series-natural-dyeing/
END:VEVENT
BEGIN:VEVENT
DTSTART;TZID=America/New_York:20250321T180000
DTEND;TZID=America/New_York:20250321T220000
DTSTAMP:20260425T064800
CREATED:20250120T235048Z
LAST-MODIFIED:20250321T233628Z
UID:10002991-1742580000-1742594400@www.flemingtondiy.org
SUMMARY:Live Music
DESCRIPTION:ABANDONED FEST \nEndless midnight (post hardcore)Stential (post hardcore)J3THEGREATEST (hardcore rap)Pern (metal)Killkxnny (alternative rap)Dragsholm (death metal)Killaether (death rap) \nDoors @ 5:00\, Music @ 6:00All Ages No Drugs/No Alcohol
URL:https://www.flemingtondiy.org/event/live-music-92/
END:VEVENT
BEGIN:VEVENT
DTSTART;TZID=America/New_York:20250320T190000
DTEND;TZID=America/New_York:20250320T210000
DTSTAMP:20260425T064800
CREATED:20241023T233522Z
LAST-MODIFIED:20250320T233554Z
UID:10002654-1742497200-1742504400@www.flemingtondiy.org
SUMMARY:Monthly Open Bluegrass Jam
DESCRIPTION:Bring your instrument\, a couple of tunes\, some friends and your own refreshments. All players welcome – Beginner to pro!  \nFreewill basket to support DIY $5 suggested Open to all ages –strictly no alcohol  \nQuestions? Contact Ed: rvrecband@gmail.com / ejjank@gmail.com
URL:https://www.flemingtondiy.org/event/monthly-open-bluegrass-jam-3/
END:VEVENT
BEGIN:VEVENT
DTSTART;TZID=America/New_York:20250320T113000
DTEND;TZID=America/New_York:20250320T180000
DTSTAMP:20260425T064800
CREATED:20241221T233528Z
LAST-MODIFIED:20250318T235112Z
UID:10002833-1742470200-1742493600@www.flemingtondiy.org
SUMMARY:Open Hours
DESCRIPTION:Visit the space\, see our current art shows\, hang out\, and learn how to get involved!
URL:https://www.flemingtondiy.org/event/open-hours-168/
END:VEVENT
BEGIN:VEVENT
DTSTART;TZID=America/New_York:20250319T180000
DTEND;TZID=America/New_York:20250319T203000
DTSTAMP:20260425T064800
CREATED:20250224T233535Z
LAST-MODIFIED:20250318T235112Z
UID:10003079-1742407200-1742416200@www.flemingtondiy.org
SUMMARY:United We Create
DESCRIPTION:Youth are facing demonstrable challenges these days and mental health is a focus of many parents and caregivers. Join us for an evening of learning about youth mental health and give your children the tools they can use in their daily lives to express themselves\, find grounding\, and more. We will explore the topic of youth mental health and kids will have an opportunity to participate in hands-on art activities as well as virtual reality programs. \nRegister here: https://www.eventbrite.com/e/united-we-create-tickets-1256784408999?aff=oddtdtcreator  \nPresented by: United Way Hunterdon County\, Ellie Mental Health & Flemington DIY.
URL:https://www.flemingtondiy.org/event/united-we-create/
END:VEVENT
BEGIN:VEVENT
DTSTART;TZID=America/New_York:20250318T183000
DTEND;TZID=America/New_York:20250318T203000
DTSTAMP:20260425T064800
CREATED:20240928T233654Z
LAST-MODIFIED:20250318T235112Z
UID:10002589-1742322600-1742329800@www.flemingtondiy.org
SUMMARY:Flemington Acoustic Players
DESCRIPTION:Calling all Hunterdon County pop/rock/folk stars!  Are you looking for a place to practice your acoustic guitar skills\, and maybe do some singing too?   \nOur merry band of music makers is open to players of all abilities! This gathering however is for Acoustic players ONLY; i.e guitars\, ukuleles\, mandolins & banjos. A drummer and/or an acoustic/electric bassist would be welcomed though to help us all stay in time. \nChords and lyrics to the songs will be projected on a screen so there’s no need for you to bring a music stand or tablet. We will be selecting tunes from a song book that includes a wide variety of rock/pop/folk classics. \nCome and have fun with us as we play and sing along to some of everyone’s favorite tunes! \nSuggested donation of $3-5www.flemingtondiy.org/acoustic/
URL:https://www.flemingtondiy.org/event/flemington-acoustic-players-63/
END:VEVENT
BEGIN:VEVENT
DTSTART;TZID=America/New_York:20250318T113000
DTEND;TZID=America/New_York:20250318T180000
DTSTAMP:20260425T064800
CREATED:20241221T233528Z
LAST-MODIFIED:20250317T233557Z
UID:10002832-1742297400-1742320800@www.flemingtondiy.org
SUMMARY:Open Hours
DESCRIPTION:Visit the space\, see our current art shows\, hang out\, and learn how to get involved!
URL:https://www.flemingtondiy.org/event/open-hours-167/
END:VEVENT
END:VCALENDAR