BEGIN:VCALENDAR
VERSION:2.0
PRODID:-//Flemington DIY - ECPv6.15.20//NONSGML v1.0//EN
CALSCALE:GREGORIAN
METHOD:PUBLISH
X-ORIGINAL-URL:https://www.flemingtondiy.org
X-WR-CALDESC:Events for Flemington DIY
REFRESH-INTERVAL;VALUE=DURATION:PT1H
X-Robots-Tag:noindex
X-PUBLISHED-TTL:PT1H
BEGIN:VTIMEZONE
TZID:America/New_York
BEGIN:DAYLIGHT
TZOFFSETFROM:-0500
TZOFFSETTO:-0400
TZNAME:EDT
DTSTART:20250309T070000
END:DAYLIGHT
BEGIN:STANDARD
TZOFFSETFROM:-0400
TZOFFSETTO:-0500
TZNAME:EST
DTSTART:20251102T060000
END:STANDARD
BEGIN:DAYLIGHT
TZOFFSETFROM:-0500
TZOFFSETTO:-0400
TZNAME:EDT
DTSTART:20260308T070000
END:DAYLIGHT
BEGIN:STANDARD
TZOFFSETFROM:-0400
TZOFFSETTO:-0500
TZNAME:EST
DTSTART:20261101T060000
END:STANDARD
BEGIN:DAYLIGHT
TZOFFSETFROM:-0500
TZOFFSETTO:-0400
TZNAME:EDT
DTSTART:20270314T070000
END:DAYLIGHT
BEGIN:STANDARD
TZOFFSETFROM:-0400
TZOFFSETTO:-0500
TZNAME:EST
DTSTART:20271107T060000
END:STANDARD
END:VTIMEZONE
BEGIN:VEVENT
DTSTART;VALUE=DATE:20260307
DTEND;VALUE=DATE:20260329
DTSTAMP:20260423T204140
CREATED:20260111T234231Z
LAST-MODIFIED:20260319T234225Z
UID:10003811-1772841600-1774742399@www.flemingtondiy.org
SUMMARY:Glimmers Through the Lens - Photography Show on Display
DESCRIPTION:https://www.flemingtondiy.org/glimmers/
URL:https://www.flemingtondiy.org/event/photography-art-show/
END:VEVENT
BEGIN:VEVENT
DTSTART;TZID=America/New_York:20260309T180000
DTEND;TZID=America/New_York:20260309T200000
DTSTAMP:20260423T204140
CREATED:20251202T235216Z
LAST-MODIFIED:20260309T195722Z
UID:10003724-1773079200-1773086400@www.flemingtondiy.org
SUMMARY:Hunterdon Fiber Artist Meeting
DESCRIPTION:Looking to meet other fiber artists in the Hunterdon county area?  Think about coming to Hunterdon Fiber Artists meet up to socialize and connect with others doing the fiber art craft that they love. \nAll are welcome.  Just bring your craft be it knitting\, crocheting\, spinning\, etc.\, and be prepared to meet lots of fun and interesting people!  We even have mini educational talks on requested topics! \nOur FB group is Hunterdon Fiber Artists https://www.facebook.com/groups/1101970274078722 \nOur Ravelry group is https://www.ravelry.com/groups/hunterdon-fiber-artists?s=tab \nEvery other Monday at DIY; $3-5 suggested donation.
URL:https://www.flemingtondiy.org/event/hunterdon-fiber-artist-meeting-33/
END:VEVENT
BEGIN:VEVENT
DTSTART;TZID=America/New_York:20260309T180000
DTEND;TZID=America/New_York:20260309T210000
DTSTAMP:20260423T204140
CREATED:20240309T190623Z
LAST-MODIFIED:20260309T195722Z
UID:10002142-1773079200-1773090000@www.flemingtondiy.org
SUMMARY:Print Club
DESCRIPTION:Flemington DIY Print Club is a weekly open studio held from 6-9PM every Monday\, $15-30 per printer. It provides an opportunity for local artists and community members new to arts processes to utilize shared printmaking facilities. Print Club provides a platform for artists to network\, build community\, and work collaboratively. \nNo experience? No problem! Our vounteers will guide you through the process from start to finish! \nLearn more: https://www.flemingtondiy.org/printclub/
URL:https://www.flemingtondiy.org/event/print-club-274/
END:VEVENT
BEGIN:VEVENT
DTSTART;TZID=America/New_York:20260310T113000
DTEND;TZID=America/New_York:20260310T180000
DTSTAMP:20260423T204140
CREATED:20250602T233546Z
LAST-MODIFIED:20260309T195722Z
UID:10003251-1773142200-1773165600@www.flemingtondiy.org
SUMMARY:Open Hours
DESCRIPTION:Visit the space\, see our current art shows\, hang out\, and learn how to get involved!
URL:https://www.flemingtondiy.org/event/open-hours-262/
END:VEVENT
BEGIN:VEVENT
DTSTART;TZID=America/New_York:20260310T190000
DTEND;TZID=America/New_York:20260310T210000
DTSTAMP:20260423T204140
CREATED:20251107T233720Z
LAST-MODIFIED:20260310T234222Z
UID:10003542-1773169200-1773176400@www.flemingtondiy.org
SUMMARY:Songwriter Circle
DESCRIPTION:Hey\, songwriters: Do you have songs that are half finished? Lyrics you’re not entirely happy with? A songwriting circle is not a performance. It’s an opportunity to connect with other songwriters\, play your song idea for us – whether it’s fully formed or not – and receive gentle\, respectful\, and constructive feedback. All genres welcome! Please bring a few hard copies of your lyrics to share (they’ll be returned to you). We have a piano available. Donations at the door
URL:https://www.flemingtondiy.org/event/songwriter-circle-37/
END:VEVENT
BEGIN:VEVENT
DTSTART;TZID=America/New_York:20260312T113000
DTEND;TZID=America/New_York:20260312T180000
DTSTAMP:20260423T204140
CREATED:20251107T233720Z
LAST-MODIFIED:20260310T234222Z
UID:10003543-1773315000-1773338400@www.flemingtondiy.org
SUMMARY:Open Hours
DESCRIPTION:
URL:https://www.flemingtondiy.org/event/open-hours-357/
END:VEVENT
BEGIN:VEVENT
DTSTART;TZID=America/New_York:20260312T180000
DTEND;TZID=America/New_York:20260312T200000
DTSTAMP:20260423T204140
CREATED:20260101T233721Z
LAST-MODIFIED:20260310T234222Z
UID:10003784-1773338400-1773345600@www.flemingtondiy.org
SUMMARY:ASL Chat
DESCRIPTION:American Sign Language (ASL) is the predominant sign language of deaf and hard of hearing people in the United States. If you know or are learning ASL\, come sign with us in a casual and supportive space. Deaf\, hard of hearing\, and hearing people are welcome. Come socialize and make new friends in a voice-off environment!  \nFlemington DIY ASL Chats are in person and free to attend. There is no registration required. Please note that everyone is expected to use ASL to communicate during the events.
URL:https://www.flemingtondiy.org/event/asl-chat-7/
END:VEVENT
BEGIN:VEVENT
DTSTART;TZID=America/New_York:20260313T120000
DTEND;TZID=America/New_York:20260313T140000
DTSTAMP:20260423T204140
CREATED:20260130T234230Z
LAST-MODIFIED:20260310T234222Z
UID:10003866-1773403200-1773410400@www.flemingtondiy.org
SUMMARY:Youth Print Club
DESCRIPTION:Youth Screen Printing Club – open to all $15-30 sliding scale to attendMust Preregister! REGISTERATION coming soonBring a black and white image to print or upload during registrationEmail arts@flemingtondiy.org with questionsFind more info on flemingtondiy.org
URL:https://www.flemingtondiy.org/event/youth-print-club-2/
END:VEVENT
BEGIN:VEVENT
DTSTART;TZID=America/New_York:20260313T193000
DTEND;TZID=America/New_York:20260313T220000
DTSTAMP:20260423T204140
CREATED:20260210T234243Z
LAST-MODIFIED:20260313T234223Z
UID:10003901-1773430200-1773439200@www.flemingtondiy.org
SUMMARY:Songwriter Showcase
DESCRIPTION:Songwriter ShowcaseMusic begins at 7:30 PM $10 at the door  \nDid you know Flemington DIY has a monthly Songwriter Circle the 2nd Tuesday of every month? We play each other the songs we’ve been working on\, and the group shares suggestions as to how to make them even better. We thought it might be a nice opportunity to share some of what we’ve been working on with an actual audience….you!  \nThe folks performing this evening include:  \nJohn Hone started out on the drums but added guitar as you can’t sing your kids to sleep with the drums. He stills performs on drums but loves composing and performing original songs and instrumentals on guitar.  \nSarah Wedeking (she/they) is a hobbyist songwriter who has always failed to write a happy song. You can find them jamming on a ukulele or the occasional guitar\, drawing her influences from artists like Lizzy McAlpine to Joni Mitchell to obscure musical theatre.  \nRoia Rafieyan (she/her) is a guitarist and songwriter. Her songs are attempts at working out things she’s thinking about\, conversations she probably should be having\, and sometimes written to get something out of her system.  \nAfter a long hiatus from songwriting\, Matt Haden bumped into an ad somewhere about the Flemington DIY Songwriter Circle.  He still doesn’t know what exactly inspired him to open up his guitar case\, but he’s glad he did\, because the vibe and accountability of the circle is exactly what he needed to get his hands and brain moving once again in a musical way.  A year or so and 10 or 12 songs later (thank you songwriting circle random word generator) he looks forward to presenting some of his works for the first time in many years. \nTracy Mistichelli is an amateur musician who plays drums\, guitar\, and piano. She loves bouncing between rhythm and melody and figuring out how songs are built from the inside out. She is always learning\, always playing. \nJay DiMartino is a Flemington local returning to music after a long hiatus. He has been writing and playing music in some fashion for over 30 years. Influences include Neil Young\, Pearl Jam and the Dave Matthew’s band. 
URL:https://www.flemingtondiy.org/event/songwriter-showcase/
END:VEVENT
BEGIN:VEVENT
DTSTART;TZID=America/New_York:20260314T120000
DTEND;TZID=America/New_York:20260314T170000
DTSTAMP:20260423T204140
CREATED:20260107T235213Z
LAST-MODIFIED:20260313T234223Z
UID:10003801-1773489600-1773507600@www.flemingtondiy.org
SUMMARY:Flemington Zine Fest
DESCRIPTION:Celebrate DIY publishing and zines of all genres\, styles\, and mediums at the first annual Flemington Zine Fest at Flemington DIY!
URL:https://www.flemingtondiy.org/event/flemington-zine-fest/
END:VEVENT
BEGIN:VEVENT
DTSTART;TZID=America/New_York:20260314T193000
DTEND;TZID=America/New_York:20260314T220000
DTSTAMP:20260423T204140
CREATED:20260218T234245Z
LAST-MODIFIED:20260314T234223Z
UID:10003919-1773516600-1773525600@www.flemingtondiy.org
SUMMARY:Live Music - Indie
DESCRIPTION:Madska (indie/pop/alt)Gazee (indie/shoegaze)Pocketgum (dreampunk) \n$10Doors at 7:00\, Music at 7:30All agesNo drugs/no alcohol
URL:https://www.flemingtondiy.org/event/live-music-indie/
END:VEVENT
BEGIN:VEVENT
DTSTART;TZID=America/New_York:20260315T110000
DTEND;TZID=America/New_York:20260315T130000
DTSTAMP:20260423T204140
CREATED:20251230T233746Z
LAST-MODIFIED:20260314T234223Z
UID:10003780-1773572400-1773579600@www.flemingtondiy.org
SUMMARY:Ekphrastic Poetry Workshop
DESCRIPTION:Ekphrastic poetry\, simply put\, is writing poetry about the visual arts.   \nTogether\, we will discuss the current exhibiting artworks at Flemington DIY\, using questions and prompts\, both prepared and improvised\, to help us creatively write in response to the local art.   \nAfter a mix of group discussion and individual writing exercises\, we will share our poetry and hear what we all came up with. \nIn this process\, we hope to create understanding of both ourselves and each other\, through writing and thinking creatively in new ways stimulated by local arts.
URL:https://www.flemingtondiy.org/event/ekphrastic-poetry-workshop-2/
END:VEVENT
BEGIN:VEVENT
DTSTART;TZID=America/New_York:20260315T183000
DTEND;TZID=America/New_York:20260315T220000
DTSTAMP:20260423T204140
CREATED:20260215T234236Z
LAST-MODIFIED:20260315T235730Z
UID:10003911-1773599400-1773612000@www.flemingtondiy.org
SUMMARY:Live Music - Synth
DESCRIPTION:Synth show: \nThe Melting Transistor Sonic Foundry  \n$10Doors @ 6:30All agesNo drugs / no alcohol
URL:https://www.flemingtondiy.org/event/live-music-synth/
END:VEVENT
BEGIN:VEVENT
DTSTART;TZID=America/New_York:20260316T180000
DTEND;TZID=America/New_York:20260316T210000
DTSTAMP:20260423T204140
CREATED:20240316T195102Z
LAST-MODIFIED:20260315T235731Z
UID:10002151-1773684000-1773694800@www.flemingtondiy.org
SUMMARY:Print Club
DESCRIPTION:Flemington DIY Print Club is a weekly open studio held from 6-9PM every Monday\, $15-30 per printer. It provides an opportunity for local artists and community members new to arts processes to utilize shared printmaking facilities. Print Club provides a platform for artists to network\, build community\, and work collaboratively. \nNo experience? No problem! Our vounteers will guide you through the process from start to finish! \nLearn more: https://www.flemingtondiy.org/printclub/
URL:https://www.flemingtondiy.org/event/print-club-182/
END:VEVENT
BEGIN:VEVENT
DTSTART;TZID=America/New_York:20260317T113000
DTEND;TZID=America/New_York:20260317T180000
DTSTAMP:20260423T204140
CREATED:20250602T233547Z
LAST-MODIFIED:20260315T235731Z
UID:10003252-1773747000-1773770400@www.flemingtondiy.org
SUMMARY:Open Hours
DESCRIPTION:Visit the space\, see our current art shows\, hang out\, and learn how to get involved!
URL:https://www.flemingtondiy.org/event/open-hours-263/
END:VEVENT
BEGIN:VEVENT
DTSTART;TZID=America/New_York:20260317T183000
DTEND;TZID=America/New_York:20260317T203000
DTSTAMP:20260423T204140
CREATED:20251010T233510Z
LAST-MODIFIED:20260317T234224Z
UID:10003461-1773772200-1773779400@www.flemingtondiy.org
SUMMARY:Flemington Acoustic Players
DESCRIPTION:Calling all Hunterdon County pop/rock/folk stars!  Are you looking for a place to practice your acoustic guitar skills\, and maybe do some singing too?   \nOur merry band of music makers is open to players of all abilities! This gathering however is for Acoustic players ONLY; i.e guitars\, ukuleles\, mandolins & banjos. A drummer and/or an acoustic/electric bassist would be welcomed though to help us all stay in time. \nChords and lyrics to the songs will be projected on a screen so there’s no need for you to bring a music stand or tablet. We will be selecting tunes from a song book that includes a wide variety of rock/pop/folk classics. \nCome and have fun with us as we play and sing along to some of everyone’s favorite tunes! \nSuggested donation of $3-5www.flemingtondiy.org/acoustic/
URL:https://www.flemingtondiy.org/event/flemington-acoustic-players-89/
END:VEVENT
BEGIN:VEVENT
DTSTART;TZID=America/New_York:20260318T190000
DTEND;TZID=America/New_York:20260318T210000
DTSTAMP:20260423T204140
CREATED:20260201T234228Z
LAST-MODIFIED:20260318T234224Z
UID:10003870-1773860400-1773867600@www.flemingtondiy.org
SUMMARY:Keeping Our Community Safe: Monthly Information & Action Meeting
DESCRIPTION:Third Wednesdays | 7–9PM | Flemington DIY \nA monthly gathering of local residents committed to protecting and supporting our immigrant community members. \nTogether\, we will: \n\n\nShare accurate\, up-to-date Know Your Rights information related to ICE presence and immigration enforcement \n\n\nReview protocols for spotting\, documenting\, and responding to ICE activity \n\n\nCoordinate community-based mutual aid efforts \n\n\nCreate and distribute educational materials for neighbors and local businesses \n\n\nStrengthen communication networks that prioritize safety\, dignity\, and collective care \n\n\nThis is a space for informed conversation\, practical preparedness\, coordinated action\, sharing resources\, and strengthening local support networks. All community members who value safety\, solidarity\, and constitutional rights are welcome. \nHosted by concerned community members.
URL:https://www.flemingtondiy.org/event/keeping-our-community-safe-monthly-information-action-meeting-2/
END:VEVENT
BEGIN:VEVENT
DTSTART;TZID=America/New_York:20260319T113000
DTEND;TZID=America/New_York:20260319T180000
DTSTAMP:20260423T204140
CREATED:20251107T233720Z
LAST-MODIFIED:20260318T234224Z
UID:10003544-1773919800-1773943200@www.flemingtondiy.org
SUMMARY:Open Hours
DESCRIPTION:
URL:https://www.flemingtondiy.org/event/open-hours-358/
END:VEVENT
BEGIN:VEVENT
DTSTART;TZID=America/New_York:20260319T190000
DTEND;TZID=America/New_York:20260319T210000
DTSTAMP:20260423T204140
CREATED:20251010T233510Z
LAST-MODIFIED:20260319T234224Z
UID:10003462-1773946800-1773954000@www.flemingtondiy.org
SUMMARY:Monthly Open Bluegrass Jam (Slow Jam/Teaching Session 6 PM to 7 PM)
DESCRIPTION:Bring your instrument\, a couple of tunes\, some friends and your own refreshments. All players welcome – Beginner to pro!  \n~~~~~~~~~~~~~~~~~6 PM to 7 PM will be a slow jam with old time and bluegrass songs and tunes in a teaching environment and at a slower pace for those wishing to learn or brush up on skills. Questions about the Slow Jam? Contact Jon: jandhtownend@comcast.net~~~~~~~~~~~~~~~~~ \nFreewill basket to support DIY $5 suggested Open to all ages –strictly no alcohol  \nQuestions about the Open Bluegrass Jam? Contact Ed: rvrecband@gmail.com / ejjank@gmail.com
URL:https://www.flemingtondiy.org/event/monthly-open-bluegrass-jam-16/
END:VEVENT
BEGIN:VEVENT
DTSTART;TZID=America/New_York:20260320T190000
DTEND;TZID=America/New_York:20260320T220000
DTSTAMP:20260423T204140
CREATED:20251111T235219Z
LAST-MODIFIED:20260319T234224Z
UID:10003655-1774033200-1774044000@www.flemingtondiy.org
SUMMARY:Third Friday Board Games
DESCRIPTION:Third Friday Board Game Night All ages | Bring your own game or play with one of ours | Meet new people\, have fun\, casual! No RSVP required\, just show up. Free to attend\, donations to Flemington DIY welcomed.
URL:https://www.flemingtondiy.org/event/third-friday-board-games-2/
END:VEVENT
BEGIN:VEVENT
DTSTART;TZID=America/New_York:20260321T100000
DTEND;TZID=America/New_York:20260321T123000
DTSTAMP:20260423T204140
CREATED:20260216T234234Z
LAST-MODIFIED:20260319T234225Z
UID:10003913-1774087200-1774096200@www.flemingtondiy.org
SUMMARY:Pysanky Ukrainian Egg Decorating Class
DESCRIPTION:Morning class. $50 per person + $10 material fee due in cash at time of class Recommended for 18+ \nCome celebrate the spring with this unique opportunity to learn a skill and folk tradition that is traditionally passed down by the Matriarch of the family. Pysanky is an ancient art of creating beautiful designs on eggs. Patterns are drawn on the egg with hot beeswax\, which protects selected areas so new colors can be applied\, allowing the design to be built up layer by layer. By repeating this process with different colors of dye\, a multi-colored pattern is built up. In the final step\, the wax is melted away in a moment of anticipation\, revealing the complete design and its vibrant\, hidden colors in a rewarding and often surprising reveal. \nhttps://www.flemingtondiy.org/programs/pysanky/
URL:https://www.flemingtondiy.org/event/pysanky-ukrainian-egg-decorating-class/
END:VEVENT
BEGIN:VEVENT
DTSTART;TZID=America/New_York:20260321T130000
DTEND;TZID=America/New_York:20260321T153000
DTSTAMP:20260423T204140
CREATED:20260216T234234Z
LAST-MODIFIED:20260319T234225Z
UID:10003914-1774098000-1774107000@www.flemingtondiy.org
SUMMARY:Pysanky Ukrainian Egg Decorating Class
DESCRIPTION:Afternoon class. $50 per person + $10 material fee due in cash at time of class Recommended for 18+ \nCome celebrate the spring with this unique opportunity to learn a skill and folk tradition that is traditionally passed down by the Matriarch of the family. Pysanky is an ancient art of creating beautiful designs on eggs. Patterns are drawn on the egg with hot beeswax\, which protects selected areas so new colors can be applied\, allowing the design to be built up layer by layer. By repeating this process with different colors of dye\, a multi-colored pattern is built up. In the final step\, the wax is melted away in a moment of anticipation\, revealing the complete design and its vibrant\, hidden colors in a rewarding and often surprising reveal. \nhttps://www.flemingtondiy.org/programs/pysanky/
URL:https://www.flemingtondiy.org/event/pysanky-ukrainian-egg-decorating-class-2/
END:VEVENT
BEGIN:VEVENT
DTSTART;TZID=America/New_York:20260321T193000
DTEND;TZID=America/New_York:20260321T220000
DTSTAMP:20260423T204140
CREATED:20260106T235229Z
LAST-MODIFIED:20260319T234225Z
UID:10003794-1774121400-1774130400@www.flemingtondiy.org
SUMMARY:Live Jazz: Marel Hidalgo Trio
DESCRIPTION:Featuring Leonieke Scheuble on Organ \nDoors 7:30pm / Music 8pmTickets: $18 adv / $22 door15% off for members!flemingtondiy.org/jazz
URL:https://www.flemingtondiy.org/event/live-jazz-marel-hidalgo-trio/
END:VEVENT
BEGIN:VEVENT
DTSTART;TZID=America/New_York:20260322T133000
DTEND;TZID=America/New_York:20260322T163000
DTSTAMP:20260423T204140
CREATED:20260309T174130Z
LAST-MODIFIED:20260319T234225Z
UID:10003927-1774186200-1774197000@www.flemingtondiy.org
SUMMARY:PRIVATE EVENT
DESCRIPTION:Flemington DIY offers private rentals for your events\, meetings\, birthday parties\, photo shoots\, and workshops\, all while supporting this community arts space.  Learn more at flemingtondiy.org/rentals
URL:https://www.flemingtondiy.org/event/private-event-11/
END:VEVENT
BEGIN:VEVENT
DTSTART;TZID=America/New_York:20260323T180000
DTEND;TZID=America/New_York:20260323T200000
DTSTAMP:20260423T204140
CREATED:20251202T235216Z
LAST-MODIFIED:20260319T234225Z
UID:10003725-1774288800-1774296000@www.flemingtondiy.org
SUMMARY:Hunterdon Fiber Artist Meeting
DESCRIPTION:Looking to meet other fiber artists in the Hunterdon county area?  Think about coming to Hunterdon Fiber Artists meet up to socialize and connect with others doing the fiber art craft that they love. \nAll are welcome.  Just bring your craft be it knitting\, crocheting\, spinning\, etc.\, and be prepared to meet lots of fun and interesting people!  We even have mini educational talks on requested topics! \nOur FB group is Hunterdon Fiber Artists https://www.facebook.com/groups/1101970274078722 \nOur Ravelry group is https://www.ravelry.com/groups/hunterdon-fiber-artists?s=tab \nEvery other Monday at DIY; $3-5 suggested donation.
URL:https://www.flemingtondiy.org/event/hunterdon-fiber-artist-meeting-34/
END:VEVENT
BEGIN:VEVENT
DTSTART;TZID=America/New_York:20260323T180000
DTEND;TZID=America/New_York:20260323T210000
DTSTAMP:20260423T204140
CREATED:20240323T200602Z
LAST-MODIFIED:20260319T234225Z
UID:10002158-1774288800-1774299600@www.flemingtondiy.org
SUMMARY:Print Club
DESCRIPTION:Flemington DIY Print Club is a weekly open studio held from 6-9PM every Monday\, $15-30 per printer. It provides an opportunity for local artists and community members new to arts processes to utilize shared printmaking facilities. Print Club provides a platform for artists to network\, build community\, and work collaboratively. \nNo experience? No problem! Our vounteers will guide you through the process from start to finish! \nLearn more: https://www.flemingtondiy.org/printclub/
URL:https://www.flemingtondiy.org/event/print-club-275/
END:VEVENT
BEGIN:VEVENT
DTSTART;TZID=America/New_York:20260324T113000
DTEND;TZID=America/New_York:20260324T180000
DTSTAMP:20260423T204140
CREATED:20250602T233547Z
LAST-MODIFIED:20260319T234225Z
UID:10003253-1774351800-1774375200@www.flemingtondiy.org
SUMMARY:Open Hours
DESCRIPTION:Visit the space\, see our current art shows\, hang out\, and learn how to get involved!
URL:https://www.flemingtondiy.org/event/open-hours-264/
END:VEVENT
BEGIN:VEVENT
DTSTART;TZID=America/New_York:20260324T190000
DTEND;TZID=America/New_York:20260324T210000
DTSTAMP:20260423T204140
CREATED:20250731T233539Z
LAST-MODIFIED:20260319T234224Z
UID:10003371-1774378800-1774386000@www.flemingtondiy.org
SUMMARY:Classical Music Jam
DESCRIPTION:Jazz bands jam\, rock bands jam\, bluegrass players jams… why not a classical jam?? \nStrings\, brass\, woodwinds… Come join a classical music jam!!   \nBring a piece or two of music to share\, and sit in on the jam!   \nBring your instrument\, music (duo\, trio\, quartet\, etc. or even a full orchestra arrangement) and a stand\, be ready to share\, and let’s play some classical music in an informal setting.   \nWe jam once a month on the 4th Tuesday from 7 PM – 9 PM.   $5 suggested donation to Flemington DIY.  \nDon’t have music\, Don’t have a stand?…. Don’t worry!  Just bring your instrument\, and jam with us! \nCome share your talent and play! Take a break\, relax\, and listen to others.   \nUpcoming Tuesdays:   \n9/30 \n10/28 \n11/25 \n12/23 \nClassical is cool too!  See you at the jam!  
URL:https://www.flemingtondiy.org/event/classical-music-jam-7/
END:VEVENT
BEGIN:VEVENT
DTSTART;TZID=America/New_York:20260325T193000
DTEND;TZID=America/New_York:20260325T220000
DTSTAMP:20260423T204140
CREATED:20251120T233716Z
LAST-MODIFIED:20260319T234224Z
UID:10003688-1774467000-1774476000@www.flemingtondiy.org
SUMMARY:Poetry Open Mic
DESCRIPTION:Community members of all levels are invited to read their poetry and listen to the work of others. If you’re looking for a welcoming group of emerging and established poets and beatniks\, this is for you!Show up and sign up. No pre-registration to participate. Donations for the space encouraged at the door. All ages but please be aware that mature and sometimes sensitive topics are explored and mentioned at this event.
URL:https://www.flemingtondiy.org/event/poetry-open-mic-33/
END:VEVENT
BEGIN:VEVENT
DTSTART;TZID=America/New_York:20260326T113000
DTEND;TZID=America/New_York:20260326T180000
DTSTAMP:20260423T204140
CREATED:20251107T233720Z
LAST-MODIFIED:20260319T234224Z
UID:10003545-1774524600-1774548000@www.flemingtondiy.org
SUMMARY:Open Hours
DESCRIPTION:
URL:https://www.flemingtondiy.org/event/open-hours-359/
END:VEVENT
END:VCALENDAR