BEGIN:VCALENDAR
VERSION:2.0
PRODID:-//Flemington DIY - ECPv6.15.20//NONSGML v1.0//EN
CALSCALE:GREGORIAN
METHOD:PUBLISH
X-ORIGINAL-URL:https://www.flemingtondiy.org
X-WR-CALDESC:Events for Flemington DIY
REFRESH-INTERVAL;VALUE=DURATION:PT1H
X-Robots-Tag:noindex
X-PUBLISHED-TTL:PT1H
BEGIN:VTIMEZONE
TZID:America/New_York
BEGIN:DAYLIGHT
TZOFFSETFROM:-0500
TZOFFSETTO:-0400
TZNAME:EDT
DTSTART:20250309T070000
END:DAYLIGHT
BEGIN:STANDARD
TZOFFSETFROM:-0400
TZOFFSETTO:-0500
TZNAME:EST
DTSTART:20251102T060000
END:STANDARD
BEGIN:DAYLIGHT
TZOFFSETFROM:-0500
TZOFFSETTO:-0400
TZNAME:EDT
DTSTART:20260308T070000
END:DAYLIGHT
BEGIN:STANDARD
TZOFFSETFROM:-0400
TZOFFSETTO:-0500
TZNAME:EST
DTSTART:20261101T060000
END:STANDARD
BEGIN:DAYLIGHT
TZOFFSETFROM:-0500
TZOFFSETTO:-0400
TZNAME:EDT
DTSTART:20270314T070000
END:DAYLIGHT
BEGIN:STANDARD
TZOFFSETFROM:-0400
TZOFFSETTO:-0500
TZNAME:EST
DTSTART:20271107T060000
END:STANDARD
END:VTIMEZONE
BEGIN:VEVENT
DTSTART;VALUE=DATE:20260115
DTEND;VALUE=DATE:20260222
DTSTAMP:20260423T220820
CREATED:20251113T233719Z
LAST-MODIFIED:20260221T234245Z
UID:10003676-1768435200-1771718399@www.flemingtondiy.org
SUMMARY:Youth Art Show
DESCRIPTION:JANUARY 17 – FEBRUARY 21\, 2026\nOPENING RECEPTION : Saturday\, January 17\, 2026 10am – 12pm\n \nFlemington DIY is starting off the New Year with a Youth Art Show!  We put out the call for young artist (ages 12 and younger) to be apart of an art show.  Seven brave local artists (ages 8-12) answered that call.  \nAll ages are welcome to come see what they’ve made and be inspired to create something yourself.  \n 
URL:https://www.flemingtondiy.org/event/youth-art-show/
END:VEVENT
BEGIN:VEVENT
DTSTART;TZID=America/New_York:20260216T180000
DTEND;TZID=America/New_York:20260216T210000
DTSTAMP:20260423T220820
CREATED:20240223T161855Z
LAST-MODIFIED:20260216T234233Z
UID:10002129-1771264800-1771275600@www.flemingtondiy.org
SUMMARY:Print Club
DESCRIPTION:Flemington DIY Print Club is a weekly open studio held from 6-9PM every Monday\, $15-30 per printer. It provides an opportunity for local artists and community members new to arts processes to utilize shared printmaking facilities. Print Club provides a platform for artists to network\, build community\, and work collaboratively. \nNo experience? No problem! Our vounteers will guide you through the process from start to finish! \nLearn more: https://www.flemingtondiy.org/printclub/
URL:https://www.flemingtondiy.org/event/print-club-271/
END:VEVENT
BEGIN:VEVENT
DTSTART;TZID=America/New_York:20260217T113000
DTEND;TZID=America/New_York:20260217T180000
DTSTAMP:20260423T220820
CREATED:20250602T233545Z
LAST-MODIFIED:20260216T234233Z
UID:10003248-1771327800-1771351200@www.flemingtondiy.org
SUMMARY:Open Hours
DESCRIPTION:Visit the space\, see our current art shows\, hang out\, and learn how to get involved!
URL:https://www.flemingtondiy.org/event/open-hours-245/
END:VEVENT
BEGIN:VEVENT
DTSTART;TZID=America/New_York:20260217T183000
DTEND;TZID=America/New_York:20260217T203000
DTSTAMP:20260423T220820
CREATED:20251010T233510Z
LAST-MODIFIED:20260217T234229Z
UID:10003458-1771353000-1771360200@www.flemingtondiy.org
SUMMARY:Flemington Acoustic Players
DESCRIPTION:Calling all Hunterdon County pop/rock/folk stars!  Are you looking for a place to practice your acoustic guitar skills\, and maybe do some singing too?   \nOur merry band of music makers is open to players of all abilities! This gathering however is for Acoustic players ONLY; i.e guitars\, ukuleles\, mandolins & banjos. A drummer and/or an acoustic/electric bassist would be welcomed though to help us all stay in time. \nChords and lyrics to the songs will be projected on a screen so there’s no need for you to bring a music stand or tablet. We will be selecting tunes from a song book that includes a wide variety of rock/pop/folk classics. \nCome and have fun with us as we play and sing along to some of everyone’s favorite tunes! \nSuggested donation of $3-5www.flemingtondiy.org/acoustic/
URL:https://www.flemingtondiy.org/event/flemington-acoustic-players-88/
END:VEVENT
BEGIN:VEVENT
DTSTART;TZID=America/New_York:20260218T190000
DTEND;TZID=America/New_York:20260218T210000
DTSTAMP:20260423T220820
CREATED:20260201T234227Z
LAST-MODIFIED:20260218T234244Z
UID:10003869-1771441200-1771448400@www.flemingtondiy.org
SUMMARY:Keeping Our Community Safe: Monthly Information & Action Meeting
DESCRIPTION:Third Wednesdays | 7–9PM | Flemington DIY \nA monthly gathering of local residents committed to protecting and supporting our immigrant community members. \nTogether\, we will: \n\n\nShare accurate\, up-to-date Know Your Rights information related to ICE presence and immigration enforcement \n\n\nReview protocols for spotting\, documenting\, and responding to ICE activity \n\n\nCoordinate community-based mutual aid efforts \n\n\nCreate and distribute educational materials for neighbors and local businesses \n\n\nStrengthen communication networks that prioritize safety\, dignity\, and collective care \n\n\nThis is a space for informed conversation\, practical preparedness\, coordinated action\, sharing resources\, and strengthening local support networks. All community members who value safety\, solidarity\, and constitutional rights are welcome. \nHosted by concerned community members.
URL:https://www.flemingtondiy.org/event/keeping-our-community-safe-monthly-information-action-meeting/
END:VEVENT
BEGIN:VEVENT
DTSTART;TZID=America/New_York:20260219T113000
DTEND;TZID=America/New_York:20260219T180000
DTSTAMP:20260423T220820
CREATED:20251107T233719Z
LAST-MODIFIED:20260218T234244Z
UID:10003539-1771500600-1771524000@www.flemingtondiy.org
SUMMARY:Open Hours
DESCRIPTION:
URL:https://www.flemingtondiy.org/event/open-hours-354/
END:VEVENT
BEGIN:VEVENT
DTSTART;TZID=America/New_York:20260219T190000
DTEND;TZID=America/New_York:20260219T210000
DTSTAMP:20260423T220820
CREATED:20251010T233510Z
LAST-MODIFIED:20260219T234248Z
UID:10003459-1771527600-1771534800@www.flemingtondiy.org
SUMMARY:Monthly Open Bluegrass Jam
DESCRIPTION:Bring your instrument\, a couple of tunes\, some friends and your own refreshments. All players welcome – Beginner to pro!  \nFreewill basket to support DIY $5 suggested Open to all ages –strictly no alcohol  \nQuestions? Contact Ed: rvrecband@gmail.com / ejjank@gmail.com
URL:https://www.flemingtondiy.org/event/monthly-open-bluegrass-jam-15/
END:VEVENT
BEGIN:VEVENT
DTSTART;TZID=America/New_York:20260220T190000
DTEND;TZID=America/New_York:20260220T220000
DTSTAMP:20260423T220820
CREATED:20251213T233728Z
LAST-MODIFIED:20260220T234229Z
UID:10003757-1771614000-1771624800@www.flemingtondiy.org
SUMMARY:Live Music - Rock / Experimental
DESCRIPTION:Lung (cello/drum art rock)Deathbird Earth (noise rock/punk/prog)whitepicketfence (post punk/experimental rock)Luna Honey (experimental dark/no wave) \n$10Doors @ 6:30All agesNo drugs/no alcohol
URL:https://www.flemingtondiy.org/event/live-music-rock-experimental/
END:VEVENT
BEGIN:VEVENT
DTSTART;TZID=America/New_York:20260221T100000
DTEND;TZID=America/New_York:20260221T173000
DTSTAMP:20260423T220820
CREATED:20251210T233715Z
LAST-MODIFIED:20260220T234229Z
UID:10003754-1771668000-1771695000@www.flemingtondiy.org
SUMMARY:PRIVATE EVENT
DESCRIPTION:Flemington DIY offers private rentals for your events\, meetings\, birthday parties\, photo shoots\, and workshops\, all while supporting this community arts space.  Learn more at flemingtondiy.org/rentals
URL:https://www.flemingtondiy.org/event/private-event-5/
END:VEVENT
BEGIN:VEVENT
DTSTART;TZID=America/New_York:20260221T193000
DTEND;TZID=America/New_York:20260221T220000
DTSTAMP:20260423T220820
CREATED:20260106T235228Z
LAST-MODIFIED:20260221T234245Z
UID:10003793-1771702200-1771711200@www.flemingtondiy.org
SUMMARY:Live Jazz: Mauricio de Souza Bossa Brazil Carnivale
DESCRIPTION:Featuring  Nobuki Takamen\,  David Kingsnorth and special guest Behn Gillece \nDoors 7:30pm / Music 8pmTickets: $18 adv / $22 door15% off for members!flemingtondiy.org/jazz
URL:https://www.flemingtondiy.org/event/live-jazz-mauricio-de-souza-bossa-brazil-carnivale/
END:VEVENT
BEGIN:VEVENT
DTSTART;TZID=America/New_York:20260222T183000
DTEND;TZID=America/New_York:20260222T223000
DTSTAMP:20260423T220820
CREATED:20251216T233714Z
LAST-MODIFIED:20260222T234229Z
UID:10003762-1771785000-1771799400@www.flemingtondiy.org
SUMMARY:A New Jersey Experiment: Chris Gethard (comedy) and David Dondero (songs)
DESCRIPTION:NEW DATE! Comedian Chris Gethard returns with legendary singer songwriter David Dondero.  \n6:30 doors 7pm show $20 adv / $25 door \nGeneral admission on sale Feb 6 – limited tickets available!
URL:https://www.flemingtondiy.org/event/a-new-jersey-experiment-chris-gethard-comedy-and-david-dondero-songs/
END:VEVENT
BEGIN:VEVENT
DTSTART;TZID=America/New_York:20260223T180000
DTEND;TZID=America/New_York:20260223T200000
DTSTAMP:20260423T220820
CREATED:20251202T235215Z
LAST-MODIFIED:20260223T234228Z
UID:10003723-1771869600-1771876800@www.flemingtondiy.org
SUMMARY:CANCELLED Hunterdon Fiber Artist Meeting
DESCRIPTION:Looking to meet other fiber artists in the Hunterdon county area?  Think about coming to Hunterdon Fiber Artists meet up to socialize and connect with others doing the fiber art craft that they love. \nAll are welcome.  Just bring your craft be it knitting\, crocheting\, spinning\, etc.\, and be prepared to meet lots of fun and interesting people!  We even have mini educational talks on requested topics! \nOur FB group is Hunterdon Fiber Artists https://www.facebook.com/groups/1101970274078722 \nOur Ravelry group is https://www.ravelry.com/groups/hunterdon-fiber-artists?s=tab \nEvery other Monday at DIY; $3-5 suggested donation.
URL:https://www.flemingtondiy.org/event/hunterdon-fiber-artist-meeting-32/
END:VEVENT
BEGIN:VEVENT
DTSTART;TZID=America/New_York:20260223T180000
DTEND;TZID=America/New_York:20260223T210000
DTSTAMP:20260423T220820
CREATED:20240223T161856Z
LAST-MODIFIED:20260222T234229Z
UID:10002130-1771869600-1771880400@www.flemingtondiy.org
SUMMARY:Print Club
DESCRIPTION:Flemington DIY Print Club is a weekly open studio held from 6-9PM every Monday\, $15-30 per printer. It provides an opportunity for local artists and community members new to arts processes to utilize shared printmaking facilities. Print Club provides a platform for artists to network\, build community\, and work collaboratively. \nNo experience? No problem! Our vounteers will guide you through the process from start to finish! \nLearn more: https://www.flemingtondiy.org/printclub/
URL:https://www.flemingtondiy.org/event/print-club-272/
END:VEVENT
BEGIN:VEVENT
DTSTART;TZID=America/New_York:20260224T113000
DTEND;TZID=America/New_York:20260224T180000
DTSTAMP:20260423T220820
CREATED:20250602T233545Z
LAST-MODIFIED:20260223T234229Z
UID:10003249-1771932600-1771956000@www.flemingtondiy.org
SUMMARY:Open Hours
DESCRIPTION:Visit the space\, see our current art shows\, hang out\, and learn how to get involved!
URL:https://www.flemingtondiy.org/event/open-hours-247/
END:VEVENT
BEGIN:VEVENT
DTSTART;TZID=America/New_York:20260224T190000
DTEND;TZID=America/New_York:20260224T210000
DTSTAMP:20260423T220820
CREATED:20250731T233537Z
LAST-MODIFIED:20260224T234242Z
UID:10003370-1771959600-1771966800@www.flemingtondiy.org
SUMMARY:Classical Music Jam
DESCRIPTION:Jazz bands jam\, rock bands jam\, bluegrass players jams… why not a classical jam?? \nStrings\, brass\, woodwinds… Come join a classical music jam!!   \nBring a piece or two of music to share\, and sit in on the jam!   \nBring your instrument\, music (duo\, trio\, quartet\, etc. or even a full orchestra arrangement) and a stand\, be ready to share\, and let’s play some classical music in an informal setting.   \nWe jam once a month on the 4th Tuesday from 7 PM – 9 PM.   $5 suggested donation to Flemington DIY.  \nDon’t have music\, Don’t have a stand?…. Don’t worry!  Just bring your instrument\, and jam with us! \nCome share your talent and play! Take a break\, relax\, and listen to others.   \nUpcoming Tuesdays:   \n9/30 \n10/28 \n11/25 \n12/23 \nClassical is cool too!  See you at the jam!  
URL:https://www.flemingtondiy.org/event/classical-music-jam-6/
END:VEVENT
BEGIN:VEVENT
DTSTART;TZID=America/New_York:20260225T193000
DTEND;TZID=America/New_York:20260225T220000
DTSTAMP:20260423T220820
CREATED:20251120T233715Z
LAST-MODIFIED:20260225T234230Z
UID:10003687-1772047800-1772056800@www.flemingtondiy.org
SUMMARY:Poetry Open Mic
DESCRIPTION:Community members of all levels are invited to read their poetry and listen to the work of others. If you’re looking for a welcoming group of emerging and established poets and beatniks\, this is for you!Show up and sign up. No pre-registration to participate. Donations for the space encouraged at the door. All ages but please be aware that mature and sometimes sensitive topics are explored and mentioned at this event.
URL:https://www.flemingtondiy.org/event/poetry-open-mic-32/
END:VEVENT
BEGIN:VEVENT
DTSTART;TZID=America/New_York:20260226T113000
DTEND;TZID=America/New_York:20260226T180000
DTSTAMP:20260423T220820
CREATED:20251107T233720Z
LAST-MODIFIED:20260225T234230Z
UID:10003540-1772105400-1772128800@www.flemingtondiy.org
SUMMARY:Open Hours
DESCRIPTION:
URL:https://www.flemingtondiy.org/event/open-hours-355/
END:VEVENT
BEGIN:VEVENT
DTSTART;TZID=America/New_York:20260226T180000
DTEND;TZID=America/New_York:20260226T200000
DTSTAMP:20260423T220820
CREATED:20251103T235219Z
LAST-MODIFIED:20260225T234230Z
UID:10003529-1772128800-1772136000@www.flemingtondiy.org
SUMMARY:Pop Art Pet Portraits Class
DESCRIPTION:Looking for a fun and creative way to celebrate your furry friend? Join us for a 2-hour Pop Art Pet Portrait class\, where you’ll be guided step-by-step in transforming your pet into a bold\, colorful masterpiece. No prior art skills are required— you’ll learn simple techniques that make it easy for anyone to succeed\, whether you’re a beginner or already love painting. \nFor only $149.00\, everything you need is included—canvas\, paints\, brushes\, and plenty of encouragement. By the end of class\, you’ll walk away with a vibrant\, one-of-a-kind portrait that captures your pet’s personality in pop art style. \nA perfect activity for animal lovers\, a unique gift idea\, or just a fun way to spend an evening! \nwww.flemingtondiy.org/pet
URL:https://www.flemingtondiy.org/event/pop-art-pet-portraits-class/
END:VEVENT
BEGIN:VEVENT
DTSTART;TZID=America/New_York:20260227T190000
DTEND;TZID=America/New_York:20260227T220000
DTSTAMP:20260423T220820
CREATED:20251111T235218Z
LAST-MODIFIED:20260225T234230Z
UID:10003654-1772218800-1772229600@www.flemingtondiy.org
SUMMARY:Third (but fourth this month) Friday Board Games
DESCRIPTION:Third Friday Board Game Night All ages | Bring your own game or play with one of ours | Meet new people\, have fun\, casual! No RSVP required\, just show up. Free to attend\, donations to Flemington DIY welcomed.
URL:https://www.flemingtondiy.org/event/third-but-fourth-this-month-friday-board-games/
END:VEVENT
BEGIN:VEVENT
DTSTART;TZID=America/New_York:20260228T150000
DTEND;TZID=America/New_York:20260228T170000
DTSTAMP:20260423T220820
CREATED:20250929T233525Z
LAST-MODIFIED:20260225T234230Z
UID:10003444-1772290800-1772298000@www.flemingtondiy.org
SUMMARY:Bird Zine Workshop
DESCRIPTION:Make a zine about all things birds!
URL:https://www.flemingtondiy.org/event/bird-zine-workshop/
END:VEVENT
BEGIN:VEVENT
DTSTART;TZID=America/New_York:20260301T130000
DTEND;TZID=America/New_York:20260301T170000
DTSTAMP:20260423T220820
CREATED:20251010T233510Z
LAST-MODIFIED:20260225T234230Z
UID:10003460-1772370000-1772384400@www.flemingtondiy.org
SUMMARY:Open Jazz Jams
DESCRIPTION:Open Jazz Jams are held he first Sunday of every month. \nThe sessions will provide an opportunity for musicians to play with an experienced band. From 1-2 PM the hosting musicians for the week will play. Other musicians will be invited to sit in and play between 2-5 PM (typically a minimum of 2 songs each\, circumstances permitting). With the exception of drum kit and piano\, all musicians should bring their own equipment (instruments\, amps\, drum sticks\, microphones\, etc.). The sessions will focus primarily on jazz standards and other jazz tunes contained in Hal Leonard Real Books volumes 1 through 3. Newcomers will be coached through the process.  \nA $3 to $5 donation to Flemington DIY will be required from each musician that plays at the session. Visitors that just want to listen to the music are also welcome to attend for all or any part of the 1-5 PM sessions free of charge.  \nFor questions about the sessions\, or to be added to the monthly text notification list for last minute cancellations or reschedules\, please email njjazzjam@gmail.com
URL:https://www.flemingtondiy.org/event/open-jazz-jams-35/
END:VEVENT
BEGIN:VEVENT
DTSTART;TZID=America/New_York:20260302T180000
DTEND;TZID=America/New_York:20260302T210000
DTSTAMP:20260423T220820
CREATED:20240302T182230Z
LAST-MODIFIED:20260225T234230Z
UID:10002140-1772474400-1772485200@www.flemingtondiy.org
SUMMARY:Print Club
DESCRIPTION:Flemington DIY Print Club is a weekly open studio held from 6-9PM every Monday\, $15-30 per printer. It provides an opportunity for local artists and community members new to arts processes to utilize shared printmaking facilities. Print Club provides a platform for artists to network\, build community\, and work collaboratively. \nNo experience? No problem! Our vounteers will guide you through the process from start to finish! \nLearn more: https://www.flemingtondiy.org/printclub/
URL:https://www.flemingtondiy.org/event/print-club-273/
END:VEVENT
BEGIN:VEVENT
DTSTART;TZID=America/New_York:20260303T113000
DTEND;TZID=America/New_York:20260303T180000
DTSTAMP:20260423T220820
CREATED:20250602T233546Z
LAST-MODIFIED:20260225T234230Z
UID:10003250-1772537400-1772560800@www.flemingtondiy.org
SUMMARY:Open Hours
DESCRIPTION:Visit the space\, see our current art shows\, hang out\, and learn how to get involved!
URL:https://www.flemingtondiy.org/event/open-hours-261/
END:VEVENT
BEGIN:VEVENT
DTSTART;TZID=America/New_York:20260303T180000
DTEND;TZID=America/New_York:20260303T193000
DTSTAMP:20260423T220820
CREATED:20260112T234241Z
LAST-MODIFIED:20260225T234230Z
UID:10003819-1772560800-1772566200@www.flemingtondiy.org
SUMMARY:Monthly Food Drive
DESCRIPTION:Did you know that Flemington has seven Little Food Pantries (LFPs)? LFPs are small food pantries that allow community members in need to have open access to food\, water\, and hygiene items. These pantries depend on the support of donations from people like you! Come together with your community for a monthly food drive to stock four of the pantries. How does it work?Volunteers come together at the drive to sort donations that are dropped off from 6-7:15PM. Donations are counted and then sorted into bins for distribution to the pantries. Volunteers take each bin to the pantries to restock them. Any leftover items are distributed to the pantries later in the month.  \nPantries are located at:  \n\nFlemington Area Food Pantry LFP\, 154 Rt 31\nSalvation Army LFP\, Corner of Hopewell Ave & East Main Street\nCommunity LFP\, 10 New Jersey Avenue\nHunterdon County Community Wellness Center LFP\, 44 Emery Ave\nFlemington DIY LFP\, 26 Stangl Road\nFlemington Presbyterian Church LFP\, 10 East Main Street\nEchelon Studio Self-Care Pantry\, 27 Fulper Road\n\nRecommended donations: \n\nWater bottles\n\nShelf-stable milk and juice\n\n \nPackaged or canned tuna and chicken\nDry goods like box mixes\, rice\, oatmeal\, etc.\nGranola and protein bars (without chocolate)\nCoffee and tea\nCrackers\nRamen and pot noodles\nInstant soup packets\nAny personal hygiene products \nMenstrual hygiene products (preference for pads)\nIndividual drink mix packets\nCanned goods and can openers\nPeanut butter and jelly\nSmall cold weather items (hand warmers\, socks\, gloves\, mittens\, scarves\, hats)\nBandaids and neosporin\nPlease no expired items\, open packages\, or frozen/refrigerated items. \nWant to get involved? Contact Jae at flemingtonqts@gmail.com.
URL:https://www.flemingtondiy.org/event/monthly-food-drive-10/
END:VEVENT
BEGIN:VEVENT
DTSTART;TZID=America/New_York:20260304T190000
DTEND;TZID=America/New_York:20260304T203000
DTSTAMP:20260423T220820
CREATED:20260108T235256Z
LAST-MODIFIED:20260225T234230Z
UID:10003802-1772650800-1772656200@www.flemingtondiy.org
SUMMARY:Volunteer Information Session
DESCRIPTION:Did you know Flemington DIY is 100% volunteer-run and operated? \nJoin us for an informational session & orientation to learn more about our volunteer program. \nPlease pre-register: https://forms.gle/g1uWeb9oSkn6ym4R8Walk ins are also always welcome!
URL:https://www.flemingtondiy.org/event/volunteer-information-session-6/
END:VEVENT
BEGIN:VEVENT
DTSTART;TZID=America/New_York:20260305T113000
DTEND;TZID=America/New_York:20260305T180000
DTSTAMP:20260423T220820
CREATED:20251107T233720Z
LAST-MODIFIED:20260225T234230Z
UID:10003541-1772710200-1772733600@www.flemingtondiy.org
SUMMARY:Open Hours
DESCRIPTION:
URL:https://www.flemingtondiy.org/event/open-hours-356/
END:VEVENT
BEGIN:VEVENT
DTSTART;VALUE=DATE:20260307
DTEND;VALUE=DATE:20260329
DTSTAMP:20260423T220820
CREATED:20260111T234231Z
LAST-MODIFIED:20260319T234225Z
UID:10003811-1772841600-1774742399@www.flemingtondiy.org
SUMMARY:Glimmers Through the Lens - Photography Show on Display
DESCRIPTION:https://www.flemingtondiy.org/glimmers/
URL:https://www.flemingtondiy.org/event/photography-art-show/
END:VEVENT
BEGIN:VEVENT
DTSTART;TZID=America/New_York:20260307T113000
DTEND;TZID=America/New_York:20260307T143000
DTSTAMP:20260423T220821
CREATED:20260209T234226Z
LAST-MODIFIED:20260225T234230Z
UID:10003899-1772883000-1772893800@www.flemingtondiy.org
SUMMARY:PRIVATE EVENT
DESCRIPTION:Flemington DIY offers private rentals for your events\, meetings\, birthday parties\, photo shoots\, and workshops\, all while supporting this community arts space.  Learn more at flemingtondiy.org/rentals
URL:https://www.flemingtondiy.org/event/private-event-9/
END:VEVENT
BEGIN:VEVENT
DTSTART;TZID=America/New_York:20260307T150000
DTEND;TZID=America/New_York:20260307T170000
DTSTAMP:20260423T220821
CREATED:20260107T235213Z
LAST-MODIFIED:20260225T234230Z
UID:10003800-1772895600-1772902800@www.flemingtondiy.org
SUMMARY:Playdoh zine workshop
DESCRIPTION:Use Play-Doh to capture textures and make temporary stamps!
URL:https://www.flemingtondiy.org/event/playdoh-zine-workshop/
END:VEVENT
BEGIN:VEVENT
DTSTART;TZID=America/New_York:20260307T180000
DTEND;TZID=America/New_York:20260307T193000
DTSTAMP:20260423T220821
CREATED:20260212T234315Z
LAST-MODIFIED:20260225T234230Z
UID:10003906-1772906400-1772911800@www.flemingtondiy.org
SUMMARY:"Glimmers Through the Lens" Opening Reception
DESCRIPTION:Join local photographers for the opening night of the group show “Glimmers Through the Lens.” The show will feature 10 local photographers and their own interpretations of hope. Light refreshments will be provided
URL:https://www.flemingtondiy.org/event/glimmers-through-the-lens-opening-reception/
END:VEVENT
END:VCALENDAR