BEGIN:VCALENDAR
VERSION:2.0
PRODID:-//Flemington DIY - ECPv6.15.20//NONSGML v1.0//EN
CALSCALE:GREGORIAN
METHOD:PUBLISH
X-ORIGINAL-URL:https://www.flemingtondiy.org
X-WR-CALDESC:Events for Flemington DIY
REFRESH-INTERVAL;VALUE=DURATION:PT1H
X-Robots-Tag:noindex
X-PUBLISHED-TTL:PT1H
BEGIN:VTIMEZONE
TZID:America/New_York
BEGIN:DAYLIGHT
TZOFFSETFROM:-0500
TZOFFSETTO:-0400
TZNAME:EDT
DTSTART:20230312T070000
END:DAYLIGHT
BEGIN:STANDARD
TZOFFSETFROM:-0400
TZOFFSETTO:-0500
TZNAME:EST
DTSTART:20231105T060000
END:STANDARD
BEGIN:DAYLIGHT
TZOFFSETFROM:-0500
TZOFFSETTO:-0400
TZNAME:EDT
DTSTART:20240310T070000
END:DAYLIGHT
BEGIN:STANDARD
TZOFFSETFROM:-0400
TZOFFSETTO:-0500
TZNAME:EST
DTSTART:20241103T060000
END:STANDARD
BEGIN:DAYLIGHT
TZOFFSETFROM:-0500
TZOFFSETTO:-0400
TZNAME:EDT
DTSTART:20250309T070000
END:DAYLIGHT
BEGIN:STANDARD
TZOFFSETFROM:-0400
TZOFFSETTO:-0500
TZNAME:EST
DTSTART:20251102T060000
END:STANDARD
END:VTIMEZONE
BEGIN:VEVENT
DTSTART;TZID=America/New_York:20240620T113000
DTEND;TZID=America/New_York:20240620T180000
DTSTAMP:20260425T104502
CREATED:20240103T045027Z
LAST-MODIFIED:20240619T233545Z
UID:10001996-1718883000-1718906400@www.flemingtondiy.org
SUMMARY:Open Hours
DESCRIPTION:Visit the space\, see our current art show\, hang out\, and learn how to get involved!
URL:https://www.flemingtondiy.org/event/open-hours-89/
END:VEVENT
BEGIN:VEVENT
DTSTART;TZID=America/New_York:20240620T154500
DTEND;TZID=America/New_York:20240620T184500
DTSTAMP:20260425T104502
CREATED:20240513T233516Z
LAST-MODIFIED:20240619T233545Z
UID:10002289-1718898300-1718909100@www.flemingtondiy.org
SUMMARY:QT Art Show Open Hours
DESCRIPTION:
URL:https://www.flemingtondiy.org/event/qt-art-show-open-hours-4/
END:VEVENT
BEGIN:VEVENT
DTSTART;TZID=America/New_York:20240620T190000
DTEND;TZID=America/New_York:20240620T210000
DTSTAMP:20260425T104502
CREATED:20231103T010515Z
LAST-MODIFIED:20240620T233534Z
UID:10001705-1718910000-1718917200@www.flemingtondiy.org
SUMMARY:Monthly Open Bluegrass Jam Session
DESCRIPTION:All players welcome! beginner to pro\nBring your instrument\, a couple of tunes\,\nsome friends and your own refreshments\nFreewill basket to support DIY $5 suggested\nDIY Is open to all ages –strictly no alcohol
URL:https://www.flemingtondiy.org/event/monthly-open-bluegrass-jam-session-15/
END:VEVENT
BEGIN:VEVENT
DTSTART;TZID=America/New_York:20240621T190000
DTEND;TZID=America/New_York:20240621T220000
DTSTAMP:20260425T104502
CREATED:20240406T205129Z
LAST-MODIFIED:20240621T233537Z
UID:10002237-1718996400-1719007200@www.flemingtondiy.org
SUMMARY:Live Music
DESCRIPTION:Mixolydian Dreamer\n(Art rock/Progressive rock)\nStarikova\n(Rock)\nRaising Arizona\n(Alternative hard rock)\nGuesstimate\n(Art rock)\n$10 Donation\nAll Ages\nNo Drugs/Alcohol\nJoin with Google Meet: https://meet.google.com/wan-ufyt-pvw\nLearn more about Meet at: https://support.google.com/a/users/answer/9282720
URL:https://www.flemingtondiy.org/event/live-music-64/
END:VEVENT
BEGIN:VEVENT
DTSTART;TZID=America/New_York:20240622T110000
DTEND;TZID=America/New_York:20240622T140000
DTSTAMP:20260425T104502
CREATED:20240520T235043Z
LAST-MODIFIED:20240621T233537Z
UID:10002314-1719054000-1719064800@www.flemingtondiy.org
SUMMARY:BioBlitz 2024 - Day 1
DESCRIPTION:Join us in the first exploration and celebration of biodiversity in the borough of Flemington! Citizen scientists will document various species of plants\, animals\, and other organisms in Flemington using the iNaturalist smartphone app. This event will span 24 hours in order to provide participants an opportunity to document species that are more active at Dusk\, Dawn\, and at night. Once properly documented\, species data will be available on iNaturalist and can be used by biologists\, ecologists\, and others studying populations of these species. Our goals are to create a baseline species list for the borough that can be compared with future studies and/or historical data\, to engage the Flemington Community in a citizen science effort that will allow all involved to learn more about the importance of biodiversity and the species diversity that can be found in the borough\, and to inspire interest in the natural communities present in the borough.  \nIdentification expertise is helpful but not required. Groups will be led by experts from Princeton Hydro and The Hunterdon Queer Birders and will be aided with field guides and taxonomic keys. Participants who live within the borough are also strongly encouraged to document wildlife that occurs in their own backyards.\nwww.flemingtondiy.org/bioblitz
URL:https://www.flemingtondiy.org/event/bioblitz-2024-day-1/
END:VEVENT
BEGIN:VEVENT
DTSTART;TZID=America/New_York:20240623T120000
DTEND;TZID=America/New_York:20240623T140000
DTSTAMP:20260425T104502
CREATED:20240520T235043Z
LAST-MODIFIED:20240622T233527Z
UID:10002315-1719144000-1719151200@www.flemingtondiy.org
SUMMARY:BioBlitz 2024 - Day 2
DESCRIPTION:Join us in the first exploration and celebration of biodiversity in the borough of Flemington! Citizen scientists will document various species of plants\, animals\, and other organisms in Flemington using the iNaturalist smartphone app. This event will span 24 hours in order to provide participants an opportunity to document species that are more active at Dusk\, Dawn\, and at night. Once properly documented\, species data will be available on iNaturalist and can be used by biologists\, ecologists\, and others studying populations of these species. Our goals are to create a baseline species list for the borough that can be compared with future studies and/or historical data\, to engage the Flemington Community in a citizen science effort that will allow all involved to learn more about the importance of biodiversity and the species diversity that can be found in the borough\, and to inspire interest in the natural communities present in the borough.   \nIdentification expertise is helpful but not required. Groups will be led by experts from Princeton Hydro and The Hunterdon Queer Birders and will be aided with field guides and taxonomic keys. Participants who live within the borough are also strongly encouraged to document wildlife that occurs in their own backyards. \nwww.flemingtondiy.org/bioblitz
URL:https://www.flemingtondiy.org/event/bioblitz-2024-day-2/
END:VEVENT
BEGIN:VEVENT
DTSTART;TZID=America/New_York:20240623T143000
DTEND;TZID=America/New_York:20240623T183000
DTSTAMP:20260425T104502
CREATED:20240620T233513Z
LAST-MODIFIED:20240622T233527Z
UID:10002364-1719153000-1719167400@www.flemingtondiy.org
SUMMARY:BONUS open jazz jam!
DESCRIPTION:IN ADDITION TO OUR MONTHLY JAZZ JAMS…\nThe sessions will provide an opportunity for musicians to play with an experienced band. From 1-2 PM the hosting musicians for the week will play. Other musicians will be invited to sit in and play between 2-5 PM (typically a minimum of 2 songs each\, circumstances permitting). With the exception of drum kit and piano\, all musicians should bring their own equipment (instruments\, amps\, drum sticks\, microphones\, etc.). The sessions will focus primarily on jazz standards and other jazz tunes contained in Hal Leonard Real Books volumes 1 through 3. Newcomers will be coached through the process. \nA $3 to $5 donation to Flemington DIY will be required from each musician that plays at the session. Visitors that just want to listen to the music are also welcome to attend for all or any part of the 1-5 PM sessions free of charge.\nFor questions about the sessions\, or to be added to the monthly text notification list for last minute cancellations or reschedules\, please email njjazzjam@gmail.com
URL:https://www.flemingtondiy.org/event/bonus-open-jazz-jam/
END:VEVENT
BEGIN:VEVENT
DTSTART;TZID=America/New_York:20240624T091500
DTEND;TZID=America/New_York:20240624T113000
DTSTAMP:20260425T104502
CREATED:20240325T202123Z
LAST-MODIFIED:20240623T233532Z
UID:10002213-1719220500-1719228600@www.flemingtondiy.org
SUMMARY:Music Together
DESCRIPTION:Every week in our music classes at Music Together Flemington\, babies\, toddlers\, preschoolers\, and the grownups who love them come together for a time of musical play. Little ones love playing along in class\, and caregivers love being a part of their children’s growth into confident music-makers. And everyone loves our songs that’ll have you tapping along in no time \nLearn more and enroll today: https://www.musictogetherflemington.com/
URL:https://www.flemingtondiy.org/event/music-together-238/
END:VEVENT
BEGIN:VEVENT
DTSTART;TZID=America/New_York:20240624T180000
DTEND;TZID=America/New_York:20240624T210000
DTSTAMP:20260425T104502
CREATED:20231107T010550Z
LAST-MODIFIED:20240624T233507Z
UID:10001824-1719252000-1719262800@www.flemingtondiy.org
SUMMARY:Print Club
DESCRIPTION:Flemington DIY Print Club is a weekly open studio held from 6-9PM every Monday\, $15-30 per printer. It provides an opportunity for local artists and community members new to arts processes to utilize shared printmaking facilities. Print Club provides a platform for artists to network\, build community\, and work collaboratively. \nNo experience? No problem! Our vounteers will guide you through the process from start to finish! \nLearn more: https://www.flemingtondiy.org/printclub/
URL:https://www.flemingtondiy.org/event/print-club-186/
END:VEVENT
BEGIN:VEVENT
DTSTART;TZID=America/New_York:20240625T100000
DTEND;TZID=America/New_York:20240625T180000
DTSTAMP:20260425T104502
CREATED:20240610T233527Z
LAST-MODIFIED:20240624T233507Z
UID:10002357-1719309600-1719338400@www.flemingtondiy.org
SUMMARY:Open Hours
DESCRIPTION:Visit the space\, see our current art shows\, hang out\, and learn how to get involved!
URL:https://www.flemingtondiy.org/event/open-hours-90/
END:VEVENT
BEGIN:VEVENT
DTSTART;TZID=America/New_York:20240625T153000
DTEND;TZID=America/New_York:20240625T180000
DTSTAMP:20260425T104502
CREATED:20240520T235044Z
LAST-MODIFIED:20240624T233507Z
UID:10002316-1719329400-1719338400@www.flemingtondiy.org
SUMMARY:Open Hours
DESCRIPTION:Visit the space\, see our current art shows\, hang out\, and learn how to get involved!
URL:https://www.flemingtondiy.org/event/open-hours-123/
END:VEVENT
BEGIN:VEVENT
DTSTART;TZID=America/New_York:20240625T180000
DTEND;TZID=America/New_York:20240625T200000
DTSTAMP:20260425T104502
CREATED:20240611T233523Z
LAST-MODIFIED:20240625T233543Z
UID:10002358-1719338400-1719345600@www.flemingtondiy.org
SUMMARY:Aunt Mary’s Juneteenth event
DESCRIPTION:Join @auntmarysnj at Flemington DIY on Tuesday\, June 25 6-8pm\, as we celebrate Juneteenth\, a day marking the emancipation of African Americans from slavery. This event will highlight the significant history of African Americans with cannabis and address important social justice issues. \nTo enhance your well-being\, we are offering free yoga sessions for the first 20 attendees who sign up for each 30-minute session. It’s a great opportunity to relax and connect with the community. \n>>REGISTER at AUNTMARYSNJ.co \nAunt Mary’s is also committed to supporting those affected by unjust cannabis laws. They will provide information and resources to help individuals start the expungement process with our legal partners.
URL:https://www.flemingtondiy.org/event/aunt-marys-juneteenth-event/
END:VEVENT
BEGIN:VEVENT
DTSTART;TZID=America/New_York:20240626T193000
DTEND;TZID=America/New_York:20240626T213000
DTSTAMP:20260425T104502
CREATED:20231101T010513Z
LAST-MODIFIED:20240626T233536Z
UID:10001668-1719430200-1719437400@www.flemingtondiy.org
SUMMARY:Poetry Open Mic
DESCRIPTION:show up & sign up\ndonations at the door\nall ages
URL:https://www.flemingtondiy.org/event/poetry-open-mic-23/
END:VEVENT
BEGIN:VEVENT
DTSTART;TZID=America/New_York:20240627T083000
DTEND;TZID=America/New_York:20240627T153000
DTSTAMP:20260425T104502
CREATED:20240514T233519Z
LAST-MODIFIED:20240626T233536Z
UID:10002291-1719477000-1719502200@www.flemingtondiy.org
SUMMARY:Summer Art Club with Creative Whimsies
DESCRIPTION:Summer Art Clubs with Creative Whimsies \n \n\nLed by a certified teacher\nAll supplies included\nHelps support a nonprofit\nGet the kids out of the house!\nUnique and fun projects\n\nStarting at $25 per session. \n45-60 minute classes \nAt Flemington DIY\, 26 Stangl Road \n  \nLearn More \nhttps://www.cwhimsies.com/summer
URL:https://www.flemingtondiy.org/event/summer-art-club-with-creative-whimsies-2/
END:VEVENT
BEGIN:VEVENT
DTSTART;TZID=America/New_York:20240627T153000
DTEND;TZID=America/New_York:20240627T180000
DTSTAMP:20260425T104502
CREATED:20240520T235045Z
LAST-MODIFIED:20240626T233536Z
UID:10002317-1719502200-1719511200@www.flemingtondiy.org
SUMMARY:Open Hours
DESCRIPTION:Visit the space\, see our current art shows\, hang out\, and learn how to get involved!
URL:https://www.flemingtondiy.org/event/open-hours-124/
END:VEVENT
BEGIN:VEVENT
DTSTART;TZID=America/New_York:20240627T180000
DTEND;TZID=America/New_York:20240627T200000
DTSTAMP:20260425T104502
CREATED:20240424T225021Z
LAST-MODIFIED:20240627T233703Z
UID:10002257-1719511200-1719518400@www.flemingtondiy.org
SUMMARY:LGBTQIA+ Youth Forum
DESCRIPTION:An opportunity to listen to queer and trans youth about their hopes\, dreams\, fears\, and experiences of growing up in Hunterdon County in 2024\n$10 suggested donation\nIn collaboration with FlemingtonQTs
URL:https://www.flemingtondiy.org/event/trans-youth-forum/
END:VEVENT
BEGIN:VEVENT
DTSTART;TZID=America/New_York:20240628T190000
DTEND;TZID=America/New_York:20240628T220000
DTSTAMP:20260425T104502
CREATED:20240304T183553Z
LAST-MODIFIED:20240628T233618Z
UID:10002141-1719601200-1719612000@www.flemingtondiy.org
SUMMARY:Live Music
DESCRIPTION:Wavers (Olympia DIY Indie Rock) \nShirthole (Indie/Punk) \nJeff Schroeck (Indie/Folk) \nBlank Effort(Local garage/experimental rock) \nDoors @ 6:30pm$10-15 DonationAll AgesNo Drugs/Alcohol
URL:https://www.flemingtondiy.org/event/live-music-57/
END:VEVENT
BEGIN:VEVENT
DTSTART;TZID=America/New_York:20240629T190000
DTEND;TZID=America/New_York:20240629T220000
DTSTAMP:20260425T104502
CREATED:20240626T233511Z
LAST-MODIFIED:20240629T233626Z
UID:10002384-1719687600-1719698400@www.flemingtondiy.org
SUMMARY:Live Music
DESCRIPTION:The Chemical Imbalance\nGirlbossanova\nDark & Stormy\nFuneral Doors\n$10 Donation\nDoors @ 6:30pm\nAll Ages\nNo Drugs/Alcohol
URL:https://www.flemingtondiy.org/event/live-music-76/
END:VEVENT
BEGIN:VEVENT
DTSTART;TZID=America/New_York:20240630T110000
DTEND;TZID=America/New_York:20240630T120000
DTSTAMP:20260425T104502
CREATED:20240509T195457Z
LAST-MODIFIED:20240629T233626Z
UID:10002270-1719745200-1719748800@www.flemingtondiy.org
SUMMARY:Tap Project
DESCRIPTION:Come one\, come all\, no tap shoes required!\nJoin us Sunday mornings and learn the language of tap dance (what’s a flap? shuffle? buffalo?) plus tap dance history (did you ever wonder who was Fred Astaire’s teacher?).\nWe'll learn simple warm ups\, then take those steps and do a simple combination\, add a few together\, and hey\, you have a whole dance!\nGreat music\, great fun\, new friends!\nPlease check calendar for upcoming classes!
URL:https://www.flemingtondiy.org/event/tap-project-52/
END:VEVENT
BEGIN:VEVENT
DTSTART;TZID=America/New_York:20240630T160000
DTEND;TZID=America/New_York:20240630T180000
DTSTAMP:20260425T104502
CREATED:20240510T233517Z
LAST-MODIFIED:20240629T233626Z
UID:10002275-1719763200-1719770400@www.flemingtondiy.org
SUMMARY:Rising Stars Teen Showcase
DESCRIPTION:Come and celebrate the end of the school year with the Rising Stars Teen Showcase!\nSix performers will each offer an entertaining mini set in this growing DIY program. Grab an ice\ncream and enjoy a summer Sunday afternoon with family\, friends and community.\nAdults – $10\nStudents (elementary through high school) – $5.00\nUnder 5 – Free\nwww.flemingtondiy.org/talent
URL:https://www.flemingtondiy.org/event/rising-stars-teen-showcase/
END:VEVENT
BEGIN:VEVENT
DTSTART;TZID=America/New_York:20240701T180000
DTEND;TZID=America/New_York:20240701T200000
DTSTAMP:20260425T104502
CREATED:20240528T235053Z
LAST-MODIFIED:20240701T235111Z
UID:10002342-1719856800-1719864000@www.flemingtondiy.org
SUMMARY:Hunterdon Fiber Artist Meeting
DESCRIPTION:Looking to meet other fiber artists in the Hunterdon county area?  Think about coming to Hunterdon Fiber Artists meet up to socialize and connect with others doing the fiber art craft that they love. \nAll are welcome.  Just bring your craft be it knitting\, crocheting\, spinning\, etc.\, and be prepared to meet lots of fun and interesting people!  We even have mini educational talks on requested topics! \nOur FB group is Hunterdon Fiber Artists https://www.facebook.com/groups/1101970274078722 \nOur Ravelry group is https://www.ravelry.com/groups/hunterdon-fiber-artists?s=tab \nEvery other Monday at DIY; $3-5 suggested donation.
URL:https://www.flemingtondiy.org/event/hunterdon-fiber-artist-meeting-12/
END:VEVENT
BEGIN:VEVENT
DTSTART;TZID=America/New_York:20240701T180000
DTEND;TZID=America/New_York:20240701T210000
DTSTAMP:20260425T104502
CREATED:20231107T010550Z
LAST-MODIFIED:20240701T235111Z
UID:10001825-1719856800-1719867600@www.flemingtondiy.org
SUMMARY:Print Club
DESCRIPTION:Flemington DIY Print Club is a weekly open studio held from 6-9PM every Monday\, $15-30 per printer. It provides an opportunity for local artists and community members new to arts processes to utilize shared printmaking facilities. Print Club provides a platform for artists to network\, build community\, and work collaboratively. \nNo experience? No problem! Our vounteers will guide you through the process from start to finish! \nLearn more: https://www.flemingtondiy.org/printclub/
URL:https://www.flemingtondiy.org/event/print-club-187/
END:VEVENT
BEGIN:VEVENT
DTSTART;TZID=America/New_York:20240702T100000
DTEND;TZID=America/New_York:20240702T180000
DTSTAMP:20260425T104502
CREATED:20240520T235046Z
LAST-MODIFIED:20240701T235111Z
UID:10002318-1719914400-1719943200@www.flemingtondiy.org
SUMMARY:Open Hours
DESCRIPTION:Visit the space\, see our current art shows\, hang out\, and learn how to get involved!
URL:https://www.flemingtondiy.org/event/open-hours-125/
END:VEVENT
BEGIN:VEVENT
DTSTART;TZID=America/New_York:20240704T153000
DTEND;TZID=America/New_York:20240704T180000
DTSTAMP:20260425T104502
CREATED:20240520T235047Z
LAST-MODIFIED:20240703T235045Z
UID:10002319-1720107000-1720116000@www.flemingtondiy.org
SUMMARY:Open Hours
DESCRIPTION:Visit the space\, see our current art shows\, hang out\, and learn how to get involved!
URL:https://www.flemingtondiy.org/event/open-hours-126/
END:VEVENT
BEGIN:VEVENT
DTSTART;TZID=America/New_York:20240705T083000
DTEND;TZID=America/New_York:20240705T153000
DTSTAMP:20260425T104502
CREATED:20240514T233520Z
LAST-MODIFIED:20240704T235045Z
UID:10002293-1720168200-1720193400@www.flemingtondiy.org
SUMMARY:Summer Art Club with Creative Whimsies
DESCRIPTION:Summer Art Clubs with Creative Whimsies \n \n\nLed by a certified teacher\nAll supplies included\nHelps support a nonprofit\nGet the kids out of the house!\nUnique and fun projects\n\nStarting at $25 per session. \n45-60 minute classes \nAt Flemington DIY\, 26 Stangl Road \n  \nLearn More \nhttps://www.cwhimsies.com/summer
URL:https://www.flemingtondiy.org/event/summer-art-club-with-creative-whimsies-4/
END:VEVENT
BEGIN:VEVENT
DTSTART;TZID=America/New_York:20240705T190000
DTEND;TZID=America/New_York:20240705T220000
DTSTAMP:20260425T104502
CREATED:20240522T233613Z
LAST-MODIFIED:20240705T235046Z
UID:10002337-1720206000-1720216800@www.flemingtondiy.org
SUMMARY:Live Music
DESCRIPTION:Ian Wolsten\n(accoustic singer/songwriter)\nVolvo Physics\n(bedroom folk)\nPulsefaction\n(power pop duo)\nNathalie Yavorsky\n(piano singer songwriter)\nTony Lio\n(gothic singer songwriter)\nDoors @ 6:30pm\n$10 Donation\nAll Ages\nNo Drugs/Alcohol
URL:https://www.flemingtondiy.org/event/live-music-72/
END:VEVENT
BEGIN:VEVENT
DTSTART;TZID=America/New_York:20240706T190000
DTEND;TZID=America/New_York:20240706T220000
DTSTAMP:20260425T104502
CREATED:20240424T225022Z
LAST-MODIFIED:20240705T235046Z
UID:10002258-1720292400-1720303200@www.flemingtondiy.org
SUMMARY:Live Music
DESCRIPTION:Hot Dress \n(indie rock band based out of East Brunswick)\nDummy Pass  \n(alt rock band based out of Philadelphia)\nBuffout\n(emo/post-hardcore band based out of New Jersey)\nValendina\n(pop punk band from Philadelphia)\n10Penny\n(alt rock)\nDoors @ 6:30pm\n$10 Donation\nAll Ages\nNo Drugs/Alcohol
URL:https://www.flemingtondiy.org/event/live-music-70/
END:VEVENT
BEGIN:VEVENT
DTSTART;TZID=America/New_York:20240707T110000
DTEND;TZID=America/New_York:20240707T120000
DTSTAMP:20260425T104502
CREATED:20240703T235022Z
LAST-MODIFIED:20240705T235046Z
UID:10002392-1720350000-1720353600@www.flemingtondiy.org
SUMMARY:Tap Project
DESCRIPTION:Come one\, come all\, no tap shoes required!\nJoin us Sunday mornings and learn the language of tap dance (what’s a flap? shuffle? buffalo?) plus tap dance history (did you ever wonder who was Fred Astaire’s teacher?).\nWe will learn simple warm ups\, then take those steps and do a simple combination\, add a few together\, and hey\, you have a whole dance!\nGreat music\, great fun\, new friends!\nPlease check calendar for upcoming classes!
URL:https://www.flemingtondiy.org/event/tap-project-53/
END:VEVENT
BEGIN:VEVENT
DTSTART;TZID=America/New_York:20240707T130000
DTEND;TZID=America/New_York:20240707T170000
DTSTAMP:20260425T104502
CREATED:20231103T010515Z
LAST-MODIFIED:20240705T235046Z
UID:10001706-1720357200-1720371600@www.flemingtondiy.org
SUMMARY:Open Jazz Jams
DESCRIPTION:Open Jazz Jams are held he first Sunday of every month. \nThe sessions will provide an opportunity for musicians to play with an experienced band. From 1-2 PM the hosting musicians for the week will play. Other musicians will be invited to sit in and play between 2-5 PM (typically a minimum of 2 songs each\, circumstances permitting). With the exception of drum kit and piano\, all musicians should bring their own equipment (instruments\, amps\, drum sticks\, microphones\, etc.). The sessions will focus primarily on jazz standards and other jazz tunes contained in Hal Leonard Real Books volumes 1 through 3. Newcomers will be coached through the process.  \nA $3 to $5 donation to Flemington DIY will be required from each musician that plays at the session. Visitors that just want to listen to the music are also welcome to attend for all or any part of the 1-5 PM sessions free of charge.  \nFor questions about the sessions\, or to be added to the monthly text notification list for last minute cancellations or reschedules\, please email njjazzjam@gmail.com
URL:https://www.flemingtondiy.org/event/open-jazz-jams-19/
END:VEVENT
BEGIN:VEVENT
DTSTART;TZID=America/New_York:20240708T090000
DTEND;TZID=America/New_York:20240708T120000
DTSTAMP:20260425T104502
CREATED:20240624T233509Z
LAST-MODIFIED:20240707T233543Z
UID:10002368-1720429200-1720440000@www.flemingtondiy.org
SUMMARY:Music Together
DESCRIPTION:Every week in our music classes at Music Together Flemington\, babies\, toddlers\, preschoolers\, and the grownups who love them come together for a time of musical play. Little ones love playing along in class\, and caregivers love being a part of their children’s growth into confident music-makers. And everyone loves our songs that’ll have you tapping along in no time \nLearn more and enroll today: https://www.musictogetherflemington.com/
URL:https://www.flemingtondiy.org/event/music-together-239/
END:VEVENT
END:VCALENDAR