BEGIN:VCALENDAR
VERSION:2.0
PRODID:-//Flemington DIY - ECPv6.15.20//NONSGML v1.0//EN
CALSCALE:GREGORIAN
METHOD:PUBLISH
X-ORIGINAL-URL:https://www.flemingtondiy.org
X-WR-CALDESC:Events for Flemington DIY
REFRESH-INTERVAL;VALUE=DURATION:PT1H
X-Robots-Tag:noindex
X-PUBLISHED-TTL:PT1H
BEGIN:VTIMEZONE
TZID:America/New_York
BEGIN:DAYLIGHT
TZOFFSETFROM:-0500
TZOFFSETTO:-0400
TZNAME:EDT
DTSTART:20230312T070000
END:DAYLIGHT
BEGIN:STANDARD
TZOFFSETFROM:-0400
TZOFFSETTO:-0500
TZNAME:EST
DTSTART:20231105T060000
END:STANDARD
BEGIN:DAYLIGHT
TZOFFSETFROM:-0500
TZOFFSETTO:-0400
TZNAME:EDT
DTSTART:20240310T070000
END:DAYLIGHT
BEGIN:STANDARD
TZOFFSETFROM:-0400
TZOFFSETTO:-0500
TZNAME:EST
DTSTART:20241103T060000
END:STANDARD
BEGIN:DAYLIGHT
TZOFFSETFROM:-0500
TZOFFSETTO:-0400
TZNAME:EDT
DTSTART:20250309T070000
END:DAYLIGHT
BEGIN:STANDARD
TZOFFSETFROM:-0400
TZOFFSETTO:-0500
TZNAME:EST
DTSTART:20251102T060000
END:STANDARD
END:VTIMEZONE
BEGIN:VEVENT
DTSTART;VALUE=DATE:20240401
DTEND;VALUE=DATE:20240501
DTSTAMP:20260425T103312
CREATED:20240403T203608Z
LAST-MODIFIED:20240429T230551Z
UID:10002223-1711929600-1714521599@www.flemingtondiy.org
SUMMARY:April Art Shows
DESCRIPTION:3 Shows // 4 Artists \n\n\nRelationships: An Installation Between Light and Sound by Evan Schlomann\nDots & Lines: A Mother-Daughter Exhibit\nThe Shadow Almadel: The Esoteric Photography of Justin Mank\n\n\nLearn more: flemingtondiy.org/april-art-shows
URL:https://www.flemingtondiy.org/event/april-art-shows/
END:VEVENT
BEGIN:VEVENT
DTSTART;TZID=America/New_York:20240401T180000
DTEND;TZID=America/New_York:20240401T200000
DTSTAMP:20260425T103312
CREATED:20240314T193809Z
LAST-MODIFIED:20240401T203617Z
UID:10002148-1711994400-1712001600@www.flemingtondiy.org
SUMMARY:TRANS DAY OF VISIBILITY (2nd Annual)
DESCRIPTION:Flemington’s Second Annual Trans Day of Visibility Celebration \n \nOn Monday\, April 1st  please join the Flemington QTs and community from 6-8PM for our second annual Trans Day of Visibility celebration at Flemington DIY. \n \nThe QTs invite the community to join us in sharing our stories as transgender and nonbinary individuals and to learn more about local LGBTQIA+ resources in Hunterdon County and beyond. A panel of trans and nonbinary community members will share their experiences and speak on why actively and openly supporting LGBTQIA+ people across our nation is more important now than ever. Local photographer Christianne Ebel will also be offering a portrait photo booth and an opportunity to record a short message of support for queer and trans students thanks to Queer StoryCorps. Zines by local artists and information about resources for LGBTQIA+\, their loved ones\, and allies will also be available.  \n\nThanks to DIY’s Print Club\, members of the community will also be able to screen print a TDOV design onto a t-shirt or poster (please bring your own t-shirt). \nA suggested donation of $10-15 will be collected at the door to support events by the Flemington QTs and to thank Flemington DIY for the use of the space.
URL:https://www.flemingtondiy.org/event/trans-day-of-visibility-2nd-annual/
END:VEVENT
BEGIN:VEVENT
DTSTART;TZID=America/New_York:20240401T180000
DTEND;TZID=America/New_York:20240401T210000
DTSTAMP:20260425T103312
CREATED:20231107T010546Z
LAST-MODIFIED:20240401T203617Z
UID:10001812-1711994400-1712005200@www.flemingtondiy.org
SUMMARY:Print Club
DESCRIPTION:Flemington DIY Print Club is a weekly open studio held from 6-9PM every Monday\, $15-30 per printer. It provides an opportunity for local artists and community members new to arts processes to utilize shared printmaking facilities. Print Club provides a platform for artists to network\, build community\, and work collaboratively. \nNo experience? No problem! Our vounteers will guide you through the process from start to finish! \nLearn more: https://www.flemingtondiy.org/printclub/
URL:https://www.flemingtondiy.org/event/print-club-174/
END:VEVENT
BEGIN:VEVENT
DTSTART;TZID=America/New_York:20240402T161500
DTEND;TZID=America/New_York:20240402T170000
DTSTAMP:20260425T103312
CREATED:20240223T161835Z
LAST-MODIFIED:20240402T203554Z
UID:10002109-1712074500-1712077200@www.flemingtondiy.org
SUMMARY:Youth Art Club
DESCRIPTION:Creative Whimsies is looking for kids grades 3-8 to join us for After School Art Enrichment classes taught by local artist & certified teacher\, Christine Brandt. \nKids will create unique projects\, and develop their creative thinking skills in a fun\, relaxed atmosphere outside of the school environment. \nLimited spots available! \nSign Up + More info: https://www.flemingtondiy.org/art-club/
URL:https://www.flemingtondiy.org/event/youth-art-club-16/
END:VEVENT
BEGIN:VEVENT
DTSTART;TZID=America/New_York:20240404T113000
DTEND;TZID=America/New_York:20240404T180000
DTSTAMP:20260425T103312
CREATED:20240103T045023Z
LAST-MODIFIED:20240404T205017Z
UID:10001981-1712230200-1712253600@www.flemingtondiy.org
SUMMARY:Open Hours
DESCRIPTION:Visit the space\, see our current art show\, hang out\, and learn how to get involved!
URL:https://www.flemingtondiy.org/event/open-hours-78/
END:VEVENT
BEGIN:VEVENT
DTSTART;TZID=America/New_York:20240405T180000
DTEND;TZID=America/New_York:20240405T200000
DTSTAMP:20260425T103312
CREATED:20240315T195038Z
LAST-MODIFIED:20240405T205128Z
UID:10002149-1712340000-1712347200@www.flemingtondiy.org
SUMMARY:Opening Reception April Art Shows
DESCRIPTION:Opening Friday\, April 5\, 2024\, 6-8pm and on display through April 30\n3 Shows // 4 Artists:\nRelationships: An Installation Between Light and Sound by Evan Schlomann\nDots and Lines: A Mother & Daughter Exhibit\nThe Shadow Almadel: The Esoteric Photography of Justin Mank\nInfo @ www.flemingtondiy.org/April-Art-shows
URL:https://www.flemingtondiy.org/event/opening-reception-relationships/
END:VEVENT
BEGIN:VEVENT
DTSTART;TZID=America/New_York:20240406T120000
DTEND;TZID=America/New_York:20240406T150000
DTSTAMP:20260425T103312
CREATED:20240403T203605Z
LAST-MODIFIED:20240405T205128Z
UID:10002220-1712404800-1712415600@www.flemingtondiy.org
SUMMARY:Gallery Open Hours
DESCRIPTION:Stop by and view the 3 April art shows on display! \nMore info: flemingtondiy.org/april-art-shows
URL:https://www.flemingtondiy.org/event/gallery-open-hours/
END:VEVENT
BEGIN:VEVENT
DTSTART;TZID=America/New_York:20240406T190000
DTEND;TZID=America/New_York:20240406T220000
DTSTAMP:20260425T103312
CREATED:20231128T030548Z
LAST-MODIFIED:20240406T205142Z
UID:10001914-1712430000-1712440800@www.flemingtondiy.org
SUMMARY:Live Music
DESCRIPTION:Two Moons Away\n“So Good” Album Release Show\nShutter\nLVNA\n(“Alternative indie rock” show)\n$10-15 Donation\nDoors @ 7pm\nAll Ages\nNo Drugs/Alcohol
URL:https://www.flemingtondiy.org/event/live-music-40/
END:VEVENT
BEGIN:VEVENT
DTSTART;TZID=America/New_York:20240407T130000
DTEND;TZID=America/New_York:20240407T170000
DTSTAMP:20260425T103312
CREATED:20231103T010514Z
LAST-MODIFIED:20240407T205158Z
UID:10001697-1712494800-1712509200@www.flemingtondiy.org
SUMMARY:Open Jazz Jams
DESCRIPTION:Open Jazz Jams are held he first Sunday of every month. \nThe sessions will provide an opportunity for musicians to play with an experienced band. From 1-2 PM the hosting musicians for the week will play. Other musicians will be invited to sit in and play between 2-5 PM (typically a minimum of 2 songs each\, circumstances permitting). With the exception of drum kit and piano\, all musicians should bring their own equipment (instruments\, amps\, drum sticks\, microphones\, etc.). The sessions will focus primarily on jazz standards and other jazz tunes contained in Hal Leonard Real Books volumes 1 through 3. Newcomers will be coached through the process.  \nA $3 to $5 donation to Flemington DIY will be required from each musician that plays at the session. Visitors that just want to listen to the music are also welcome to attend for all or any part of the 1-5 PM sessions free of charge.  \nFor questions about the sessions\, or to be added to the monthly text notification list for last minute cancellations or reschedules\, please email njjazzjam@gmail.com
URL:https://www.flemingtondiy.org/event/open-jazz-jams-16/
END:VEVENT
BEGIN:VEVENT
DTSTART;VALUE=DATE:20240408
DTEND;VALUE=DATE:20240409
DTSTAMP:20260425T103312
CREATED:20240403T203607Z
LAST-MODIFIED:20240408T210834Z
UID:10002222-1712534400-1712620799@www.flemingtondiy.org
SUMMARY:RELATIONSHIPS Installation - Viewable
DESCRIPTION:Stop by during this day while there are programs happening to view Relationships: An Installation Between Light and Sound by Evan Schlomann \nMore info: flemingtondiy.org/relationships
URL:https://www.flemingtondiy.org/event/relationships-installation-viewable-2/
END:VEVENT
BEGIN:VEVENT
DTSTART;TZID=America/New_York:20240408T180000
DTEND;TZID=America/New_York:20240408T200000
DTSTAMP:20260425T103312
CREATED:20240122T060517Z
LAST-MODIFIED:20240408T210834Z
UID:10002066-1712599200-1712606400@www.flemingtondiy.org
SUMMARY:Hunterdon Fiber Artist Meeting
DESCRIPTION:Looking to meet other fiber artists in the Hunterdon county area?  Think about coming to Hunterdon Fiber Artists meet up to socialize and connect with others doing the fiber art craft that they love. \nAll are welcome.  Just bring your craft be it knitting\, crocheting\, spinning\, etc.\, and be prepared to meet lots of fun and interesting people!  We even have mini educational talks on requested topics! \nOur FB group is Hunterdon Fiber Artists https://www.facebook.com/groups/1101970274078722 \nOur Ravelry group is https://www.ravelry.com/groups/hunterdon-fiber-artists?s=tab \nEvery other Monday at DIY; $3-5 suggested donation.
URL:https://www.flemingtondiy.org/event/hunterdon-fiber-artist-meeting-6/
END:VEVENT
BEGIN:VEVENT
DTSTART;TZID=America/New_York:20240408T180000
DTEND;TZID=America/New_York:20240408T210000
DTSTAMP:20260425T103312
CREATED:20231107T010546Z
LAST-MODIFIED:20240408T210834Z
UID:10001813-1712599200-1712610000@www.flemingtondiy.org
SUMMARY:Print Club
DESCRIPTION:Flemington DIY Print Club is a weekly open studio held from 6-9PM every Monday\, $15-30 per printer. It provides an opportunity for local artists and community members new to arts processes to utilize shared printmaking facilities. Print Club provides a platform for artists to network\, build community\, and work collaboratively. \nNo experience? No problem! Our vounteers will guide you through the process from start to finish! \nLearn more: https://www.flemingtondiy.org/printclub/
URL:https://www.flemingtondiy.org/event/print-club-175/
END:VEVENT
BEGIN:VEVENT
DTSTART;VALUE=DATE:20240409
DTEND;VALUE=DATE:20240410
DTSTAMP:20260425T103312
CREATED:20240403T203606Z
LAST-MODIFIED:20240409T210614Z
UID:10002221-1712620800-1712707199@www.flemingtondiy.org
SUMMARY:RELATIONSHIPS Installation - Viewable
DESCRIPTION:Stop by during this day while there are programs happening to view Relationships: An Installation Between Light and Sound by Evan Schlomann \nMore info: flemingtondiy.org/relationships
URL:https://www.flemingtondiy.org/event/relationships-installation-viewable/
END:VEVENT
BEGIN:VEVENT
DTSTART;TZID=America/New_York:20240409T161500
DTEND;TZID=America/New_York:20240409T170000
DTSTAMP:20260425T103312
CREATED:20240223T161835Z
LAST-MODIFIED:20240408T210835Z
UID:10002110-1712679300-1712682000@www.flemingtondiy.org
SUMMARY:Youth Art Club
DESCRIPTION:Creative Whimsies is looking for kids grades 3-8 to join us for After School Art Enrichment classes taught by local artist & certified teacher\, Christine Brandt. \nKids will create unique projects\, and develop their creative thinking skills in a fun\, relaxed atmosphere outside of the school environment. \nLimited spots available! \nSign Up + More info: https://www.flemingtondiy.org/art-club/
URL:https://www.flemingtondiy.org/event/youth-art-club-17/
END:VEVENT
BEGIN:VEVENT
DTSTART;TZID=America/New_York:20240409T190000
DTEND;TZID=America/New_York:20240409T210000
DTSTAMP:20260425T103312
CREATED:20240103T045023Z
LAST-MODIFIED:20240409T210616Z
UID:10001982-1712689200-1712696400@www.flemingtondiy.org
SUMMARY:Songwriter Circle
DESCRIPTION:Hey\, songwriters: Do you have songs that are half finished? Lyrics you’re not entirely happy with? A songwriting circle is not a performance. It’s an opportunity to connect with other songwriters\, play your song idea for us – whether it’s fully formed or not – and receive gentle\, respectful\, and constructive feedback. All genres welcome! Please bring a few hard copies of your lyrics to share (they’ll be returned to you). We have a piano available. Donations at the door
URL:https://www.flemingtondiy.org/event/songwriter-circle-14/
END:VEVENT
BEGIN:VEVENT
DTSTART;TZID=America/New_York:20240410T094500
DTEND;TZID=America/New_York:20240410T120000
DTSTAMP:20260425T103312
CREATED:20240325T202107Z
LAST-MODIFIED:20240409T210616Z
UID:10002160-1712742300-1712750400@www.flemingtondiy.org
SUMMARY:Music Together
DESCRIPTION:Every week in our music classes at Music Together Flemington\, babies\, toddlers\, preschoolers\, and the grownups who love them come together for a time of musical play. Little ones love playing along in class\, and caregivers love being a part of their children’s growth into confident music-makers. And everyone loves our songs that’ll have you tapping along in no time \nLearn more and enroll today: https://www.musictogetherflemington.com/
URL:https://www.flemingtondiy.org/event/music-together-179/
END:VEVENT
BEGIN:VEVENT
DTSTART;TZID=America/New_York:20240410T161500
DTEND;TZID=America/New_York:20240410T171500
DTSTAMP:20260425T103312
CREATED:20240325T202107Z
LAST-MODIFIED:20240409T210616Z
UID:10002161-1712765700-1712769300@www.flemingtondiy.org
SUMMARY:Music Together
DESCRIPTION:Every week in our music classes at Music Together Flemington\, babies\, toddlers\, preschoolers\, and the grownups who love them come together for a time of musical play. Little ones love playing along in class\, and caregivers love being a part of their children’s growth into confident music-makers. And everyone loves our songs that’ll have you tapping along in no time \nLearn more and enroll today: https://www.musictogetherflemington.com/
URL:https://www.flemingtondiy.org/event/music-together-180/
END:VEVENT
BEGIN:VEVENT
DTSTART;VALUE=DATE:20240411
DTEND;VALUE=DATE:20240412
DTSTAMP:20260425T103312
CREATED:20240403T203608Z
LAST-MODIFIED:20240411T212156Z
UID:10002224-1712793600-1712879999@www.flemingtondiy.org
SUMMARY:RELATIONSHIPS Installation - Viewable
DESCRIPTION:Stop by during this day while there are programs happening to view Relationships: An Installation Between Light and Sound by Evan Schlomann \nMore info: flemingtondiy.org/relationships
URL:https://www.flemingtondiy.org/event/relationships-installation-viewable-3/
END:VEVENT
BEGIN:VEVENT
DTSTART;TZID=America/New_York:20240411T113000
DTEND;TZID=America/New_York:20240411T180000
DTSTAMP:20260425T103312
CREATED:20240103T045024Z
LAST-MODIFIED:20240411T212156Z
UID:10001983-1712835000-1712858400@www.flemingtondiy.org
SUMMARY:Open Hours
DESCRIPTION:Visit the space\, see our current art show\, hang out\, and learn how to get involved!
URL:https://www.flemingtondiy.org/event/open-hours-79/
END:VEVENT
BEGIN:VEVENT
DTSTART;TZID=America/New_York:20240411T180000
DTEND;TZID=America/New_York:20240411T200000
DTSTAMP:20260425T103312
CREATED:20231130T030644Z
LAST-MODIFIED:20240411T212156Z
UID:10001930-1712858400-1712865600@www.flemingtondiy.org
SUMMARY:American Sign Language (ASL) Chat
DESCRIPTION:Come sign with us! Join us for an ASL Chat at Flemington DIY at 6pm. Deaf\, hard of hearing\, and hearing people who know or are learning American Sign Language (ASL) are welcome. Please note that this is a voice-off event so all are expected to use ASL to communicate.
URL:https://www.flemingtondiy.org/event/american-sign-language-asl-chat-12/
END:VEVENT
BEGIN:VEVENT
DTSTART;TZID=America/New_York:20240412T091500
DTEND;TZID=America/New_York:20240412T113000
DTSTAMP:20260425T103312
CREATED:20240325T202108Z
LAST-MODIFIED:20240411T212156Z
UID:10002162-1712913300-1712921400@www.flemingtondiy.org
SUMMARY:Music Together
DESCRIPTION:Every week in our music classes at Music Together Flemington\, babies\, toddlers\, preschoolers\, and the grownups who love them come together for a time of musical play. Little ones love playing along in class\, and caregivers love being a part of their children’s growth into confident music-makers. And everyone loves our songs that’ll have you tapping along in no time \nLearn more and enroll today: https://www.musictogetherflemington.com/
URL:https://www.flemingtondiy.org/event/music-together-182/
END:VEVENT
BEGIN:VEVENT
DTSTART;TZID=America/New_York:20240412T190000
DTEND;TZID=America/New_York:20240412T220000
DTSTAMP:20260425T103312
CREATED:20240103T045024Z
LAST-MODIFIED:20240412T213620Z
UID:10001984-1712948400-1712959200@www.flemingtondiy.org
SUMMARY:Live Music - Cancelled
DESCRIPTION:This Body is All I Have in this World\n(Melancholy shoegazy post-punk on tour from Salem\, MA)\nMonochromatic Rainbows\n(Beautiful post-rock supergroup from Philly area)\nMeteor Police\n(NJ Post-Noise Soy Core; Driving Indie Post-Punk)\nJoeycxp\n(Pop punk)\n$10-15 Donation\nDoors @ 7pm\nAll Ages\nNo Drugs/Alcohol
URL:https://www.flemingtondiy.org/event/live-music-35/
END:VEVENT
BEGIN:VEVENT
DTSTART;TZID=America/New_York:20240413T090000
DTEND;TZID=America/New_York:20240413T110000
DTSTAMP:20260425T103312
CREATED:20240325T202108Z
LAST-MODIFIED:20240412T213620Z
UID:10002163-1712998800-1713006000@www.flemingtondiy.org
SUMMARY:Music Together
DESCRIPTION:Every week in our music classes at Music Together Flemington\, babies\, toddlers\, preschoolers\, and the grownups who love them come together for a time of musical play. Little ones love playing along in class\, and caregivers love being a part of their children’s growth into confident music-makers. And everyone loves our songs that’ll have you tapping along in no time \nLearn more and enroll today: https://www.musictogetherflemington.com/
URL:https://www.flemingtondiy.org/event/music-together-183/
END:VEVENT
BEGIN:VEVENT
DTSTART;TZID=America/New_York:20240413T090000
DTEND;TZID=America/New_York:20240413T120000
DTSTAMP:20260425T103312
CREATED:20240325T202108Z
LAST-MODIFIED:20240412T213620Z
UID:10002164-1712998800-1713009600@www.flemingtondiy.org
SUMMARY:Music Together
DESCRIPTION:Every week in our music classes at Music Together Flemington\, babies\, toddlers\, preschoolers\, and the grownups who love them come together for a time of musical play. Little ones love playing along in class\, and caregivers love being a part of their children’s growth into confident music-makers. And everyone loves our songs that’ll have you tapping along in no time \nLearn more and enroll today: https://www.musictogetherflemington.com/
URL:https://www.flemingtondiy.org/event/music-together-184/
END:VEVENT
BEGIN:VEVENT
DTSTART;TZID=America/New_York:20240413T193000
DTEND;TZID=America/New_York:20240413T223000
DTSTAMP:20260425T103312
CREATED:20240120T055014Z
LAST-MODIFIED:20240413T213548Z
UID:10002061-1713036600-1713047400@www.flemingtondiy.org
SUMMARY:Live Jazz: Zack Hann Trio w/special guest Marel Hidalgo
DESCRIPTION:Zachary Hann is a saxophonist\, clarinetist\, and composer based in Brooklyn\, New York. He comes from a lineage of New York émigrés from southern and eastern Europe who settled in Brooklyn and Queens in the 19th century. Hann studied classical clarinet at the Juilliard school\, where he became exposed to New York City’s rich jazz scene. He eventually turned his attention toward jazz\, taking up the alto saxophone and studying improvisation with organist Sam Yahel.  \nHann formed the Zack Hann Trio in a house in the woods of Vermont\, where musicians from New York had gathered to wait out the darkest days of the COVID pandemic. There\, he met bassist Solomon Gottfried and drummer Jacob Patrone\, recent graduates from The New School. The three started playing trio\, finding solace in expansive sessions where they moved fluidly between songs for hours on end\, improvising transitions to avoid pause. The intensity of those sessions resulted in a deeply expressive\, folkloric sound\, and a commitment to their continued collaboration as a group. \nAfter moving back to New York\, the trio continued its rigorous exploration of the jazz trio format. Recognized for their rich\, vibrant sound and commitment to spontaneity\, their approach is rooted in the tradition of legendary saxophone-bass-drums trios like those led by Sonny Rollins\, Lee Konitz\, and Joe Lovano. The trio’s extensive repertoire encompasses jazz standards\, American folk song\, pop and indie music\, Western classical music\, free improvisation\, electronic music\, and original compositions. They have performed extensively throughout the New York area\, including residencies at Scout’s Coffee Bar and Mercantile and Sunrise/Sunset Cafe. WEBSITE \nFifteen-year-old guitar player\, Marel Hidalgo started his musical journey at the age of four when he started taking lessons at a music school in his birthplace\, Neptune New Jersey. Soon after\, at the age of five\, he formed his first band\, Marel Hidalgo and Friends\, a multi-generational and multi-cultural formation that played extensively in local festivals and venues. As the lead guitarist of his own band\, Marel started to gain recognition and call the attention of larger festivals and media that would land him performances multiple at the Rock & Roll Hall of Fame in Cleveland\, Ohio\, The Denver Day of Rock in Denver\, Colorado\, appearances on Univison\, Channel 12\, Channel 9\, and an appearance on National TV on the Harry Connick Jr. Show\, along with multiple national press articles including the USA Today and the Scholastic magazine to name some. While his approach to music has been very eclectic from playing progressive rock\, blues\, flamenco\, jazz fusion\, reggae\, and Latin rock\, his main focus lately has been the jazz guitar\, inspired by the likes of Joe Pass\, Johnny Smith\, Ernest Ranglin\, and Tal Farlow. An avid reader of history and railroading while not practicing\, Marel enjoys traveling and is taking college-level courses at a local institution. \nDoors 7:30pm // Music 8pmTickets: $17 adv // $20 door \n15% off for Members!Tickets: www.flemingtondiy.org/jazz
URL:https://www.flemingtondiy.org/event/live-jazz-zachary-hann-trio/
END:VEVENT
BEGIN:VEVENT
DTSTART;VALUE=DATE:20240414
DTEND;VALUE=DATE:20240415
DTSTAMP:20260425T103312
CREATED:20240403T203609Z
LAST-MODIFIED:20240414T213718Z
UID:10002225-1713052800-1713139199@www.flemingtondiy.org
SUMMARY:RELATIONSHIPS Installation - Viewable
DESCRIPTION:Stop by during this day while there are programs happening to view Relationships: An Installation Between Light and Sound by Evan Schlomann \nMore info: flemingtondiy.org/relationships
URL:https://www.flemingtondiy.org/event/relationships-installation-viewable-4/
END:VEVENT
BEGIN:VEVENT
DTSTART;TZID=America/New_York:20240414T090000
DTEND;TZID=America/New_York:20240414T103000
DTSTAMP:20260425T103312
CREATED:20240229T180521Z
LAST-MODIFIED:20240413T213549Z
UID:10002135-1713085200-1713090600@www.flemingtondiy.org
SUMMARY:Recreating the Women's Circle
DESCRIPTION:Come experience the power of a women’s circle through stories\, art\, music\, journaling and movement.  We will use classic tales from Clarissa Pinkola Estes’ NY Times Best Seller:  ‘Women Who Run With the Wolves’ to explore\, discover and experience our true nature and the journey of women in today’s culture and throughout the ages.   \nRegister now!  Space is limited. \nhttps://form.jotform.com/240586211869059 \nOpen to women in all stages of life and anyone who identifies as a women. \nFacilitator/Ambassador of Naughtiness: Lisa DeMuro \nSession 1 4/14:  Introduction:  The Howl:  The Resurrection of the Wild Woman– Who is she?  How did she become endangered?  Why does she need to be resurrected and protected?Session 2 4/21:  Predator vs. Prey:  Naive Women and Initiation:  Rites of Passage that Prepare Us for the Real WorldSession 3 4/28:  Nosing out the Facts:  Finding and Fine Tuning our Intuition and Using it to Inform the JourneySession 4 5/5:  Marking Territory:  Setting Boundaries:  Exploring Rage\, Righteous Rage\, and Forgiveness \nQuestions:  \n1.Do participants need a copy of the book?  Participants do not need a copy of the book\, but may purchase a hardcopy if they desire.   \n2. Which sessions should I sign up for?Participants should plan on attending the first session\, and as many of the remaining 3 as possible.
URL:https://www.flemingtondiy.org/event/recreating-the-womens-circle/
END:VEVENT
BEGIN:VEVENT
DTSTART;TZID=America/New_York:20240414T110000
DTEND;TZID=America/New_York:20240414T120000
DTSTAMP:20260425T103312
CREATED:20240223T161836Z
LAST-MODIFIED:20240413T213548Z
UID:10002111-1713092400-1713096000@www.flemingtondiy.org
SUMMARY:Tap Project
DESCRIPTION:Come one\, come all\, no tap shoes required!\nJoin us Sunday mornings and learn the language of tap dance (what’s a flap? shuffle? buffalo?) plus tap dance history (did you ever wonder who was Fred Astaire’s teacher?).\nWe'll learn simple warm ups\, then take those steps and do a simple combination\, add a few together\, and hey\, you have a whole dance!\nGreat music\, great fun\, new friends!\nPlease check calendar for upcoming classes!\nJoin the Facebook group!
URL:https://www.flemingtondiy.org/event/tap-project-47/
END:VEVENT
BEGIN:VEVENT
DTSTART;TZID=America/New_York:20240414T143000
DTEND;TZID=America/New_York:20240414T170000
DTSTAMP:20260425T103312
CREATED:20231104T010522Z
LAST-MODIFIED:20240413T213549Z
UID:10001790-1713105000-1713114000@www.flemingtondiy.org
SUMMARY:Women's Comedy Open Mic
DESCRIPTION:Ever wanted to share a joke with your friends? Have a friend who you think is hilarious but don’t know how to let other ladies know about her talent? Here’s an opportunity to give it a try. Enjoy a safe space to share laughs – and if you fail – it’s ok to get up and try again!Sign up in advance: https://www.jotform.com/assign/233097504623152/232664975561063
URL:https://www.flemingtondiy.org/event/womens-comedy-open-mic-6/
END:VEVENT
BEGIN:VEVENT
DTSTART;TZID=America/New_York:20240415T091500
DTEND;TZID=America/New_York:20240415T113000
DTSTAMP:20260425T103312
CREATED:20240325T202109Z
LAST-MODIFIED:20240414T213718Z
UID:10002165-1713172500-1713180600@www.flemingtondiy.org
SUMMARY:Music Together
DESCRIPTION:Every week in our music classes at Music Together Flemington\, babies\, toddlers\, preschoolers\, and the grownups who love them come together for a time of musical play. Little ones love playing along in class\, and caregivers love being a part of their children’s growth into confident music-makers. And everyone loves our songs that’ll have you tapping along in no time \nLearn more and enroll today: https://www.musictogetherflemington.com/
URL:https://www.flemingtondiy.org/event/music-together-185/
END:VEVENT
END:VCALENDAR