BEGIN:VCALENDAR
VERSION:2.0
PRODID:-//Flemington DIY - ECPv6.15.20//NONSGML v1.0//EN
CALSCALE:GREGORIAN
METHOD:PUBLISH
X-WR-CALNAME:Flemington DIY
X-ORIGINAL-URL:https://www.flemingtondiy.org
X-WR-CALDESC:Events for Flemington DIY
REFRESH-INTERVAL;VALUE=DURATION:PT1H
X-Robots-Tag:noindex
X-PUBLISHED-TTL:PT1H
BEGIN:VTIMEZONE
TZID:America/New_York
BEGIN:DAYLIGHT
TZOFFSETFROM:-0500
TZOFFSETTO:-0400
TZNAME:EDT
DTSTART:20260308T070000
END:DAYLIGHT
BEGIN:STANDARD
TZOFFSETFROM:-0400
TZOFFSETTO:-0500
TZNAME:EST
DTSTART:20261101T060000
END:STANDARD
BEGIN:DAYLIGHT
TZOFFSETFROM:-0500
TZOFFSETTO:-0400
TZNAME:EDT
DTSTART:20270314T070000
END:DAYLIGHT
BEGIN:STANDARD
TZOFFSETFROM:-0400
TZOFFSETTO:-0500
TZNAME:EST
DTSTART:20271107T060000
END:STANDARD
BEGIN:DAYLIGHT
TZOFFSETFROM:-0500
TZOFFSETTO:-0400
TZNAME:EDT
DTSTART:20280312T070000
END:DAYLIGHT
BEGIN:STANDARD
TZOFFSETFROM:-0400
TZOFFSETTO:-0500
TZNAME:EST
DTSTART:20281105T060000
END:STANDARD
END:VTIMEZONE
BEGIN:VEVENT
DTSTART;TZID=America/New_York:20270118T180000
DTEND;TZID=America/New_York:20270118T200000
DTSTAMP:20260424T112134
CREATED:20260406T130937Z
LAST-MODIFIED:20260423T234926Z
UID:10003982-1800295200-1800302400@www.flemingtondiy.org
SUMMARY:Hunterdon Fiber Artist Meeting
DESCRIPTION:Looking to meet other fiber artists in the Hunterdon county area?  Think about coming to Hunterdon Fiber Artists meet up to socialize and connect with others doing the fiber art craft that they love. \nAll are welcome.  Just bring your craft be it knitting\, crocheting\, spinning\, etc.\, and be prepared to meet lots of fun and interesting people!  We even have mini educational talks on requested topics! \nOur FB group is Hunterdon Fiber Artists https://www.facebook.com/groups/1101970274078722 \nOur Ravelry group is https://www.ravelry.com/groups/hunterdon-fiber-artists?s=tab \nEvery other Monday at DIY; $3-5 suggested donation.
URL:https://www.flemingtondiy.org/event/hunterdon-fiber-artist-meeting-106/
END:VEVENT
BEGIN:VEVENT
DTSTART;TZID=America/New_York:20270118T180000
DTEND;TZID=America/New_York:20270118T210000
DTSTAMP:20260424T112134
CREATED:20260412T235750Z
LAST-MODIFIED:20260423T234926Z
UID:10004104-1800295200-1800306000@www.flemingtondiy.org
SUMMARY:Print Club
DESCRIPTION:Flemington DIY Print Club is a weekly open studio held from 6-9PM every Monday\, $15-30 per printer. It provides an opportunity for local artists and community members new to arts processes to utilize shared printmaking facilities. Print Club provides a platform for artists to network\, build community\, and work collaboratively. \nNo experience? No problem! Our vounteers will guide you through the process from start to finish! \nLearn more: https://www.flemingtondiy.org/printclub/
URL:https://www.flemingtondiy.org/event/print-club-406/
END:VEVENT
BEGIN:VEVENT
DTSTART;TZID=America/New_York:20270119T113000
DTEND;TZID=America/New_York:20270119T180000
DTSTAMP:20260424T112134
CREATED:20250602T233612Z
LAST-MODIFIED:20260423T234926Z
UID:10003296-1800358200-1800381600@www.flemingtondiy.org
SUMMARY:Open Hours
DESCRIPTION:Visit the space\, see our current art shows\, hang out\, and learn how to get involved!
URL:https://www.flemingtondiy.org/event/open-hours-307/
END:VEVENT
BEGIN:VEVENT
DTSTART;TZID=America/New_York:20270121T113000
DTEND;TZID=America/New_York:20270121T180000
DTSTAMP:20260424T112134
CREATED:20251107T233730Z
LAST-MODIFIED:20260423T234926Z
UID:10003598-1800531000-1800554400@www.flemingtondiy.org
SUMMARY:Open Hours
DESCRIPTION:
URL:https://www.flemingtondiy.org/event/open-hours-402/
END:VEVENT
BEGIN:VEVENT
DTSTART;TZID=America/New_York:20270125T180000
DTEND;TZID=America/New_York:20270125T200000
DTSTAMP:20260424T112134
CREATED:20260406T130937Z
LAST-MODIFIED:20260423T234926Z
UID:10003983-1800900000-1800907200@www.flemingtondiy.org
SUMMARY:Hunterdon Fiber Artist Meeting
DESCRIPTION:Looking to meet other fiber artists in the Hunterdon county area?  Think about coming to Hunterdon Fiber Artists meet up to socialize and connect with others doing the fiber art craft that they love. \nAll are welcome.  Just bring your craft be it knitting\, crocheting\, spinning\, etc.\, and be prepared to meet lots of fun and interesting people!  We even have mini educational talks on requested topics! \nOur FB group is Hunterdon Fiber Artists https://www.facebook.com/groups/1101970274078722 \nOur Ravelry group is https://www.ravelry.com/groups/hunterdon-fiber-artists?s=tab \nEvery other Monday at DIY; $3-5 suggested donation.
URL:https://www.flemingtondiy.org/event/hunterdon-fiber-artist-meeting-107/
END:VEVENT
BEGIN:VEVENT
DTSTART;TZID=America/New_York:20270125T180000
DTEND;TZID=America/New_York:20270125T210000
DTSTAMP:20260424T112134
CREATED:20260412T235750Z
LAST-MODIFIED:20260423T234926Z
UID:10004105-1800900000-1800910800@www.flemingtondiy.org
SUMMARY:Print Club
DESCRIPTION:Flemington DIY Print Club is a weekly open studio held from 6-9PM every Monday\, $15-30 per printer. It provides an opportunity for local artists and community members new to arts processes to utilize shared printmaking facilities. Print Club provides a platform for artists to network\, build community\, and work collaboratively. \nNo experience? No problem! Our vounteers will guide you through the process from start to finish! \nLearn more: https://www.flemingtondiy.org/printclub/
URL:https://www.flemingtondiy.org/event/print-club-407/
END:VEVENT
BEGIN:VEVENT
DTSTART;TZID=America/New_York:20270126T113000
DTEND;TZID=America/New_York:20270126T180000
DTSTAMP:20260424T112134
CREATED:20250602T233613Z
LAST-MODIFIED:20260423T234926Z
UID:10003297-1800963000-1800986400@www.flemingtondiy.org
SUMMARY:Open Hours
DESCRIPTION:Visit the space\, see our current art shows\, hang out\, and learn how to get involved!
URL:https://www.flemingtondiy.org/event/open-hours-308/
END:VEVENT
BEGIN:VEVENT
DTSTART;TZID=America/New_York:20270126T190000
DTEND;TZID=America/New_York:20270126T210000
DTSTAMP:20260424T112134
CREATED:20250731T233555Z
LAST-MODIFIED:20260423T234926Z
UID:10003381-1800990000-1800997200@www.flemingtondiy.org
SUMMARY:Classical Music Jam
DESCRIPTION:Jazz bands jam\, rock bands jam\, bluegrass players jams… why not a classical jam?? \nStrings\, brass\, woodwinds… Come join a classical music jam!!   \nBring a piece or two of music to share\, and sit in on the jam!   \nBring your instrument\, music (duo\, trio\, quartet\, etc. or even a full orchestra arrangement) and a stand\, be ready to share\, and let’s play some classical music in an informal setting.   \nWe jam once a month on the 4th Tuesday from 7 PM – 9 PM.   $5 suggested donation to Flemington DIY.  \nDon’t have music\, Don’t have a stand?…. Don’t worry!  Just bring your instrument\, and jam with us! \nCome share your talent and play! Take a break\, relax\, and listen to others.   \nUpcoming Tuesdays:   \n9/30 \n10/28 \n11/25 \n12/23 \nClassical is cool too!  See you at the jam!  
URL:https://www.flemingtondiy.org/event/classical-music-jam-17/
END:VEVENT
BEGIN:VEVENT
DTSTART;TZID=America/New_York:20270127T193000
DTEND;TZID=America/New_York:20270127T220000
DTSTAMP:20260424T112134
CREATED:20251120T233726Z
LAST-MODIFIED:20260423T234926Z
UID:10003698-1801078200-1801087200@www.flemingtondiy.org
SUMMARY:Poetry Open Mic
DESCRIPTION:Community members of all levels are invited to read their poetry and listen to the work of others. If you’re looking for a welcoming group of emerging and established poets and beatniks\, this is for you!Show up and sign up. No pre-registration to participate. Donations for the space encouraged at the door. All ages but please be aware that mature and sometimes sensitive topics are explored and mentioned at this event.
URL:https://www.flemingtondiy.org/event/poetry-open-mic-53/
END:VEVENT
BEGIN:VEVENT
DTSTART;TZID=America/New_York:20270128T113000
DTEND;TZID=America/New_York:20270128T180000
DTSTAMP:20260424T112134
CREATED:20251107T233730Z
LAST-MODIFIED:20260423T234926Z
UID:10003599-1801135800-1801159200@www.flemingtondiy.org
SUMMARY:Open Hours
DESCRIPTION:
URL:https://www.flemingtondiy.org/event/open-hours-403/
END:VEVENT
BEGIN:VEVENT
DTSTART;TZID=America/New_York:20270201T180000
DTEND;TZID=America/New_York:20270201T200000
DTSTAMP:20260424T112134
CREATED:20260406T130937Z
LAST-MODIFIED:20260423T234926Z
UID:10003984-1801504800-1801512000@www.flemingtondiy.org
SUMMARY:Hunterdon Fiber Artist Meeting
DESCRIPTION:Looking to meet other fiber artists in the Hunterdon county area?  Think about coming to Hunterdon Fiber Artists meet up to socialize and connect with others doing the fiber art craft that they love. \nAll are welcome.  Just bring your craft be it knitting\, crocheting\, spinning\, etc.\, and be prepared to meet lots of fun and interesting people!  We even have mini educational talks on requested topics! \nOur FB group is Hunterdon Fiber Artists https://www.facebook.com/groups/1101970274078722 \nOur Ravelry group is https://www.ravelry.com/groups/hunterdon-fiber-artists?s=tab \nEvery other Monday at DIY; $3-5 suggested donation.
URL:https://www.flemingtondiy.org/event/hunterdon-fiber-artist-meeting-108/
END:VEVENT
BEGIN:VEVENT
DTSTART;TZID=America/New_York:20270201T180000
DTEND;TZID=America/New_York:20270201T210000
DTSTAMP:20260424T112134
CREATED:20260412T235751Z
LAST-MODIFIED:20260423T234926Z
UID:10004106-1801504800-1801515600@www.flemingtondiy.org
SUMMARY:Print Club
DESCRIPTION:Flemington DIY Print Club is a weekly open studio held from 6-9PM every Monday\, $15-30 per printer. It provides an opportunity for local artists and community members new to arts processes to utilize shared printmaking facilities. Print Club provides a platform for artists to network\, build community\, and work collaboratively. \nNo experience? No problem! Our vounteers will guide you through the process from start to finish! \nLearn more: https://www.flemingtondiy.org/printclub/
URL:https://www.flemingtondiy.org/event/print-club-408/
END:VEVENT
BEGIN:VEVENT
DTSTART;TZID=America/New_York:20270202T113000
DTEND;TZID=America/New_York:20270202T180000
DTSTAMP:20260424T112134
CREATED:20250602T233613Z
LAST-MODIFIED:20260423T234926Z
UID:10003298-1801567800-1801591200@www.flemingtondiy.org
SUMMARY:Open Hours
DESCRIPTION:Visit the space\, see our current art shows\, hang out\, and learn how to get involved!
URL:https://www.flemingtondiy.org/event/open-hours-309/
END:VEVENT
BEGIN:VEVENT
DTSTART;TZID=America/New_York:20270204T113000
DTEND;TZID=America/New_York:20270204T180000
DTSTAMP:20260424T112134
CREATED:20251107T233730Z
LAST-MODIFIED:20260423T234926Z
UID:10003600-1801740600-1801764000@www.flemingtondiy.org
SUMMARY:Open Hours
DESCRIPTION:
URL:https://www.flemingtondiy.org/event/open-hours-404/
END:VEVENT
BEGIN:VEVENT
DTSTART;TZID=America/New_York:20270208T180000
DTEND;TZID=America/New_York:20270208T200000
DTSTAMP:20260424T112134
CREATED:20260406T130937Z
LAST-MODIFIED:20260423T234926Z
UID:10003985-1802109600-1802116800@www.flemingtondiy.org
SUMMARY:Hunterdon Fiber Artist Meeting
DESCRIPTION:Looking to meet other fiber artists in the Hunterdon county area?  Think about coming to Hunterdon Fiber Artists meet up to socialize and connect with others doing the fiber art craft that they love. \nAll are welcome.  Just bring your craft be it knitting\, crocheting\, spinning\, etc.\, and be prepared to meet lots of fun and interesting people!  We even have mini educational talks on requested topics! \nOur FB group is Hunterdon Fiber Artists https://www.facebook.com/groups/1101970274078722 \nOur Ravelry group is https://www.ravelry.com/groups/hunterdon-fiber-artists?s=tab \nEvery other Monday at DIY; $3-5 suggested donation.
URL:https://www.flemingtondiy.org/event/hunterdon-fiber-artist-meeting-109/
END:VEVENT
BEGIN:VEVENT
DTSTART;TZID=America/New_York:20270208T180000
DTEND;TZID=America/New_York:20270208T210000
DTSTAMP:20260424T112134
CREATED:20260412T235751Z
LAST-MODIFIED:20260423T234926Z
UID:10004107-1802109600-1802120400@www.flemingtondiy.org
SUMMARY:Print Club
DESCRIPTION:Flemington DIY Print Club is a weekly open studio held from 6-9PM every Monday\, $15-30 per printer. It provides an opportunity for local artists and community members new to arts processes to utilize shared printmaking facilities. Print Club provides a platform for artists to network\, build community\, and work collaboratively. \nNo experience? No problem! Our vounteers will guide you through the process from start to finish! \nLearn more: https://www.flemingtondiy.org/printclub/
URL:https://www.flemingtondiy.org/event/print-club-409/
END:VEVENT
BEGIN:VEVENT
DTSTART;TZID=America/New_York:20270209T113000
DTEND;TZID=America/New_York:20270209T180000
DTSTAMP:20260424T112134
CREATED:20250602T233614Z
LAST-MODIFIED:20260423T234926Z
UID:10003299-1802172600-1802196000@www.flemingtondiy.org
SUMMARY:Open Hours
DESCRIPTION:Visit the space\, see our current art shows\, hang out\, and learn how to get involved!
URL:https://www.flemingtondiy.org/event/open-hours-310/
END:VEVENT
BEGIN:VEVENT
DTSTART;TZID=America/New_York:20270209T190000
DTEND;TZID=America/New_York:20270209T210000
DTSTAMP:20260424T112134
CREATED:20251107T233731Z
LAST-MODIFIED:20260423T234926Z
UID:10003601-1802199600-1802206800@www.flemingtondiy.org
SUMMARY:Songwriter Circle
DESCRIPTION:Hey\, songwriters: Do you have songs that are half finished? Lyrics you’re not entirely happy with? A songwriting circle is not a performance. It’s an opportunity to connect with other songwriters\, play your song idea for us – whether it’s fully formed or not – and receive gentle\, respectful\, and constructive feedback. All genres welcome! Please bring a few hard copies of your lyrics to share (they’ll be returned to you). We have a piano available. Donations at the door
URL:https://www.flemingtondiy.org/event/songwriter-circle-48/
END:VEVENT
BEGIN:VEVENT
DTSTART;TZID=America/New_York:20270211T113000
DTEND;TZID=America/New_York:20270211T180000
DTSTAMP:20260424T112134
CREATED:20251107T233731Z
LAST-MODIFIED:20260423T234926Z
UID:10003602-1802345400-1802368800@www.flemingtondiy.org
SUMMARY:Open Hours
DESCRIPTION:
URL:https://www.flemingtondiy.org/event/open-hours-405/
END:VEVENT
BEGIN:VEVENT
DTSTART;TZID=America/New_York:20270215T180000
DTEND;TZID=America/New_York:20270215T200000
DTSTAMP:20260424T112134
CREATED:20260406T130937Z
LAST-MODIFIED:20260423T234927Z
UID:10003986-1802714400-1802721600@www.flemingtondiy.org
SUMMARY:Hunterdon Fiber Artist Meeting
DESCRIPTION:Looking to meet other fiber artists in the Hunterdon county area?  Think about coming to Hunterdon Fiber Artists meet up to socialize and connect with others doing the fiber art craft that they love. \nAll are welcome.  Just bring your craft be it knitting\, crocheting\, spinning\, etc.\, and be prepared to meet lots of fun and interesting people!  We even have mini educational talks on requested topics! \nOur FB group is Hunterdon Fiber Artists https://www.facebook.com/groups/1101970274078722 \nOur Ravelry group is https://www.ravelry.com/groups/hunterdon-fiber-artists?s=tab \nEvery other Monday at DIY; $3-5 suggested donation.
URL:https://www.flemingtondiy.org/event/hunterdon-fiber-artist-meeting-110/
END:VEVENT
BEGIN:VEVENT
DTSTART;TZID=America/New_York:20270215T180000
DTEND;TZID=America/New_York:20270215T210000
DTSTAMP:20260424T112134
CREATED:20260412T235751Z
LAST-MODIFIED:20260423T234927Z
UID:10004108-1802714400-1802725200@www.flemingtondiy.org
SUMMARY:Print Club
DESCRIPTION:Flemington DIY Print Club is a weekly open studio held from 6-9PM every Monday\, $15-30 per printer. It provides an opportunity for local artists and community members new to arts processes to utilize shared printmaking facilities. Print Club provides a platform for artists to network\, build community\, and work collaboratively. \nNo experience? No problem! Our vounteers will guide you through the process from start to finish! \nLearn more: https://www.flemingtondiy.org/printclub/
URL:https://www.flemingtondiy.org/event/print-club-410/
END:VEVENT
BEGIN:VEVENT
DTSTART;TZID=America/New_York:20270216T113000
DTEND;TZID=America/New_York:20270216T180000
DTSTAMP:20260424T112134
CREATED:20250602T233614Z
LAST-MODIFIED:20260423T234927Z
UID:10003300-1802777400-1802800800@www.flemingtondiy.org
SUMMARY:Open Hours
DESCRIPTION:Visit the space\, see our current art shows\, hang out\, and learn how to get involved!
URL:https://www.flemingtondiy.org/event/open-hours-311/
END:VEVENT
BEGIN:VEVENT
DTSTART;TZID=America/New_York:20270218T113000
DTEND;TZID=America/New_York:20270218T180000
DTSTAMP:20260424T112134
CREATED:20251107T233731Z
LAST-MODIFIED:20260423T234927Z
UID:10003603-1802950200-1802973600@www.flemingtondiy.org
SUMMARY:Open Hours
DESCRIPTION:
URL:https://www.flemingtondiy.org/event/open-hours-406/
END:VEVENT
BEGIN:VEVENT
DTSTART;TZID=America/New_York:20270219T190000
DTEND;TZID=America/New_York:20270219T220000
DTSTAMP:20260424T112134
CREATED:20251111T235228Z
LAST-MODIFIED:20260423T234927Z
UID:10003666-1803063600-1803074400@www.flemingtondiy.org
SUMMARY:Third Friday Board Games
DESCRIPTION:Third Friday Board Game Night All ages | Bring your own game or play with one of ours | Meet new people\, have fun\, casual! No RSVP required\, just show up. Free to attend\, donations to Flemington DIY welcomed.
URL:https://www.flemingtondiy.org/event/third-friday-board-games-13/
END:VEVENT
BEGIN:VEVENT
DTSTART;TZID=America/New_York:20270222T180000
DTEND;TZID=America/New_York:20270222T200000
DTSTAMP:20260424T112134
CREATED:20260406T130938Z
LAST-MODIFIED:20260423T234927Z
UID:10003987-1803319200-1803326400@www.flemingtondiy.org
SUMMARY:Hunterdon Fiber Artist Meeting
DESCRIPTION:Looking to meet other fiber artists in the Hunterdon county area?  Think about coming to Hunterdon Fiber Artists meet up to socialize and connect with others doing the fiber art craft that they love. \nAll are welcome.  Just bring your craft be it knitting\, crocheting\, spinning\, etc.\, and be prepared to meet lots of fun and interesting people!  We even have mini educational talks on requested topics! \nOur FB group is Hunterdon Fiber Artists https://www.facebook.com/groups/1101970274078722 \nOur Ravelry group is https://www.ravelry.com/groups/hunterdon-fiber-artists?s=tab \nEvery other Monday at DIY; $3-5 suggested donation.
URL:https://www.flemingtondiy.org/event/hunterdon-fiber-artist-meeting-111/
END:VEVENT
BEGIN:VEVENT
DTSTART;TZID=America/New_York:20270222T180000
DTEND;TZID=America/New_York:20270222T210000
DTSTAMP:20260424T112134
CREATED:20260412T235751Z
LAST-MODIFIED:20260423T234927Z
UID:10004109-1803319200-1803330000@www.flemingtondiy.org
SUMMARY:Print Club
DESCRIPTION:Flemington DIY Print Club is a weekly open studio held from 6-9PM every Monday\, $15-30 per printer. It provides an opportunity for local artists and community members new to arts processes to utilize shared printmaking facilities. Print Club provides a platform for artists to network\, build community\, and work collaboratively. \nNo experience? No problem! Our vounteers will guide you through the process from start to finish! \nLearn more: https://www.flemingtondiy.org/printclub/
URL:https://www.flemingtondiy.org/event/print-club-411/
END:VEVENT
BEGIN:VEVENT
DTSTART;TZID=America/New_York:20270223T113000
DTEND;TZID=America/New_York:20270223T180000
DTSTAMP:20260424T112134
CREATED:20250602T233615Z
LAST-MODIFIED:20260423T234927Z
UID:10003301-1803382200-1803405600@www.flemingtondiy.org
SUMMARY:Open Hours
DESCRIPTION:Visit the space\, see our current art shows\, hang out\, and learn how to get involved!
URL:https://www.flemingtondiy.org/event/open-hours-312/
END:VEVENT
BEGIN:VEVENT
DTSTART;TZID=America/New_York:20270223T190000
DTEND;TZID=America/New_York:20270223T210000
DTSTAMP:20260424T112134
CREATED:20250731T233556Z
LAST-MODIFIED:20260423T234927Z
UID:10003382-1803409200-1803416400@www.flemingtondiy.org
SUMMARY:Classical Music Jam
DESCRIPTION:Jazz bands jam\, rock bands jam\, bluegrass players jams… why not a classical jam?? \nStrings\, brass\, woodwinds… Come join a classical music jam!!   \nBring a piece or two of music to share\, and sit in on the jam!   \nBring your instrument\, music (duo\, trio\, quartet\, etc. or even a full orchestra arrangement) and a stand\, be ready to share\, and let’s play some classical music in an informal setting.   \nWe jam once a month on the 4th Tuesday from 7 PM – 9 PM.   $5 suggested donation to Flemington DIY.  \nDon’t have music\, Don’t have a stand?…. Don’t worry!  Just bring your instrument\, and jam with us! \nCome share your talent and play! Take a break\, relax\, and listen to others.   \nUpcoming Tuesdays:   \n9/30 \n10/28 \n11/25 \n12/23 \nClassical is cool too!  See you at the jam!  
URL:https://www.flemingtondiy.org/event/classical-music-jam-18/
END:VEVENT
BEGIN:VEVENT
DTSTART;TZID=America/New_York:20270224T193000
DTEND;TZID=America/New_York:20270224T220000
DTSTAMP:20260424T112134
CREATED:20251120T233727Z
LAST-MODIFIED:20260423T234927Z
UID:10003699-1803497400-1803506400@www.flemingtondiy.org
SUMMARY:Poetry Open Mic
DESCRIPTION:Community members of all levels are invited to read their poetry and listen to the work of others. If you’re looking for a welcoming group of emerging and established poets and beatniks\, this is for you!Show up and sign up. No pre-registration to participate. Donations for the space encouraged at the door. All ages but please be aware that mature and sometimes sensitive topics are explored and mentioned at this event.
URL:https://www.flemingtondiy.org/event/poetry-open-mic-54/
END:VEVENT
BEGIN:VEVENT
DTSTART;TZID=America/New_York:20270225T113000
DTEND;TZID=America/New_York:20270225T180000
DTSTAMP:20260424T112134
CREATED:20251107T233731Z
LAST-MODIFIED:20260423T234927Z
UID:10003604-1803555000-1803578400@www.flemingtondiy.org
SUMMARY:Open Hours
DESCRIPTION:
URL:https://www.flemingtondiy.org/event/open-hours-407/
END:VEVENT
END:VCALENDAR