BEGIN:VCALENDAR
VERSION:2.0
PRODID:-//Flemington DIY - ECPv6.15.20//NONSGML v1.0//EN
CALSCALE:GREGORIAN
METHOD:PUBLISH
X-WR-CALNAME:Flemington DIY
X-ORIGINAL-URL:https://www.flemingtondiy.org
X-WR-CALDESC:Events for Flemington DIY
REFRESH-INTERVAL;VALUE=DURATION:PT1H
X-Robots-Tag:noindex
X-PUBLISHED-TTL:PT1H
BEGIN:VTIMEZONE
TZID:America/New_York
BEGIN:DAYLIGHT
TZOFFSETFROM:-0500
TZOFFSETTO:-0400
TZNAME:EDT
DTSTART:20230312T070000
END:DAYLIGHT
BEGIN:STANDARD
TZOFFSETFROM:-0400
TZOFFSETTO:-0500
TZNAME:EST
DTSTART:20231105T060000
END:STANDARD
BEGIN:DAYLIGHT
TZOFFSETFROM:-0500
TZOFFSETTO:-0400
TZNAME:EDT
DTSTART:20240310T070000
END:DAYLIGHT
BEGIN:STANDARD
TZOFFSETFROM:-0400
TZOFFSETTO:-0500
TZNAME:EST
DTSTART:20241103T060000
END:STANDARD
BEGIN:DAYLIGHT
TZOFFSETFROM:-0500
TZOFFSETTO:-0400
TZNAME:EDT
DTSTART:20250309T070000
END:DAYLIGHT
BEGIN:STANDARD
TZOFFSETFROM:-0400
TZOFFSETTO:-0500
TZNAME:EST
DTSTART:20251102T060000
END:STANDARD
END:VTIMEZONE
BEGIN:VEVENT
DTSTART;TZID=America/New_York:20240202T091500
DTEND;TZID=America/New_York:20240202T113000
DTSTAMP:20260425T170243
CREATED:20240125T060515Z
LAST-MODIFIED:20240202T063529Z
UID:10002082-1706865300-1706873400@www.flemingtondiy.org
SUMMARY:Music Together
DESCRIPTION:Every week in our music classes at Music Together Flemington\, babies\, toddlers\, preschoolers\, and the grownups who love them come together for a time of musical play. Little ones love playing along in class\, and caregivers love being a part of their children’s growth into confident music-makers. And everyone loves our songs that’ll have you tapping along in no time\nLearn more and enroll today: https://www.musictogetherflemington.com/
URL:https://www.flemingtondiy.org/event/music-together-169/
END:VEVENT
BEGIN:VEVENT
DTSTART;TZID=America/New_York:20240202T120000
DTEND;TZID=America/New_York:20240202T140000
DTSTAMP:20260425T170243
CREATED:20230830T220517Z
LAST-MODIFIED:20240202T063529Z
UID:10001592-1706875200-1706882400@www.flemingtondiy.org
SUMMARY:First Fridays: Print Club for Homeschoolers
DESCRIPTION:First Friday of Every Month$15-30 per student\, ages 12-18\nFlemington DIY and Raritan Learning Cooperative are collaborating to offer a monthly print club for kids ages 12-18\, on the first Friday of every month from 11am-1pm. Bring a design and a t-shirt or anything you want to print on. You’ll get to learn the process of screenprinting\, create your own screen\, and print posters and shirts!https://www.flemingtondiy.org/first-fridays/
URL:https://www.flemingtondiy.org/event/first-fridays-print-club-for-homeschoolers-4/
END:VEVENT
BEGIN:VEVENT
DTSTART;TZID=America/New_York:20240203T090000
DTEND;TZID=America/New_York:20240203T120000
DTSTAMP:20260425T170243
CREATED:20240123T060506Z
LAST-MODIFIED:20240203T063532Z
UID:10002070-1706950800-1706961600@www.flemingtondiy.org
SUMMARY:Music Together
DESCRIPTION:Every week in our music classes at Music Together Flemington\, babies\, toddlers\, preschoolers\, and the grownups who love them come together for a time of musical play. Little ones love playing along in class\, and caregivers love being a part of their children’s growth into confident music-makers. And everyone loves our songs that’ll have you tapping along in no time \nLearn more and enroll today:https://www.musictogetherflemington.com/ \nJoin with Google Meet: https://meet.google.com/dqb-gpwt-ohj\nLearn more about Meet at: https://support.google.com/a/users/answer/9282720
URL:https://www.flemingtondiy.org/event/music-together-159/
ORGANIZER;CN="9a724c6862e16b0fceb2c03b11d6495f66823883e568255978d51ff40b7ff5af@group.calendar.google.com":MAILTO:9a724c6862e16b0fceb2c03b11d6495f66823883e568255978d51ff40b7ff5af@group.calendar.google.com
END:VEVENT
BEGIN:VEVENT
DTSTART;TZID=America/New_York:20240203T130000
DTEND;TZID=America/New_York:20240203T150000
DTSTAMP:20260425T170243
CREATED:20231222T035013Z
LAST-MODIFIED:20240203T063532Z
UID:10001948-1706965200-1706972400@www.flemingtondiy.org
SUMMARY:The Seven Principles of Making Marriage Work: A GOTTMAN WORKSHOP FOR COUPLES
DESCRIPTION:Your friendly local marriage and family therapist Nicole Locorriere\, LMFT is hosting a couples workshop to teach evidence-based principles for making marriage work. This two-hour lecture is an introduction to the Gottman Method\, one of the most widely accepted couples therapy frameworks practiced today. Couples will learn how to enhance their friendship\, as well as how and why this is the foundation of a sound relationship house. It’s a great fit for couples who are struggling to communicate\, and who love each other but don’t feel connected. The workshop does not require that couples share any intimate information with other participants or the host.  \nYour host\, Gottman Leader\, Nicole is a licensed marriage and family therapist and owner of Prologue Therapy and Relationship Counseling at 115 Main Street in Flemington. She specializes in helping couples rekindle romance after feeling like “roommates\,” couples who are on the brink of divorce\, and individuals who are looking for clarity regarding their relationships. When she’s not working\, Nicole loves to crochet\, write poems\, and spend time with her husband\, Jeff\, and their goldendoodle\, Holly. \nLEARN MORE & REGISTER HERE: https://www.flemingtondiy.org/marriage/
URL:https://www.flemingtondiy.org/event/the-seven-principles-of-making-marriage-work-a-gottman-workshop-for-couples/
END:VEVENT
BEGIN:VEVENT
DTSTART;TZID=America/New_York:20240203T160000
DTEND;TZID=America/New_York:20240203T180000
DTSTAMP:20260425T170243
CREATED:20231229T042009Z
LAST-MODIFIED:20240203T063532Z
UID:10001955-1706976000-1706983200@www.flemingtondiy.org
SUMMARY:Coffee & Queer Community
DESCRIPTION:Join the Flemington QTs for a casual hangout for all LGBTQIA+ folks and allies. Join us to enjoy some locally brewed coffee and build community.
URL:https://www.flemingtondiy.org/event/coffee-queer-community-3/
END:VEVENT
BEGIN:VEVENT
DTSTART;TZID=America/New_York:20240204T110000
DTEND;TZID=America/New_York:20240204T120000
DTSTAMP:20260425T170243
CREATED:20240102T043511Z
LAST-MODIFIED:20240204T063541Z
UID:10001963-1707044400-1707048000@www.flemingtondiy.org
SUMMARY:Tap Project
DESCRIPTION:Come one\, come all\, no tap shoes required!\nJoin us Sunday mornings and learn the language of tap dance (what’s a flap? shuffle? buffalo?) plus tap dance history (did you ever wonder who was Fred Astaire’s teacher?).\nWe’ll learn simple warm ups\, then take those steps and do a simple combination\, add a few together\, and hey\, you have a whole dance!\nGreat music\, great fun\, new friends!\nPlease check calendar for upcoming classes!\nJoin the Facebook group!
URL:https://www.flemingtondiy.org/event/tap-project-41/
END:VEVENT
BEGIN:VEVENT
DTSTART;TZID=America/New_York:20240204T130000
DTEND;TZID=America/New_York:20240204T170000
DTSTAMP:20260425T170243
CREATED:20231103T010513Z
LAST-MODIFIED:20240204T063541Z
UID:10001691-1707051600-1707066000@www.flemingtondiy.org
SUMMARY:Open Jazz Jams
DESCRIPTION:Open Jazz Jams are held he first Sunday of every month. \nThe sessions will provide an opportunity for musicians to play with an experienced band. From 1-2 PM the hosting musicians for the week will play. Other musicians will be invited to sit in and play between 2-5 PM (typically a minimum of 2 songs each\, circumstances permitting). With the exception of drum kit and piano\, all musicians should bring their own equipment (instruments\, amps\, drum sticks\, microphones\, etc.). The sessions will focus primarily on jazz standards and other jazz tunes contained in Hal Leonard Real Books volumes 1 through 3. Newcomers will be coached through the process.  \nA $3 to $5 donation to Flemington DIY will be required from each musician that plays at the session. Visitors that just want to listen to the music are also welcome to attend for all or any part of the 1-5 PM sessions free of charge.  \nFor questions about the sessions\, or to be added to the monthly text notification list for last minute cancellations or reschedules\, please email njjazzjam@gmail.com
URL:https://www.flemingtondiy.org/event/open-jazz-jams-14/
END:VEVENT
BEGIN:VEVENT
DTSTART;TZID=America/New_York:20240205T091500
DTEND;TZID=America/New_York:20240205T113000
DTSTAMP:20260425T170243
CREATED:20231104T010515Z
LAST-MODIFIED:20240205T063532Z
UID:10001752-1707124500-1707132600@www.flemingtondiy.org
SUMMARY:Music Together
DESCRIPTION:Every week in our music classes at Music Together Flemington\, babies\, toddlers\, preschoolers\, and the grownups who love them come together for a time of musical play. Little ones love playing along in class\, and caregivers love being a part of their children’s growth into confident music-makers. And everyone loves our songs that’ll have you tapping along in no time \nLearn more and enroll today:https://www.musictogetherflemington.com/ \nJoin with Google Meet: https://meet.google.com/eis-bvjj-rgq\nLearn more about Meet at: https://support.google.com/a/users/answer/9282720
URL:https://www.flemingtondiy.org/event/music-together-171/
ORGANIZER;CN="9a724c6862e16b0fceb2c03b11d6495f66823883e568255978d51ff40b7ff5af@group.calendar.google.com":MAILTO:9a724c6862e16b0fceb2c03b11d6495f66823883e568255978d51ff40b7ff5af@group.calendar.google.com
END:VEVENT
BEGIN:VEVENT
DTSTART;TZID=America/New_York:20240205T180000
DTEND;TZID=America/New_York:20240205T210000
DTSTAMP:20260425T170243
CREATED:20231107T010533Z
LAST-MODIFIED:20240205T063532Z
UID:10001804-1707156000-1707166800@www.flemingtondiy.org
SUMMARY:Print Club
DESCRIPTION:Flemington DIY Print Club is a weekly open studio held from 6-9PM every Monday\, $15-30 per printer. It provides an opportunity for local artists and community members new to arts processes to utilize shared printmaking facilities. Print Club provides a platform for artists to network\, build community\, and work collaboratively. \nNo experience? No problem! Our vounteers will guide you through the process from start to finish! \nLearn more: https://www.flemingtondiy.org/printclub/
URL:https://www.flemingtondiy.org/event/print-club-152/
END:VEVENT
BEGIN:VEVENT
DTSTART;TZID=America/New_York:20240208T113000
DTEND;TZID=America/New_York:20240208T180000
DTSTAMP:20260425T170243
CREATED:20240103T045017Z
LAST-MODIFIED:20240207T063505Z
UID:10001971-1707391800-1707415200@www.flemingtondiy.org
SUMMARY:Open Hours
DESCRIPTION:Visit the space\, see our current art show\, hang out\, and learn how to get involved!
URL:https://www.flemingtondiy.org/event/open-hours-70/
END:VEVENT
BEGIN:VEVENT
DTSTART;TZID=America/New_York:20240208T180000
DTEND;TZID=America/New_York:20240208T200000
DTSTAMP:20260425T170243
CREATED:20231208T032016Z
LAST-MODIFIED:20240207T063506Z
UID:10001934-1707415200-1707422400@www.flemingtondiy.org
SUMMARY:American Sign Language (ASL) Chat
DESCRIPTION:Come sign with us! Join us for an ASL Chat at Flemington DIY at 6pm. Deaf\, hard of hearing\, and hearing people who know or are learning American Sign Language (ASL) are welcome. Please note that this is a voice-off event so all are expected to use ASL to communicate.
URL:https://www.flemingtondiy.org/event/american-sign-language-asl-chat-10/
END:VEVENT
BEGIN:VEVENT
DTSTART;TZID=America/New_York:20240209T091500
DTEND;TZID=America/New_York:20240209T113000
DTSTAMP:20260425T170243
CREATED:20240125T060516Z
LAST-MODIFIED:20240207T063506Z
UID:10002083-1707470100-1707478200@www.flemingtondiy.org
SUMMARY:Music Together
DESCRIPTION:Every week in our music classes at Music Together Flemington\, babies\, toddlers\, preschoolers\, and the grownups who love them come together for a time of musical play. Little ones love playing along in class\, and caregivers love being a part of their children’s growth into confident music-makers. And everyone loves our songs that’ll have you tapping along in no time\nLearn more and enroll today: https://www.musictogetherflemington.com/
URL:https://www.flemingtondiy.org/event/music-together-170/
END:VEVENT
BEGIN:VEVENT
DTSTART;TZID=America/New_York:20240210T090000
DTEND;TZID=America/New_York:20240210T120000
DTSTAMP:20260425T170243
CREATED:20240123T060507Z
LAST-MODIFIED:20240207T063506Z
UID:10002071-1707555600-1707566400@www.flemingtondiy.org
SUMMARY:Music Together
DESCRIPTION:Every week in our music classes at Music Together Flemington\, babies\, toddlers\, preschoolers\, and the grownups who love them come together for a time of musical play. Little ones love playing along in class\, and caregivers love being a part of their children’s growth into confident music-makers. And everyone loves our songs that’ll have you tapping along in no time \nLearn more and enroll today:https://www.musictogetherflemington.com/ \nJoin with Google Meet: https://meet.google.com/dqb-gpwt-ohj\nLearn more about Meet at: https://support.google.com/a/users/answer/9282720
URL:https://www.flemingtondiy.org/event/music-together-160/
ORGANIZER;CN="9a724c6862e16b0fceb2c03b11d6495f66823883e568255978d51ff40b7ff5af@group.calendar.google.com":MAILTO:9a724c6862e16b0fceb2c03b11d6495f66823883e568255978d51ff40b7ff5af@group.calendar.google.com
END:VEVENT
BEGIN:VEVENT
DTSTART;TZID=America/New_York:20240210T130000
DTEND;TZID=America/New_York:20240210T150000
DTSTAMP:20260425T170243
CREATED:20231222T035014Z
LAST-MODIFIED:20240207T063506Z
UID:10001949-1707570000-1707577200@www.flemingtondiy.org
SUMMARY:The Seven Principles of Making Marriage Work: A GOTTMAN WORKSHOP FOR COUPLES
DESCRIPTION:Your friendly local marriage and family therapist Nicole Locorriere\, LMFT is hosting a couples workshop to teach evidence-based principles for making marriage work. This two-hour lecture is an introduction to the Gottman Method\, one of the most widely accepted couples therapy frameworks practiced today. Couples will learn how to enhance their friendship\, as well as how and why this is the foundation of a sound relationship house. It’s a great fit for couples who are struggling to communicate\, and who love each other but don’t feel connected. The workshop does not require that couples share any intimate information with other participants or the host.  \nYour host\, Gottman Leader\, Nicole is a licensed marriage and family therapist and owner of Prologue Therapy and Relationship Counseling at 115 Main Street in Flemington. She specializes in helping couples rekindle romance after feeling like “roommates\,” couples who are on the brink of divorce\, and individuals who are looking for clarity regarding their relationships. When she’s not working\, Nicole loves to crochet\, write poems\, and spend time with her husband\, Jeff\, and their goldendoodle\, Holly. \nLEARN MORE & REGISTER HERE: https://www.flemingtondiy.org/marriage/
URL:https://www.flemingtondiy.org/event/the-seven-principles-of-making-marriage-work-a-gottman-workshop-for-couples-2/
END:VEVENT
BEGIN:VEVENT
DTSTART;TZID=America/New_York:20240210T160000
DTEND;TZID=America/New_York:20240210T180000
DTSTAMP:20260425T170243
CREATED:20231229T042011Z
LAST-MODIFIED:20240207T063506Z
UID:10001956-1707580800-1707588000@www.flemingtondiy.org
SUMMARY:Coffee & Queer Community
DESCRIPTION:Join the Flemington QTs for a casual hangout for all LGBTQIA+ folks and allies. Join us to enjoy some locally brewed coffee and build community.
URL:https://www.flemingtondiy.org/event/coffee-queer-community-4/
END:VEVENT
BEGIN:VEVENT
DTSTART;TZID=America/New_York:20240210T190000
DTEND;TZID=America/New_York:20240210T220000
DTSTAMP:20260425T170243
CREATED:20231114T013520Z
LAST-MODIFIED:20240207T063506Z
UID:10001899-1707591600-1707602400@www.flemingtondiy.org
SUMMARY:Live Music
DESCRIPTION:A Night of Dungeon Synth Sorcery \nEarth-Rim Walker\n(Dungeon Noise)\nSole SVIVR\n(Horror-soundtrack Ambient)\nLuciform\n(Esoteric Industrial)\nBaerdcyn\n(Ambient Fantasy Folk)\nETVRNE\n(Industrial Dungeon Synth)\n$10-15 at door\nNo Drugs/Alcohol\nAll Ages
URL:https://www.flemingtondiy.org/event/live-music-21/
END:VEVENT
BEGIN:VEVENT
DTSTART;TZID=America/New_York:20240211T110000
DTEND;TZID=America/New_York:20240211T120000
DTSTAMP:20260425T170243
CREATED:20240102T043512Z
LAST-MODIFIED:20240207T063506Z
UID:10001964-1707649200-1707652800@www.flemingtondiy.org
SUMMARY:Tap Project
DESCRIPTION:Come one\, come all\, no tap shoes required!\nJoin us Sunday mornings and learn the language of tap dance (what’s a flap? shuffle? buffalo?) plus tap dance history (did you ever wonder who was Fred Astaire’s teacher?).\nWe’ll learn simple warm ups\, then take those steps and do a simple combination\, add a few together\, and hey\, you have a whole dance!\nGreat music\, great fun\, new friends!\nPlease check calendar for upcoming classes!\nJoin the Facebook group!
URL:https://www.flemingtondiy.org/event/tap-project-42/
END:VEVENT
BEGIN:VEVENT
DTSTART;TZID=America/New_York:20240211T143000
DTEND;TZID=America/New_York:20240211T170000
DTSTAMP:20260425T170243
CREATED:20231104T010516Z
LAST-MODIFIED:20240207T063506Z
UID:10001758-1707661800-1707670800@www.flemingtondiy.org
SUMMARY:Women's Comedy Open Mic
DESCRIPTION:Ever wanted to share a joke with your friends? Have a friend who you think is hilarious but don’t know how to let other ladies know about her talent? Here’s an opportunity to give it a try. Enjoy a safe space to share laughs – and if you fail – it’s ok to get up and try again!Sign up in advance: https://www.jotform.com/assign/233097504623152/232664975561063
URL:https://www.flemingtondiy.org/event/womens-comedy-open-mic-4/
END:VEVENT
BEGIN:VEVENT
DTSTART;TZID=America/New_York:20240212T091500
DTEND;TZID=America/New_York:20240212T113000
DTSTAMP:20260425T170243
CREATED:20231104T010516Z
LAST-MODIFIED:20240207T063506Z
UID:10001759-1707729300-1707737400@www.flemingtondiy.org
SUMMARY:Music Together
DESCRIPTION:Every week in our music classes at Music Together Flemington\, babies\, toddlers\, preschoolers\, and the grownups who love them come together for a time of musical play. Little ones love playing along in class\, and caregivers love being a part of their children’s growth into confident music-makers. And everyone loves our songs that’ll have you tapping along in no time \nLearn more and enroll today:https://www.musictogetherflemington.com/ \nJoin with Google Meet: https://meet.google.com/eis-bvjj-rgq\nLearn more about Meet at: https://support.google.com/a/users/answer/9282720
URL:https://www.flemingtondiy.org/event/music-together-176/
ORGANIZER;CN="9a724c6862e16b0fceb2c03b11d6495f66823883e568255978d51ff40b7ff5af@group.calendar.google.com":MAILTO:9a724c6862e16b0fceb2c03b11d6495f66823883e568255978d51ff40b7ff5af@group.calendar.google.com
END:VEVENT
BEGIN:VEVENT
DTSTART;TZID=America/New_York:20240212T180000
DTEND;TZID=America/New_York:20240212T200000
DTSTAMP:20260425T170243
CREATED:20240122T060511Z
LAST-MODIFIED:20240207T063506Z
UID:10002062-1707760800-1707768000@www.flemingtondiy.org
SUMMARY:Hunterdon Fiber Artist Meeting
DESCRIPTION:Looking to meet other fiber artists in the Hunterdon county area?  Think about coming to Hunterdon Fiber Artists meet up to socialize and connect with others doing the fiber art craft that they love. \nAll are welcome.  Just bring your craft be it knitting\, crocheting\, spinning\, etc.\, and be prepared to meet lots of fun and interesting people!  We even have mini educational talks on requested topics! \nOur FB group is Hunterdon Fiber Artists https://www.facebook.com/groups/1101970274078722 \nOur Ravelry group is https://www.ravelry.com/groups/hunterdon-fiber-artists?s=tab \nEvery other Monday at DIY; $3-5 suggested donation.
URL:https://www.flemingtondiy.org/event/hunterdon-fiber-artist-meeting-2/
END:VEVENT
BEGIN:VEVENT
DTSTART;TZID=America/New_York:20240212T180000
DTEND;TZID=America/New_York:20240212T210000
DTSTAMP:20260425T170243
CREATED:20231107T010536Z
LAST-MODIFIED:20240207T063506Z
UID:10001805-1707760800-1707771600@www.flemingtondiy.org
SUMMARY:Print Club
DESCRIPTION:Flemington DIY Print Club is a weekly open studio held from 6-9PM every Monday\, $15-30 per printer. It provides an opportunity for local artists and community members new to arts processes to utilize shared printmaking facilities. Print Club provides a platform for artists to network\, build community\, and work collaboratively. \nNo experience? No problem! Our vounteers will guide you through the process from start to finish! \nLearn more: https://www.flemingtondiy.org/printclub/
URL:https://www.flemingtondiy.org/event/print-club-154/
END:VEVENT
BEGIN:VEVENT
DTSTART;TZID=America/New_York:20240213T190000
DTEND;TZID=America/New_York:20240213T210000
DTSTAMP:20260425T170243
CREATED:20240103T045018Z
LAST-MODIFIED:20240207T063506Z
UID:10001972-1707850800-1707858000@www.flemingtondiy.org
SUMMARY:Songwriter Circle
DESCRIPTION:Hey\, songwriters: Do you have songs that are half finished? Lyrics you’re not entirely happy with? A songwriting circle is not a performance. It’s an opportunity to connect with other songwriters\, play your song idea for us – whether it’s fully formed or not – and receive gentle\, respectful\, and constructive feedback. All genres welcome! Please bring a few hard copies of your lyrics to share (they’ll be returned to you). We have a piano available. Donations at the door
URL:https://www.flemingtondiy.org/event/songwriter-circle-12/
END:VEVENT
BEGIN:VEVENT
DTSTART;TZID=America/New_York:20240214T160000
DTEND;TZID=America/New_York:20240214T173000
DTSTAMP:20260425T170243
CREATED:20240201T063529Z
LAST-MODIFIED:20240207T063506Z
UID:10002093-1707926400-1707931800@www.flemingtondiy.org
SUMMARY:Valentines Cookie Decorating hosted by SAFE in Hunterdon
DESCRIPTION:JOIN US FOR VALENTINES COOKIE DECORATING FUN! ATTENDEES WILL GET 6 COOKIES\, 2 BUTTERCREAMS AND SPRINKLES!WEDNESDAY\, FEBRUARY 14TH\, 4:00-5:30 P.M. \nPLEASE VISIT WWW.SAFEINHUNTERDON.ORG/EVENTS TO REGISTER NO LATER THAN FEB. 7TH.
URL:https://www.flemingtondiy.org/event/valentines-cookie-decorating-hosted-by-safe-in-hunterdon/
END:VEVENT
BEGIN:VEVENT
DTSTART;TZID=America/New_York:20240215T113000
DTEND;TZID=America/New_York:20240215T180000
DTSTAMP:20260425T170243
CREATED:20240103T045018Z
LAST-MODIFIED:20240207T063507Z
UID:10001973-1707996600-1708020000@www.flemingtondiy.org
SUMMARY:Open Hours
DESCRIPTION:Visit the space\, see our current art show\, hang out\, and learn how to get involved!
URL:https://www.flemingtondiy.org/event/open-hours-71/
END:VEVENT
BEGIN:VEVENT
DTSTART;TZID=America/New_York:20240215T190000
DTEND;TZID=America/New_York:20240215T210000
DTSTAMP:20260425T170243
CREATED:20231103T010513Z
LAST-MODIFIED:20240207T063507Z
UID:10001692-1708023600-1708030800@www.flemingtondiy.org
SUMMARY:Monthly Open Bluegrass Jam Session
DESCRIPTION:All players welcome! beginner to pro\nBring your instrument\, a couple of tunes\,\nsome friends and your own refreshments\nFreewill basket to support DIY $5 suggested\nDIY Is open to all ages –strictly no alcohol
URL:https://www.flemingtondiy.org/event/monthly-open-bluegrass-jam-session-11/
END:VEVENT
BEGIN:VEVENT
DTSTART;TZID=America/New_York:20240216T091500
DTEND;TZID=America/New_York:20240216T113000
DTSTAMP:20260425T170243
CREATED:20240125T060520Z
LAST-MODIFIED:20240207T063507Z
UID:10002084-1708074900-1708083000@www.flemingtondiy.org
SUMMARY:Music Together
DESCRIPTION:Every week in our music classes at Music Together Flemington\, babies\, toddlers\, preschoolers\, and the grownups who love them come together for a time of musical play. Little ones love playing along in class\, and caregivers love being a part of their children’s growth into confident music-makers. And everyone loves our songs that’ll have you tapping along in no time\nLearn more and enroll today: https://www.musictogetherflemington.com/
URL:https://www.flemingtondiy.org/event/music-together-172/
END:VEVENT
BEGIN:VEVENT
DTSTART;TZID=America/New_York:20240217T090000
DTEND;TZID=America/New_York:20240217T120000
DTSTAMP:20260425T170243
CREATED:20240123T060508Z
LAST-MODIFIED:20240207T063507Z
UID:10002072-1708160400-1708171200@www.flemingtondiy.org
SUMMARY:Music Together
DESCRIPTION:Every week in our music classes at Music Together Flemington\, babies\, toddlers\, preschoolers\, and the grownups who love them come together for a time of musical play. Little ones love playing along in class\, and caregivers love being a part of their children’s growth into confident music-makers. And everyone loves our songs that’ll have you tapping along in no time \nLearn more and enroll today:https://www.musictogetherflemington.com/ \nJoin with Google Meet: https://meet.google.com/dqb-gpwt-ohj\nLearn more about Meet at: https://support.google.com/a/users/answer/9282720
URL:https://www.flemingtondiy.org/event/music-together-162/
ORGANIZER;CN="9a724c6862e16b0fceb2c03b11d6495f66823883e568255978d51ff40b7ff5af@group.calendar.google.com":MAILTO:9a724c6862e16b0fceb2c03b11d6495f66823883e568255978d51ff40b7ff5af@group.calendar.google.com
END:VEVENT
BEGIN:VEVENT
DTSTART;TZID=America/New_York:20240217T130000
DTEND;TZID=America/New_York:20240217T150000
DTSTAMP:20260425T170243
CREATED:20231222T035015Z
LAST-MODIFIED:20240207T063507Z
UID:10001950-1708174800-1708182000@www.flemingtondiy.org
SUMMARY:The Seven Principles of Making Marriage Work: A GOTTMAN WORKSHOP FOR COUPLES
DESCRIPTION:Your friendly local marriage and family therapist Nicole Locorriere\, LMFT is hosting a couples workshop to teach evidence-based principles for making marriage work. This two-hour lecture is an introduction to the Gottman Method\, one of the most widely accepted couples therapy frameworks practiced today. Couples will learn how to enhance their friendship\, as well as how and why this is the foundation of a sound relationship house. It’s a great fit for couples who are struggling to communicate\, and who love each other but don’t feel connected. The workshop does not require that couples share any intimate information with other participants or the host.  \nYour host\, Gottman Leader\, Nicole is a licensed marriage and family therapist and owner of Prologue Therapy and Relationship Counseling at 115 Main Street in Flemington. She specializes in helping couples rekindle romance after feeling like “roommates\,” couples who are on the brink of divorce\, and individuals who are looking for clarity regarding their relationships. When she’s not working\, Nicole loves to crochet\, write poems\, and spend time with her husband\, Jeff\, and their goldendoodle\, Holly. \nLEARN MORE & REGISTER HERE: https://www.flemingtondiy.org/marriage/
URL:https://www.flemingtondiy.org/event/the-seven-principles-of-making-marriage-work-a-gottman-workshop-for-couples-3/
END:VEVENT
BEGIN:VEVENT
DTSTART;TZID=America/New_York:20240217T190000
DTEND;TZID=America/New_York:20240217T220000
DTSTAMP:20260425T170243
CREATED:20240112T050513Z
LAST-MODIFIED:20240207T063507Z
UID:10002037-1708196400-1708207200@www.flemingtondiy.org
SUMMARY:Live Jazz: Mauricio de Souza’s Bossa Brazil
DESCRIPTION:Born in Brasília\, Brazil\, Maurício de Souza is a professional jazz drummer who easily performs in both traditional jazz and Brazilian jazz styles.  De Souza was a pupil of world renowned jazz drummer Joe Morello.​Coming from a musical family\, de Souza began playing drums at age eleven. His early interest in complex music led him to explore numerous styles ranging from progressive rock\, to classical music\, to jazz.\n– Behn Gillece (vibes)\n– Nobuki Takamen (guitar)\n– Dave Kingsnorth (bass)\n– Mauricio de Souza (drums)\ntickets and more info: flemingtondiy.org/jazz
URL:https://www.flemingtondiy.org/event/live-jazz-mauricio-de-souzas-bossa-brazil/
END:VEVENT
BEGIN:VEVENT
DTSTART;TZID=America/New_York:20240218T100000
DTEND;TZID=America/New_York:20240218T170000
DTSTAMP:20260425T170243
CREATED:20240206T063552Z
LAST-MODIFIED:20240207T063507Z
UID:10002096-1708250400-1708275600@www.flemingtondiy.org
SUMMARY:Christianne Ebel Photography Portrait Pop Up
DESCRIPTION:
URL:https://www.flemingtondiy.org/event/christianne-ebel-photography-portrait-pop-up/
END:VEVENT
END:VCALENDAR