BEGIN:VCALENDAR
VERSION:2.0
PRODID:-//Flemington DIY - ECPv6.15.20//NONSGML v1.0//EN
CALSCALE:GREGORIAN
METHOD:PUBLISH
X-ORIGINAL-URL:https://www.flemingtondiy.org
X-WR-CALDESC:Events for Flemington DIY
REFRESH-INTERVAL;VALUE=DURATION:PT1H
X-Robots-Tag:noindex
X-PUBLISHED-TTL:PT1H
BEGIN:VTIMEZONE
TZID:America/New_York
BEGIN:DAYLIGHT
TZOFFSETFROM:-0500
TZOFFSETTO:-0400
TZNAME:EDT
DTSTART:20250309T070000
END:DAYLIGHT
BEGIN:STANDARD
TZOFFSETFROM:-0400
TZOFFSETTO:-0500
TZNAME:EST
DTSTART:20251102T060000
END:STANDARD
BEGIN:DAYLIGHT
TZOFFSETFROM:-0500
TZOFFSETTO:-0400
TZNAME:EDT
DTSTART:20260308T070000
END:DAYLIGHT
BEGIN:STANDARD
TZOFFSETFROM:-0400
TZOFFSETTO:-0500
TZNAME:EST
DTSTART:20261101T060000
END:STANDARD
BEGIN:DAYLIGHT
TZOFFSETFROM:-0500
TZOFFSETTO:-0400
TZNAME:EDT
DTSTART:20270314T070000
END:DAYLIGHT
BEGIN:STANDARD
TZOFFSETFROM:-0400
TZOFFSETTO:-0500
TZNAME:EST
DTSTART:20271107T060000
END:STANDARD
END:VTIMEZONE
BEGIN:VEVENT
DTSTART;VALUE=DATE:20261201
DTEND;VALUE=DATE:20270101
DTSTAMP:20260424T074719
CREATED:20250919T233600Z
LAST-MODIFIED:20260423T234925Z
UID:10003434-1796083200-1798761599@www.flemingtondiy.org
SUMMARY:Take Me Home Tonight - Small Works Art Show
DESCRIPTION:Take Me Home is a small works show featuring pieces under 10×10 inches that are fun to create and even more exciting to buy!  \nWith a ONE NIGHT ONLY Opening Fundraiser Event. Art lovers can snag anonymously hung works of art for KILLER deals\, supporting artist and the amazing\, all volunteer-run nonprofit that is Flemington DIY: \nhttps://www.flemingtondiy.org/programs/take-me-home-tonight/ \nThe show will remain hanging for the remainder of December with the opportunity to buy\, but after the opening night\, all prices will be available for purchase at prices set by the artist and their names will be revealed. How much higher will the price go??? How will the price change after the opening???
URL:https://www.flemingtondiy.org/event/take-me-home-tonight-small-works-art-show/
END:VEVENT
BEGIN:VEVENT
DTSTART;TZID=America/New_York:20261216T190000
DTEND;TZID=America/New_York:20261216T210000
DTSTAMP:20260424T074719
CREATED:20260201T234238Z
LAST-MODIFIED:20260423T234925Z
UID:10003880-1797447600-1797454800@www.flemingtondiy.org
SUMMARY:Keeping Our Community Safe: Monthly Information & Action Meeting
DESCRIPTION:Third Wednesdays | 7–9PM | Flemington DIY \nA monthly gathering of local residents committed to protecting and supporting our immigrant community members. \nTogether\, we will: \n\n\nShare accurate\, up-to-date Know Your Rights information related to ICE presence and immigration enforcement \n\n\nReview protocols for spotting\, documenting\, and responding to ICE activity \n\n\nCoordinate community-based mutual aid efforts \n\n\nCreate and distribute educational materials for neighbors and local businesses \n\n\nStrengthen communication networks that prioritize safety\, dignity\, and collective care \n\n\nThis is a space for informed conversation\, practical preparedness\, coordinated action\, sharing resources\, and strengthening local support networks. All community members who value safety\, solidarity\, and constitutional rights are welcome. \nHosted by concerned community members.
URL:https://www.flemingtondiy.org/event/keeping-our-community-safe-monthly-information-action-meeting-11/
END:VEVENT
END:VCALENDAR