BEGIN:VCALENDAR
VERSION:2.0
PRODID:-//Flemington DIY - ECPv6.15.20//NONSGML v1.0//EN
CALSCALE:GREGORIAN
METHOD:PUBLISH
X-ORIGINAL-URL:https://www.flemingtondiy.org
X-WR-CALDESC:Events for Flemington DIY
REFRESH-INTERVAL;VALUE=DURATION:PT1H
X-Robots-Tag:noindex
X-PUBLISHED-TTL:PT1H
BEGIN:VTIMEZONE
TZID:America/New_York
BEGIN:DAYLIGHT
TZOFFSETFROM:-0500
TZOFFSETTO:-0400
TZNAME:EDT
DTSTART:20250309T070000
END:DAYLIGHT
BEGIN:STANDARD
TZOFFSETFROM:-0400
TZOFFSETTO:-0500
TZNAME:EST
DTSTART:20251102T060000
END:STANDARD
BEGIN:DAYLIGHT
TZOFFSETFROM:-0500
TZOFFSETTO:-0400
TZNAME:EDT
DTSTART:20260308T070000
END:DAYLIGHT
BEGIN:STANDARD
TZOFFSETFROM:-0400
TZOFFSETTO:-0500
TZNAME:EST
DTSTART:20261101T060000
END:STANDARD
BEGIN:DAYLIGHT
TZOFFSETFROM:-0500
TZOFFSETTO:-0400
TZNAME:EDT
DTSTART:20270314T070000
END:DAYLIGHT
BEGIN:STANDARD
TZOFFSETFROM:-0400
TZOFFSETTO:-0500
TZNAME:EST
DTSTART:20271107T060000
END:STANDARD
END:VTIMEZONE
BEGIN:VEVENT
DTSTART;VALUE=DATE:20261201
DTEND;VALUE=DATE:20270101
DTSTAMP:20260424T074715
CREATED:20250919T233600Z
LAST-MODIFIED:20260423T234925Z
UID:10003434-1796083200-1798761599@www.flemingtondiy.org
SUMMARY:Take Me Home Tonight - Small Works Art Show
DESCRIPTION:Take Me Home is a small works show featuring pieces under 10×10 inches that are fun to create and even more exciting to buy!  \nWith a ONE NIGHT ONLY Opening Fundraiser Event. Art lovers can snag anonymously hung works of art for KILLER deals\, supporting artist and the amazing\, all volunteer-run nonprofit that is Flemington DIY: \nhttps://www.flemingtondiy.org/programs/take-me-home-tonight/ \nThe show will remain hanging for the remainder of December with the opportunity to buy\, but after the opening night\, all prices will be available for purchase at prices set by the artist and their names will be revealed. How much higher will the price go??? How will the price change after the opening???
URL:https://www.flemingtondiy.org/event/take-me-home-tonight-small-works-art-show/
END:VEVENT
BEGIN:VEVENT
DTSTART;TZID=America/New_York:20261215T113000
DTEND;TZID=America/New_York:20261215T180000
DTSTAMP:20260424T074715
CREATED:20250602T233610Z
LAST-MODIFIED:20260423T234925Z
UID:10003291-1797334200-1797357600@www.flemingtondiy.org
SUMMARY:Open Hours
DESCRIPTION:Visit the space\, see our current art shows\, hang out\, and learn how to get involved!
URL:https://www.flemingtondiy.org/event/open-hours-302/
END:VEVENT
BEGIN:VEVENT
DTSTART;TZID=America/New_York:20261215T183000
DTEND;TZID=America/New_York:20261215T203000
DTSTAMP:20260424T074715
CREATED:20251010T233513Z
LAST-MODIFIED:20260423T234925Z
UID:10003488-1797359400-1797366600@www.flemingtondiy.org
SUMMARY:Flemington Acoustic Players
DESCRIPTION:Calling all Hunterdon County pop/rock/folk stars!  Are you looking for a place to practice your acoustic guitar skills\, and maybe do some singing too?   \nOur merry band of music makers is open to players of all abilities! This gathering however is for Acoustic players ONLY; i.e guitars\, ukuleles\, mandolins & banjos. A drummer and/or an acoustic/electric bassist would be welcomed though to help us all stay in time. \nChords and lyrics to the songs will be projected on a screen so there’s no need for you to bring a music stand or tablet. We will be selecting tunes from a song book that includes a wide variety of rock/pop/folk classics. \nCome and have fun with us as we play and sing along to some of everyone’s favorite tunes! \nSuggested donation of $3-5www.flemingtondiy.org/acoustic/
URL:https://www.flemingtondiy.org/event/flemington-acoustic-players-98/
END:VEVENT
END:VCALENDAR