BEGIN:VCALENDAR
VERSION:2.0
PRODID:-//Flemington DIY - ECPv6.15.20//NONSGML v1.0//EN
CALSCALE:GREGORIAN
METHOD:PUBLISH
X-ORIGINAL-URL:https://www.flemingtondiy.org
X-WR-CALDESC:Events for Flemington DIY
REFRESH-INTERVAL;VALUE=DURATION:PT1H
X-Robots-Tag:noindex
X-PUBLISHED-TTL:PT1H
BEGIN:VTIMEZONE
TZID:America/New_York
BEGIN:DAYLIGHT
TZOFFSETFROM:-0500
TZOFFSETTO:-0400
TZNAME:EDT
DTSTART:20250309T070000
END:DAYLIGHT
BEGIN:STANDARD
TZOFFSETFROM:-0400
TZOFFSETTO:-0500
TZNAME:EST
DTSTART:20251102T060000
END:STANDARD
BEGIN:DAYLIGHT
TZOFFSETFROM:-0500
TZOFFSETTO:-0400
TZNAME:EDT
DTSTART:20260308T070000
END:DAYLIGHT
BEGIN:STANDARD
TZOFFSETFROM:-0400
TZOFFSETTO:-0500
TZNAME:EST
DTSTART:20261101T060000
END:STANDARD
BEGIN:DAYLIGHT
TZOFFSETFROM:-0500
TZOFFSETTO:-0400
TZNAME:EDT
DTSTART:20270314T070000
END:DAYLIGHT
BEGIN:STANDARD
TZOFFSETFROM:-0400
TZOFFSETTO:-0500
TZNAME:EST
DTSTART:20271107T060000
END:STANDARD
END:VTIMEZONE
BEGIN:VEVENT
DTSTART;VALUE=DATE:20260801
DTEND;VALUE=DATE:20260828
DTSTAMP:20260424T005652
CREATED:20251206T233726Z
LAST-MODIFIED:20260423T234921Z
UID:10003747-1785542400-1787875199@www.flemingtondiy.org
SUMMARY:ANNUAL DIY Member & Volunteer Art Show
DESCRIPTION:
URL:https://www.flemingtondiy.org/event/annual-diy-member-volunteer-art-show/
END:VEVENT
BEGIN:VEVENT
DTSTART;TZID=America/New_York:20260826T193000
DTEND;TZID=America/New_York:20260826T220000
DTSTAMP:20260424T005652
CREATED:20251120T233722Z
LAST-MODIFIED:20260423T234921Z
UID:10003693-1787772600-1787781600@www.flemingtondiy.org
SUMMARY:Poetry Open Mic
DESCRIPTION:Community members of all levels are invited to read their poetry and listen to the work of others. If you’re looking for a welcoming group of emerging and established poets and beatniks\, this is for you!Show up and sign up. No pre-registration to participate. Donations for the space encouraged at the door. All ages but please be aware that mature and sometimes sensitive topics are explored and mentioned at this event.
URL:https://www.flemingtondiy.org/event/poetry-open-mic-38/
END:VEVENT
END:VCALENDAR